{"text_format":"1","workbook":"xlsx","n_sheets":3,"sheets":["Результаты","Анализ","Инд"],"not_rendered":{"charts":2,"images":0,"macros":1,"external_links":0,"defined_names":2,"comments":0,"pivot_tables":0},"unopened":[],"bounds":{"document_bytes":16777216,"sheet_cells":100000,"rows_first":2000,"rows_last":500,"rows_between":2000,"halvings":0,"cell_chars":16384,"cell_head_chars":4096},"cells_cut":0,"cells_raw":0,"read":"whole","date_system":"1900"}

{"sheet":"Результаты","index":0,"n_rows":78,"n_cols":47,"rows_kept":78,"cut":false,"hidden":false,"merged":[[42,2,42,3],[21,0,21,3],[38,20,41,23],[39,2,39,3],[40,2,40,3],[41,2,41,3],[89,8,89,9],[85,8,85,9],[86,8,86,9],[87,8,87,9],[51,14,51,15],[88,8,88,9],[18,0,19,2],[2,4,2,9],[6,0,6,2],[8,0,8,2],[2,0,2,2],[6,4,6,9],[8,4,8,9],[4,0,4,2],[4,4,4,9],[10,4,10,9],[12,4,12,9],[16,0,16,2],[10,0,10,2],[12,0,12,2],[14,0,14,2],[16,4,16,9],[14,4,14,6],[14,7,14,9],[50,14,50,15],[48,14,48,15],[71,21,71,22],[67,21,67,22],[55,21,55,22],[56,21,56,22],[57,21,57,22],[58,21,58,22],[59,21,59,22],[60,21,60,22],[49,14,49,15],[75,21,75,22],[76,21,76,22],[77,21,77,22],[73,21,74,23],[70,21,70,22],[2,21,2,24],[68,30,68,31],[68,32,68,33],[67,26,67,33],[63,26,63,28],[68,26,70,27],[68,28,68,29],[68,21,68,22],[69,21,69,22],[61,21,61,22],[63,21,63,23],[64,21,64,23],[65,21,65,22],[66,21,66,22],[53,21,53,23],[54,21,54,23],[18,46,22,46],[4,12,6,17],[4,19,6,20],[10,12,12,17],[10,19,12,20],[19,32,19,35],[19,36,19,39],[19,40,19,43],[18,23,19,23],[18,20,19,20],[18,21,18,22],[41,32,41,34],[41,35,41,37],[41,38,41,40],[41,41,41,43],[42,32,42,34],[42,35,42,37],[42,38,42,40],[42,41,42,43]]}
[]
[]
["Образовательная организация",null,null,null,"Ленинская СОШ",null,null,null,null,null,null,null,null,null,{"$f":"A42","v":0},"чел.",null,null,null,null,null,{"$f":"TODAY()","v":"2018-04-06"}]
[]
["Класс",null,null,null,9,null,null,null,null,null,null,null,"Средний балл ГИА-9 2017 года по г.Ростову-на-Дону",null,null,null,null,null,null,4.09]
[]
["Предмет",null,null,null,"Русский язык"]
[]
["Дата",null,null,null,{"$f":"V3","v":"2018-04-06"}]
[]
["Максимальный балл",null,null,null,{"$f":"U22","v":39},null,null,null,null,null,null,null,"Средний балл по ОУ",null,null,null,null,null,null,{"$f":"(W48*5+W49*4+W50*3+W51*2)/A42","v":{"$error":"#DIV/0!"}}]
[]
["Пороговый балл",null,null,null,15]
[]
["Зона риска",null,null,null,15,null,null,16]
[]
["Средний тестовый балл по работе",null,null,null,{"$f":"U43","v":6.8571428571428568}]
[null,null,null,null,null,null,null,null,null,null,null,null,null,null,null,null,null,null,null,"практическая грамотность"]
["Уровни",null,null,"А,В,С",1,2,3,4,5,6,7,8,9,10,11,12,13,14,15,"ПР.ГР","Тестов балл","%   выплнения заданий по уровням",null,"Оценка","ГК1","ГК2","ГК3","ГК4","ФК1","ИК1","ИК2","ИК3","С1К1","С1К2","С1К3","С1К4","С2К1","С2К2","С2К3","С2К4","С3К1","С3К2","С3К3","С3К4","% выполнения","ГК1-ГК4","% правильных ответов"]
[null,null,null,"Б,П,В","Б","Б","Б","Б","Б","Б","Б","Б","Б","Б","Б","Б","Б","Б","В","Б",null,"Базовый","Высокий",null,null,null,null,null,null,null,null,null,"15.1",null,null,null,"15.2",null,null,null,"15.3",null,null,null,"№№2-14","сумма"]
["№","Класс","Ф.И.О.","№ задания",1,2,3,4,5,6,7,8,9,10,11,12,13,14,15]
["Максимальный балл",null,null,null,{"$f":"SUM(AD22:AF22)","v":7},1,1,1,1,1,1,1,1,1,1,1,1,1,9,{"$f":"SUM(Y22:AC22)","v":10},{"$f":"SUM(E22:T22)","v":39},{"$f":"SUMIF($E$20:$T$20,\"Б\",$E$22:$T$22)*100/$U22","v":76.92307692307692},{"$f":"SUMIF($E$20:$T$20,\"В\",$E$22:$T$22)*100/$U$22","v":23.076923076923077},null,2,2,2,2,2,2,3,2,2,3,2,2,2,3,2,2,2,3,2,2]
[null,9,null,"вариант"]
[1,null,null,1,{"$f":"IF($C24>\"0\",SUM(AD24:AF24),\"-\")","v":"-"},0,0,0,1,0,0,1,1,1,0,0,0,1,{"$f":"IF($C24>\"0\",SUM(AG24:AR24),\"-\")","v":"-"},{"$f":"IF($C24>\"0\",SUM(Y24:AC24),\"-\")","v":"-"},{"$f":"SUM(E24:T24)","v":5},{"$f":"SUMIF($E$20:$T$20,\"Б\",$E24:$T24)/SUMIF($E$20:$T$20,\"Б\",$E$22:$T$22)*100","v":16.666666666666664},{"$f":"SUMIF($E$20:$T$20,\"В\",$E24:$T24)/SUMIF($E$20:$T$20,\"В\",$E$22:$T$22)*100","v":0},{"$f":"(IF(AND(U24>=Анализ!$A$36,SUM(Y24:AB24)>=6),\"5\",IF(AND(U24>=Анализ!$A$37,U24<Анализ!$A$36,SUM(Y24:AB24)>=4),\"4\",IF(AND(U24>=Анализ!$A$36,SUM(Y24:AB24)<6),\"4\",IF(AND(U24>=Анализ!$A$38,U24<Анализ!$A$37),\"3\",IF(AND(U24>=Анализ!$A$37,U24<Анализ!$A$36,SUM(Y24:AB24)<4),\"3\",IF(AND(U24>=1,U24<Анализ!$A$38),\"2\",\" \")))))))","v":"2"},1,1,0,1,2,1,2,1,null,null,null,null,null,null,null,null,1,2,1,2,{"$f":"SUM(COUNTIF($F24,$F$22),COUNTIF($G24,$G$22),COUNTIF($H24,$H$22),COUNTIF($I24,$I$22),COUNTIF($J24,$J$22),COUNTIF($K24,$K$22),COUNTIF($L24,$L$22),COUNTIF($M24,$M$22),COUNTIF($N24,$N$22),COUNTIF($O24,$O$22),COUNTIF($P24,$P$22),COUNTIF($Q24,$Q$22),COUNTIF($R24,$R$22))*100/13","v":38.46153846153846},{"$f":"IF($C24>\"0\",SUM(Y24:AB24),\"-\")","v":"-"},{"$f":"SUM(COUNTIF($E24,$E$22),COUNTIF($F24,$F$22),COUNTIF($G24,$G$22),COUNTIF($H24,$H$22),COUNTIF($I24,$I$22),COUNTIF($J24,$J$22),COUNTIF($K24,$K$22),COUNTIF($L24,$L$22),COUNTIF($M24,$M$22),COUNTIF($N24,$N$22),COUNTIF($O24,$O$22),COUNTIF($P24,$P$22),COUNTIF($Q24,$Q$22),COUNTIF($R24,$R$22),COUNTIF($S24,$S$22))*100/15","v":33.333333333333336}]
[2,null,null,2,{"$f":"IF($C25>\"0\",SUM(AD25:AF25),\"-\")","v":"-"},1,1,0,1,1,1,1,0,1,0,0,0,0,{"$f":"IF($C25>\"0\",SUM(AG25:AR25),\"-\")","v":"-"},{"$f":"IF($C25>\"0\",SUM(Y25:AC25),\"-\")","v":"-"},{"$f":"SUM(E25:T25)","v":7},23.333333333333332,0,{"$f":"(IF(AND(U25>=Анализ!$A$36,SUM(Y25:AB25)>=6),\"5\",IF(AND(U25>=Анализ!$A$37,U25<Анализ!$A$36,SUM(Y25:AB25)>=4),\"4\",IF(AND(U25>=Анализ!$A$36,SUM(Y25:AB25)<6),\"4\",IF(AND(U25>=Анализ!$A$38,U25<Анализ!$A$37),\"3\",IF(AND(U25>=Анализ!$A$37,U25<Анализ!$A$36,SUM(Y25:AB25)<4),\"3\",IF(AND(U25>=1,U25<Анализ!$A$38),\"2\",\" \")))))))","v":"2"},1,2,0,1,1,2,3,2,null,null,null,null,null,null,null,null,1,3,2,1,53.846153846153847,{"$f":"IF($C25>\"0\",SUM(Y25:AB25),\"-\")","v":"-"},{"$f":"SUM(COUNTIF($E25,$E$22),COUNTIF($F25,$F$22),COUNTIF($G25,$G$22),COUNTIF($H25,$H$22),COUNTIF($I25,$I$22),COUNTIF($J25,$J$22),COUNTIF($K25,$K$22),COUNTIF($L25,$L$22),COUNTIF($M25,$M$22),COUNTIF($N25,$N$22),COUNTIF($O25,$O$22),COUNTIF($P25,$P$22),COUNTIF($Q25,$Q$22),COUNTIF($R25,$R$22),COUNTIF($S25,$S$22))*100/15","v":46.666666666666664}]
[3,null,null,2,"-",1,1,0,1,0,1,1,0,0,1,0,0,0,"-","-",6,20,0,{"$f":"(IF(AND(U26>=Анализ!$A$36,SUM(Y26:AB26)>=6),\"5\",IF(AND(U26>=Анализ!$A$37,U26<Анализ!$A$36,SUM(Y26:AB26)>=4),\"4\",IF(AND(U26>=Анализ!$A$36,SUM(Y26:AB26)<6),\"4\",IF(AND(U26>=Анализ!$A$38,U26<Анализ!$A$37),\"3\",IF(AND(U26>=Анализ!$A$37,U26<Анализ!$A$36,SUM(Y26:AB26)<4),\"3\",IF(AND(U26>=1,U26<Анализ!$A$38),\"2\",\" \")))))))","v":"2"},1,0,2,2,2,1,3,2,0,0,2,2,null,null,null,null,null,null,null,null,46.153846153846153,"-",40]
[4,null,null,1,"-",0,0,1,1,0,0,0,0,0,1,0,0,0,"-","-",3,10,0,{"$f":"(IF(AND(U27>=Анализ!$A$36,SUM(Y27:AB27)>=6),\"5\",IF(AND(U27>=Анализ!$A$37,U27<Анализ!$A$36,SUM(Y27:AB27)>=4),\"4\",IF(AND(U27>=Анализ!$A$36,SUM(Y27:AB27)<6),\"4\",IF(AND(U27>=Анализ!$A$38,U27<Анализ!$A$37),\"3\",IF(AND(U27>=Анализ!$A$37,U27<Анализ!$A$36,SUM(Y27:AB27)<4),\"3\",IF(AND(U27>=1,U27<Анализ!$A$38),\"2\",\" \")))))))","v":"2"},1,0,0,1,1,1,1,0,null,null,null,null,null,null,null,null,1,2,1,1,23.076923076923077,"-",20]
[5,null,null,2,"-",1,1,0,1,1,1,1,0,1,1,0,1,0,"-","-",9,30,0,{"$f":"(IF(AND(U28>=Анализ!$A$36,SUM(Y28:AB28)>=6),\"5\",IF(AND(U28>=Анализ!$A$37,U28<Анализ!$A$36,SUM(Y28:AB28)>=4),\"4\",IF(AND(U28>=Анализ!$A$36,SUM(Y28:AB28)<6),\"4\",IF(AND(U28>=Анализ!$A$38,U28<Анализ!$A$37),\"3\",IF(AND(U28>=Анализ!$A$37,U28<Анализ!$A$36,SUM(Y28:AB28)<4),\"3\",IF(AND(U28>=1,U28<Анализ!$A$38),\"2\",\" \")))))))","v":"2"},2,2,2,1,2,2,3,2,null,null,null,null,null,null,null,null,1,3,2,2,69.230769230769226,"-",60]
[6,null,null,1,"-",0,0,1,1,0,1,1,1,1,1,1,0,0,"-","-",8,26.666666666666668,0,{"$f":"(IF(AND(U29>=Анализ!$A$36,SUM(Y29:AB29)>=6),\"5\",IF(AND(U29>=Анализ!$A$37,U29<Анализ!$A$36,SUM(Y29:AB29)>=4),\"4\",IF(AND(U29>=Анализ!$A$36,SUM(Y29:AB29)<6),\"4\",IF(AND(U29>=Анализ!$A$38,U29<Анализ!$A$37),\"3\",IF(AND(U29>=Анализ!$A$37,U29<Анализ!$A$36,SUM(Y29:AB29)<4),\"3\",IF(AND(U29>=1,U29<Анализ!$A$38),\"2\",\" \")))))))","v":"2"},2,1,2,1,2,2,3,2,null,null,null,null,null,null,null,null,1,3,1,2,61.53846153846154,"-",53.333333333333336]
[7,null,null,1,"-",1,1,0,0,0,null,null,1,1,1,0,null,1,"-","-",6,20,0,{"$f":"(IF(AND(U30>=Анализ!$A$36,SUM(Y30:AB30)>=6),\"5\",IF(AND(U30>=Анализ!$A$37,U30<Анализ!$A$36,SUM(Y30:AB30)>=4),\"4\",IF(AND(U30>=Анализ!$A$36,SUM(Y30:AB30)<6),\"4\",IF(AND(U30>=Анализ!$A$38,U30<Анализ!$A$37),\"3\",IF(AND(U30>=Анализ!$A$37,U30<Анализ!$A$36,SUM(Y30:AB30)<4),\"3\",IF(AND(U30>=1,U30<Анализ!$A$38),\"2\",\" \")))))))","v":"2"},0,0,0,0,0,0,1,2,null,null,null,null,null,null,null,null,1,3,1,1,46.153846153846153,"-",40]
[8,null,null,1,"-",1,0,1,1,1,0,1,1,0,1,0,0,1,"-","-",8,26.666666666666668,0,{"$f":"(IF(AND(U31>=Анализ!$A$36,SUM(Y31:AB31)>=6),\"5\",IF(AND(U31>=Анализ!$A$37,U31<Анализ!$A$36,SUM(Y31:AB31)>=4),\"4\",IF(AND(U31>=Анализ!$A$36,SUM(Y31:AB31)<6),\"4\",IF(AND(U31>=Анализ!$A$38,U31<Анализ!$A$37),\"3\",IF(AND(U31>=Анализ!$A$37,U31<Анализ!$A$36,SUM(Y31:AB31)<4),\"3\",IF(AND(U31>=1,U31<Анализ!$A$38),\"2\",\" \")))))))","v":"2"},0,0,2,1,2,2,3,1,null,null,null,null,null,null,null,null,1,2,2,1,61.53846153846154,"-",53.333333333333336]
[9,null,null,2,"-",1,0,0,1,1,0,1,0,1,0,0,1,0,"-","-",6,20,0,{"$f":"(IF(AND(U32>=Анализ!$A$36,SUM(Y32:AB32)>=6),\"5\",IF(AND(U32>=Анализ!$A$37,U32<Анализ!$A$36,SUM(Y32:AB32)>=4),\"4\",IF(AND(U32>=Анализ!$A$36,SUM(Y32:AB32)<6),\"4\",IF(AND(U32>=Анализ!$A$38,U32<Анализ!$A$37),\"3\",IF(AND(U32>=Анализ!$A$37,U32<Анализ!$A$36,SUM(Y32:AB32)<4),\"3\",IF(AND(U32>=1,U32<Анализ!$A$38),\"2\",\" \")))))))","v":"2"},2,2,2,1,1,1,3,2,null,null,null,null,null,null,null,null,1,3,2,2,46.153846153846153,"-",40]
[10,null,null,2,"-",1,1,0,1,1,1,1,0,1,1,0,0,0,"-","-",8,26.666666666666668,0,{"$f":"(IF(AND(U33>=Анализ!$A$36,SUM(Y33:AB33)>=6),\"5\",IF(AND(U33>=Анализ!$A$37,U33<Анализ!$A$36,SUM(Y33:AB33)>=4),\"4\",IF(AND(U33>=Анализ!$A$36,SUM(Y33:AB33)<6),\"4\",IF(AND(U33>=Анализ!$A$38,U33<Анализ!$A$37),\"3\",IF(AND(U33>=Анализ!$A$37,U33<Анализ!$A$36,SUM(Y33:AB33)<4),\"3\",IF(AND(U33>=1,U33<Анализ!$A$38),\"2\",\" \")))))))","v":"2"},2,2,1,1,1,2,3,2,null,null,null,null,null,null,null,null,1,3,1,2,61.53846153846154,"-",53.333333333333336]
[11,null,null,2,"-",1,1,0,1,0,0,1,0,0,0,0,0,0,"-","-",4,13.333333333333334,0,{"$f":"(IF(AND(U34>=Анализ!$A$36,SUM(Y34:AB34)>=6),\"5\",IF(AND(U34>=Анализ!$A$37,U34<Анализ!$A$36,SUM(Y34:AB34)>=4),\"4\",IF(AND(U34>=Анализ!$A$36,SUM(Y34:AB34)<6),\"4\",IF(AND(U34>=Анализ!$A$38,U34<Анализ!$A$37),\"3\",IF(AND(U34>=Анализ!$A$37,U34<Анализ!$A$36,SUM(Y34:AB34)<4),\"3\",IF(AND(U34>=1,U34<Анализ!$A$38),\"2\",\" \")))))))","v":"2"},0,0,1,1,2,2,3,2,null,null,null,null,null,null,null,null,1,3,1,2,30.76923076923077,"-",26.666666666666668]
[12,null,null,1,"-",1,1,1,1,1,0,1,1,1,1,1,1,0,"-","-",11,36.666666666666664,0,{"$f":"(IF(AND(U35>=Анализ!$A$36,SUM(Y35:AB35)>=6),\"5\",IF(AND(U35>=Анализ!$A$37,U35<Анализ!$A$36,SUM(Y35:AB35)>=4),\"4\",IF(AND(U35>=Анализ!$A$36,SUM(Y35:AB35)<6),\"4\",IF(AND(U35>=Анализ!$A$38,U35<Анализ!$A$37),\"3\",IF(AND(U35>=Анализ!$A$37,U35<Анализ!$A$36,SUM(Y35:AB35)<4),\"3\",IF(AND(U35>=1,U35<Анализ!$A$38),\"2\",\" \")))))))","v":"2"},0,2,2,1,1,2,3,2,null,null,null,null,null,null,null,null,0,3,1,1,84.615384615384613,"-",73.333333333333329]
[13,null,null,2,"-",1,1,0,1,1,1,1,0,0,1,0,1,0,"-","-",8,26.666666666666668,0,{"$f":"(IF(AND(U36>=Анализ!$A$36,SUM(Y36:AB36)>=6),\"5\",IF(AND(U36>=Анализ!$A$37,U36<Анализ!$A$36,SUM(Y36:AB36)>=4),\"4\",IF(AND(U36>=Анализ!$A$36,SUM(Y36:AB36)<6),\"4\",IF(AND(U36>=Анализ!$A$38,U36<Анализ!$A$37),\"3\",IF(AND(U36>=Анализ!$A$37,U36<Анализ!$A$36,SUM(Y36:AB36)<4),\"3\",IF(AND(U36>=1,U36<Анализ!$A$38),\"2\",\" \")))))))","v":"2"},0,1,0,1,2,1,3,2,null,null,null,null,null,null,null,null,1,3,2,2,61.53846153846154,"-",53.333333333333336]
[14,null,null,1,"-",1,1,1,1,0,0,1,0,1,1,0,null,0,"-","-",7,23.333333333333332,0,{"$f":"(IF(AND(U37>=Анализ!$A$36,SUM(Y37:AB37)>=6),\"5\",IF(AND(U37>=Анализ!$A$37,U37<Анализ!$A$36,SUM(Y37:AB37)>=4),\"4\",IF(AND(U37>=Анализ!$A$36,SUM(Y37:AB37)<6),\"4\",IF(AND(U37>=Анализ!$A$38,U37<Анализ!$A$37),\"3\",IF(AND(U37>=Анализ!$A$37,U37<Анализ!$A$36,SUM(Y37:AB37)<4),\"3\",IF(AND(U37>=1,U37<Анализ!$A$38),\"2\",\" \")))))))","v":"2"},1,2,0,2,2,2,3,7,null,null,null,null,1,3,2,2,null,null,null,null,53.846153846153847,"-",46.666666666666664]
[15,null,null,null,"-",null,null,null,null,null,null,null,null,null,null,null,null,null,"-","-",0,0,0,{"$f":"(IF(AND(U38>=Анализ!$A$36,SUM(Y38:AB38)>=6),\"5\",IF(AND(U38>=Анализ!$A$37,U38<Анализ!$A$36,SUM(Y38:AB38)>=4),\"4\",IF(AND(U38>=Анализ!$A$36,SUM(Y38:AB38)<6),\"4\",IF(AND(U38>=Анализ!$A$38,U38<Анализ!$A$37),\"3\",IF(AND(U38>=Анализ!$A$37,U38<Анализ!$A$36,SUM(Y38:AB38)<4),\"3\",IF(AND(U38>=1,U38<Анализ!$A$38),\"2\",\" \")))))))","v":" "},null,null,null,null,null,null,null,null,null,null,null,null,null,null,null,null,null,null,null,null,0,"-",0]
[null,null,null,null,null,null,null,null,null,null,null,null,null,null,null,null,null,null,null,null,"Среднее значение"]
[null,null,"Приступили к решению",null,{"$f":"COUNTIF(E24:E38,\">0\")","v":0},{"$f":"COUNT(F24:F38)","v":14},14,14,14,14,13,13,14,14,14,14,12,14,{"$f":"COUNTIF(S24:S38,\">0\")","v":0},{"$f":"COUNTIF(T24:T38,\">0\")","v":0}]
[null,null,"Не приступили к решению",null,{"$f":"$A$42-E40","v":0},-14,-14,-14,-14,-14,-13,-13,-14,-14,-14,-14,-12,-14,0,0]
[{"$f":"COUNTA(C24:C38)","v":0},null,"Решили верно и полностью",null,{"$f":"COUNTIF(E24:E38,E22)","v":0},11,9,5,13,7,6,12,5,9,10,2,4,3,0,0,null,null,null,null,"ГК1","ГК2","ГК3","ГК4","ФК1","ИК1","ИК2","ИК3","СК1",null,null,"СК2",null,null,"СК3",null,null,"СК4"]
[null,null,"Процент выполнения",null,{"$f":"E42/$A$42","v":{"$error":"#DIV/0!"}},{"$f":"F42/$A$42","v":{"$error":"#DIV/0!"}},{"$error":"#DIV/0!"},{"$error":"#DIV/0!"},{"$error":"#DIV/0!"},{"$error":"#DIV/0!"},{"$error":"#DIV/0!"},{"$error":"#DIV/0!"},{"$error":"#DIV/0!"},{"$error":"#DIV/0!"},{"$error":"#DIV/0!"},{"$error":"#DIV/0!"},{"$error":"#DIV/0!"},{"$error":"#DIV/0!"},{"$error":"#DIV/0!"},{"$error":"#DIV/0!"},{"$f":"SUM(U24:U38)/COUNTIF(U24:U38,\">0\")","v":6.8571428571428568},{"$f":"SUM(V24:V38)/COUNTIF(V24:V38,\">0\")","v":22.857142857142858},{"$f":"SUM(W24:W38)/COUNTIF(W24:W38,\">0\")","v":{"$error":"#DIV/0!"}},{"$f":"SUM(W48*5,W49*4,W50*3,W51*2)/A42","v":{"$error":"#DIV/0!"}},{"$f":"SUM(Y24:Y38)/$A$42","v":{"$error":"#DIV/0!"}},{"$error":"#DIV/0!"},{"$error":"#DIV/0!"},{"$error":"#DIV/0!"},{"$error":"#DIV/0!"},{"$error":"#DIV/0!"},{"$error":"#DIV/0!"},{"$error":"#DIV/0!"},{"$f":"SUM(AG24:AG38,AK24:AK38,AO24:AO38)/$A$42","v":{"$error":"#DIV/0!"}},null,null,{"$f":"SUM(AH24:AH38,AL24:AL38,AP24:AP38)/$A$42","v":{"$error":"#DIV/0!"}},null,null,{"$f":"SUM(AI24:AI38,AM24:AM38,AQ24:AQ38)/$A$42","v":{"$error":"#DIV/0!"}},null,null,{"$f":"SUM(AJ24:AJ38,AN24:AN38,AR24:AR38)/$A$42","v":{"$error":"#DIV/0!"}}]
[null,null,null,null,null,null,null,null,null,null,null,null,null,null,null,null,null,null,null,null,null,null,null,null,null,null,null,null,null,null,null,null,{"$f":"COUNTA(AG24:AG38)","v":1},1,1,1,1,1,1,1,12,12,12,12]
[]
[]
[null,null,null,null,null,null,null,null,null,null,null,null,null,null,null,null,null,null,null,null,null,"Оценки","Чел.","%"]
[null,null,null,null,null,null,null,null,null,null,null,null,null,null,null,null,null,null,null,null,null,"\"5\" -",{"$f":"COUNTIF($X$24:$X$38,5)","v":0},{"$f":"W48*100/$A$42","v":{"$error":"#DIV/0!"}}]
[null,null,null,null,null,null,null,null,null,null,null,null,null,null,null,null,null,null,null,null,null,"\"4\" -",{"$f":"COUNTIF($X$24:$X$38,4)","v":0},{"$f":"W49*100/$A$42","v":{"$error":"#DIV/0!"}}]
[null,null,null,null,null,null,null,null,null,null,null,null,null,null,null,null,null,null,null,null,null,"\"3\" -",{"$f":"COUNTIF($X$24:$X$38,3)","v":0},{"$error":"#DIV/0!"}]
[null,null,null,null,null,null,null,null,null,null,null,null,null,null,null,null,null,null,null,null,null,"\"2\" -",{"$f":"COUNTIF($X$24:$X$38,2)","v":14},{"$error":"#DIV/0!"}]
[]
[]
[null,null,null,null,null,null,null,null,null,null,null,null,null,null,null,null,null,null,null,null,null,"Изложение (задание № 1)"]
[]
[null,null,null,null,null,null,null,null,null,null,null,null,null,null,null,null,null,null,null,null,null,"приступили",null,{"$f":"E40","v":0}]
[null,null,null,null,null,null,null,null,null,null,null,null,null,null,null,null,null,null,null,null,null,"не приступили",null,{"$f":"E41","v":0}]
[null,null,null,null,null,null,null,null,null,null,null,null,null,null,null,null,null,null,null,null,null,"средний балл",null,{"$f":"SUM(E24:E38)/A42","v":{"$error":"#DIV/0!"}}]
[null,null,null,null,null,null,null,null,null,null,null,null,null,null,null,null,null,null,null,null,null,"max балл",null,{"$f":"MAX(E24:E38)","v":0}]
[null,null,null,null,null,null,null,null,null,null,null,null,null,null,null,null,null,null,null,null,null,"min балл",null,{"$f":"MIN(E24:E38)","v":0}]
[null,null,null,null,null,null,null,null,null,null,null,null,null,null,null,null,null,null,null,null,null,"max балл (чел.)",null,{"$f":"COUNTIF(E24:E38,X59)","v":0}]
[null,null,null,null,null,null,null,null,null,null,null,null,null,null,null,null,null,null,null,null,null,"min балл (чел.)",null,{"$f":"COUNTIF(E24:E38,X60)","v":0}]
[]
[null,null,null,null,null,null,null,null,null,null,null,null,null,null,null,null,null,null,null,null,null,"Сочинение (задание № 15)",null,null,null,null,"% выбравших"]
[null,null,null,null,null,null,null,null,null,null,null,null,null,null,null,null,null,null,null,null,null,null,null,null,null,null,"15.1","15.2","15.3"]
[null,null,null,null,null,null,null,null,null,null,null,null,null,null,null,null,null,null,null,null,null,"приступили",null,{"$f":"S40","v":0},null,null,{"$f":"AG44*100/A42","v":{"$error":"#DIV/0!"}},{"$f":"AK44*100/A42","v":{"$error":"#DIV/0!"}},{"$f":"AO44*100/A42","v":{"$error":"#DIV/0!"}}]
[null,null,null,null,null,null,null,null,null,null,null,null,null,null,null,null,null,null,null,null,null,"не приступили",null,{"$f":"S41","v":0}]
[null,null,null,null,null,null,null,null,null,null,null,null,null,null,null,null,null,null,null,null,null,"средний балл",null,{"$f":"SUM(S24:S38)/A42","v":{"$error":"#DIV/0!"}},null,null,"Уровень грамотности (в баллах)"]
[null,null,null,null,null,null,null,null,null,null,null,null,null,null,null,null,null,null,null,null,null,"max балл",null,{"$f":"MAX(S24:S38)","v":0},null,null,"ГК1-ГК4",null,">4 ",null,"4-5",null,">=6"]
[null,null,null,null,null,null,null,null,null,null,null,null,null,null,null,null,null,null,null,null,null,"min балл",null,{"$f":"MIN(S24:S38)","v":0},null,null,null,null,"чел.","%","чел.","%","чел.","%"]
[null,null,null,null,null,null,null,null,null,null,null,null,null,null,null,null,null,null,null,null,null,"max балл (чел.)",null,{"$f":"COUNTIF(S24:S38,X69)","v":0},null,null,null,null,{"$f":"COUNTIF(AT24:AT38,\">4\")","v":0},{"$f":"AC71*100/A42","v":{"$error":"#DIV/0!"}},{"$f":"COUNTIF(AT24:AT38,\"=4\")+COUNTIF(AT24:AT38,\"=5\")","v":0},{"$f":"AE71*100/A42","v":{"$error":"#DIV/0!"}},{"$f":"COUNTIF(AT24:AT38,\">=6\")","v":0},{"$f":"AG71*100/A42","v":{"$error":"#DIV/0!"}}]
[null,null,null,null,null,null,null,null,null,null,null,null,null,null,null,null,null,null,null,null,null,"min балл (чел.)",null,{"$f":"COUNTIF(S24:S38,X70)","v":0}]
[]
[null,null,null,null,null,null,null,null,null,null,null,null,null,null,null,null,null,null,null,null,null,"% выполнения заданий №№2-14 (чел.)"]
[]
[null,null,null,null,null,null,null,null,null,null,null,null,null,null,null,null,null,null,null,null,null,"<50% заданий",null,{"$f":"A42-X78-X77","v":-8}]
[null,null,null,null,null,null,null,null,null,null,null,null,null,null,null,null,null,null,null,null,null,"50-80% заданий",null,{"$f":"COUNTIF(AS24:AS38,\">=50\")-COUNTIF(AS24:AS38,\">=80\")","v":7}]
[null,null,null,null,null,null,null,null,null,null,null,null,null,null,null,null,null,null,null,null,null,"80-100% заданий",null,{"$f":"COUNTIF(AS24:AS38,\">79\")","v":1}]

{"sheet":"Анализ","index":1,"n_rows":116,"n_cols":18,"rows_kept":116,"cut":false,"hidden":false,"merged":[[78,0,114,13],[115,8,115,13],[3,14,3,15],[3,16,3,17],[3,11,5,11],[27,11,27,12],[28,11,28,12],[29,11,29,12],[30,11,30,12],[7,3,7,5],[9,3,9,5],[8,6,8,13],[15,11,15,13],[28,5,28,7],[29,5,29,7],[16,0,16,4],[20,11,20,12],[15,0,15,3],[15,5,15,7],[19,0,20,3],[22,11,22,12],[17,4,18,4],[19,4,20,4],[21,0,21,3],[22,0,22,3],[17,0,18,3],[16,11,16,12],[17,5,17,7],[19,5,19,7],[17,11,17,12],[18,11,18,12],[19,11,19,12],[28,0,29,3],[34,0,34,3],[25,11,25,12],[26,11,26,12],[21,11,21,12],[23,5,23,7],[24,11,24,13],[23,0,23,3],[31,11,31,12],[34,5,34,7],[32,11,32,13],[50,1,50,10],[51,1,51,10],[52,1,52,10],[53,1,53,10],[45,1,45,10],[46,1,46,10],[44,1,44,10],[49,1,49,10],[43,1,43,10],[30,0,32,3],[41,1,41,10],[42,1,42,10],[9,0,9,2],[115,0,115,2],[24,5,24,7],[25,5,25,7],[26,5,26,7],[27,5,27,7],[77,0,77,13],[24,0,25,3],[26,0,27,3],[40,1,40,10],[11,0,11,13],[12,0,12,13],[47,1,47,10],[48,1,48,10],[54,1,54,10],[55,1,55,10],[0,0,0,13],[7,0,7,2],[8,0,8,2],[6,0,6,2],[2,0,2,2],[3,0,3,2],[5,0,5,2],[4,0,4,2],[8,4,8,5],[3,12,3,13],[6,3,6,5],[2,11,2,17],[2,3,2,5],[3,3,3,5],[4,3,4,5],[5,3,5,5]]}
["Центр независимой оценки качества образования и образовательного аудита \"Легион\""]
["Аналитическая справка по результатам тестирования "]
["Организация",null,null,{"$f":"Результаты!E3","v":"Ленинская СОШ"},null,null,null,null,null,null,null,"Уровень грамотности (в баллах)"]
["Предмет",null,null,{"$f":"Результаты!E7","v":"Русский язык"},null,null,null,null,null,null,null,"ГК1-ГК4",">4 ",null,"4-5",null,">=6"]
[{"$f":"Результаты!A5","v":"Класс"},null,null,{"$f":"Результаты!E5","v":9},null,null,null,null,null,null,null,null,"чел.","%","чел.","%","чел.","%"]
["Дата",null,null,{"$f":"Результаты!E9","v":"2018-04-06"},null,null,null,null,null,null,null,null,{"$f":"Результаты!AC71","v":0},{"$f":"Результаты!AD71","v":{"$error":"#DIV/0!"}},{"$f":"Результаты!AE71","v":0},{"$f":"Результаты!AF71","v":{"$error":"#DIV/0!"}},{"$f":"Результаты!AG71","v":0},{"$f":"Результаты!AH71","v":{"$error":"#DIV/0!"}}]
["Максимальный балл",null,null,{"$f":"Результаты!E11","v":39}]
["Пороговый балл",null,null,{"$f":"Результаты!E13","v":15}]
["Зона риска",null,null,{"$f":"Результаты!E15","v":15},{"$f":"Результаты!H15","v":16}]
["Средний балл по работе",null,null,{"$f":"Результаты!E17","v":6.8571428571428568}]
[]
[]
[]
[]
[]
["Количество тестируемых",null,null,null,"чел.",{"$f":"Результаты!A42","v":0},null,null,null,null,null,"Изложение (задание № 1)"]
["Уровни:",null,null,null,null,"Базовый","Повышенный","Высокий",null,null,null,"приступили",null,{"$f":"Результаты!X56","v":0}]
["Всего заданий",null,null,null,"шт.",15,null,null,null,null,null,"не приступили",null,{"$f":"Результаты!X57","v":0}]
[null,null,null,null,null,14,{"$f":"COUNTIF(Результаты!$E$20:$T$20,\"П\")","v":0},{"$f":"COUNTIF(Результаты!$E$20:$T$20,\"В\")","v":1},null,null,null,"средний балл",null,{"$f":"Результаты!X58","v":{"$error":"#DIV/0!"}}]
["Всего баллов",null,null,null,"балл",{"$f":"SUM(F21:H21)","v":39},null,null,null,null,null,"max балл",null,{"$f":"Результаты!X59","v":0}]
[null,null,null,null,null,{"$f":"SUMIF(Результаты!$E$20:$T$20,\"Б\",Результаты!$E$22:$T$22)","v":30},{"$f":"SUMIF(Результаты!$E$20:$T$20,\"П\",Результаты!$E$22:$T$22)","v":0},{"$f":"SUMIF(Результаты!$E$20:$T$20,\"В\",Результаты!$E$22:$T$22)","v":9},null,null,null,"min балл",null,{"$f":"Результаты!X60","v":0}]
["Средний балл по уровням",null,null,null,"балл",{"$f":"SUMIF(Результаты!$E$20:$T$20,\"Б\",Результаты!$E$24:$T$38)/Результаты!$A$42","v":{"$error":"#DIV/0!"}},{"$f":"SUMIF(Результаты!$E$20:$T$20,\"П\",Результаты!$E$24:$T$38)/Результаты!$A$42","v":{"$error":"#DIV/0!"}},{"$f":"SUMIF(Результаты!$E$20:$T$20,\"В\",Результаты!$E$24:$T$38)/Результаты!$A$42","v":{"$error":"#DIV/0!"}},null,null,null,"max балл (чел.)",null,{"$f":"Результаты!X61","v":0}]
["% выполнения работы по уровням",null,null,null,"%",{"$f":"Результаты!V43","v":22.857142857142858},{"$f":"Результаты!#REF!","v":{"$error":"#REF!"}},{"$f":"Результаты!W43","v":{"$error":"#DIV/0!"}},null,null,null,"min балл (чел.)",null,{"$f":"Результаты!X62","v":0}]
["Среднийтестовый балл по выборке",null,null,null,"балл",{"$f":"Результаты!U43","v":6.8571428571428568}]
["Преодолели порог",null,null,null,"чел.",{"$f":"SUM(Результаты!W48:W50)","v":0},null,null,null,null,null,"Сочинение (задание № 15)"]
[null,null,null,null,"%",{"$f":"F25*100/Результаты!A42","v":{"$error":"#DIV/0!"}},null,null,null,null,null,"приступили",null,{"$f":"Результаты!X66","v":0}]
["Не преодолели порог",null,null,null,"чел.",{"$f":"Результаты!A42-Анализ!F25","v":0},null,null,null,null,null,"не приступили",null,{"$f":"Результаты!X67","v":0}]
[null,null,null,null,"%",{"$f":"100-F26","v":{"$error":"#DIV/0!"}},null,null,null,null,null,"средний балл",null,{"$f":"Результаты!X68","v":{"$error":"#DIV/0!"}}]
["Попали в группу риска (пороговый балл + 1)",null,null,null,"чел.",{"$f":"COUNTIF(Результаты!U24:U38,D9)+COUNTIF(Результаты!U24:U38,E9)","v":0},null,null,null,null,null,"max балл",null,{"$f":"Результаты!X69","v":0}]
[null,null,null,null,"%",{"$f":"F29/F16","v":{"$error":"#DIV/0!"}},null,null,null,null,null,"min балл",null,{"$f":"Результаты!X70","v":0}]
["Получили оценку",null,null,null,"балл","\"5\"","\"4\"","\"3\"","\"2\"",null,null,"max балл (чел.)",null,{"$f":"Результаты!X71","v":0}]
[null,null,null,null,"чел.",{"$f":"Результаты!W48","v":0},{"$f":"Результаты!W49","v":0},{"$f":"Результаты!W50","v":0},{"$f":"Результаты!W51","v":14},null,null,"min балл (чел.)",null,{"$f":"Результаты!X72","v":0}]
[null,null,null,null,"%",{"$f":"Результаты!X48","v":{"$error":"#DIV/0!"}},{"$f":"Результаты!X49","v":{"$error":"#DIV/0!"}},{"$f":"Результаты!X50","v":{"$error":"#DIV/0!"}},{"$f":"Результаты!X51","v":{"$error":"#DIV/0!"}},null,null,"% выбравших"]
[null,null,null,null,null,null,null,null,null,null,null,"15.1","15.2","15.3"]
["Перевод баллов в оценку",null,null,null,null,"% выполнения заданий №№2-14(чел.)",null,null,null,null,null,{"$f":"Результаты!AA66","v":{"$error":"#DIV/0!"}},{"$f":"Результаты!AB66","v":{"$error":"#DIV/0!"}},{"$f":"Результаты!AC66","v":{"$error":"#DIV/0!"}}]
[34,"-",39,"5 баллов",null,"<50% заданий",null,{"$f":"Результаты!X76","v":-8}]
[25,"-",33,"4 балла",null,"50-80% заданий",null,{"$f":"Результаты!X77","v":7}]
[15,"-",24,"3 балла",null,"80-100% заданий",null,{"$f":"Результаты!X78","v":1}]
[0,"-",14,"2 балла"]
[]
["номер","тема задания",null,null,null,null,null,null,null,null,null,"приступили","решили верно и полностью","%                 верно решенных"]
[1,"Информационная обработка текстов различных стилей и жанров. Текст как речевое произведение. Смысловая и композиционная целостность текста. Отбор языковых средств в тексте в зависимости от темы, цели, адресата и ситуации общения. Создание текстов различных стилей и функционально-смысловых типов речи. Грамматические нормы (морфологические нормы). Грамматические  нормы  (синтаксические нормы). Лексические нормы. Пунктуация в простом и сложном предложениях. Орфограмма",null,null,null,null,null,null,null,null,null,{"$f":"TRANSPOSE(Результаты!E40:T40)","v":0},{"$f":"TRANSPOSE(Результаты!E42:T42)","v":0},{"$f":"TRANSPOSE(Результаты!E43:T43)","v":{"$error":"#DIV/0!"}}]
[2,"Текст как речевое произведение. Смысловая и композиционная целостность текста. Анализ текста",null,null,null,null,null,null,null,null,null,14,11,{"$error":"#DIV/0!"}]
[3,"Выразительные средства лексики и фразеологии. Анализ средств выразительности",null,null,null,null,null,null,null,null,null,14,9,{"$error":"#DIV/0!"}]
[4,"Правописание приставок. Слитное, дефисное, раздельное написание",null,null,null,null,null,null,null,null,null,14,5,{"$error":"#DIV/0!"}]
[5,"Правописание суффиксов различных частей речи (кроме -Н-/-НН-). Правописание -Н- и -НН- в различных частях речи. Правописание личных окончаний глаголов и суффиксов причастий настоящего времени",null,null,null,null,null,null,null,null,null,14,13,{"$error":"#DIV/0!"}]
[6,"Лексика и фразеология. Синонимы. Фразеологические обороты. Группы слов по происхождению и употреблению",null,null,null,null,null,null,null,null,null,14,7,{"$error":"#DIV/0!"}]
[7,"Словосочетание",null,null,null,null,null,null,null,null,null,13,6,{"$error":"#DIV/0!"}]
[8,"Предложение. Грамматическая (предикативная) основа предложения. Подлежащее и сказуемое как главные члены предложения ",null,null,null,null,null,null,null,null,null,13,12,{"$error":"#DIV/0!"}]
[9,"Осложнённое простое предложение",null,null,null,null,null,null,null,null,null,14,5,{"$error":"#DIV/0!"}]
[10,"Пунктуационный анализ. Знаки препинания в предложениях со словами и конструкциями, грамматически не связанными с членами предложения",null,null,null,null,null,null,null,null,null,14,9,{"$error":"#DIV/0!"}]
[11,"Синтаксический анализ сложного предложения",null,null,null,null,null,null,null,null,null,14,10,{"$error":"#DIV/0!"}]
[12,"Пунктуационный анализ. Знаки препинания в сложносочинённом и сложноподчинённом предложениях",null,null,null,null,null,null,null,null,null,14,2,{"$error":"#DIV/0!"}]
[13,"Синтаксический анализ сложного предложения",null,null,null,null,null,null,null,null,null,12,4,{"$error":"#DIV/0!"}]
[14,"Сложные предложения с разными видами связи между частями",null,null,null,null,null,null,null,null,null,14,3,{"$error":"#DIV/0!"}]
[15,"Текст как речевое произведение. Смысловая и композиционная целостность текста. Создание текстов различных стилей и функционально-смысловых типов речи. Информационная обработка текстов различных стилей и жанров. Грамматические нормы (морфологические нормы). Грамматические нормы (синтаксические нормы). Лексические нормы",null,null,null,null,null,null,null,null,null,0,0,{"$error":"#DIV/0!"}]
[16,null,null,null,null,null,null,null,null,null,null,0,0,{"$error":"#DIV/0!"}]
[17,null,null,null,null,null,null,null,null,null,null,{"$error":"#N/A"},{"$error":"#N/A"},{"$error":"#N/A"}]
[18,null,null,null,null,null,null,null,null,null,null,{"$error":"#N/A"},{"$error":"#N/A"},{"$error":"#N/A"}]
[19,null,null,null,null,null,null,null,null,null,null,{"$error":"#N/A"},{"$error":"#N/A"},{"$error":"#N/A"}]
[20,null,null,null,null,null,null,null,null,null,null,{"$error":"#N/A"},{"$error":"#N/A"},{"$error":"#N/A"}]
[21,null,null,null,null,null,null,null,null,null,null,{"$error":"#N/A"},{"$error":"#N/A"},{"$error":"#N/A"}]
[22,null,null,null,null,null,null,null,null,null,null,{"$error":"#N/A"},{"$error":"#N/A"},{"$error":"#N/A"}]
[23,null,null,null,null,null,null,null,null,null,null,{"$error":"#N/A"},{"$error":"#N/A"},{"$error":"#N/A"}]
[24,null,null,null,null,null,null,null,null,null,null,{"$error":"#N/A"},{"$error":"#N/A"},{"$error":"#N/A"}]
[25,null,null,null,null,null,null,null,null,null,null,{"$error":"#N/A"},{"$error":"#N/A"},{"$error":"#N/A"}]
[26,null,null,null,null,null,null,null,null,null,null,{"$error":"#N/A"},{"$error":"#N/A"},{"$error":"#N/A"}]
[27,null,null,null,null,null,null,null,null,null,null,{"$error":"#N/A"},{"$error":"#N/A"},{"$error":"#N/A"}]
[28,null,null,null,null,null,null,null,null,null,null,{"$error":"#N/A"},{"$error":"#N/A"},{"$error":"#N/A"}]
[29,null,null,null,null,null,null,null,null,null,null,{"$error":"#N/A"},{"$error":"#N/A"},{"$error":"#N/A"}]
[30,null,null,null,null,null,null,null,null,null,null,{"$error":"#N/A"},{"$error":"#N/A"},{"$error":"#N/A"}]
[31,null,null,null,null,null,null,null,null,null,null,{"$error":"#N/A"},{"$error":"#N/A"},{"$error":"#N/A"}]
[32,null,null,null,null,null,null,null,null,null,null,{"$error":"#N/A"},{"$error":"#N/A"},{"$error":"#N/A"}]
[33,null,null,null,null,null,null,null,null,null,null,{"$error":"#N/A"},{"$error":"#N/A"},{"$error":"#N/A"}]
[34,null,null,null,null,null,null,null,null,null,null,{"$error":"#N/A"},{"$error":"#N/A"},{"$error":"#N/A"}]
[35,null,null,null,null,null,null,null,null,null,null,{"$error":"#N/A"},{"$error":"#N/A"},{"$error":"#N/A"}]
[]
["Рекомендации эксперта:"]
["Следует отметить, что большинство учащихся справились с заданием 1 (сжатое изложение) и заданием 15. Но стоит обратить внимание, что те учащиеся, которые выбрали вариант 15.1 объясняют высказывание на бытовом уровне, что не даёт им возможности получить баллы по 1 критерию. Учащиеся, выбравшие вариант 15.3, дают определения словам, но не раскрывают тему сочинения, что не даёт им возможности получить максимальный балл по первому критерию. Среди типичных ошибок можно выделить следующие. Орфография: правописание сложных числительных, правописание безударных гласных в корне, слитное-раздельное написание НЕ и НИ с разными частями речи, употребление прописных/ строчных букв в именах собственных. Пунктуация: тире между подлежащим и сказуемым, в сложных предложениях, при прямой речи, немотивированная постановка знаков препинания. Грамматика: образование падежных форм  числительных, нарушение границ предложения,  смешение прямой и косвенной речи. Речь: неоправданный повтор слов, неразличение слов."]
[]
[]
[]
[]
[]
[]
[]
[]
[]
[]
[]
[]
[]
[]
[]
[]
[]
[]
[]
[]
[]
[]
[]
[]
[]
[]
[]
[]
[]
[]
[]
[]
[]
[]
[]
[]
["Эксперт",null,null,null,null,null,null,null,"О.С.Бородина"]

{"sheet":"Инд","index":2,"n_rows":8398,"n_cols":44,"rows_kept":8398,"cut":false,"hidden":true,"merged":[[8353,35,8354,35],[8353,36,8354,36],[8353,37,8354,37],[8353,38,8354,38],[8353,39,8354,39],[8353,40,8353,42],[8353,43,8354,43],[8356,0,8356,3],[8361,2,8361,34],[8353,10,8354,10],[8353,11,8354,11],[8353,12,8354,12],[8353,13,8354,13],[8353,14,8354,14],[8353,15,8354,15],[8353,16,8354,16],[8353,17,8354,17],[8353,18,8354,18],[8353,19,8354,19],[8353,20,8354,20],[8353,21,8354,21],[8353,22,8354,22],[8353,23,8354,23],[8353,24,8354,24],[8353,25,8354,25],[8353,26,8354,26],[8396,8,8396,9],[8397,0,8397,34],[8379,2,8379,34],[8380,2,8380,34],[8381,2,8381,34],[8382,2,8382,34],[8383,2,8383,34],[8384,2,8384,34],[8385,2,8385,34],[8386,2,8386,34],[8387,2,8387,34],[8388,2,8388,34],[8389,2,8389,34],[8390,2,8390,34],[8391,2,8391,34],[8392,2,8392,34],[8393,2,8393,34],[8394,2,8394,34],[8395,2,8395,34],[8362,2,8362,34],[8363,2,8363,34],[8364,2,8364,34],[8365,2,8365,34],[8366,2,8366,34],[8367,2,8367,34],[8368,2,8368,34],[8369,2,8369,34],[8370,2,8370,34],[8371,2,8371,34],[8372,2,8372,34],[8373,2,8373,34],[8374,2,8374,34],[8375,2,8375,34],[8376,2,8376,34],[8377,2,8377,34],[8378,2,8378,34],[8347,0,8347,2],[8347,4,8347,9],[8348,0,8348,2],[8348,4,8348,9],[8349,0,8349,2],[8349,4,8349,9],[8350,0,8350,2],[8350,4,8350,9],[8351,0,8351,2],[8353,0,8354,3],[8353,4,8354,4],[8353,5,8354,5],[8353,6,8354,6],[8353,7,8354,7],[8353,8,8354,8],[8353,9,8354,9],[8325,2,8325,34],[8326,2,8326,34],[8327,2,8327,34],[8328,2,8328,34],[8329,2,8329,34],[8330,2,8330,34],[8331,2,8331,34],[8332,2,8332,34],[8333,2,8333,34],[8334,2,8334,34],[8335,2,8335,34],[8336,2,8336,34],[8337,2,8337,34],[8338,2,8338,34],[8339,2,8339,34],[8340,8,8340,9],[8341,0,8341,34],[8353,27,8354,27],[8353,28,8354,28],[8353,29,8354,29],[8353,30,8354,30],[8353,31,8354,31],[8353,32,8354,32],[8353,33,8354,33],[8353,34,8354,34],[8351,4,8351,6],[8351,7,8351,9],[8308,2,8308,34],[8309,2,8309,34],[8310,2,8310,34],[8311,2,8311,34],[8312,2,8312,34],[8313,2,8313,34],[8314,2,8314,34],[8315,2,8315,34],[8316,2,8316,34],[8317,2,8317,34],[8318,2,8318,34],[8319,2,8319,34],[8320,2,8320,34],[8321,2,8321,34],[8322,2,8322,34],[8323,2,8323,34],[8324,2,8324,34],[8297,29,8298,29],[8297,30,8298,30],[8297,31,8298,31],[8297,32,8298,32],[8297,33,8298,33],[8297,34,8298,34],[8297,35,8298,35],[8297,36,8298,36],[8297,37,8298,37],[8297,38,8298,38],[8297,39,8298,39],[8297,40,8297,42],[8297,43,8298,43],[8300,0,8300,3],[8305,2,8305,34],[8306,2,8306,34],[8307,2,8307,34],[8297,12,8298,12],[8297,13,8298,13],[8297,14,8298,14],[8297,15,8298,15],[8297,16,8298,16],[8297,17,8298,17],[8297,18,8298,18],[8297,19,8298,19],[8297,20,8298,20],[8297,21,8298,21],[8297,22,8298,22],[8297,23,8298,23],[8297,24,8298,24],[8297,25,8298,25],[8297,26,8298,26],[8297,27,8298,27],[8297,28,8298,28],[8292,0,8292,2],[8292,4,8292,9],[8293,0,8293,2],[8293,4,8293,9],[8294,0,8294,2],[8294,4,8294,9],[8295,0,8295,2],[8297,0,8298,3],[8297,4,8298,4],[8297,5,8298,5],[8297,6,8298,6],[8297,7,8298,7],[8297,8,8298,8],[8297,9,8298,9],[8297,10,8298,10],[8297,11,8298,11],[8271,2,8271,34],[8272,2,8272,34],[8273,2,8273,34],[8274,2,8274,34],[8275,2,8275,34],[8276,2,8276,34],[8277,2,8277,34],[8278,2,8278,34],[8279,2,8279,34],[8280,2,8280,34],[8281,2,8281,34],[8282,2,8282,34],[8283,2,8283,34],[8284,8,8284,9],[8285,0,8285,34],[8291,0,8291,2],[8291,4,8291,9],[8295,4,8295,6],[8295,7,8295,9],[8254,2,8254,34],[8255,2,8255,34],[8256,2,8256,34],[8257,2,8257,34],[8258,2,8258,34],[8259,2,8259,34],[8260,2,8260,34],[8261,2,8261,34],[8262,2,8262,34],[8263,2,8263,34],[8264,2,8264,34],[8265,2,8265,34],[8266,2,8266,34],[8267,2,8267,34],[8268,2,8268,34],[8269,2,8269,34],[8270,2,8270,34],[8241,31,8242,31],[8241,32,8242,32],[8241,33,8242,33],[8241,34,8242,34],[8241,35,8242,35],[8241,36,8242,36],[8241,37,8242,37],[8241,38,8242,38],[8241,39,8242,39],[8241,40,8241,42],[8241,43,8242,43],[8244,0,8244,3],[8249,2,8249,34],[8250,2,8250,34],[8251,2,8251,34],[8252,2,8252,34],[8253,2,8253,34],[8241,14,8242,14],[8241,15,8242,15],[8241,16,8242,16],[8241,17,8242,17],[8241,18,8242,18],[8241,19,8242,19],[8241,20,8242,20],[8241,21,8242,21],[8241,22,8242,22],[8241,23,8242,23],[8241,24,8242,24],[8241,25,8242,25],[8241,26,8242,26],[8241,27,8242,27],[8241,28,8242,28],[8241,29,8242,29],[8241,30,8242,30],[8237,0,8237,2],[8237,4,8237,9],[8238,0,8238,2],[8238,4,8238,9],[8239,0,8239,2],[8241,0,8242,3],[8241,4,8242,4],[8241,5,8242,5],[8241,6,8242,6],[8241,7,8242,7],[8241,8,8242,8],[8241,9,8242,9],[8241,10,8242,10],[8241,11,8242,11],[8241,12,8242,12],[8241,13,8242,13],[8217,2,8217,34],[8218,2,8218,34],[8219,2,8219,34],[8220,2,8220,34],[8221,2,8221,34],[8222,2,8222,34],[8223,2,8223,34],[8224,2,8224,34],[8225,2,8225,34],[8226,2,8226,34],[8227,2,8227,34],[8228,8,8228,9],[8229,0,8229,34],[8235,0,8235,2],[8235,4,8235,9],[8236,0,8236,2],[8236,4,8236,9],[8239,4,8239,6],[8239,7,8239,9],[8200,2,8200,34],[8201,2,8201,34],[8202,2,8202,34],[8203,2,8203,34],[8204,2,8204,34],[8205,2,8205,34],[8206,2,8206,34],[8207,2,8207,34],[8208,2,8208,34],[8209,2,8209,34],[8210,2,8210,34],[8211,2,8211,34],[8212,2,8212,34],[8213,2,8213,34],[8214,2,8214,34],[8215,2,8215,34],[8216,2,8216,34],[8185,33,8186,33],[8185,34,8186,34],[8185,35,8186,35],[8185,36,8186,36],[8185,37,8186,37],[8185,38,8186,38],[8185,39,8186,39],[8185,40,8185,42],[8185,43,8186,43],[8188,0,8188,3],[8193,2,8193,34],[8194,2,8194,34],[8195,2,8195,34],[8196,2,8196,34],[8197,2,8197,34],[8198,2,8198,34],[8199,2,8199,34],[8185,16,8186,16],[8185,17,8186,17],[8185,18,8186,18],[8185,19,8186,19],[8185,20,8186,20],[8185,21,8186,21],[8185,22,8186,22],[8185,23,8186,23],[8185,24,8186,24],[8185,25,8186,25],[8185,26,8186,26],[8185,27,8186,27],[8185,28,8186,28],[8185,29,8186,29],[8185,30,8186,30],[8185,31,8186,31],[8185,32,8186,32],[8182,0,8182,2],[8182,4,8182,9],[8183,0,8183,2],[8185,0,8186,3],[8185,4,8186,4],[8185,5,8186,5],[8185,6,8186,6],[8185,7,8186,7],[8185,8,8186,8],[8185,9,8186,9],[8185,10,8186,10],[8185,11,8186,11],[8185,12,8186,12],[8185,13,8186,13],[8185,14,8186,14],[8185,15,8186,15],[8163,2,8163,34],[8164,2,8164,34],[8165,2,8165,34],[8166,2,8166,34],[8167,2,8167,34],[8168,2,8168,34],[8169,2,8169,34],[8170,2,8170,34],[8171,2,8171,34],[8172,8,8172,9],[8173,0,8173,34],[8179,0,8179,2],[8179,4,8179,9],[8180,0,8180,2],[8180,4,8180,9],[8181,0,8181,2],[8181,4,8181,9],[8183,4,8183,6],[8183,7,8183,9],[8146,2,8146,34],[8147,2,8147,34],[8148,2,8148,34],[8149,2,8149,34],[8150,2,8150,34],[8151,2,8151,34],[8152,2,8152,34],[8153,2,8153,34],[8154,2,8154,34],[8155,2,8155,34],[8156,2,8156,34],[8157,2,8157,34],[8158,2,8158,34],[8159,2,8159,34],[8160,2,8160,34],[8161,2,8161,34],[8162,2,8162,34],[8129,35,8130,35],[8129,36,8130,36],[8129,37,8130,37],[8129,38,8130,38],[8129,39,8130,39],[8129,40,8129,42],[8129,43,8130,43],[8132,0,8132,3],[8137,2,8137,34],[8138,2,8138,34],[8139,2,8139,34],[8140,2,8140,34],[8141,2,8141,34],[8142,2,8142,34],[8143,2,8143,34],[8144,2,8144,34],[8145,2,8145,34],[8129,18,8130,18],[8129,19,8130,19],[8129,20,8130,20],[8129,21,8130,21],[8129,22,8130,22],[8129,23,8130,23],[8129,24,8130,24],[8129,25,8130,25],[8129,26,8130,26],[8129,27,8130,27],[8129,28,8130,28],[8129,29,8130,29],[8129,30,8130,30],[8129,31,8130,31],[8129,32,8130,32],[8129,33,8130,33],[8129,34,8130,34],[8127,0,8127,2],[8129,0,8130,3],[8129,4,8130,4],[8129,5,8130,5],[8129,6,8130,6],[8129,7,8130,7],[8129,8,8130,8],[8129,9,8130,9],[8129,10,8130,10],[8129,11,8130,11],[8129,12,8130,12],[8129,13,8130,13],[8129,14,8130,14],[8129,15,8130,15],[8129,16,8130,16],[8129,17,8130,17],[8109,2,8109,34],[8110,2,8110,34],[8111,2,8111,34],[8112,2,8112,34],[8113,2,8113,34],[8114,2,8114,34],[8115,2,8115,34],[8116,8,8116,9],[8117,0,8117,34],[8123,0,8123,2],[8123,4,8123,9],[8124,0,8124,2],[8124,4,8124,9],[8125,0,8125,2],[8125,4,8125,9],[8126,0,8126,2],[8126,4,8126,9],[8127,4,8127,6],[8127,7,8127,9],[8092,2,8092,34],[8093,2,8093,34],[8094,2,8094,34],[8095,2,8095,34],[8096,2,8096,34],[8097,2,8097,34],[8098,2,8098,34],[8099,2,8099,34],[8100,2,8100,34],[8101,2,8101,34],[8102,2,8102,34],[8103,2,8103,34],[8104,2,8104,34],[8105,2,8105,34],[8106,2,8106,34],[8107,2,8107,34],[8108,2,8108,34],[8073,37,8074,37],[8073,38,8074,38],[8073,39,8074,39],[8073,40,8073,42],[8073,43,8074,43],[8076,0,8076,3],[8081,2,8081,34],[8082,2,8082,34],[8083,2,8083,34],[8084,2,8084,34],[8085,2,8085,34],[8086,2,8086,34],[8087,2,8087,34],[8088,2,8088,34],[8089,2,8089,34],[8090,2,8090,34],[8091,2,8091,34],[8073,20,8074,20],[8073,21,8074,21],[8073,22,8074,22],[8073,23,8074,23],[8073,24,8074,24],[8073,25,8074,25],[8073,26,8074,26],[8073,27,8074,27],[8073,28,8074,28],[8073,29,8074,29],[8073,30,8074,30],[8073,31,8074,31],[8073,32,8074,32],[8073,33,8074,33],[8073,34,8074,34],[8073,35,8074,35],[8073,36,8074,36],[8073,0,8074,3],[8073,4,8074,4],[8073,5,8074,5],[8073,6,8074,6],[8073,7,8074,7],[8073,8,8074,8],[8073,9,8074,9],[8073,10,8074,10],[8073,11,8074,11],[8073,12,8074,12],[8073,13,8074,13],[8073,14,8074,14],[8073,15,8074,15],[8073,16,8074,16],[8073,17,8074,17],[8073,18,8074,18],[8073,19,8074,19],[8053,2,8053,34],[8054,2,8054,34],[8055,2,8055,34],[8056,2,8056,34],[8057,2,8057,34],[8058,2,8058,34],[8059,2,8059,34],[8062,0,8062,34],[8067,0,8067,2],[8067,4,8067,9],[8068,0,8068,2],[8068,4,8068,9],[8069,0,8069,2],[8069,4,8069,9],[8070,0,8070,2],[8070,4,8070,9],[8071,0,8071,2],[8036,2,8036,34],[8037,2,8037,34],[8038,2,8038,34],[8039,2,8039,34],[8040,2,8040,34],[8041,2,8041,34],[8042,2,8042,34],[8043,2,8043,34],[8044,2,8044,34],[8045,2,8045,34],[8046,2,8046,34],[8047,2,8047,34],[8048,2,8048,34],[8049,2,8049,34],[8050,2,8050,34],[8051,2,8051,34],[8052,2,8052,34],[8071,4,8071,6],[8071,7,8071,9],[8017,37,8018,37],[8017,38,8018,38],[8017,39,8018,39],[8017,40,8017,42],[8017,43,8018,43],[8020,0,8020,3],[8025,2,8025,34],[8026,2,8026,34],[8027,2,8027,34],[8028,2,8028,34],[8029,2,8029,34],[8030,2,8030,34],[8031,2,8031,34],[8032,2,8032,34],[8033,2,8033,34],[8034,2,8034,34],[8035,2,8035,34],[8017,20,8018,20],[8017,21,8018,21],[8017,22,8018,22],[8017,23,8018,23],[8017,24,8018,24],[8017,25,8018,25],[8017,26,8018,26],[8017,27,8018,27],[8017,28,8018,28],[8017,29,8018,29],[8017,30,8018,30],[8017,31,8018,31],[8017,32,8018,32],[8017,33,8018,33],[8017,34,8018,34],[8017,35,8018,35],[8017,36,8018,36],[8017,0,8018,3],[8017,4,8018,4],[8017,5,8018,5],[8017,6,8018,6],[8017,7,8018,7],[8017,8,8018,8],[8017,9,8018,9],[8017,10,8018,10],[8017,11,8018,11],[8017,12,8018,12],[8017,13,8018,13],[8017,14,8018,14],[8017,15,8018,15],[8017,16,8018,16],[8017,17,8018,17],[8017,18,8018,18],[8017,19,8018,19],[7997,2,7997,34],[7998,2,7998,34],[7999,2,7999,34],[8000,2,8000,34],[8001,2,8001,34],[8002,2,8002,34],[8003,2,8003,34],[8006,0,8006,34],[8011,0,8011,2],[8011,4,8011,9],[8012,0,8012,2],[8012,4,8012,9],[8013,0,8013,2],[8013,4,8013,9],[8014,0,8014,2],[8014,4,8014,9],[8015,0,8015,2],[7980,2,7980,34],[7981,2,7981,34],[7982,2,7982,34],[7983,2,7983,34],[7984,2,7984,34],[7985,2,7985,34],[7986,2,7986,34],[7987,2,7987,34],[7988,2,7988,34],[7989,2,7989,34],[7990,2,7990,34],[7991,2,7991,34],[7992,2,7992,34],[7993,2,7993,34],[7994,2,7994,34],[7995,2,7995,34],[7996,2,7996,34],[8015,4,8015,6],[8015,7,8015,9],[7961,37,7962,37],[7961,38,7962,38],[7961,39,7962,39],[7961,40,7961,42],[7961,43,7962,43],[7964,0,7964,3],[7969,2,7969,34],[7970,2,7970,34],[7971,2,7971,34],[7972,2,7972,34],[7973,2,7973,34],[7974,2,7974,34],[7975,2,7975,34],[7976,2,7976,34],[7977,2,7977,34],[7978,2,7978,34],[7979,2,7979,34],[7961,20,7962,20],[7961,21,7962,21],[7961,22,7962,22],[7961,23,7962,23],[7961,24,7962,24],[7961,25,7962,25],[7961,26,7962,26],[7961,27,7962,27],[7961,28,7962,28],[7961,29,7962,29],[7961,30,7962,30],[7961,31,7962,31],[7961,32,7962,32],[7961,33,7962,33],[7961,34,7962,34],[7961,35,7962,35],[7961,36,7962,36],[7961,0,7962,3],[7961,4,7962,4],[7961,5,7962,5],[7961,6,7962,6],[7961,7,7962,7],[7961,8,7962,8],[7961,9,7962,9],[7961,10,7962,10],[7961,11,7962,11],[7961,12,7962,12],[7961,13,7962,13],[7961,14,7962,14],[7961,15,7962,15],[7961,16,7962,16],[7961,17,7962,17],[7961,18,7962,18],[7961,19,7962,19],[7941,2,7941,34],[7942,2,7942,34],[7943,2,7943,34],[7944,2,7944,34],[7945,2,7945,34],[7946,2,7946,34],[7947,2,7947,34],[7949,0,7949,34],[7955,0,7955,2],[7955,4,7955,9],[7956,0,7956,2],[7956,4,7956,9],[7957,0,7957,2],[7957,4,7957,9],[7958,0,7958,2],[7958,4,7958,9],[7959,0,7959,2],[7924,2,7924,34],[7925,2,7925,34],[7926,2,7926,34],[7927,2,7927,34],[7928,2,7928,34],[7929,2,7929,34],[7930,2,7930,34],[7931,2,7931,34],[7932,2,7932,34],[7933,2,7933,34],[7934,2,7934,34],[7935,2,7935,34],[7936,2,7936,34],[7937,2,7937,34],[7938,2,7938,34],[7939,2,7939,34],[7940,2,7940,34],[7959,4,7959,6],[7959,7,7959,9],[7905,37,7906,37],[7905,38,7906,38],[7905,39,7906,39],[7905,40,7905,42],[7905,43,7906,43],[7908,0,7908,3],[7913,2,7913,34],[7914,2,7914,34],[7915,2,7915,34],[7916,2,7916,34],[7917,2,7917,34],[7918,2,7918,34],[7919,2,7919,34],[7920,2,7920,34],[7921,2,7921,34],[7922,2,7922,34],[7923,2,7923,34],[7905,20,7906,20],[7905,21,7906,21],[7905,22,7906,22],[7905,23,7906,23],[7905,24,7906,24],[7905,25,7906,25],[7905,26,7906,26],[7905,27,7906,27],[7905,28,7906,28],[7905,29,7906,29],[7905,30,7906,30],[7905,31,7906,31],[7905,32,7906,32],[7905,33,7906,33],[7905,34,7906,34],[7905,35,7906,35],[7905,36,7906,36],[7905,0,7906,3],[7905,4,7906,4],[7905,5,7906,5],[7905,6,7906,6],[7905,7,7906,7],[7905,8,7906,8],[7905,9,7906,9],[7905,10,7906,10],[7905,11,7906,11],[7905,12,7906,12],[7905,13,7906,13],[7905,14,7906,14],[7905,15,7906,15],[7905,16,7906,16],[7905,17,7906,17],[7905,18,7906,18],[7905,19,7906,19],[7885,2,7885,34],[7886,2,7886,34],[7887,2,7887,34],[7888,2,7888,34],[7889,2,7889,34],[7890,2,7890,34],[7891,2,7891,34],[7893,0,7893,34],[7899,0,7899,2],[7899,4,7899,9],[7900,0,7900,2],[7900,4,7900,9],[7901,0,7901,2],[7901,4,7901,9],[7902,0,7902,2],[7902,4,7902,9],[7903,0,7903,2],[7868,2,7868,34],[7869,2,7869,34],[7870,2,7870,34],[7871,2,7871,34],[7872,2,7872,34],[7873,2,7873,34],[7874,2,7874,34],[7875,2,7875,34],[7876,2,7876,34],[7877,2,7877,34],[7878,2,7878,34],[7879,2,7879,34],[7880,2,7880,34],[7881,2,7881,34],[7882,2,7882,34],[7883,2,7883,34],[7884,2,7884,34],[7903,4,7903,6],[7903,7,7903,9],[7849,37,7850,37],[7849,38,7850,38],[7849,39,7850,39],[7849,40,7849,42],[7849,43,7850,43],[7852,0,7852,3],[7857,2,7857,34],[7858,2,7858,34],[7859,2,7859,34],[7860,2,7860,34],[7861,2,7861,34],[7862,2,7862,34],[7863,2,7863,34],[7864,2,7864,34],[7865,2,7865,34],[7866,2,7866,34],[7867,2,7867,34],[7849,20,7850,20],[7849,21,7850,21],[7849,22,7850,22],[7849,23,7850,23],[7849,24,7850,24],[7849,25,7850,25],[7849,26,7850,26],[7849,27,7850,27],[7849,28,7850,28],[7849,29,7850,29],[7849,30,7850,30],[7849,31,7850,31],[7849,32,7850,32],[7849,33,7850,33],[7849,34,7850,34],[7849,35,7850,35],[7849,36,7850,36],[7849,0,7850,3],[7849,4,7850,4],[7849,5,7850,5],[7849,6,7850,6],[7849,7,7850,7],[7849,8,7850,8],[7849,9,7850,9],[7849,10,7850,10],[7849,11,7850,11],[7849,12,7850,12],[7849,13,7850,13],[7849,14,7850,14],[7849,15,7850,15],[7849,16,7850,16],[7849,17,7850,17],[7849,18,7850,18],[7849,19,7850,19],[7829,2,7829,34],[7830,2,7830,34],[7831,2,7831,34],[7832,2,7832,34],[7833,2,7833,34],[7834,2,7834,34],[7835,2,7835,34],[7838,0,7838,34],[7843,0,7843,2],[7843,4,7843,9],[7844,0,7844,2],[7844,4,7844,9],[7845,0,7845,2],[7845,4,7845,9],[7846,0,7846,2],[7846,4,7846,9],[7847,0,7847,2],[7812,2,7812,34],[7813,2,7813,34],[7814,2,7814,34],[7815,2,7815,34],[7816,2,7816,34],[7817,2,7817,34],[7818,2,7818,34],[7819,2,7819,34],[7820,2,7820,34],[7821,2,7821,34],[7822,2,7822,34],[7823,2,7823,34],[7824,2,7824,34],[7825,2,7825,34],[7826,2,7826,34],[7827,2,7827,34],[7828,2,7828,34],[7847,4,7847,6],[7847,7,7847,9],[7793,37,7794,37],[7793,38,7794,38],[7793,39,7794,39],[7793,40,7793,42],[7793,43,7794,43],[7796,0,7796,3],[7801,2,7801,34],[7802,2,7802,34],[7803,2,7803,34],[7804,2,7804,34],[7805,2,7805,34],[7806,2,7806,34],[7807,2,7807,34],[7808,2,7808,34],[7809,2,7809,34],[7810,2,7810,34],[7811,2,7811,34],[7793,20,7794,20],[7793,21,7794,21],[7793,22,7794,22],[7793,23,7794,23],[7793,24,7794,24],[7793,25,7794,25],[7793,26,7794,26],[7793,27,7794,27],[7793,28,7794,28],[7793,29,7794,29],[7793,30,7794,30],[7793,31,7794,31],[7793,32,7794,32],[7793,33,7794,33],[7793,34,7794,34],[7793,35,7794,35],[7793,36,7794,36],[7793,0,7794,3],[7793,4,7794,4],[7793,5,7794,5],[7793,6,7794,6],[7793,7,7794,7],[7793,8,7794,8],[7793,9,7794,9],[7793,10,7794,10],[7793,11,7794,11],[7793,12,7794,12],[7793,13,7794,13],[7793,14,7794,14],[7793,15,7794,15],[7793,16,7794,16],[7793,17,7794,17],[7793,18,7794,18],[7793,19,7794,19],[7773,2,7773,34],[7774,2,7774,34],[7775,2,7775,34],[7776,2,7776,34],[7777,2,7777,34],[7778,2,7778,34],[7779,2,7779,34],[7782,0,7782,34],[7787,0,7787,2],[7787,4,7787,9],[7788,0,7788,2],[7788,4,7788,9],[7789,0,7789,2],[7789,4,7789,9],[7790,0,7790,2],[7790,4,7790,9],[7791,0,7791,2],[7756,2,7756,34],[7757,2,7757,34],[7758,2,7758,34],[7759,2,7759,34],[7760,2,7760,34],[7761,2,7761,34],[7762,2,7762,34],[7763,2,7763,34],[7764,2,7764,34],[7765,2,7765,34],[7766,2,7766,34],[7767,2,7767,34],[7768,2,7768,34],[7769,2,7769,34],[7770,2,7770,34],[7771,2,7771,34],[7772,2,7772,34],[7791,4,7791,6],[7791,7,7791,9],[7737,37,7738,37],[7737,38,7738,38],[7737,39,7738,39],[7737,40,7737,42],[7737,43,7738,43],[7740,0,7740,3],[7745,2,7745,34],[7746,2,7746,34],[7747,2,7747,34],[7748,2,7748,34],[7749,2,7749,34],[7750,2,7750,34]],"merged_total":13133,"flags":["merged_cut"]}
[]
["Центр независимой оценки качества образования и образовательного аудита \"Легион\""]
[]
["Образовательная организация",null,null,null,{"$f":"Результаты!E3","v":"Ленинская СОШ"}]
["Предмет",null,null,null,{"$f":"Результаты!E7","v":"Русский язык"}]
["Максимальный балл",null,null,null,{"$f":"Результаты!E11","v":39}]
["Пороговый балл",null,null,null,{"$f":"Результаты!E13","v":15}]
["Зона риска",null,null,null,{"$f":"Результаты!E15","v":15},null,null,{"$f":"Результаты!H15","v":16}]
[]
[{"$f":"Результаты!A19","v":"Уровни"},null,null,null,{"$f":"Результаты!E19","v":1},{"$f":"Результаты!F19","v":2},{"$f":"Результаты!G19","v":3},{"$f":"Результаты!H19","v":4},{"$f":"Результаты!I19","v":5},{"$f":"Результаты!J19","v":6},{"$f":"Результаты!K19","v":7},{"$f":"Результаты!L19","v":8},{"$f":"Результаты!M19","v":9},{"$f":"Результаты!N19","v":10},{"$f":"Результаты!O19","v":11},{"$f":"Результаты!P19","v":12},{"$f":"Результаты!Q19","v":13},{"$f":"Результаты!R19","v":14},{"$f":"Результаты!S19","v":15},{"$f":"Результаты!T19","v":"ПР.ГР"},{"$f":"Результаты!#REF!","v":{"$error":"#REF!"}},{"$f":"Результаты!#REF!","v":{"$error":"#REF!"}},{"$f":"Результаты!#REF!","v":{"$error":"#REF!"}},{"$f":"Результаты!#REF!","v":{"$error":"#REF!"}},{"$f":"Результаты!#REF!","v":{"$error":"#REF!"}},{"$f":"Результаты!#REF!","v":{"$error":"#REF!"}},{"$f":"Результаты!#REF!","v":{"$error":"#REF!"}},{"$f":"Результаты!#REF!","v":{"$error":"#REF!"}},{"$f":"Результаты!#REF!","v":{"$error":"#REF!"}},{"$f":"Результаты!#REF!","v":{"$error":"#REF!"}},{"$f":"Результаты!#REF!","v":{"$error":"#REF!"}},{"$f":"Результаты!#REF!","v":{"$error":"#REF!"}},{"$f":"Результаты!#REF!","v":{"$error":"#REF!"}},{"$f":"Результаты!#REF!","v":{"$error":"#REF!"}},{"$f":"Результаты!#REF!","v":{"$error":"#REF!"}},{"$f":"Результаты!#REF!","v":{"$error":"#REF!"}},{"$f":"Результаты!#REF!","v":{"$error":"#REF!"}},{"$f":"Результаты!#REF!","v":{"$error":"#REF!"}},{"$f":"Результаты!#REF!","v":{"$error":"#REF!"}},{"$f":"Результаты!U19","v":"Тестов балл"},{"$f":"Результаты!V19","v":"%   выплнения заданий по уровням"},null,null,{"$f":"Результаты!X19","v":"Оценка"}]
[null,null,null,null,null,null,null,null,null,null,null,null,null,null,null,null,null,null,null,null,null,null,null,null,null,null,null,null,null,null,null,null,null,null,null,null,null,null,null,null,{"$f":"Результаты!V20","v":"Базовый"},{"$f":"Результаты!#REF!","v":{"$error":"#REF!"}},{"$f":"Результаты!W20","v":"Высокий"}]
[{"$f":"Результаты!A21","v":"№"},{"$f":"Результаты!B21","v":"Класс"},{"$f":"Результаты!C21","v":"Ф.И.О."},{"$f":"Результаты!D21","v":"№ задания"},{"$f":"Результаты!E21","v":1},{"$f":"Результаты!F21","v":2},{"$f":"Результаты!G21","v":3},{"$f":"Результаты!H21","v":4},{"$f":"Результаты!I21","v":5},{"$f":"Результаты!J21","v":6},{"$f":"Результаты!K21","v":7},{"$f":"Результаты!L21","v":8},{"$f":"Результаты!M21","v":9},{"$f":"Результаты!N21","v":10},{"$f":"Результаты!O21","v":11},{"$f":"Результаты!P21","v":12},{"$f":"Результаты!Q21","v":13},{"$f":"Результаты!R21","v":14},{"$f":"Результаты!S21","v":15},{"$f":"Результаты!T21","v":0},{"$f":"Результаты!#REF!","v":{"$error":"#REF!"}},{"$f":"Результаты!#REF!","v":{"$error":"#REF!"}},{"$f":"Результаты!#REF!","v":{"$error":"#REF!"}},{"$f":"Результаты!#REF!","v":{"$error":"#REF!"}},{"$f":"Результаты!#REF!","v":{"$error":"#REF!"}},{"$f":"Результаты!#REF!","v":{"$error":"#REF!"}},{"$f":"Результаты!#REF!","v":{"$error":"#REF!"}},{"$f":"Результаты!#REF!","v":{"$error":"#REF!"}},{"$f":"Результаты!#REF!","v":{"$error":"#REF!"}},{"$f":"Результаты!#REF!","v":{"$error":"#REF!"}},{"$f":"Результаты!#REF!","v":{"$error":"#REF!"}},{"$f":"Результаты!#REF!","v":{"$error":"#REF!"}},{"$f":"Результаты!#REF!","v":{"$error":"#REF!"}},{"$f":"Результаты!#REF!","v":{"$error":"#REF!"}},{"$f":"Результаты!#REF!","v":{"$error":"#REF!"}},{"$f":"Результаты!#REF!","v":{"$error":"#REF!"}},{"$f":"Результаты!#REF!","v":{"$error":"#REF!"}},{"$f":"Результаты!#REF!","v":{"$error":"#REF!"}},{"$f":"Результаты!#REF!","v":{"$error":"#REF!"}}]
[{"$f":"Результаты!A22","v":"Максимальный балл"},null,null,null,{"$f":"Результаты!E22","v":7},{"$f":"Результаты!F22","v":1},{"$f":"Результаты!G22","v":1},{"$f":"Результаты!H22","v":1},{"$f":"Результаты!I22","v":1},{"$f":"Результаты!J22","v":1},{"$f":"Результаты!K22","v":1},{"$f":"Результаты!L22","v":1},{"$f":"Результаты!M22","v":1},{"$f":"Результаты!N22","v":1},{"$f":"Результаты!O22","v":1},{"$f":"Результаты!P22","v":1},{"$f":"Результаты!Q22","v":1},{"$f":"Результаты!R22","v":1},{"$f":"Результаты!S22","v":9},{"$f":"Результаты!T22","v":10},{"$f":"Результаты!#REF!","v":{"$error":"#REF!"}},{"$f":"Результаты!#REF!","v":{"$error":"#REF!"}},{"$f":"Результаты!#REF!","v":{"$error":"#REF!"}},{"$f":"Результаты!#REF!","v":{"$error":"#REF!"}},{"$f":"Результаты!#REF!","v":{"$error":"#REF!"}},{"$f":"Результаты!#REF!","v":{"$error":"#REF!"}},{"$f":"Результаты!#REF!","v":{"$error":"#REF!"}},{"$f":"Результаты!#REF!","v":{"$error":"#REF!"}},{"$f":"Результаты!#REF!","v":{"$error":"#REF!"}},{"$f":"Результаты!#REF!","v":{"$error":"#REF!"}},{"$f":"Результаты!#REF!","v":{"$error":"#REF!"}},{"$f":"Результаты!#REF!","v":{"$error":"#REF!"}},{"$f":"Результаты!#REF!","v":{"$error":"#REF!"}},{"$f":"Результаты!#REF!","v":{"$error":"#REF!"}},{"$f":"Результаты!#REF!","v":{"$error":"#REF!"}},{"$f":"Результаты!#REF!","v":{"$error":"#REF!"}},{"$f":"Результаты!#REF!","v":{"$error":"#REF!"}},{"$f":"Результаты!#REF!","v":{"$error":"#REF!"}},{"$f":"Результаты!#REF!","v":{"$error":"#REF!"}},{"$f":"Результаты!U22","v":39},{"$f":"Результаты!V22","v":76.92307692307692},{"$f":"Результаты!#REF!","v":{"$error":"#REF!"}},{"$f":"Результаты!W22","v":23.076923076923077},{"$f":"Результаты!X22","v":0}]
[null,null,null,{"$f":"Результаты!D23","v":"вариант"}]
[{"$f":"Результаты!A24","v":1},{"$f":"Результаты!B24","v":0},{"$f":"Результаты!C24","v":0},{"$f":"Результаты!D24","v":1},{"$f":"Результаты!E24","v":"-"},{"$f":"Результаты!F24","v":0},{"$f":"Результаты!G24","v":0},{"$f":"Результаты!H24","v":0},{"$f":"Результаты!I24","v":1},{"$f":"Результаты!J24","v":0},{"$f":"Результаты!K24","v":0},{"$f":"Результаты!L24","v":1},{"$f":"Результаты!M24","v":1},{"$f":"Результаты!N24","v":1},{"$f":"Результаты!O24","v":0},{"$f":"Результаты!P24","v":0},{"$f":"Результаты!Q24","v":0},{"$f":"Результаты!R24","v":1},{"$f":"Результаты!S24","v":"-"},{"$f":"Результаты!T24","v":"-"},{"$f":"Результаты!#REF!","v":{"$error":"#REF!"}},{"$f":"Результаты!#REF!","v":{"$error":"#REF!"}},{"$f":"Результаты!#REF!","v":{"$error":"#REF!"}},{"$f":"Результаты!#REF!","v":{"$error":"#REF!"}},{"$f":"Результаты!#REF!","v":{"$error":"#REF!"}},{"$f":"Результаты!#REF!","v":{"$error":"#REF!"}},{"$f":"Результаты!#REF!","v":{"$error":"#REF!"}},{"$f":"Результаты!#REF!","v":{"$error":"#REF!"}},{"$f":"Результаты!#REF!","v":{"$error":"#REF!"}},{"$f":"Результаты!#REF!","v":{"$error":"#REF!"}},{"$f":"Результаты!#REF!","v":{"$error":"#REF!"}},{"$f":"Результаты!#REF!","v":{"$error":"#REF!"}},{"$f":"Результаты!#REF!","v":{"$error":"#REF!"}},{"$f":"Результаты!#REF!","v":{"$error":"#REF!"}},{"$f":"Результаты!#REF!","v":{"$error":"#REF!"}},{"$f":"Результаты!#REF!","v":{"$error":"#REF!"}},{"$f":"Результаты!#REF!","v":{"$error":"#REF!"}},{"$f":"Результаты!#REF!","v":{"$error":"#REF!"}},{"$f":"Результаты!#REF!","v":{"$error":"#REF!"}},{"$f":"Результаты!U24","v":5},{"$f":"Результаты!V24","v":16.666666666666664},{"$f":"Результаты!#REF!","v":{"$error":"#REF!"}},{"$f":"Результаты!W24","v":0},{"$f":"Результаты!X24","v":"2"}]
[]
[]
[null,{"$f":"Анализ!A41","v":"номер"},{"$f":"Анализ!B41","v":"тема задания"}]
[null,{"$f":"Анализ!A42","v":1},{"$f":"Анализ!B42","v":"Информационная обработка текстов различных стилей и жанров. Текст как речевое произведение. Смысловая и композиционная целостность текста. Отбор языковых средств в тексте в зависимости от темы, цели, адресата и ситуации общения. Создание текстов различных стилей и функционально-смысловых типов речи. Грамматические нормы (морфологические нормы). Грамматические  нормы  (синтаксические нормы). Лексические нормы. Пунктуация в простом и сложном предложениях. Орфограмма"}]
[null,{"$f":"Анализ!A43","v":2},{"$f":"Анализ!B43","v":"Текст как речевое произведение. Смысловая и композиционная целостность текста. Анализ текста"}]
[null,{"$f":"Анализ!A44","v":3},{"$f":"Анализ!B44","v":"Выразительные средства лексики и фразеологии. Анализ средств выразительности"}]
[null,{"$f":"Анализ!A45","v":4},{"$f":"Анализ!B45","v":"Правописание приставок. Слитное, дефисное, раздельное написание"}]
[null,{"$f":"Анализ!A46","v":5},{"$f":"Анализ!B46","v":"Правописание суффиксов различных частей речи (кроме -Н-/-НН-). Правописание -Н- и -НН- в различных частях речи. Правописание личных окончаний глаголов и суффиксов причастий настоящего времени"}]
[null,{"$f":"Анализ!A47","v":6},{"$f":"Анализ!B47","v":"Лексика и фразеология. Синонимы. Фразеологические обороты. Группы слов по происхождению и употреблению"}]
[null,{"$f":"Анализ!A48","v":7},{"$f":"Анализ!B48","v":"Словосочетание"}]
[null,{"$f":"Анализ!A49","v":8},{"$f":"Анализ!B49","v":"Предложение. Грамматическая (предикативная) основа предложения. Подлежащее и сказуемое как главные члены предложения "}]
[null,{"$f":"Анализ!A50","v":9},{"$f":"Анализ!B50","v":"Осложнённое простое предложение"}]
[null,{"$f":"Анализ!A51","v":10},{"$f":"Анализ!B51","v":"Пунктуационный анализ. Знаки препинания в предложениях со словами и конструкциями, грамматически не связанными с членами предложения"}]
[null,{"$f":"Анализ!A52","v":11},{"$f":"Анализ!B52","v":"Синтаксический анализ сложного предложения"}]
[null,{"$f":"Анализ!A53","v":12},{"$f":"Анализ!B53","v":"Пунктуационный анализ. Знаки препинания в сложносочинённом и сложноподчинённом предложениях"}]
[null,{"$f":"Анализ!A54","v":13},{"$f":"Анализ!B54","v":"Синтаксический анализ сложного предложения"}]
[null,{"$f":"Анализ!A55","v":14},{"$f":"Анализ!B55","v":"Сложные предложения с разными видами связи между частями"}]
[null,{"$f":"Анализ!A56","v":15},{"$f":"Анализ!B56","v":"Текст как речевое произведение. Смысловая и композиционная целостность текста. Создание текстов различных стилей и функционально-смысловых типов речи. Информационная обработка текстов различных стилей и жанров. Грамматические нормы (морфологические нормы). Грамматические нормы (синтаксические нормы). Лексические нормы"}]
[null,{"$f":"Анализ!A57","v":16},{"$f":"Анализ!B57","v":0}]
[null,{"$f":"Анализ!A58","v":17},{"$f":"Анализ!B58","v":0}]
[null,{"$f":"Анализ!A59","v":18},{"$f":"Анализ!B59","v":0}]
[null,{"$f":"Анализ!A60","v":19},{"$f":"Анализ!B60","v":0}]
[null,{"$f":"Анализ!A61","v":20},{"$f":"Анализ!B61","v":0}]
[null,{"$f":"Анализ!A62","v":21},{"$f":"Анализ!B62","v":0}]
[null,{"$f":"Анализ!A63","v":22},{"$f":"Анализ!B63","v":0}]
[null,{"$f":"Анализ!A64","v":23},{"$f":"Анализ!B64","v":0}]
[null,{"$f":"Анализ!A65","v":24},{"$f":"Анализ!B65","v":0}]
[null,{"$f":"Анализ!A66","v":25},{"$f":"Анализ!B66","v":0}]
[null,{"$f":"Анализ!A67","v":26},{"$f":"Анализ!B67","v":0}]
[null,{"$f":"Анализ!A68","v":27},{"$f":"Анализ!B68","v":0}]
[null,{"$f":"Анализ!A69","v":28},{"$f":"Анализ!B69","v":0}]
[null,{"$f":"Анализ!A70","v":29},{"$f":"Анализ!B70","v":0}]
[null,{"$f":"Анализ!A71","v":30},{"$f":"Анализ!B71","v":0}]
[null,{"$f":"Анализ!A72","v":31},{"$f":"Анализ!B72","v":0}]
[null,{"$f":"Анализ!A73","v":32},{"$f":"Анализ!B73","v":0}]
[null,{"$f":"Анализ!A74","v":33},{"$f":"Анализ!B74","v":0}]
[null,{"$f":"Анализ!A75","v":34},{"$f":"Анализ!B75","v":0}]
[null,{"$f":"Анализ!A76","v":35},{"$f":"Анализ!B76","v":0}]
[]
["Рекомендация: обратите внимание на задания по темам, которые вызвали у Вас затруднения, решены с ошибкой и отмечены \"0\" или к решению которых Вы не приступили (пустые ячейки)!"]
[]
[]
["Центр независимой оценки качества образования и образовательного аудита \"Легион\""]
[]
["Образовательная организация",null,null,null,{"$f":"E4","v":"Ленинская СОШ"}]
["Предмет",null,null,null,{"$f":"E5","v":"Русский язык"}]
["Максимальный балл",null,null,null,39]
["Пороговый балл",null,null,null,15]
["Зона риска",null,null,null,{"$f":"Результаты!E15","v":15},null,null,{"$f":"Результаты!H15","v":16}]
[]
["Уровни",null,null,null,{"$f":"E10","v":1},{"$f":"F10","v":2},3,4,5,6,7,8,9,10,11,12,13,14,15,"ПР.ГР",{"$error":"#REF!"},{"$error":"#REF!"},{"$error":"#REF!"},{"$error":"#REF!"},{"$error":"#REF!"},{"$error":"#REF!"},{"$error":"#REF!"},{"$error":"#REF!"},{"$error":"#REF!"},{"$error":"#REF!"},{"$error":"#REF!"},{"$error":"#REF!"},{"$error":"#REF!"},{"$error":"#REF!"},{"$error":"#REF!"},{"$error":"#REF!"},{"$error":"#REF!"},{"$error":"#REF!"},{"$error":"#REF!"},"Тестовый балл","% выплнения заданий по уровням",null,null,"Оценка"]
[null,null,null,null,null,null,null,null,null,null,null,null,null,null,null,null,null,null,null,null,null,null,null,null,null,null,null,null,null,null,null,null,null,null,null,null,null,null,null,null,"Базовый","Повышенный","Высокий"]
["№","Класс","Ф.И.О.","№ задания",{"$f":"E12","v":1},{"$f":"F12","v":2},3,4,5,6,7,8,9,10,11,12,13,14,15,0,{"$error":"#REF!"},{"$error":"#REF!"},{"$error":"#REF!"},{"$error":"#REF!"},{"$error":"#REF!"},{"$error":"#REF!"},{"$error":"#REF!"},{"$error":"#REF!"},{"$error":"#REF!"},{"$error":"#REF!"},{"$error":"#REF!"},{"$error":"#REF!"},{"$error":"#REF!"},{"$error":"#REF!"},{"$error":"#REF!"},{"$error":"#REF!"},{"$error":"#REF!"},{"$error":"#REF!"},{"$error":"#REF!"}]
["Максимальный балл",null,null,null,{"$f":"E13","v":7},{"$f":"F13","v":1},1,1,1,1,1,1,1,1,1,1,1,1,9,10,{"$error":"#REF!"},{"$error":"#REF!"},{"$error":"#REF!"},{"$error":"#REF!"},{"$error":"#REF!"},{"$error":"#REF!"},{"$error":"#REF!"},{"$error":"#REF!"},{"$error":"#REF!"},{"$error":"#REF!"},{"$error":"#REF!"},{"$error":"#REF!"},{"$error":"#REF!"},{"$error":"#REF!"},{"$error":"#REF!"},{"$error":"#REF!"},{"$error":"#REF!"},{"$error":"#REF!"},{"$error":"#REF!"},39,76.92307692307692,{"$error":"#REF!"},23.076923076923077,0]
[null,null,null,"вариант"]
[{"$f":"Результаты!A25","v":2},{"$f":"Результаты!B25","v":0},{"$f":"Результаты!C25","v":0},{"$f":"Результаты!D25","v":2},{"$f":"Результаты!E25","v":"-"},{"$f":"Результаты!F25","v":1},{"$f":"Результаты!G25","v":1},{"$f":"Результаты!H25","v":0},{"$f":"Результаты!I25","v":1},{"$f":"Результаты!J25","v":1},{"$f":"Результаты!K25","v":1},{"$f":"Результаты!L25","v":1},{"$f":"Результаты!M25","v":0},{"$f":"Результаты!N25","v":1},{"$f":"Результаты!O25","v":0},{"$f":"Результаты!P25","v":0},{"$f":"Результаты!Q25","v":0},{"$f":"Результаты!R25","v":0},{"$f":"Результаты!S25","v":"-"},{"$f":"Результаты!T25","v":"-"},{"$f":"Результаты!#REF!","v":{"$error":"#REF!"}},{"$f":"Результаты!#REF!","v":{"$error":"#REF!"}},{"$f":"Результаты!#REF!","v":{"$error":"#REF!"}},{"$f":"Результаты!#REF!","v":{"$error":"#REF!"}},{"$f":"Результаты!#REF!","v":{"$error":"#REF!"}},{"$f":"Результаты!#REF!","v":{"$error":"#REF!"}},{"$f":"Результаты!#REF!","v":{"$error":"#REF!"}},{"$f":"Результаты!#REF!","v":{"$error":"#REF!"}},{"$f":"Результаты!#REF!","v":{"$error":"#REF!"}},{"$f":"Результаты!#REF!","v":{"$error":"#REF!"}},{"$f":"Результаты!#REF!","v":{"$error":"#REF!"}},{"$f":"Результаты!#REF!","v":{"$error":"#REF!"}},{"$f":"Результаты!#REF!","v":{"$error":"#REF!"}},{"$f":"Результаты!#REF!","v":{"$error":"#REF!"}},{"$f":"Результаты!#REF!","v":{"$error":"#REF!"}},{"$f":"Результаты!#REF!","v":{"$error":"#REF!"}},{"$f":"Результаты!#REF!","v":{"$error":"#REF!"}},{"$f":"Результаты!#REF!","v":{"$error":"#REF!"}},{"$f":"Результаты!#REF!","v":{"$error":"#REF!"}},{"$f":"Результаты!U25","v":7},{"$f":"Результаты!V25","v":23.333333333333332},{"$f":"Результаты!#REF!","v":{"$error":"#REF!"}},{"$f":"Результаты!W25","v":0},{"$f":"Результаты!X25","v":"2"}]
[]
[]
[null,{"$f":"B18","v":"номер"},{"$f":"C18","v":"тема задания"}]
[null,{"$f":"B19","v":1},{"$f":"C19","v":"Информационная обработка текстов различных стилей и жанров. Текст как речевое произведение. Смысловая и композиционная целостность текста. Отбор языковых средств в тексте в зависимости от темы, цели, адресата и ситуации общения. Создание текстов различных стилей и функционально-смысловых типов речи. Грамматические нормы (морфологические нормы). Грамматические  нормы  (синтаксические нормы). Лексические нормы. Пунктуация в простом и сложном предложениях. Орфограмма"}]
[null,2,{"$f":"C20","v":"Текст как речевое произведение. Смысловая и композиционная целостность текста. Анализ текста"}]
[null,3,{"$f":"C21","v":"Выразительные средства лексики и фразеологии. Анализ средств выразительности"}]
[null,4,{"$f":"C22","v":"Правописание приставок. Слитное, дефисное, раздельное написание"}]
[null,5,{"$f":"C23","v":"Правописание суффиксов различных частей речи (кроме -Н-/-НН-). Правописание -Н- и -НН- в различных частях речи. Правописание личных окончаний глаголов и суффиксов причастий настоящего времени"}]
[null,6,{"$f":"C24","v":"Лексика и фразеология. Синонимы. Фразеологические обороты. Группы слов по происхождению и употреблению"}]
[null,7,{"$f":"C25","v":"Словосочетание"}]
[null,8,{"$f":"C26","v":"Предложение. Грамматическая (предикативная) основа предложения. Подлежащее и сказуемое как главные члены предложения "}]
[null,9,{"$f":"C27","v":"Осложнённое простое предложение"}]
[null,10,{"$f":"C28","v":"Пунктуационный анализ. Знаки препинания в предложениях со словами и конструкциями, грамматически не связанными с членами предложения"}]
[null,11,{"$f":"C29","v":"Синтаксический анализ сложного предложения"}]
[null,12,{"$f":"C30","v":"Пунктуационный анализ. Знаки препинания в сложносочинённом и сложноподчинённом предложениях"}]
[null,13,{"$f":"C31","v":"Синтаксический анализ сложного предложения"}]
[null,14,{"$f":"C32","v":"Сложные предложения с разными видами связи между частями"}]
[null,15,{"$f":"C33","v":"Текст как речевое произведение. Смысловая и композиционная целостность текста. Создание текстов различных стилей и функционально-смысловых типов речи. Информационная обработка текстов различных стилей и жанров. Грамматические нормы (морфологические нормы). Грамматические нормы (синтаксические нормы). Лексические нормы"}]
[null,16,{"$f":"C34","v":0}]
[null,17,{"$f":"C35","v":0}]
[null,18,{"$f":"C36","v":0}]
[null,19,{"$f":"C37","v":0}]
[null,20,{"$f":"C38","v":0}]
[null,21,{"$f":"C39","v":0}]
[null,22,{"$f":"C40","v":0}]
[null,23,{"$f":"C41","v":0}]
[null,24,{"$f":"C42","v":0}]
[null,25,{"$f":"C43","v":0}]
[null,26,{"$f":"C44","v":0}]
[null,27,{"$f":"C45","v":0}]
[null,28,{"$f":"C46","v":0}]
[null,29,{"$f":"C47","v":0}]
[null,30,{"$f":"C48","v":0}]
[null,31,{"$f":"C49","v":0}]
[null,32,{"$f":"C50","v":0}]
[null,33,{"$f":"C51","v":0}]
[null,34,{"$f":"C52","v":0}]
[null,35,{"$f":"C53","v":0}]
[]
["Рекомендация: обратите внимание на задания по темам, которые вызвали у Вас затруднения, решены с ошибкой и отмечены \"0\" или к решению которых Вы не приступили (пустые ячейки)!"]
[]
[]
["Центр независимой оценки качества образования и образовательного аудита \"Легион\""]
[]
["Образовательная организация",null,null,null,{"$f":"E60","v":"Ленинская СОШ"}]
["Предмет",null,null,null,{"$f":"E61","v":"Русский язык"}]
["Максимальный балл",null,null,null,39]
["Пороговый балл",null,null,null,15]
["Зона риска",null,null,null,{"$f":"Результаты!E15","v":15},null,null,{"$f":"Результаты!H15","v":16}]
[]
["Уровни",null,null,null,{"$f":"E66","v":1},{"$f":"F66","v":2},3,4,5,6,7,8,9,10,11,12,13,14,15,"ПР.ГР",{"$error":"#REF!"},{"$error":"#REF!"},{"$error":"#REF!"},{"$error":"#REF!"},{"$error":"#REF!"},{"$error":"#REF!"},{"$error":"#REF!"},{"$error":"#REF!"},{"$error":"#REF!"},{"$error":"#REF!"},{"$error":"#REF!"},{"$error":"#REF!"},{"$error":"#REF!"},{"$error":"#REF!"},{"$error":"#REF!"},{"$error":"#REF!"},{"$error":"#REF!"},{"$error":"#REF!"},{"$error":"#REF!"},"Тестовый балл","% выплнения заданий по уровням",null,null,"Оценка"]
[null,null,null,null,null,null,null,null,null,null,null,null,null,null,null,null,null,null,null,null,null,null,null,null,null,null,null,null,null,null,null,null,null,null,null,null,null,null,null,null,"Базовый","Повышенный","Высокий"]
["№","Класс","Ф.И.О.","№ задания",{"$f":"E68","v":1},{"$f":"F68","v":2},3,4,5,6,7,8,9,10,11,12,13,14,15,0,{"$error":"#REF!"},{"$error":"#REF!"},{"$error":"#REF!"},{"$error":"#REF!"},{"$error":"#REF!"},{"$error":"#REF!"},{"$error":"#REF!"},{"$error":"#REF!"},{"$error":"#REF!"},{"$error":"#REF!"},{"$error":"#REF!"},{"$error":"#REF!"},{"$error":"#REF!"},{"$error":"#REF!"},{"$error":"#REF!"},{"$error":"#REF!"},{"$error":"#REF!"},{"$error":"#REF!"},{"$error":"#REF!"}]
["Максимальный балл",null,null,null,{"$f":"E69","v":7},{"$f":"F69","v":1},1,1,1,1,1,1,1,1,1,1,1,1,9,10,{"$error":"#REF!"},{"$error":"#REF!"},{"$error":"#REF!"},{"$error":"#REF!"},{"$error":"#REF!"},{"$error":"#REF!"},{"$error":"#REF!"},{"$error":"#REF!"},{"$error":"#REF!"},{"$error":"#REF!"},{"$error":"#REF!"},{"$error":"#REF!"},{"$error":"#REF!"},{"$error":"#REF!"},{"$error":"#REF!"},{"$error":"#REF!"},{"$error":"#REF!"},{"$error":"#REF!"},{"$error":"#REF!"},39,76.92307692307692,{"$error":"#REF!"},23.076923076923077,0]
[null,null,null,"вариант"]
[{"$f":"Результаты!A26","v":3},{"$f":"Результаты!B26","v":0},{"$f":"Результаты!C26","v":0},{"$f":"Результаты!D26","v":2},{"$f":"Результаты!E26","v":"-"},{"$f":"Результаты!F26","v":1},{"$f":"Результаты!G26","v":1},{"$f":"Результаты!H26","v":0},{"$f":"Результаты!I26","v":1},{"$f":"Результаты!J26","v":0},{"$f":"Результаты!K26","v":1},{"$f":"Результаты!L26","v":1},{"$f":"Результаты!M26","v":0},{"$f":"Результаты!N26","v":0},{"$f":"Результаты!O26","v":1},{"$f":"Результаты!P26","v":0},{"$f":"Результаты!Q26","v":0},{"$f":"Результаты!R26","v":0},{"$f":"Результаты!S26","v":"-"},{"$f":"Результаты!T26","v":"-"},{"$f":"Результаты!#REF!","v":{"$error":"#REF!"}},{"$f":"Результаты!#REF!","v":{"$error":"#REF!"}},{"$f":"Результаты!#REF!","v":{"$error":"#REF!"}},{"$f":"Результаты!#REF!","v":{"$error":"#REF!"}},{"$f":"Результаты!#REF!","v":{"$error":"#REF!"}},{"$f":"Результаты!#REF!","v":{"$error":"#REF!"}},{"$f":"Результаты!#REF!","v":{"$error":"#REF!"}},{"$f":"Результаты!#REF!","v":{"$error":"#REF!"}},{"$f":"Результаты!#REF!","v":{"$error":"#REF!"}},{"$f":"Результаты!#REF!","v":{"$error":"#REF!"}},{"$f":"Результаты!#REF!","v":{"$error":"#REF!"}},{"$f":"Результаты!#REF!","v":{"$error":"#REF!"}},{"$f":"Результаты!#REF!","v":{"$error":"#REF!"}},{"$f":"Результаты!#REF!","v":{"$error":"#REF!"}},{"$f":"Результаты!#REF!","v":{"$error":"#REF!"}},{"$f":"Результаты!#REF!","v":{"$error":"#REF!"}},{"$f":"Результаты!#REF!","v":{"$error":"#REF!"}},{"$f":"Результаты!#REF!","v":{"$error":"#REF!"}},{"$f":"Результаты!#REF!","v":{"$error":"#REF!"}},{"$f":"Результаты!U26","v":6},{"$f":"Результаты!V26","v":20},{"$f":"Результаты!#REF!","v":{"$error":"#REF!"}},{"$f":"Результаты!W26","v":0},{"$f":"Результаты!X26","v":"2"}]
[]
[]
[null,{"$f":"B74","v":"номер"},{"$f":"C74","v":"тема задания"}]
[null,{"$f":"B75","v":1},"Информационная обработка текстов различных стилей и жанров. Текст как речевое произведение. Смысловая и композиционная целостность текста. Отбор языковых средств в тексте в зависимости от темы, цели, адресата и ситуации общения. Создание текстов различных стилей и функционально-смысловых типов речи. Грамматические нормы (морфологические нормы). Грамматические  нормы  (синтаксические нормы). Лексические нормы. Пунктуация в простом и сложном предложениях. Орфограмма"]
[null,2,"Текст как речевое произведение. Смысловая и композиционная целостность текста. Анализ текста"]
[null,3,"Выразительные средства лексики и фразеологии. Анализ средств выразительности"]
[null,4,"Правописание приставок. Слитное, дефисное, раздельное написание"]
[null,5,"Правописание суффиксов различных частей речи (кроме -Н-/-НН-). Правописание -Н- и -НН- в различных частях речи. Правописание личных окончаний глаголов и суффиксов причастий настоящего времени"]
[null,6,"Лексика и фразеология. Синонимы. Фразеологические обороты. Группы слов по происхождению и употреблению"]
[null,7,"Словосочетание"]
[null,8,"Предложение. Грамматическая (предикативная) основа предложения. Подлежащее и сказуемое как главные члены предложения "]
[null,9,"Осложнённое простое предложение"]
[null,10,"Пунктуационный анализ. Знаки препинания в предложениях со словами и конструкциями, грамматически не связанными с членами предложения"]
[null,11,"Синтаксический анализ сложного предложения"]
[null,12,"Пунктуационный анализ. Знаки препинания в сложносочинённом и сложноподчинённом предложениях"]
[null,13,"Синтаксический анализ сложного предложения"]
[null,14,"Сложные предложения с разными видами связи между частями"]
[null,15,"Текст как речевое произведение. Смысловая и композиционная целостность текста. Создание текстов различных стилей и функционально-смысловых типов речи. Информационная обработка текстов различных стилей и жанров. Грамматические нормы (морфологические нормы). Грамматические нормы (синтаксические нормы). Лексические нормы"]
[null,16,0]
[null,{"$f":"B91","v":17},0]
[null,18,0]
[null,19,0]
[null,20,0]
[null,21,0]
[null,22,0]
[null,23,0]
[null,24,0]
[null,25,0]
[null,26,0]
[null,27,0]
[null,28,0]
[null,29,0]
[null,30,0]
[null,31,0]
[null,32,0]
[null,{"$f":"B107","v":33},0]
[null,34,0]
[null,35,0]
[]
["Рекомендация: обратите внимание на задания по темам, которые вызвали у Вас затруднения, решены с ошибкой и отмечены \"0\" или к решению которых Вы не приступили (пустые ячейки)!"]
[]
[]
["Центр независимой оценки качества образования и образовательного аудита \"Легион\""]
[]
["Образовательная организация",null,null,null,{"$f":"E116","v":"Ленинская СОШ"}]
["Предмет",null,null,null,{"$f":"E117","v":"Русский язык"}]
["Максимальный балл",null,null,null,39]
["Пороговый балл",null,null,null,15]
["Зона риска",null,null,null,{"$f":"Результаты!E15","v":15},null,null,{"$f":"Результаты!H15","v":16}]
[]
["Уровни",null,null,null,{"$f":"E122","v":1},{"$f":"F122","v":2},3,4,5,6,7,8,9,10,11,12,13,14,15,"ПР.ГР",{"$error":"#REF!"},{"$error":"#REF!"},{"$error":"#REF!"},{"$error":"#REF!"},{"$error":"#REF!"},{"$error":"#REF!"},{"$error":"#REF!"},{"$error":"#REF!"},{"$error":"#REF!"},{"$error":"#REF!"},{"$error":"#REF!"},{"$error":"#REF!"},{"$error":"#REF!"},{"$error":"#REF!"},{"$error":"#REF!"},{"$error":"#REF!"},{"$error":"#REF!"},{"$error":"#REF!"},{"$error":"#REF!"},"Тестовый балл","% выплнения заданий по уровням",null,null,"Оценка"]
[null,null,null,null,null,null,null,null,null,null,null,null,null,null,null,null,null,null,null,null,null,null,null,null,null,null,null,null,null,null,null,null,null,null,null,null,null,null,null,null,"Базовый","Повышенный","Высокий"]
["№","Класс","Ф.И.О.","№ задания",{"$f":"E124","v":1},{"$f":"F124","v":2},3,4,5,6,7,8,9,10,11,12,13,14,15,0,{"$error":"#REF!"},{"$error":"#REF!"},{"$error":"#REF!"},{"$error":"#REF!"},{"$error":"#REF!"},{"$error":"#REF!"},{"$error":"#REF!"},{"$error":"#REF!"},{"$error":"#REF!"},{"$error":"#REF!"},{"$error":"#REF!"},{"$error":"#REF!"},{"$error":"#REF!"},{"$error":"#REF!"},{"$error":"#REF!"},{"$error":"#REF!"},{"$error":"#REF!"},{"$error":"#REF!"},{"$error":"#REF!"}]
["Максимальный балл",null,null,null,{"$f":"E125","v":7},{"$f":"F125","v":1},1,1,1,1,1,1,1,1,1,1,1,1,9,10,{"$error":"#REF!"},{"$error":"#REF!"},{"$error":"#REF!"},{"$error":"#REF!"},{"$error":"#REF!"},{"$error":"#REF!"},{"$error":"#REF!"},{"$error":"#REF!"},{"$error":"#REF!"},{"$error":"#REF!"},{"$error":"#REF!"},{"$error":"#REF!"},{"$error":"#REF!"},{"$error":"#REF!"},{"$error":"#REF!"},{"$error":"#REF!"},{"$error":"#REF!"},{"$error":"#REF!"},{"$error":"#REF!"},39,76.92307692307692,{"$error":"#REF!"},23.076923076923077,0]
[null,null,null,"вариант"]
[{"$f":"Результаты!A27","v":4},{"$f":"Результаты!B27","v":0},{"$f":"Результаты!C27","v":0},{"$f":"Результаты!D27","v":1},{"$f":"Результаты!E27","v":"-"},{"$f":"Результаты!F27","v":0},{"$f":"Результаты!G27","v":0},{"$f":"Результаты!H27","v":1},{"$f":"Результаты!I27","v":1},{"$f":"Результаты!J27","v":0},{"$f":"Результаты!K27","v":0},{"$f":"Результаты!L27","v":0},{"$f":"Результаты!M27","v":0},{"$f":"Результаты!N27","v":0},{"$f":"Результаты!O27","v":1},{"$f":"Результаты!P27","v":0},{"$f":"Результаты!Q27","v":0},{"$f":"Результаты!R27","v":0},{"$f":"Результаты!S27","v":"-"},{"$f":"Результаты!T27","v":"-"},{"$f":"Результаты!#REF!","v":{"$error":"#REF!"}},{"$f":"Результаты!#REF!","v":{"$error":"#REF!"}},{"$f":"Результаты!#REF!","v":{"$error":"#REF!"}},{"$f":"Результаты!#REF!","v":{"$error":"#REF!"}},{"$f":"Результаты!#REF!","v":{"$error":"#REF!"}},{"$f":"Результаты!#REF!","v":{"$error":"#REF!"}},{"$f":"Результаты!#REF!","v":{"$error":"#REF!"}},{"$f":"Результаты!#REF!","v":{"$error":"#REF!"}},{"$f":"Результаты!#REF!","v":{"$error":"#REF!"}},{"$f":"Результаты!#REF!","v":{"$error":"#REF!"}},{"$f":"Результаты!#REF!","v":{"$error":"#REF!"}},{"$f":"Результаты!#REF!","v":{"$error":"#REF!"}},{"$f":"Результаты!#REF!","v":{"$error":"#REF!"}},{"$f":"Результаты!#REF!","v":{"$error":"#REF!"}},{"$f":"Результаты!#REF!","v":{"$error":"#REF!"}},{"$f":"Результаты!#REF!","v":{"$error":"#REF!"}},{"$f":"Результаты!#REF!","v":{"$error":"#REF!"}},{"$f":"Результаты!#REF!","v":{"$error":"#REF!"}},{"$f":"Результаты!#REF!","v":{"$error":"#REF!"}},{"$f":"Результаты!U27","v":3},{"$f":"Результаты!V27","v":10},{"$f":"Результаты!#REF!","v":{"$error":"#REF!"}},{"$f":"Результаты!W27","v":0},{"$f":"Результаты!X27","v":"2"}]
[]
[]
[null,{"$f":"B131","v":1},{"$f":"C131","v":"Информационная обработка текстов различных стилей и жанров. Текст как речевое произведение. Смысловая и композиционная целостность текста. Отбор языковых средств в тексте в зависимости от темы, цели, адресата и ситуации общения. Создание текстов различных стилей и функционально-смысловых типов речи. Грамматические нормы (морфологические нормы). Грамматические  нормы  (синтаксические нормы). Лексические нормы. Пунктуация в простом и сложном предложениях. Орфограмма"}]
[null,{"$f":"B132","v":2},"Текст как речевое произведение. Смысловая и композиционная целостность текста. Анализ текста"]
[null,{"$f":"B133","v":3},"Выразительные средства лексики и фразеологии. Анализ средств выразительности"]
[null,{"$f":"B134","v":4},"Правописание приставок. Слитное, дефисное, раздельное написание"]
[null,{"$f":"B135","v":5},"Правописание суффиксов различных частей речи (кроме -Н-/-НН-). Правописание -Н- и -НН- в различных частях речи. Правописание личных окончаний глаголов и суффиксов причастий настоящего времени"]
[null,{"$f":"B136","v":6},"Лексика и фразеология. Синонимы. Фразеологические обороты. Группы слов по происхождению и употреблению"]
[null,{"$f":"B137","v":7},"Словосочетание"]
[null,{"$f":"B138","v":8},"Предложение. Грамматическая (предикативная) основа предложения. Подлежащее и сказуемое как главные члены предложения "]
[null,{"$f":"B139","v":9},"Осложнённое простое предложение"]
[null,{"$f":"B140","v":10},"Пунктуационный анализ. Знаки препинания в предложениях со словами и конструкциями, грамматически не связанными с членами предложения"]
[null,{"$f":"B141","v":11},"Синтаксический анализ сложного предложения"]
[null,{"$f":"B142","v":12},"Пунктуационный анализ. Знаки препинания в сложносочинённом и сложноподчинённом предложениях"]
[null,{"$f":"B143","v":13},"Синтаксический анализ сложного предложения"]
[null,{"$f":"B144","v":14},"Сложные предложения с разными видами связи между частями"]
[null,{"$f":"B145","v":15},"Текст как речевое произведение. Смысловая и композиционная целостность текста. Создание текстов различных стилей и функционально-смысловых типов речи. Информационная обработка текстов различных стилей и жанров. Грамматические нормы (морфологические нормы). Грамматические нормы (синтаксические нормы). Лексические нормы"]
[null,{"$f":"B146","v":16},0]
[null,{"$f":"B147","v":17},0]
[null,{"$f":"B148","v":18},0]
[null,{"$f":"B149","v":19},0]
[null,{"$f":"B150","v":20},0]
[null,{"$f":"B151","v":21},0]
[null,{"$f":"B152","v":22},0]
[null,{"$f":"B153","v":23},0]
[null,{"$f":"B154","v":24},0]
[null,{"$f":"B155","v":25},0]
[null,{"$f":"B156","v":26},0]
[null,{"$f":"B157","v":27},0]
[null,{"$f":"B158","v":28},0]
[null,{"$f":"B159","v":29},0]
[null,{"$f":"B160","v":30},0]
[null,{"$f":"B161","v":31},0]
[null,{"$f":"B162","v":32},0]
[null,{"$f":"B163","v":33},0]
[null,{"$f":"B164","v":34},0]
[null,{"$f":"B165","v":35},0]
[]
["Рекомендация: обратите внимание на задания по темам, которые вызвали у Вас затруднения, решены с ошибкой и отмечены \"0\" или к решению которых Вы не приступили (пустые ячейки)!"]
[]
[]
[]
["Центр независимой оценки качества образования и образовательного аудита \"Легион\""]
[]
["Образовательная организация",null,null,null,{"$f":"E116","v":"Ленинская СОШ"}]
["Предмет",null,null,null,{"$f":"E117","v":"Русский язык"}]
["Максимальный балл",null,null,null,39]
["Пороговый балл",null,null,null,15]
["Зона риска",null,null,null,{"$f":"Результаты!E15","v":15},null,null,{"$f":"Результаты!H15","v":16}]
[]
["Уровни",null,null,null,{"$f":"E178","v":1},{"$f":"F178","v":2},3,4,5,6,7,8,9,10,11,12,13,14,15,"ПР.ГР",{"$error":"#REF!"},{"$error":"#REF!"},{"$error":"#REF!"},{"$error":"#REF!"},{"$error":"#REF!"},{"$error":"#REF!"},{"$error":"#REF!"},{"$error":"#REF!"},{"$error":"#REF!"},{"$error":"#REF!"},{"$error":"#REF!"},{"$error":"#REF!"},{"$error":"#REF!"},{"$error":"#REF!"},{"$error":"#REF!"},{"$error":"#REF!"},{"$error":"#REF!"},{"$error":"#REF!"},{"$error":"#REF!"},"Тестовый балл","% выплнения заданий по уровням",null,null,"Оценка"]
[null,null,null,null,null,null,null,null,null,null,null,null,null,null,null,null,null,null,null,null,null,null,null,null,null,null,null,null,null,null,null,null,null,null,null,null,null,null,null,null,"Базовый","Повышенный","Высокий"]
["№","Класс","Ф.И.О.","№ задания",{"$f":"E180","v":1},{"$f":"F180","v":2},3,4,5,6,7,8,9,10,11,12,13,14,15,0,{"$error":"#REF!"},{"$error":"#REF!"},{"$error":"#REF!"},{"$error":"#REF!"},{"$error":"#REF!"},{"$error":"#REF!"},{"$error":"#REF!"},{"$error":"#REF!"},{"$error":"#REF!"},{"$error":"#REF!"},{"$error":"#REF!"},{"$error":"#REF!"},{"$error":"#REF!"},{"$error":"#REF!"},{"$error":"#REF!"},{"$error":"#REF!"},{"$error":"#REF!"},{"$error":"#REF!"},{"$error":"#REF!"}]
["Максимальный балл",null,null,null,{"$f":"E181","v":7},{"$f":"F181","v":1},1,1,1,1,1,1,1,1,1,1,1,1,9,10,{"$error":"#REF!"},{"$error":"#REF!"},{"$error":"#REF!"},{"$error":"#REF!"},{"$error":"#REF!"},{"$error":"#REF!"},{"$error":"#REF!"},{"$error":"#REF!"},{"$error":"#REF!"},{"$error":"#REF!"},{"$error":"#REF!"},{"$error":"#REF!"},{"$error":"#REF!"},{"$error":"#REF!"},{"$error":"#REF!"},{"$error":"#REF!"},{"$error":"#REF!"},{"$error":"#REF!"},{"$error":"#REF!"},39,76.92307692307692,{"$error":"#REF!"},23.076923076923077,0]
[null,null,null,"вариант"]
[{"$f":"Результаты!A28","v":5},{"$f":"Результаты!B28","v":0},{"$f":"Результаты!C28","v":0},{"$f":"Результаты!D28","v":2},{"$f":"Результаты!E28","v":"-"},{"$f":"Результаты!F28","v":1},{"$f":"Результаты!G28","v":1},{"$f":"Результаты!H28","v":0},{"$f":"Результаты!I28","v":1},{"$f":"Результаты!J28","v":1},{"$f":"Результаты!K28","v":1},{"$f":"Результаты!L28","v":1},{"$f":"Результаты!M28","v":0},{"$f":"Результаты!N28","v":1},{"$f":"Результаты!O28","v":1},{"$f":"Результаты!P28","v":0},{"$f":"Результаты!Q28","v":1},{"$f":"Результаты!R28","v":0},{"$f":"Результаты!S28","v":"-"},{"$f":"Результаты!T28","v":"-"},{"$f":"Результаты!#REF!","v":{"$error":"#REF!"}},{"$f":"Результаты!#REF!","v":{"$error":"#REF!"}},{"$f":"Результаты!#REF!","v":{"$error":"#REF!"}},{"$f":"Результаты!#REF!","v":{"$error":"#REF!"}},{"$f":"Результаты!#REF!","v":{"$error":"#REF!"}},{"$f":"Результаты!#REF!","v":{"$error":"#REF!"}},{"$f":"Результаты!#REF!","v":{"$error":"#REF!"}},{"$f":"Результаты!#REF!","v":{"$error":"#REF!"}},{"$f":"Результаты!#REF!","v":{"$error":"#REF!"}},{"$f":"Результаты!#REF!","v":{"$error":"#REF!"}},{"$f":"Результаты!#REF!","v":{"$error":"#REF!"}},{"$f":"Результаты!#REF!","v":{"$error":"#REF!"}},{"$f":"Результаты!#REF!","v":{"$error":"#REF!"}},{"$f":"Результаты!#REF!","v":{"$error":"#REF!"}},{"$f":"Результаты!#REF!","v":{"$error":"#REF!"}},{"$f":"Результаты!#REF!","v":{"$error":"#REF!"}},{"$f":"Результаты!#REF!","v":{"$error":"#REF!"}},{"$f":"Результаты!#REF!","v":{"$error":"#REF!"}},{"$f":"Результаты!#REF!","v":{"$error":"#REF!"}},{"$f":"Результаты!U28","v":9},{"$f":"Результаты!V28","v":30},{"$f":"Результаты!#REF!","v":{"$error":"#REF!"}},{"$f":"Результаты!W28","v":0},{"$f":"Результаты!X28","v":"2"}]
[]
[]
[null,{"$f":"B186","v":1},{"$f":"C186","v":"Информационная обработка текстов различных стилей и жанров. Текст как речевое произведение. Смысловая и композиционная целостность текста. Отбор языковых средств в тексте в зависимости от темы, цели, адресата и ситуации общения. Создание текстов различных стилей и функционально-смысловых типов речи. Грамматические нормы (морфологические нормы). Грамматические  нормы  (синтаксические нормы). Лексические нормы. Пунктуация в простом и сложном предложениях. Орфограмма"}]
[null,{"$f":"B187","v":2},"Текст как речевое произведение. Смысловая и композиционная целостность текста. Анализ текста"]
[null,3,"Выразительные средства лексики и фразеологии. Анализ средств выразительности"]
[null,4,"Правописание приставок. Слитное, дефисное, раздельное написание"]
[null,5,"Правописание суффиксов различных частей речи (кроме -Н-/-НН-). Правописание -Н- и -НН- в различных частях речи. Правописание личных окончаний глаголов и суффиксов причастий настоящего времени"]
[null,6,"Лексика и фразеология. Синонимы. Фразеологические обороты. Группы слов по происхождению и употреблению"]
[null,7,"Словосочетание"]
[null,8,"Предложение. Грамматическая (предикативная) основа предложения. Подлежащее и сказуемое как главные члены предложения "]
[null,9,"Осложнённое простое предложение"]
[null,10,"Пунктуационный анализ. Знаки препинания в предложениях со словами и конструкциями, грамматически не связанными с членами предложения"]
[null,11,"Синтаксический анализ сложного предложения"]
[null,12,"Пунктуационный анализ. Знаки препинания в сложносочинённом и сложноподчинённом предложениях"]
[null,13,"Синтаксический анализ сложного предложения"]
[null,14,"Сложные предложения с разными видами связи между частями"]
[null,15,"Текст как речевое произведение. Смысловая и композиционная целостность текста. Создание текстов различных стилей и функционально-смысловых типов речи. Информационная обработка текстов различных стилей и жанров. Грамматические нормы (морфологические нормы). Грамматические нормы (синтаксические нормы). Лексические нормы"]
[null,16,0]
[null,17,0]
[null,{"$f":"B203","v":18},0]
[null,19,0]
[null,20,0]
[null,21,0]
[null,22,0]
[null,23,0]
[null,24,0]
[null,25,0]
[null,26,0]
[null,27,0]
[null,28,0]
[null,29,0]
[null,30,0]
[null,31,0]
[null,32,0]
[null,33,0]
[null,{"$f":"B219","v":34},{"$f":"C219","v":0}]
[null,{"$f":"B220","v":35},{"$f":"C220","v":0}]
[]
["Рекомендация: обратите внимание на задания по темам, которые вызвали у Вас затруднения, решены с ошибкой и отмечены \"0\" или к решению которых Вы не приступили (пустые ячейки)!"]
[]
[]
[]
["Центр независимой оценки качества образования и образовательного аудита \"Легион\""]
[]
["Образовательная организация",null,null,null,{"$f":"E228","v":"Ленинская СОШ"}]
["Предмет",null,null,null,{"$f":"E229","v":"Русский язык"}]
["Максимальный балл",null,null,null,39]
["Пороговый балл",null,null,null,15]
["Зона риска",null,null,null,{"$f":"Результаты!E15","v":15},null,null,{"$f":"Результаты!H15","v":16}]
[]
["Уровни",null,null,null,{"$f":"E234","v":1},{"$f":"F234","v":2},3,4,5,6,7,8,9,10,11,12,13,14,15,"ПР.ГР",{"$error":"#REF!"},{"$error":"#REF!"},{"$error":"#REF!"},{"$error":"#REF!"},{"$error":"#REF!"},{"$error":"#REF!"},{"$error":"#REF!"},{"$error":"#REF!"},{"$error":"#REF!"},{"$error":"#REF!"},{"$error":"#REF!"},{"$error":"#REF!"},{"$error":"#REF!"},{"$error":"#REF!"},{"$error":"#REF!"},{"$error":"#REF!"},{"$error":"#REF!"},{"$error":"#REF!"},{"$error":"#REF!"},"Тестовый балл","% выплнения заданий по уровням",null,null,"Оценка"]
[null,null,null,null,null,null,null,null,null,null,null,null,null,null,null,null,null,null,null,null,null,null,null,null,null,null,null,null,null,null,null,null,null,null,null,null,null,null,null,null,"Базовый","Повышенный","Высокий"]
["№","Класс","Ф.И.О.","№ задания",{"$f":"E236","v":1},{"$f":"F236","v":2},3,4,5,6,7,8,9,10,11,12,13,14,15,0,{"$error":"#REF!"},{"$error":"#REF!"},{"$error":"#REF!"},{"$error":"#REF!"},{"$error":"#REF!"},{"$error":"#REF!"},{"$error":"#REF!"},{"$error":"#REF!"},{"$error":"#REF!"},{"$error":"#REF!"},{"$error":"#REF!"},{"$error":"#REF!"},{"$error":"#REF!"},{"$error":"#REF!"},{"$error":"#REF!"},{"$error":"#REF!"},{"$error":"#REF!"},{"$error":"#REF!"},{"$error":"#REF!"}]
["Максимальный балл",null,null,null,{"$f":"E237","v":7},{"$f":"F237","v":1},1,1,1,1,1,1,1,1,1,1,1,1,9,10,{"$error":"#REF!"},{"$error":"#REF!"},{"$error":"#REF!"},{"$error":"#REF!"},{"$error":"#REF!"},{"$error":"#REF!"},{"$error":"#REF!"},{"$error":"#REF!"},{"$error":"#REF!"},{"$error":"#REF!"},{"$error":"#REF!"},{"$error":"#REF!"},{"$error":"#REF!"},{"$error":"#REF!"},{"$error":"#REF!"},{"$error":"#REF!"},{"$error":"#REF!"},{"$error":"#REF!"},{"$error":"#REF!"},39,76.92307692307692,{"$error":"#REF!"},23.076923076923077,0]
[null,null,null,"вариант"]
[{"$f":"Результаты!A29","v":6},{"$f":"Результаты!B29","v":0},{"$f":"Результаты!C29","v":0},{"$f":"Результаты!D29","v":1},{"$f":"Результаты!E29","v":"-"},{"$f":"Результаты!F29","v":0},{"$f":"Результаты!G29","v":0},{"$f":"Результаты!H29","v":1},{"$f":"Результаты!I29","v":1},{"$f":"Результаты!J29","v":0},{"$f":"Результаты!K29","v":1},{"$f":"Результаты!L29","v":1},{"$f":"Результаты!M29","v":1},{"$f":"Результаты!N29","v":1},{"$f":"Результаты!O29","v":1},{"$f":"Результаты!P29","v":1},{"$f":"Результаты!Q29","v":0},{"$f":"Результаты!R29","v":0},{"$f":"Результаты!S29","v":"-"},{"$f":"Результаты!T29","v":"-"},{"$f":"Результаты!#REF!","v":{"$error":"#REF!"}},{"$f":"Результаты!#REF!","v":{"$error":"#REF!"}},{"$f":"Результаты!#REF!","v":{"$error":"#REF!"}},{"$f":"Результаты!#REF!","v":{"$error":"#REF!"}},{"$f":"Результаты!#REF!","v":{"$error":"#REF!"}},{"$f":"Результаты!#REF!","v":{"$error":"#REF!"}},{"$f":"Результаты!#REF!","v":{"$error":"#REF!"}},{"$f":"Результаты!#REF!","v":{"$error":"#REF!"}},{"$f":"Результаты!#REF!","v":{"$error":"#REF!"}},{"$f":"Результаты!#REF!","v":{"$error":"#REF!"}},{"$f":"Результаты!#REF!","v":{"$error":"#REF!"}},{"$f":"Результаты!#REF!","v":{"$error":"#REF!"}},{"$f":"Результаты!#REF!","v":{"$error":"#REF!"}},{"$f":"Результаты!#REF!","v":{"$error":"#REF!"}},{"$f":"Результаты!#REF!","v":{"$error":"#REF!"}},{"$f":"Результаты!#REF!","v":{"$error":"#REF!"}},{"$f":"Результаты!#REF!","v":{"$error":"#REF!"}},{"$f":"Результаты!#REF!","v":{"$error":"#REF!"}},{"$f":"Результаты!#REF!","v":{"$error":"#REF!"}},{"$f":"Результаты!U29","v":8},{"$f":"Результаты!V29","v":26.666666666666668},{"$f":"Результаты!#REF!","v":{"$error":"#REF!"}},{"$f":"Результаты!W29","v":0},{"$f":"Результаты!X29","v":"2"}]
[]
[]
[null,{"$f":"B242","v":1},{"$f":"C242","v":"Информационная обработка текстов различных стилей и жанров. Текст как речевое произведение. Смысловая и композиционная целостность текста. Отбор языковых средств в тексте в зависимости от темы, цели, адресата и ситуации общения. Создание текстов различных стилей и функционально-смысловых типов речи. Грамматические нормы (морфологические нормы). Грамматические  нормы  (синтаксические нормы). Лексические нормы. Пунктуация в простом и сложном предложениях. Орфограмма"}]
[null,{"$f":"B243","v":2},"Текст как речевое произведение. Смысловая и композиционная целостность текста. Анализ текста"]
[null,{"$f":"B244","v":3},"Выразительные средства лексики и фразеологии. Анализ средств выразительности"]
[null,{"$f":"B245","v":4},"Правописание приставок. Слитное, дефисное, раздельное написание"]
[null,{"$f":"B246","v":5},"Правописание суффиксов различных частей речи (кроме -Н-/-НН-). Правописание -Н- и -НН- в различных частях речи. Правописание личных окончаний глаголов и суффиксов причастий настоящего времени"]
[null,{"$f":"B247","v":6},"Лексика и фразеология. Синонимы. Фразеологические обороты. Группы слов по происхождению и употреблению"]
[null,{"$f":"B248","v":7},"Словосочетание"]
[null,{"$f":"B249","v":8},"Предложение. Грамматическая (предикативная) основа предложения. Подлежащее и сказуемое как главные члены предложения "]
[null,{"$f":"B250","v":9},"Осложнённое простое предложение"]
[null,{"$f":"B251","v":10},"Пунктуационный анализ. Знаки препинания в предложениях со словами и конструкциями, грамматически не связанными с членами предложения"]
[null,{"$f":"B252","v":11},"Синтаксический анализ сложного предложения"]
[null,{"$f":"B253","v":12},"Пунктуационный анализ. Знаки препинания в сложносочинённом и сложноподчинённом предложениях"]
[null,{"$f":"B254","v":13},"Синтаксический анализ сложного предложения"]
[null,{"$f":"B255","v":14},"Сложные предложения с разными видами связи между частями"]
[null,{"$f":"B256","v":15},"Текст как речевое произведение. Смысловая и композиционная целостность текста. Создание текстов различных стилей и функционально-смысловых типов речи. Информационная обработка текстов различных стилей и жанров. Грамматические нормы (морфологические нормы). Грамматические нормы (синтаксические нормы). Лексические нормы"]
[null,{"$f":"B257","v":16},0]
[null,{"$f":"B258","v":17},0]
[null,{"$f":"B259","v":18},0]
[null,{"$f":"B260","v":19},0]
[null,{"$f":"B261","v":20},0]
[null,{"$f":"B262","v":21},0]
[null,{"$f":"B263","v":22},0]
[null,{"$f":"B264","v":23},0]
[null,{"$f":"B265","v":24},0]
[null,{"$f":"B266","v":25},0]
[null,{"$f":"B267","v":26},0]
[null,{"$f":"B268","v":27},0]
[null,{"$f":"B269","v":28},0]
[null,{"$f":"B270","v":29},0]
[null,{"$f":"B271","v":30},0]
[null,{"$f":"B272","v":31},0]
[null,{"$f":"B273","v":32},0]
[null,{"$f":"B274","v":33},0]
[null,{"$f":"B275","v":34},0]
[null,{"$f":"B276","v":35},0]
[]
["Рекомендация: обратите внимание на задания по темам, которые вызвали у Вас затруднения, решены с ошибкой и отмечены \"0\" или к решению которых Вы не приступили (пустые ячейки)!"]
[]
[]
[]
["Центр независимой оценки качества образования и образовательного аудита \"Легион\""]
[]
["Образовательная организация",null,null,null,{"$f":"E284","v":"Ленинская СОШ"}]
["Предмет",null,null,null,{"$f":"E285","v":"Русский язык"}]
["Максимальный балл",null,null,null,39]
["Пороговый балл",null,null,null,15]
["Зона риска",null,null,null,{"$f":"Результаты!E15","v":15},null,null,{"$f":"Результаты!H15","v":16}]
[]
["Уровни",null,null,null,{"$f":"E290","v":1},{"$f":"F290","v":2},3,4,5,6,7,8,9,10,11,12,13,14,15,"ПР.ГР",{"$error":"#REF!"},{"$error":"#REF!"},{"$error":"#REF!"},{"$error":"#REF!"},{"$error":"#REF!"},{"$error":"#REF!"},{"$error":"#REF!"},{"$error":"#REF!"},{"$error":"#REF!"},{"$error":"#REF!"},{"$error":"#REF!"},{"$error":"#REF!"},{"$error":"#REF!"},{"$error":"#REF!"},{"$error":"#REF!"},{"$error":"#REF!"},{"$error":"#REF!"},{"$error":"#REF!"},{"$error":"#REF!"},"Тестовый балл","% выплнения заданий по уровням",null,null,"Оценка"]
[null,null,null,null,null,null,null,null,null,null,null,null,null,null,null,null,null,null,null,null,null,null,null,null,null,null,null,null,null,null,null,null,null,null,null,null,null,null,null,null,"Базовый","Повышенный","Высокий"]
["№","Класс","Ф.И.О.","№ задания",{"$f":"E292","v":1},{"$f":"F292","v":2},3,4,5,6,7,8,9,10,11,12,13,14,15,0,{"$error":"#REF!"},{"$error":"#REF!"},{"$error":"#REF!"},{"$error":"#REF!"},{"$error":"#REF!"},{"$error":"#REF!"},{"$error":"#REF!"},{"$error":"#REF!"},{"$error":"#REF!"},{"$error":"#REF!"},{"$error":"#REF!"},{"$error":"#REF!"},{"$error":"#REF!"},{"$error":"#REF!"},{"$error":"#REF!"},{"$error":"#REF!"},{"$error":"#REF!"},{"$error":"#REF!"},{"$error":"#REF!"}]
["Максимальный балл",null,null,null,{"$f":"E293","v":7},1,1,1,1,1,1,1,1,1,1,1,1,1,9,10,{"$error":"#REF!"},{"$error":"#REF!"},{"$error":"#REF!"},{"$error":"#REF!"},{"$error":"#REF!"},{"$error":"#REF!"},{"$error":"#REF!"},{"$error":"#REF!"},{"$error":"#REF!"},{"$error":"#REF!"},{"$error":"#REF!"},{"$error":"#REF!"},{"$error":"#REF!"},{"$error":"#REF!"},{"$error":"#REF!"},{"$error":"#REF!"},{"$error":"#REF!"},{"$error":"#REF!"},{"$error":"#REF!"},39,76.92307692307692,{"$f":"AP293","v":{"$error":"#REF!"}},23.076923076923077,0]
[null,null,null,"вариант"]
[{"$f":"Результаты!A30","v":7},{"$f":"Результаты!B30","v":0},{"$f":"Результаты!C30","v":0},{"$f":"Результаты!D30","v":1},{"$f":"Результаты!E30","v":"-"},{"$f":"Результаты!F30","v":1},{"$f":"Результаты!G30","v":1},{"$f":"Результаты!H30","v":0},{"$f":"Результаты!I30","v":0},{"$f":"Результаты!J30","v":0},{"$f":"Результаты!K30","v":0},{"$f":"Результаты!L30","v":0},{"$f":"Результаты!M30","v":1},{"$f":"Результаты!N30","v":1},{"$f":"Результаты!O30","v":1},{"$f":"Результаты!P30","v":0},{"$f":"Результаты!Q30","v":0},{"$f":"Результаты!R30","v":1},{"$f":"Результаты!S30","v":"-"},{"$f":"Результаты!T30","v":"-"},{"$f":"Результаты!#REF!","v":{"$error":"#REF!"}},{"$f":"Результаты!#REF!","v":{"$error":"#REF!"}},{"$f":"Результаты!#REF!","v":{"$error":"#REF!"}},{"$f":"Результаты!#REF!","v":{"$error":"#REF!"}},{"$f":"Результаты!#REF!","v":{"$error":"#REF!"}},{"$f":"Результаты!#REF!","v":{"$error":"#REF!"}},{"$f":"Результаты!#REF!","v":{"$error":"#REF!"}},{"$f":"Результаты!#REF!","v":{"$error":"#REF!"}},{"$f":"Результаты!#REF!","v":{"$error":"#REF!"}},{"$f":"Результаты!#REF!","v":{"$error":"#REF!"}},{"$f":"Результаты!#REF!","v":{"$error":"#REF!"}},{"$f":"Результаты!#REF!","v":{"$error":"#REF!"}},{"$f":"Результаты!#REF!","v":{"$error":"#REF!"}},{"$f":"Результаты!#REF!","v":{"$error":"#REF!"}},{"$f":"Результаты!#REF!","v":{"$error":"#REF!"}},{"$f":"Результаты!#REF!","v":{"$error":"#REF!"}},{"$f":"Результаты!#REF!","v":{"$error":"#REF!"}},{"$f":"Результаты!#REF!","v":{"$error":"#REF!"}},{"$f":"Результаты!#REF!","v":{"$error":"#REF!"}},{"$f":"Результаты!U30","v":6},{"$f":"Результаты!V30","v":20},{"$f":"Результаты!#REF!","v":{"$error":"#REF!"}},{"$f":"Результаты!W30","v":0},{"$f":"Результаты!X30","v":"2"}]
[]
[]
[null,{"$f":"B298","v":1},"Информационная обработка текстов различных стилей и жанров. Текст как речевое произведение. Смысловая и композиционная целостность текста. Отбор языковых средств в тексте в зависимости от темы, цели, адресата и ситуации общения. Создание текстов различных стилей и функционально-смысловых типов речи. Грамматические нормы (морфологические нормы). Грамматические  нормы  (синтаксические нормы). Лексические нормы. Пунктуация в простом и сложном предложениях. Орфограмма"]
[null,2,"Текст как речевое произведение. Смысловая и композиционная целостность текста. Анализ текста"]
[null,3,"Выразительные средства лексики и фразеологии. Анализ средств выразительности"]
[null,4,"Правописание приставок. Слитное, дефисное, раздельное написание"]
[null,5,"Правописание суффиксов различных частей речи (кроме -Н-/-НН-). Правописание -Н- и -НН- в различных частях речи. Правописание личных окончаний глаголов и суффиксов причастий настоящего времени"]
[null,6,"Лексика и фразеология. Синонимы. Фразеологические обороты. Группы слов по происхождению и употреблению"]
[null,7,"Словосочетание"]
[null,8,"Предложение. Грамматическая (предикативная) основа предложения. Подлежащее и сказуемое как главные члены предложения "]
[null,9,"Осложнённое простое предложение"]
[null,10,"Пунктуационный анализ. Знаки препинания в предложениях со словами и конструкциями, грамматически не связанными с членами предложения"]
[null,11,"Синтаксический анализ сложного предложения"]
[null,12,"Пунктуационный анализ. Знаки препинания в сложносочинённом и сложноподчинённом предложениях"]
[null,13,"Синтаксический анализ сложного предложения"]
[null,14,"Сложные предложения с разными видами связи между частями"]
[null,15,"Текст как речевое произведение. Смысловая и композиционная целостность текста. Создание текстов различных стилей и функционально-смысловых типов речи. Информационная обработка текстов различных стилей и жанров. Грамматические нормы (морфологические нормы). Грамматические нормы (синтаксические нормы). Лексические нормы"]
[null,16,0]
[null,17,0]
[null,18,0]
[null,19,0]
[null,20,0]
[null,{"$f":"B318","v":21},0]
[null,22,0]
[null,23,0]
[null,24,0]
[null,25,0]
[null,26,0]
[null,27,0]
[null,28,0]
[null,29,0]
[null,30,0]
[null,31,0]
[null,32,0]
[null,33,0]
[null,34,0]
[null,35,0]
[]
[]
["Рекомендация: обратите внимание на задания по темам, которые вызвали у Вас затруднения, решены с ошибкой и отмечены \"0\" или к решению которых Вы не приступили (пустые ячейки)!"]
[]
[]
["Центр независимой оценки качества образования и образовательного аудита \"Легион\""]
[]
["Образовательная организация",null,null,null,{"$f":"E340","v":"Ленинская СОШ"}]
["Предмет",null,null,null,{"$f":"E341","v":"Русский язык"}]
["Максимальный балл",null,null,null,39]
["Пороговый балл",null,null,null,15]
["Зона риска",null,null,null,{"$f":"Результаты!E15","v":15},null,null,{"$f":"Результаты!H15","v":16}]
[]
["Уровни",null,null,null,{"$f":"E346","v":1},{"$f":"F346","v":2},3,4,5,6,7,8,9,10,11,12,13,14,15,"ПР.ГР",{"$error":"#REF!"},{"$error":"#REF!"},{"$error":"#REF!"},{"$error":"#REF!"},{"$error":"#REF!"},{"$error":"#REF!"},{"$error":"#REF!"},{"$error":"#REF!"},{"$error":"#REF!"},{"$error":"#REF!"},{"$error":"#REF!"},{"$error":"#REF!"},{"$error":"#REF!"},{"$error":"#REF!"},{"$error":"#REF!"},{"$error":"#REF!"},{"$error":"#REF!"},{"$error":"#REF!"},{"$error":"#REF!"},"Тестовый балл","% выплнения заданий по уровням",null,null,"Оценка"]
[null,null,null,null,null,null,null,null,null,null,null,null,null,null,null,null,null,null,null,null,null,null,null,null,null,null,null,null,null,null,null,null,null,null,null,null,null,null,null,null,"Базовый","Повышенный","Высокий"]
["№","Класс","Ф.И.О.","№ задания",{"$f":"E348","v":1},{"$f":"F348","v":2},3,4,5,6,7,8,9,10,11,12,13,14,15,0,{"$error":"#REF!"},{"$error":"#REF!"},{"$error":"#REF!"},{"$error":"#REF!"},{"$error":"#REF!"},{"$error":"#REF!"},{"$error":"#REF!"},{"$error":"#REF!"},{"$error":"#REF!"},{"$error":"#REF!"},{"$error":"#REF!"},{"$error":"#REF!"},{"$error":"#REF!"},{"$error":"#REF!"},{"$error":"#REF!"},{"$error":"#REF!"},{"$error":"#REF!"},{"$error":"#REF!"},{"$error":"#REF!"}]
["Максимальный балл",null,null,null,{"$f":"E349","v":7},{"$f":"F349","v":1},1,1,1,1,1,1,1,1,1,1,1,1,9,10,{"$error":"#REF!"},{"$error":"#REF!"},{"$error":"#REF!"},{"$error":"#REF!"},{"$error":"#REF!"},{"$error":"#REF!"},{"$error":"#REF!"},{"$error":"#REF!"},{"$error":"#REF!"},{"$error":"#REF!"},{"$error":"#REF!"},{"$error":"#REF!"},{"$error":"#REF!"},{"$error":"#REF!"},{"$error":"#REF!"},{"$error":"#REF!"},{"$error":"#REF!"},{"$error":"#REF!"},{"$error":"#REF!"},39,76.92307692307692,{"$error":"#REF!"},23.076923076923077,0]
[null,null,null,"вариант"]
[{"$f":"Результаты!A31","v":8},{"$f":"Результаты!B31","v":0},{"$f":"Результаты!C31","v":0},{"$f":"Результаты!D31","v":1},{"$f":"Результаты!E31","v":"-"},{"$f":"Результаты!F31","v":1},{"$f":"Результаты!G31","v":0},{"$f":"Результаты!H31","v":1},{"$f":"Результаты!I31","v":1},{"$f":"Результаты!J31","v":1},{"$f":"Результаты!K31","v":0},{"$f":"Результаты!L31","v":1},{"$f":"Результаты!M31","v":1},{"$f":"Результаты!N31","v":0},{"$f":"Результаты!O31","v":1},{"$f":"Результаты!P31","v":0},{"$f":"Результаты!Q31","v":0},{"$f":"Результаты!R31","v":1},{"$f":"Результаты!S31","v":"-"},{"$f":"Результаты!T31","v":"-"},{"$f":"Результаты!#REF!","v":{"$error":"#REF!"}},{"$f":"Результаты!#REF!","v":{"$error":"#REF!"}},{"$f":"Результаты!#REF!","v":{"$error":"#REF!"}},{"$f":"Результаты!#REF!","v":{"$error":"#REF!"}},{"$f":"Результаты!#REF!","v":{"$error":"#REF!"}},{"$f":"Результаты!#REF!","v":{"$error":"#REF!"}},{"$f":"Результаты!#REF!","v":{"$error":"#REF!"}},{"$f":"Результаты!#REF!","v":{"$error":"#REF!"}},{"$f":"Результаты!#REF!","v":{"$error":"#REF!"}},{"$f":"Результаты!#REF!","v":{"$error":"#REF!"}},{"$f":"Результаты!#REF!","v":{"$error":"#REF!"}},{"$f":"Результаты!#REF!","v":{"$error":"#REF!"}},{"$f":"Результаты!#REF!","v":{"$error":"#REF!"}},{"$f":"Результаты!#REF!","v":{"$error":"#REF!"}},{"$f":"Результаты!#REF!","v":{"$error":"#REF!"}},{"$f":"Результаты!#REF!","v":{"$error":"#REF!"}},{"$f":"Результаты!#REF!","v":{"$error":"#REF!"}},{"$f":"Результаты!#REF!","v":{"$error":"#REF!"}},{"$f":"Результаты!#REF!","v":{"$error":"#REF!"}},{"$f":"Результаты!U31","v":8},{"$f":"Результаты!V31","v":26.666666666666668},{"$f":"Результаты!#REF!","v":{"$error":"#REF!"}},{"$f":"Результаты!W31","v":0},{"$f":"Результаты!X31","v":"2"}]
[]
[]
[null,{"$f":"B354","v":1},{"$f":"C354","v":"Информационная обработка текстов различных стилей и жанров. Текст как речевое произведение. Смысловая и композиционная целостность текста. Отбор языковых средств в тексте в зависимости от темы, цели, адресата и ситуации общения. Создание текстов различных стилей и функционально-смысловых типов речи. Грамматические нормы (морфологические нормы). Грамматические  нормы  (синтаксические нормы). Лексические нормы. Пунктуация в простом и сложном предложениях. Орфограмма"}]
[null,{"$f":"B355","v":2},"Текст как речевое произведение. Смысловая и композиционная целостность текста. Анализ текста"]
[null,3,"Выразительные средства лексики и фразеологии. Анализ средств выразительности"]
[null,4,"Правописание приставок. Слитное, дефисное, раздельное написание"]
[null,5,"Правописание суффиксов различных частей речи (кроме -Н-/-НН-). Правописание -Н- и -НН- в различных частях речи. Правописание личных окончаний глаголов и суффиксов причастий настоящего времени"]
[null,6,"Лексика и фразеология. Синонимы. Фразеологические обороты. Группы слов по происхождению и употреблению"]
[null,7,"Словосочетание"]
[null,8,"Предложение. Грамматическая (предикативная) основа предложения. Подлежащее и сказуемое как главные члены предложения "]
[null,9,"Осложнённое простое предложение"]
[null,10,"Пунктуационный анализ. Знаки препинания в предложениях со словами и конструкциями, грамматически не связанными с членами предложения"]
[null,11,"Синтаксический анализ сложного предложения"]
[null,12,"Пунктуационный анализ. Знаки препинания в сложносочинённом и сложноподчинённом предложениях"]
[null,13,"Синтаксический анализ сложного предложения"]
[null,14,"Сложные предложения с разными видами связи между частями"]
[null,15,"Текст как речевое произведение. Смысловая и композиционная целостность текста. Создание текстов различных стилей и функционально-смысловых типов речи. Информационная обработка текстов различных стилей и жанров. Грамматические нормы (морфологические нормы). Грамматические нормы (синтаксические нормы). Лексические нормы"]
[null,16,0]
[null,17,0]
[null,{"$f":"B371","v":18},0]
[null,19,0]
[null,20,0]
[null,21,0]
[null,22,0]
[null,23,0]
[null,24,0]
[null,25,0]
[null,26,0]
[null,27,0]
[null,28,0]
[null,29,0]
[null,30,0]
[null,31,0]
[null,32,0]
[null,33,0]
[null,{"$f":"B387","v":34},0]
[null,35,0]
[]
["Рекомендация: обратите внимание на задания по темам, которые вызвали у Вас затруднения, решены с ошибкой и отмечены \"0\" или к решению которых Вы не приступили (пустые ячейки)!"]
[]
[]
[]
["Центр независимой оценки качества образования и образовательного аудита \"Легион\""]
[]
["Образовательная организация",null,null,null,{"$f":"E396","v":"Ленинская СОШ"}]
["Предмет",null,null,null,{"$f":"E397","v":"Русский язык"}]
["Максимальный балл",null,null,null,39]
["Пороговый балл",null,null,null,15]
["Зона риска",null,null,null,{"$f":"Результаты!E15","v":15},null,null,{"$f":"Результаты!H15","v":16}]
[]
["Уровни",null,null,null,{"$f":"E402","v":1},{"$f":"F402","v":2},3,4,5,6,7,8,9,10,11,12,13,14,15,"ПР.ГР",{"$error":"#REF!"},{"$error":"#REF!"},{"$error":"#REF!"},{"$error":"#REF!"},{"$error":"#REF!"},{"$error":"#REF!"},{"$error":"#REF!"},{"$error":"#REF!"},{"$error":"#REF!"},{"$error":"#REF!"},{"$error":"#REF!"},{"$error":"#REF!"},{"$error":"#REF!"},{"$error":"#REF!"},{"$error":"#REF!"},{"$error":"#REF!"},{"$error":"#REF!"},{"$error":"#REF!"},{"$error":"#REF!"},"Тестовый балл","% выплнения заданий по уровням",null,null,"Оценка"]
[null,null,null,null,null,null,null,null,null,null,null,null,null,null,null,null,null,null,null,null,null,null,null,null,null,null,null,null,null,null,null,null,null,null,null,null,null,null,null,null,"Базовый","Повышенный","Высокий"]
["№","Класс","Ф.И.О.","№ задания",{"$f":"E404","v":1},{"$f":"F404","v":2},3,4,5,6,7,8,9,10,11,12,13,14,15,0,{"$error":"#REF!"},{"$error":"#REF!"},{"$error":"#REF!"},{"$error":"#REF!"},{"$error":"#REF!"},{"$error":"#REF!"},{"$error":"#REF!"},{"$error":"#REF!"},{"$error":"#REF!"},{"$error":"#REF!"},{"$error":"#REF!"},{"$error":"#REF!"},{"$error":"#REF!"},{"$error":"#REF!"},{"$error":"#REF!"},{"$error":"#REF!"},{"$error":"#REF!"},{"$error":"#REF!"},{"$error":"#REF!"}]
["Максимальный балл",null,null,null,{"$f":"E405","v":7},{"$f":"F405","v":1},1,1,1,1,1,1,1,1,1,1,1,1,9,10,{"$error":"#REF!"},{"$error":"#REF!"},{"$error":"#REF!"},{"$error":"#REF!"},{"$error":"#REF!"},{"$error":"#REF!"},{"$error":"#REF!"},{"$error":"#REF!"},{"$error":"#REF!"},{"$error":"#REF!"},{"$error":"#REF!"},{"$error":"#REF!"},{"$error":"#REF!"},{"$error":"#REF!"},{"$error":"#REF!"},{"$error":"#REF!"},{"$error":"#REF!"},{"$error":"#REF!"},{"$error":"#REF!"},39,76.92307692307692,{"$error":"#REF!"},23.076923076923077,0]
[null,null,null,"вариант"]
[{"$f":"Результаты!A32","v":9},{"$f":"Результаты!B32","v":0},{"$f":"Результаты!C32","v":0},{"$f":"Результаты!D32","v":2},{"$f":"Результаты!E32","v":"-"},{"$f":"Результаты!F32","v":1},{"$f":"Результаты!G32","v":0},{"$f":"Результаты!H32","v":0},{"$f":"Результаты!I32","v":1},{"$f":"Результаты!J32","v":1},{"$f":"Результаты!K32","v":0},{"$f":"Результаты!L32","v":1},{"$f":"Результаты!M32","v":0},{"$f":"Результаты!N32","v":1},{"$f":"Результаты!O32","v":0},{"$f":"Результаты!P32","v":0},{"$f":"Результаты!Q32","v":1},{"$f":"Результаты!R32","v":0},{"$f":"Результаты!S32","v":"-"},{"$f":"Результаты!T32","v":"-"},{"$f":"Результаты!#REF!","v":{"$error":"#REF!"}},{"$f":"Результаты!#REF!","v":{"$error":"#REF!"}},{"$f":"Результаты!#REF!","v":{"$error":"#REF!"}},{"$f":"Результаты!#REF!","v":{"$error":"#REF!"}},{"$f":"Результаты!#REF!","v":{"$error":"#REF!"}},{"$f":"Результаты!#REF!","v":{"$error":"#REF!"}},{"$f":"Результаты!#REF!","v":{"$error":"#REF!"}},{"$f":"Результаты!#REF!","v":{"$error":"#REF!"}},{"$f":"Результаты!#REF!","v":{"$error":"#REF!"}},{"$f":"Результаты!#REF!","v":{"$error":"#REF!"}},{"$f":"Результаты!#REF!","v":{"$error":"#REF!"}},{"$f":"Результаты!#REF!","v":{"$error":"#REF!"}},{"$f":"Результаты!#REF!","v":{"$error":"#REF!"}},{"$f":"Результаты!#REF!","v":{"$error":"#REF!"}},{"$f":"Результаты!#REF!","v":{"$error":"#REF!"}},{"$f":"Результаты!#REF!","v":{"$error":"#REF!"}},{"$f":"Результаты!#REF!","v":{"$error":"#REF!"}},{"$f":"Результаты!#REF!","v":{"$error":"#REF!"}},{"$f":"Результаты!#REF!","v":{"$error":"#REF!"}},{"$f":"Результаты!U32","v":6},{"$f":"Результаты!V32","v":20},{"$f":"Результаты!#REF!","v":{"$error":"#REF!"}},{"$f":"Результаты!W32","v":0},{"$f":"Результаты!X32","v":"2"}]
[]
[]
[null,{"$f":"B410","v":1},{"$f":"C410","v":"Информационная обработка текстов различных стилей и жанров. Текст как речевое произведение. Смысловая и композиционная целостность текста. Отбор языковых средств в тексте в зависимости от темы, цели, адресата и ситуации общения. Создание текстов различных стилей и функционально-смысловых типов речи. Грамматические нормы (морфологические нормы). Грамматические  нормы  (синтаксические нормы). Лексические нормы. Пунктуация в простом и сложном предложениях. Орфограмма"}]
[null,{"$f":"B411","v":2},"Текст как речевое произведение. Смысловая и композиционная целостность текста. Анализ текста"]
[null,{"$f":"B412","v":3},"Выразительные средства лексики и фразеологии. Анализ средств выразительности"]
[null,{"$f":"B413","v":4},"Правописание приставок. Слитное, дефисное, раздельное написание"]
[null,{"$f":"B414","v":5},"Правописание суффиксов различных частей речи (кроме -Н-/-НН-). Правописание -Н- и -НН- в различных частях речи. Правописание личных окончаний глаголов и суффиксов причастий настоящего времени"]
[null,{"$f":"B415","v":6},"Лексика и фразеология. Синонимы. Фразеологические обороты. Группы слов по происхождению и употреблению"]
[null,{"$f":"B416","v":7},"Словосочетание"]
[null,{"$f":"B417","v":8},"Предложение. Грамматическая (предикативная) основа предложения. Подлежащее и сказуемое как главные члены предложения "]
[null,{"$f":"B418","v":9},"Осложнённое простое предложение"]
[null,{"$f":"B419","v":10},"Пунктуационный анализ. Знаки препинания в предложениях со словами и конструкциями, грамматически не связанными с членами предложения"]
[null,{"$f":"B420","v":11},"Синтаксический анализ сложного предложения"]
[null,{"$f":"B421","v":12},"Пунктуационный анализ. Знаки препинания в сложносочинённом и сложноподчинённом предложениях"]
[null,{"$f":"B422","v":13},"Синтаксический анализ сложного предложения"]
[null,{"$f":"B423","v":14},"Сложные предложения с разными видами связи между частями"]
[null,{"$f":"B424","v":15},"Текст как речевое произведение. Смысловая и композиционная целостность текста. Создание текстов различных стилей и функционально-смысловых типов речи. Информационная обработка текстов различных стилей и жанров. Грамматические нормы (морфологические нормы). Грамматические нормы (синтаксические нормы). Лексические нормы"]
[null,{"$f":"B425","v":16},0]
[null,{"$f":"B426","v":17},0]
[null,{"$f":"B427","v":18},0]
[null,{"$f":"B428","v":19},0]
[null,{"$f":"B429","v":20},0]
[null,{"$f":"B430","v":21},0]
[null,{"$f":"B431","v":22},0]
[null,{"$f":"B432","v":23},0]
[null,{"$f":"B433","v":24},0]
[null,{"$f":"B434","v":25},0]
[null,{"$f":"B435","v":26},0]
[null,{"$f":"B436","v":27},0]
[null,{"$f":"B437","v":28},0]
[null,{"$f":"B438","v":29},0]
[null,{"$f":"B439","v":30},0]
[null,{"$f":"B440","v":31},0]
[null,{"$f":"B441","v":32},0]
[null,{"$f":"B442","v":33},0]
[null,{"$f":"B443","v":34},0]
[null,{"$f":"B444","v":35},0]
[]
["Рекомендация: обратите внимание на задания по темам, которые вызвали у Вас затруднения, решены с ошибкой и отмечены \"0\" или к решению которых Вы не приступили (пустые ячейки)!"]
[]
[]
[]
["Центр независимой оценки качества образования и образовательного аудита \"Легион\""]
[]
["Образовательная организация",null,null,null,{"$f":"E452","v":"Ленинская СОШ"}]
["Предмет",null,null,null,{"$f":"E453","v":"Русский язык"}]
["Максимальный балл",null,null,null,39]
["Пороговый балл",null,null,null,15]
["Зона риска",null,null,null,{"$f":"Результаты!E15","v":15},null,null,{"$f":"Результаты!H15","v":16}]
[]
["Уровни",null,null,null,{"$f":"E458","v":1},{"$f":"F458","v":2},3,4,5,6,7,8,9,10,11,12,13,14,15,"ПР.ГР",{"$error":"#REF!"},{"$error":"#REF!"},{"$error":"#REF!"},{"$error":"#REF!"},{"$error":"#REF!"},{"$error":"#REF!"},{"$error":"#REF!"},{"$error":"#REF!"},{"$error":"#REF!"},{"$error":"#REF!"},{"$error":"#REF!"},{"$error":"#REF!"},{"$error":"#REF!"},{"$error":"#REF!"},{"$error":"#REF!"},{"$error":"#REF!"},{"$error":"#REF!"},{"$error":"#REF!"},{"$error":"#REF!"},"Тестовый балл","% выплнения заданий по уровням",null,null,"Оценка"]
[null,null,null,null,null,null,null,null,null,null,null,null,null,null,null,null,null,null,null,null,null,null,null,null,null,null,null,null,null,null,null,null,null,null,null,null,null,null,null,null,"Базовый","Повышенный","Высокий"]
["№","Класс","Ф.И.О.","№ задания",{"$f":"E460","v":1},{"$f":"F460","v":2},3,4,5,6,7,8,9,10,11,12,13,14,15,0,{"$error":"#REF!"},{"$error":"#REF!"},{"$error":"#REF!"},{"$error":"#REF!"},{"$error":"#REF!"},{"$error":"#REF!"},{"$error":"#REF!"},{"$error":"#REF!"},{"$error":"#REF!"},{"$error":"#REF!"},{"$error":"#REF!"},{"$error":"#REF!"},{"$error":"#REF!"},{"$error":"#REF!"},{"$error":"#REF!"},{"$error":"#REF!"},{"$error":"#REF!"},{"$error":"#REF!"},{"$error":"#REF!"}]
["Максимальный балл",null,null,null,{"$f":"E461","v":7},{"$f":"F461","v":1},1,1,1,1,1,1,1,1,1,1,1,1,9,10,{"$error":"#REF!"},{"$error":"#REF!"},{"$error":"#REF!"},{"$error":"#REF!"},{"$error":"#REF!"},{"$error":"#REF!"},{"$error":"#REF!"},{"$error":"#REF!"},{"$error":"#REF!"},{"$error":"#REF!"},{"$error":"#REF!"},{"$error":"#REF!"},{"$error":"#REF!"},{"$error":"#REF!"},{"$error":"#REF!"},{"$error":"#REF!"},{"$error":"#REF!"},{"$error":"#REF!"},{"$error":"#REF!"},39,76.92307692307692,{"$error":"#REF!"},23.076923076923077,0]
[null,null,null,"вариант"]
[{"$f":"Результаты!A33","v":10},{"$f":"Результаты!B33","v":0},{"$f":"Результаты!C33","v":0},{"$f":"Результаты!D33","v":2},{"$f":"Результаты!E33","v":"-"},{"$f":"Результаты!F33","v":1},{"$f":"Результаты!G33","v":1},{"$f":"Результаты!H33","v":0},{"$f":"Результаты!I33","v":1},{"$f":"Результаты!J33","v":1},{"$f":"Результаты!K33","v":1},{"$f":"Результаты!L33","v":1},{"$f":"Результаты!M33","v":0},{"$f":"Результаты!N33","v":1},{"$f":"Результаты!O33","v":1},{"$f":"Результаты!P33","v":0},{"$f":"Результаты!Q33","v":0},{"$f":"Результаты!R33","v":0},{"$f":"Результаты!S33","v":"-"},{"$f":"Результаты!T33","v":"-"},{"$f":"Результаты!#REF!","v":{"$error":"#REF!"}},{"$f":"Результаты!#REF!","v":{"$error":"#REF!"}},{"$f":"Результаты!#REF!","v":{"$error":"#REF!"}},{"$f":"Результаты!#REF!","v":{"$error":"#REF!"}},{"$f":"Результаты!#REF!","v":{"$error":"#REF!"}},{"$f":"Результаты!#REF!","v":{"$error":"#REF!"}},{"$f":"Результаты!#REF!","v":{"$error":"#REF!"}},{"$f":"Результаты!#REF!","v":{"$error":"#REF!"}},{"$f":"Результаты!#REF!","v":{"$error":"#REF!"}},{"$f":"Результаты!#REF!","v":{"$error":"#REF!"}},{"$f":"Результаты!#REF!","v":{"$error":"#REF!"}},{"$f":"Результаты!#REF!","v":{"$error":"#REF!"}},{"$f":"Результаты!#REF!","v":{"$error":"#REF!"}},{"$f":"Результаты!#REF!","v":{"$error":"#REF!"}},{"$f":"Результаты!#REF!","v":{"$error":"#REF!"}},{"$f":"Результаты!#REF!","v":{"$error":"#REF!"}},{"$f":"Результаты!#REF!","v":{"$error":"#REF!"}},{"$f":"Результаты!#REF!","v":{"$error":"#REF!"}},{"$f":"Результаты!#REF!","v":{"$error":"#REF!"}},{"$f":"Результаты!U33","v":8},{"$f":"Результаты!V33","v":26.666666666666668},{"$f":"Результаты!#REF!","v":{"$error":"#REF!"}},{"$f":"Результаты!W33","v":0},{"$f":"Результаты!X33","v":"2"}]
[]
[]
[null,{"$f":"B466","v":1},{"$f":"C466","v":"Информационная обработка текстов различных стилей и жанров. Текст как речевое произведение. Смысловая и композиционная целостность текста. Отбор языковых средств в тексте в зависимости от темы, цели, адресата и ситуации общения. Создание текстов различных стилей и функционально-смысловых типов речи. Грамматические нормы (морфологические нормы). Грамматические  нормы  (синтаксические нормы). Лексические нормы. Пунктуация в простом и сложном предложениях. Орфограмма"}]
[null,{"$f":"B467","v":2},"Текст как речевое произведение. Смысловая и композиционная целостность текста. Анализ текста"]
[null,3,"Выразительные средства лексики и фразеологии. Анализ средств выразительности"]
[null,4,"Правописание приставок. Слитное, дефисное, раздельное написание"]
[null,5,"Правописание суффиксов различных частей речи (кроме -Н-/-НН-). Правописание -Н- и -НН- в различных частях речи. Правописание личных окончаний глаголов и суффиксов причастий настоящего времени"]
[null,6,"Лексика и фразеология. Синонимы. Фразеологические обороты. Группы слов по происхождению и употреблению"]
[null,7,"Словосочетание"]
[null,8,"Предложение. Грамматическая (предикативная) основа предложения. Подлежащее и сказуемое как главные члены предложения "]
[null,9,"Осложнённое простое предложение"]
[null,10,"Пунктуационный анализ. Знаки препинания в предложениях со словами и конструкциями, грамматически не связанными с членами предложения"]
[null,11,"Синтаксический анализ сложного предложения"]
[null,12,"Пунктуационный анализ. Знаки препинания в сложносочинённом и сложноподчинённом предложениях"]
[null,13,"Синтаксический анализ сложного предложения"]
[null,14,"Сложные предложения с разными видами связи между частями"]
[null,15,"Текст как речевое произведение. Смысловая и композиционная целостность текста. Создание текстов различных стилей и функционально-смысловых типов речи. Информационная обработка текстов различных стилей и жанров. Грамматические нормы (морфологические нормы). Грамматические нормы (синтаксические нормы). Лексические нормы"]
[null,16,0]
[null,17,0]
[null,18,0]
[null,19,0]
[null,20,0]
[null,21,0]
[null,22,0]
[null,23,0]
[null,24,0]
[null,25,0]
[null,26,0]
[null,27,0]
[null,28,0]
[null,29,0]
[null,30,0]
[null,31,0]
[null,32,0]
[null,33,0]
[null,34,0]
[null,35,0]
[]
["Рекомендация: обратите внимание на задания по темам, которые вызвали у Вас затруднения, решены с ошибкой и отмечены \"0\" или к решению которых Вы не приступили (пустые ячейки)!"]
[]
[]
[]
["Центр независимой оценки качества образования и образовательного аудита \"Легион\""]
[]
["Образовательная организация",null,null,null,{"$f":"E452","v":"Ленинская СОШ"}]
["Предмет",null,null,null,{"$f":"E453","v":"Русский язык"}]
["Максимальный балл",null,null,null,39]
["Пороговый балл",null,null,null,15]
["Зона риска",null,null,null,{"$f":"Результаты!E15","v":15},null,null,{"$f":"Результаты!H15","v":16}]
[]
["Уровни",null,null,null,{"$f":"E514","v":1},{"$f":"F514","v":2},3,4,5,6,7,8,9,10,11,12,13,14,15,"ПР.ГР",{"$error":"#REF!"},{"$error":"#REF!"},{"$error":"#REF!"},{"$error":"#REF!"},{"$error":"#REF!"},{"$error":"#REF!"},{"$error":"#REF!"},{"$error":"#REF!"},{"$error":"#REF!"},{"$error":"#REF!"},{"$error":"#REF!"},{"$error":"#REF!"},{"$error":"#REF!"},{"$error":"#REF!"},{"$error":"#REF!"},{"$error":"#REF!"},{"$error":"#REF!"},{"$error":"#REF!"},{"$error":"#REF!"},"Тестовый балл","% выплнения заданий по уровням",null,null,"Оценка"]
[null,null,null,null,null,null,null,null,null,null,null,null,null,null,null,null,null,null,null,null,null,null,null,null,null,null,null,null,null,null,null,null,null,null,null,null,null,null,null,null,"Базовый","Повышенный","Высокий"]
["№","Класс","Ф.И.О.","№ задания",{"$f":"E516","v":1},{"$f":"F516","v":2},3,4,5,6,7,8,9,10,11,12,13,14,15,0,{"$error":"#REF!"},{"$error":"#REF!"},{"$error":"#REF!"},{"$error":"#REF!"},{"$error":"#REF!"},{"$error":"#REF!"},{"$error":"#REF!"},{"$error":"#REF!"},{"$error":"#REF!"},{"$error":"#REF!"},{"$error":"#REF!"},{"$error":"#REF!"},{"$error":"#REF!"},{"$error":"#REF!"},{"$error":"#REF!"},{"$error":"#REF!"},{"$error":"#REF!"},{"$error":"#REF!"},{"$error":"#REF!"}]
["Максимальный балл",null,null,null,{"$f":"E517","v":7},{"$f":"F517","v":1},1,1,1,1,1,1,1,1,1,1,1,1,9,10,{"$error":"#REF!"},{"$error":"#REF!"},{"$error":"#REF!"},{"$error":"#REF!"},{"$error":"#REF!"},{"$error":"#REF!"},{"$error":"#REF!"},{"$error":"#REF!"},{"$error":"#REF!"},{"$error":"#REF!"},{"$error":"#REF!"},{"$error":"#REF!"},{"$error":"#REF!"},{"$error":"#REF!"},{"$error":"#REF!"},{"$error":"#REF!"},{"$error":"#REF!"},{"$error":"#REF!"},{"$error":"#REF!"},39,76.92307692307692,{"$error":"#REF!"},23.076923076923077,0]
[null,null,null,"вариант"]
[{"$f":"Результаты!A34","v":11},{"$f":"Результаты!B34","v":0},{"$f":"Результаты!C34","v":0},{"$f":"Результаты!D34","v":2},{"$f":"Результаты!E34","v":"-"},{"$f":"Результаты!F34","v":1},{"$f":"Результаты!G34","v":1},{"$f":"Результаты!H34","v":0},{"$f":"Результаты!I34","v":1},{"$f":"Результаты!J34","v":0},{"$f":"Результаты!K34","v":0},{"$f":"Результаты!L34","v":1},{"$f":"Результаты!M34","v":0},{"$f":"Результаты!N34","v":0},{"$f":"Результаты!O34","v":0},{"$f":"Результаты!P34","v":0},{"$f":"Результаты!Q34","v":0},{"$f":"Результаты!R34","v":0},{"$f":"Результаты!S34","v":"-"},{"$f":"Результаты!T34","v":"-"},{"$f":"Результаты!#REF!","v":{"$error":"#REF!"}},{"$f":"Результаты!#REF!","v":{"$error":"#REF!"}},{"$f":"Результаты!#REF!","v":{"$error":"#REF!"}},{"$f":"Результаты!#REF!","v":{"$error":"#REF!"}},{"$f":"Результаты!#REF!","v":{"$error":"#REF!"}},{"$f":"Результаты!#REF!","v":{"$error":"#REF!"}},{"$f":"Результаты!#REF!","v":{"$error":"#REF!"}},{"$f":"Результаты!#REF!","v":{"$error":"#REF!"}},{"$f":"Результаты!#REF!","v":{"$error":"#REF!"}},{"$f":"Результаты!#REF!","v":{"$error":"#REF!"}},{"$f":"Результаты!#REF!","v":{"$error":"#REF!"}},{"$f":"Результаты!#REF!","v":{"$error":"#REF!"}},{"$f":"Результаты!#REF!","v":{"$error":"#REF!"}},{"$f":"Результаты!#REF!","v":{"$error":"#REF!"}},{"$f":"Результаты!#REF!","v":{"$error":"#REF!"}},{"$f":"Результаты!#REF!","v":{"$error":"#REF!"}},{"$f":"Результаты!#REF!","v":{"$error":"#REF!"}},{"$f":"Результаты!#REF!","v":{"$error":"#REF!"}},{"$f":"Результаты!#REF!","v":{"$error":"#REF!"}},{"$f":"Результаты!U34","v":4},{"$f":"Результаты!V34","v":13.333333333333334},{"$f":"Результаты!#REF!","v":{"$error":"#REF!"}},{"$f":"Результаты!W34","v":0},{"$f":"Результаты!X34","v":"2"}]
[]
[]
[null,{"$f":"B522","v":1},{"$f":"C522","v":"Информационная обработка текстов различных стилей и жанров. Текст как речевое произведение. Смысловая и композиционная целостность текста. Отбор языковых средств в тексте в зависимости от темы, цели, адресата и ситуации общения. Создание текстов различных стилей и функционально-смысловых типов речи. Грамматические нормы (морфологические нормы). Грамматические  нормы  (синтаксические нормы). Лексические нормы. Пунктуация в простом и сложном предложениях. Орфограмма"}]
[null,{"$f":"B523","v":2},"Текст как речевое произведение. Смысловая и композиционная целостность текста. Анализ текста"]
[null,{"$f":"B524","v":3},"Выразительные средства лексики и фразеологии. Анализ средств выразительности"]
[null,{"$f":"B525","v":4},"Правописание приставок. Слитное, дефисное, раздельное написание"]
[null,{"$f":"B526","v":5},"Правописание суффиксов различных частей речи (кроме -Н-/-НН-). Правописание -Н- и -НН- в различных частях речи. Правописание личных окончаний глаголов и суффиксов причастий настоящего времени"]
[null,{"$f":"B527","v":6},"Лексика и фразеология. Синонимы. Фразеологические обороты. Группы слов по происхождению и употреблению"]
[null,{"$f":"B528","v":7},"Словосочетание"]
[null,{"$f":"B529","v":8},"Предложение. Грамматическая (предикативная) основа предложения. Подлежащее и сказуемое как главные члены предложения "]
[null,{"$f":"B530","v":9},"Осложнённое простое предложение"]
[null,{"$f":"B531","v":10},"Пунктуационный анализ. Знаки препинания в предложениях со словами и конструкциями, грамматически не связанными с членами предложения"]
[null,{"$f":"B532","v":11},"Синтаксический анализ сложного предложения"]
[null,{"$f":"B533","v":12},"Пунктуационный анализ. Знаки препинания в сложносочинённом и сложноподчинённом предложениях"]
[null,{"$f":"B534","v":13},"Синтаксический анализ сложного предложения"]
[null,{"$f":"B535","v":14},"Сложные предложения с разными видами связи между частями"]
[null,{"$f":"B536","v":15},"Текст как речевое произведение. Смысловая и композиционная целостность текста. Создание текстов различных стилей и функционально-смысловых типов речи. Информационная обработка текстов различных стилей и жанров. Грамматические нормы (морфологические нормы). Грамматические нормы (синтаксические нормы). Лексические нормы"]
[null,{"$f":"B537","v":16},0]
[null,{"$f":"B538","v":17},0]
[null,{"$f":"B539","v":18},0]
[null,{"$f":"B540","v":19},0]
[null,{"$f":"B541","v":20},0]
[null,{"$f":"B542","v":21},0]
[null,{"$f":"B543","v":22},0]
[null,{"$f":"B544","v":23},0]
[null,{"$f":"B545","v":24},0]
[null,{"$f":"B546","v":25},0]
[null,{"$f":"B547","v":26},0]
[null,{"$f":"B548","v":27},0]
[null,{"$f":"B549","v":28},0]
[null,{"$f":"B550","v":29},0]
[null,{"$f":"B551","v":30},0]
[null,{"$f":"B552","v":31},0]
[null,{"$f":"B553","v":32},0]
[null,{"$f":"B554","v":33},0]
[null,{"$f":"B555","v":34},{"$f":"C555","v":0}]
[null,{"$f":"B556","v":35},{"$f":"C556","v":0}]
[]
["Рекомендация: обратите внимание на задания по темам, которые вызвали у Вас затруднения, решены с ошибкой и отмечены \"0\" или к решению которых Вы не приступили (пустые ячейки)!"]
[]
[]
[]
["Центр независимой оценки качества образования и образовательного аудита \"Легион\""]
[]
["Образовательная организация",null,null,null,{"$f":"E564","v":"Ленинская СОШ"}]
["Предмет",null,null,null,{"$f":"E565","v":"Русский язык"}]
["Максимальный балл",null,null,null,39]
["Пороговый балл",null,null,null,15]
["Зона риска",null,null,null,{"$f":"Результаты!E15","v":15},null,null,{"$f":"Результаты!H15","v":16}]
[]
["Уровни",null,null,null,{"$f":"E570","v":1},{"$f":"F570","v":2},3,4,5,6,7,8,9,10,11,12,13,14,15,"ПР.ГР",{"$error":"#REF!"},{"$error":"#REF!"},{"$error":"#REF!"},{"$error":"#REF!"},{"$error":"#REF!"},{"$error":"#REF!"},{"$error":"#REF!"},{"$error":"#REF!"},{"$error":"#REF!"},{"$error":"#REF!"},{"$error":"#REF!"},{"$error":"#REF!"},{"$error":"#REF!"},{"$error":"#REF!"},{"$error":"#REF!"},{"$error":"#REF!"},{"$error":"#REF!"},{"$error":"#REF!"},{"$error":"#REF!"},"Тестовый балл","% выплнения заданий по уровням",null,null,"Оценка"]
[null,null,null,null,null,null,null,null,null,null,null,null,null,null,null,null,null,null,null,null,null,null,null,null,null,null,null,null,null,null,null,null,null,null,null,null,null,null,null,null,"Базовый","Повышенный","Высокий"]
["№","Класс","Ф.И.О.","№ задания",{"$f":"E572","v":1},{"$f":"F572","v":2},3,4,5,6,7,8,9,10,11,12,13,14,15,0,{"$error":"#REF!"},{"$error":"#REF!"},{"$error":"#REF!"},{"$error":"#REF!"},{"$error":"#REF!"},{"$error":"#REF!"},{"$error":"#REF!"},{"$error":"#REF!"},{"$error":"#REF!"},{"$error":"#REF!"},{"$error":"#REF!"},{"$error":"#REF!"},{"$error":"#REF!"},{"$error":"#REF!"},{"$error":"#REF!"},{"$error":"#REF!"},{"$error":"#REF!"},{"$error":"#REF!"},{"$error":"#REF!"}]
["Максимальный балл",null,null,null,{"$f":"E573","v":7},{"$f":"F573","v":1},1,1,1,1,1,1,1,1,1,1,1,1,9,10,{"$error":"#REF!"},{"$error":"#REF!"},{"$error":"#REF!"},{"$error":"#REF!"},{"$error":"#REF!"},{"$error":"#REF!"},{"$error":"#REF!"},{"$error":"#REF!"},{"$error":"#REF!"},{"$error":"#REF!"},{"$error":"#REF!"},{"$error":"#REF!"},{"$error":"#REF!"},{"$error":"#REF!"},{"$error":"#REF!"},{"$error":"#REF!"},{"$error":"#REF!"},{"$error":"#REF!"},{"$error":"#REF!"},39,76.92307692307692,{"$error":"#REF!"},23.076923076923077,0]
[null,null,null,"вариант"]
[{"$f":"Результаты!A35","v":12},{"$f":"Результаты!B35","v":0},{"$f":"Результаты!C35","v":0},{"$f":"Результаты!D35","v":1},{"$f":"Результаты!E35","v":"-"},{"$f":"Результаты!F35","v":1},{"$f":"Результаты!G35","v":1},{"$f":"Результаты!H35","v":1},{"$f":"Результаты!I35","v":1},{"$f":"Результаты!J35","v":1},{"$f":"Результаты!K35","v":0},{"$f":"Результаты!L35","v":1},{"$f":"Результаты!M35","v":1},{"$f":"Результаты!N35","v":1},{"$f":"Результаты!O35","v":1},{"$f":"Результаты!P35","v":1},{"$f":"Результаты!Q35","v":1},{"$f":"Результаты!R35","v":0},{"$f":"Результаты!S35","v":"-"},{"$f":"Результаты!T35","v":"-"},{"$f":"Результаты!#REF!","v":{"$error":"#REF!"}},{"$f":"Результаты!#REF!","v":{"$error":"#REF!"}},{"$f":"Результаты!#REF!","v":{"$error":"#REF!"}},{"$f":"Результаты!#REF!","v":{"$error":"#REF!"}},{"$f":"Результаты!#REF!","v":{"$error":"#REF!"}},{"$f":"Результаты!#REF!","v":{"$error":"#REF!"}},{"$f":"Результаты!#REF!","v":{"$error":"#REF!"}},{"$f":"Результаты!#REF!","v":{"$error":"#REF!"}},{"$f":"Результаты!#REF!","v":{"$error":"#REF!"}},{"$f":"Результаты!#REF!","v":{"$error":"#REF!"}},{"$f":"Результаты!#REF!","v":{"$error":"#REF!"}},{"$f":"Результаты!#REF!","v":{"$error":"#REF!"}},{"$f":"Результаты!#REF!","v":{"$error":"#REF!"}},{"$f":"Результаты!#REF!","v":{"$error":"#REF!"}},{"$f":"Результаты!#REF!","v":{"$error":"#REF!"}},{"$f":"Результаты!#REF!","v":{"$error":"#REF!"}},{"$f":"Результаты!#REF!","v":{"$error":"#REF!"}},{"$f":"Результаты!#REF!","v":{"$error":"#REF!"}},{"$f":"Результаты!#REF!","v":{"$error":"#REF!"}},{"$f":"Результаты!U35","v":11},{"$f":"Результаты!V35","v":36.666666666666664},{"$f":"Результаты!#REF!","v":{"$error":"#REF!"}},{"$f":"Результаты!W35","v":0},{"$f":"Результаты!X35","v":"2"}]
[]
[]
[null,{"$f":"B578","v":1},{"$f":"C578","v":"Информационная обработка текстов различных стилей и жанров. Текст как речевое произведение. Смысловая и композиционная целостность текста. Отбор языковых средств в тексте в зависимости от темы, цели, адресата и ситуации общения. Создание текстов различных стилей и функционально-смысловых типов речи. Грамматические нормы (морфологические нормы). Грамматические  нормы  (синтаксические нормы). Лексические нормы. Пунктуация в простом и сложном предложениях. Орфограмма"}]
[null,{"$f":"B579","v":2},"Текст как речевое произведение. Смысловая и композиционная целостность текста. Анализ текста"]
[null,{"$f":"B580","v":3},"Выразительные средства лексики и фразеологии. Анализ средств выразительности"]
[null,{"$f":"B581","v":4},"Правописание приставок. Слитное, дефисное, раздельное написание"]
[null,{"$f":"B582","v":5},"Правописание суффиксов различных частей речи (кроме -Н-/-НН-). Правописание -Н- и -НН- в различных частях речи. Правописание личных окончаний глаголов и суффиксов причастий настоящего времени"]
[null,{"$f":"B583","v":6},"Лексика и фразеология. Синонимы. Фразеологические обороты. Группы слов по происхождению и употреблению"]
[null,{"$f":"B584","v":7},"Словосочетание"]
[null,{"$f":"B585","v":8},"Предложение. Грамматическая (предикативная) основа предложения. Подлежащее и сказуемое как главные члены предложения "]
[null,{"$f":"B586","v":9},"Осложнённое простое предложение"]
[null,{"$f":"B587","v":10},"Пунктуационный анализ. Знаки препинания в предложениях со словами и конструкциями, грамматически не связанными с членами предложения"]
[null,{"$f":"B588","v":11},"Синтаксический анализ сложного предложения"]
[null,{"$f":"B589","v":12},"Пунктуационный анализ. Знаки препинания в сложносочинённом и сложноподчинённом предложениях"]
[null,{"$f":"B590","v":13},"Синтаксический анализ сложного предложения"]
[null,{"$f":"B591","v":14},"Сложные предложения с разными видами связи между частями"]
[null,{"$f":"B592","v":15},"Текст как речевое произведение. Смысловая и композиционная целостность текста. Создание текстов различных стилей и функционально-смысловых типов речи. Информационная обработка текстов различных стилей и жанров. Грамматические нормы (морфологические нормы). Грамматические нормы (синтаксические нормы). Лексические нормы"]
[null,{"$f":"B593","v":16},0]
[null,{"$f":"B594","v":17},0]
[null,{"$f":"B595","v":18},0]
[null,{"$f":"B596","v":19},0]
[null,{"$f":"B597","v":20},0]
[null,{"$f":"B598","v":21},0]
[null,{"$f":"B599","v":22},0]
[null,{"$f":"B600","v":23},0]
[null,{"$f":"B601","v":24},0]
[null,{"$f":"B602","v":25},0]
[null,{"$f":"B603","v":26},0]
[null,{"$f":"B604","v":27},0]
[null,{"$f":"B605","v":28},0]
[null,{"$f":"B606","v":29},0]
[null,{"$f":"B607","v":30},0]
[null,{"$f":"B608","v":31},0]
[null,{"$f":"B609","v":32},0]
[null,{"$f":"B610","v":33},0]
[null,{"$f":"B611","v":34},0]
[null,{"$f":"B612","v":35},0]
[]
["Рекомендация: обратите внимание на задания по темам, которые вызвали у Вас затруднения, решены с ошибкой и отмечены \"0\" или к решению которых Вы не приступили (пустые ячейки)!"]
[]
[]
[]
["Центр независимой оценки качества образования и образовательного аудита \"Легион\""]
[]
["Образовательная организация",null,null,null,{"$f":"E620","v":"Ленинская СОШ"}]
["Предмет",null,null,null,{"$f":"E621","v":"Русский язык"}]
["Максимальный балл",null,null,null,39]
["Пороговый балл",null,null,null,15]
["Зона риска",null,null,null,{"$f":"Результаты!E15","v":15},null,null,{"$f":"Результаты!H15","v":16}]
[]
["Уровни",null,null,null,{"$f":"E626","v":1},{"$f":"F626","v":2},3,4,5,6,7,8,9,10,11,12,13,14,15,"ПР.ГР",{"$error":"#REF!"},{"$error":"#REF!"},{"$error":"#REF!"},{"$error":"#REF!"},{"$error":"#REF!"},{"$error":"#REF!"},{"$error":"#REF!"},{"$error":"#REF!"},{"$error":"#REF!"},{"$error":"#REF!"},{"$error":"#REF!"},{"$error":"#REF!"},{"$error":"#REF!"},{"$error":"#REF!"},{"$error":"#REF!"},{"$error":"#REF!"},{"$error":"#REF!"},{"$error":"#REF!"},{"$error":"#REF!"},"Тестовый балл","% выплнения заданий по уровням",null,null,"Оценка"]
[null,null,null,null,null,null,null,null,null,null,null,null,null,null,null,null,null,null,null,null,null,null,null,null,null,null,null,null,null,null,null,null,null,null,null,null,null,null,null,null,"Базовый","Повышенный","Высокий"]
["№","Класс","Ф.И.О.","№ задания",{"$f":"E628","v":1},{"$f":"F628","v":2},3,4,5,6,7,8,9,10,11,12,13,14,15,0,{"$error":"#REF!"},{"$error":"#REF!"},{"$error":"#REF!"},{"$error":"#REF!"},{"$error":"#REF!"},{"$error":"#REF!"},{"$error":"#REF!"},{"$error":"#REF!"},{"$error":"#REF!"},{"$error":"#REF!"},{"$error":"#REF!"},{"$error":"#REF!"},{"$error":"#REF!"},{"$error":"#REF!"},{"$error":"#REF!"},{"$error":"#REF!"},{"$error":"#REF!"},{"$error":"#REF!"},{"$error":"#REF!"}]
["Максимальный балл",null,null,null,{"$f":"E629","v":7},{"$f":"F629","v":1},1,1,1,1,1,1,1,1,1,1,1,1,9,10,{"$error":"#REF!"},{"$error":"#REF!"},{"$error":"#REF!"},{"$error":"#REF!"},{"$error":"#REF!"},{"$error":"#REF!"},{"$error":"#REF!"},{"$error":"#REF!"},{"$error":"#REF!"},{"$error":"#REF!"},{"$error":"#REF!"},{"$error":"#REF!"},{"$error":"#REF!"},{"$error":"#REF!"},{"$error":"#REF!"},{"$error":"#REF!"},{"$error":"#REF!"},{"$error":"#REF!"},{"$error":"#REF!"},39,76.92307692307692,{"$error":"#REF!"},23.076923076923077,0]
[null,null,null,"вариант"]
[{"$f":"Результаты!A36","v":13},{"$f":"Результаты!B36","v":0},{"$f":"Результаты!C36","v":0},{"$f":"Результаты!D36","v":2},{"$f":"Результаты!E36","v":"-"},{"$f":"Результаты!F36","v":1},{"$f":"Результаты!G36","v":1},{"$f":"Результаты!H36","v":0},{"$f":"Результаты!I36","v":1},{"$f":"Результаты!J36","v":1},{"$f":"Результаты!K36","v":1},{"$f":"Результаты!L36","v":1},{"$f":"Результаты!M36","v":0},{"$f":"Результаты!N36","v":0},{"$f":"Результаты!O36","v":1},{"$f":"Результаты!P36","v":0},{"$f":"Результаты!Q36","v":1},{"$f":"Результаты!R36","v":0},{"$f":"Результаты!S36","v":"-"},{"$f":"Результаты!T36","v":"-"},{"$f":"Результаты!#REF!","v":{"$error":"#REF!"}},{"$f":"Результаты!#REF!","v":{"$error":"#REF!"}},{"$f":"Результаты!#REF!","v":{"$error":"#REF!"}},{"$f":"Результаты!#REF!","v":{"$error":"#REF!"}},{"$f":"Результаты!#REF!","v":{"$error":"#REF!"}},{"$f":"Результаты!#REF!","v":{"$error":"#REF!"}},{"$f":"Результаты!#REF!","v":{"$error":"#REF!"}},{"$f":"Результаты!#REF!","v":{"$error":"#REF!"}},{"$f":"Результаты!#REF!","v":{"$error":"#REF!"}},{"$f":"Результаты!#REF!","v":{"$error":"#REF!"}},{"$f":"Результаты!#REF!","v":{"$error":"#REF!"}},{"$f":"Результаты!#REF!","v":{"$error":"#REF!"}},{"$f":"Результаты!#REF!","v":{"$error":"#REF!"}},{"$f":"Результаты!#REF!","v":{"$error":"#REF!"}},{"$f":"Результаты!#REF!","v":{"$error":"#REF!"}},{"$f":"Результаты!#REF!","v":{"$error":"#REF!"}},{"$f":"Результаты!#REF!","v":{"$error":"#REF!"}},{"$f":"Результаты!#REF!","v":{"$error":"#REF!"}},{"$f":"Результаты!#REF!","v":{"$error":"#REF!"}},{"$f":"Результаты!U36","v":8},{"$f":"Результаты!V36","v":26.666666666666668},{"$f":"Результаты!#REF!","v":{"$error":"#REF!"}},{"$f":"Результаты!W36","v":0},{"$f":"Результаты!X36","v":"2"}]
[]
[]
[null,{"$f":"B634","v":1},"Информационная обработка текстов различных стилей и жанров. Текст как речевое произведение. Смысловая и композиционная целостность текста. Отбор языковых средств в тексте в зависимости от темы, цели, адресата и ситуации общения. Создание текстов различных стилей и функционально-смысловых типов речи. Грамматические нормы (морфологические нормы). Грамматические  нормы  (синтаксические нормы). Лексические нормы. Пунктуация в простом и сложном предложениях. Орфограмма"]
[null,2,"Текст как речевое произведение. Смысловая и композиционная целостность текста. Анализ текста"]
[null,3,"Выразительные средства лексики и фразеологии. Анализ средств выразительности"]
[null,4,"Правописание приставок. Слитное, дефисное, раздельное написание"]
[null,5,"Правописание суффиксов различных частей речи (кроме -Н-/-НН-). Правописание -Н- и -НН- в различных частях речи. Правописание личных окончаний глаголов и суффиксов причастий настоящего времени"]
[null,6,"Лексика и фразеология. Синонимы. Фразеологические обороты. Группы слов по происхождению и употреблению"]
[null,7,"Словосочетание"]
[null,8,"Предложение. Грамматическая (предикативная) основа предложения. Подлежащее и сказуемое как главные члены предложения "]
[null,9,"Осложнённое простое предложение"]
[null,10,"Пунктуационный анализ. Знаки препинания в предложениях со словами и конструкциями, грамматически не связанными с членами предложения"]
[null,11,"Синтаксический анализ сложного предложения"]
[null,12,"Пунктуационный анализ. Знаки препинания в сложносочинённом и сложноподчинённом предложениях"]
[null,13,"Синтаксический анализ сложного предложения"]
[null,14,"Сложные предложения с разными видами связи между частями"]
[null,15,"Текст как речевое произведение. Смысловая и композиционная целостность текста. Создание текстов различных стилей и функционально-смысловых типов речи. Информационная обработка текстов различных стилей и жанров. Грамматические нормы (морфологические нормы). Грамматические нормы (синтаксические нормы). Лексические нормы"]
[null,16,0]
[null,17,0]
[null,18,0]
[null,19,0]
[null,20,0]
[null,{"$f":"B654","v":21},0]
[null,22,0]
[null,23,0]
[null,24,0]
[null,25,0]
[null,26,0]
[null,27,0]
[null,28,0]
[null,29,0]
[null,30,0]
[null,31,0]
[null,32,0]
[null,33,0]
[null,34,0]
[null,35,0]
[]
[]
[]
["Рекомендация: обратите внимание на задания по темам, которые вызвали у Вас затруднения, решены с ошибкой и отмечены \"0\" или к решению которых Вы не приступили (пустые ячейки)!"]
[]
["Центр независимой оценки качества образования и образовательного аудита \"Легион\""]
[]
["Образовательная организация",null,null,null,{"$f":"E676","v":"Ленинская СОШ"}]
["Предмет",null,null,null,{"$f":"E677","v":"Русский язык"}]
["Максимальный балл",null,null,null,39]
["Пороговый балл",null,null,null,15]
["Зона риска",null,null,null,{"$f":"Результаты!E15","v":15},null,null,{"$f":"Результаты!H15","v":16}]
[]
["Уровни",null,null,null,{"$f":"E682","v":1},{"$f":"F682","v":2},3,4,5,6,7,8,9,10,11,12,13,14,15,"ПР.ГР",{"$error":"#REF!"},{"$error":"#REF!"},{"$error":"#REF!"},{"$error":"#REF!"},{"$error":"#REF!"},{"$error":"#REF!"},{"$error":"#REF!"},{"$error":"#REF!"},{"$error":"#REF!"},{"$error":"#REF!"},{"$error":"#REF!"},{"$error":"#REF!"},{"$error":"#REF!"},{"$error":"#REF!"},{"$error":"#REF!"},{"$error":"#REF!"},{"$error":"#REF!"},{"$error":"#REF!"},{"$error":"#REF!"},"Тестовый балл","% выплнения заданий по уровням",null,null,"Оценка"]
[null,null,null,null,null,null,null,null,null,null,null,null,null,null,null,null,null,null,null,null,null,null,null,null,null,null,null,null,null,null,null,null,null,null,null,null,null,null,null,null,"Базовый","Повышенный","Высокий"]
["№","Класс","Ф.И.О.","№ задания",{"$f":"E684","v":1},{"$f":"F684","v":2},3,4,5,6,7,8,9,10,11,12,13,14,15,0,{"$error":"#REF!"},{"$error":"#REF!"},{"$error":"#REF!"},{"$error":"#REF!"},{"$error":"#REF!"},{"$error":"#REF!"},{"$error":"#REF!"},{"$error":"#REF!"},{"$error":"#REF!"},{"$error":"#REF!"},{"$error":"#REF!"},{"$error":"#REF!"},{"$error":"#REF!"},{"$error":"#REF!"},{"$error":"#REF!"},{"$error":"#REF!"},{"$error":"#REF!"},{"$error":"#REF!"},{"$error":"#REF!"}]
["Максимальный балл",null,null,null,{"$f":"E685","v":7},{"$f":"F685","v":1},1,1,1,1,1,1,1,1,1,1,1,1,9,10,{"$error":"#REF!"},{"$error":"#REF!"},{"$error":"#REF!"},{"$error":"#REF!"},{"$error":"#REF!"},{"$error":"#REF!"},{"$error":"#REF!"},{"$error":"#REF!"},{"$error":"#REF!"},{"$error":"#REF!"},{"$error":"#REF!"},{"$error":"#REF!"},{"$error":"#REF!"},{"$error":"#REF!"},{"$error":"#REF!"},{"$error":"#REF!"},{"$error":"#REF!"},{"$error":"#REF!"},{"$error":"#REF!"},39,76.92307692307692,{"$error":"#REF!"},23.076923076923077,0]
[null,null,null,"вариант"]
[{"$f":"Результаты!A37","v":14},{"$f":"Результаты!B37","v":0},{"$f":"Результаты!C37","v":0},{"$f":"Результаты!D37","v":1},{"$f":"Результаты!E37","v":"-"},{"$f":"Результаты!F37","v":1},{"$f":"Результаты!G37","v":1},{"$f":"Результаты!H37","v":1},{"$f":"Результаты!I37","v":1},{"$f":"Результаты!J37","v":0},{"$f":"Результаты!K37","v":0},{"$f":"Результаты!L37","v":1},{"$f":"Результаты!M37","v":0},{"$f":"Результаты!N37","v":1},{"$f":"Результаты!O37","v":1},{"$f":"Результаты!P37","v":0},{"$f":"Результаты!Q37","v":0},{"$f":"Результаты!R37","v":0},{"$f":"Результаты!S37","v":"-"},{"$f":"Результаты!T37","v":"-"},{"$f":"Результаты!#REF!","v":{"$error":"#REF!"}},{"$f":"Результаты!#REF!","v":{"$error":"#REF!"}},{"$f":"Результаты!#REF!","v":{"$error":"#REF!"}},{"$f":"Результаты!#REF!","v":{"$error":"#REF!"}},{"$f":"Результаты!#REF!","v":{"$error":"#REF!"}},{"$f":"Результаты!#REF!","v":{"$error":"#REF!"}},{"$f":"Результаты!#REF!","v":{"$error":"#REF!"}},{"$f":"Результаты!#REF!","v":{"$error":"#REF!"}},{"$f":"Результаты!#REF!","v":{"$error":"#REF!"}},{"$f":"Результаты!#REF!","v":{"$error":"#REF!"}},{"$f":"Результаты!#REF!","v":{"$error":"#REF!"}},{"$f":"Результаты!#REF!","v":{"$error":"#REF!"}},{"$f":"Результаты!#REF!","v":{"$error":"#REF!"}},{"$f":"Результаты!#REF!","v":{"$error":"#REF!"}},{"$f":"Результаты!#REF!","v":{"$error":"#REF!"}},{"$f":"Результаты!#REF!","v":{"$error":"#REF!"}},{"$f":"Результаты!#REF!","v":{"$error":"#REF!"}},{"$f":"Результаты!#REF!","v":{"$error":"#REF!"}},{"$f":"Результаты!#REF!","v":{"$error":"#REF!"}},{"$f":"Результаты!U37","v":7},{"$f":"Результаты!V37","v":23.333333333333332},{"$f":"Результаты!#REF!","v":{"$error":"#REF!"}},{"$f":"Результаты!W37","v":0},{"$f":"Результаты!X37","v":"2"}]
[]
[]
[null,{"$f":"B690","v":1},"Информационная обработка текстов различных стилей и жанров. Текст как речевое произведение. Смысловая и композиционная целостность текста. Отбор языковых средств в тексте в зависимости от темы, цели, адресата и ситуации общения. Создание текстов различных стилей и функционально-смысловых типов речи. Грамматические нормы (морфологические нормы). Грамматические  нормы  (синтаксические нормы). Лексические нормы. Пунктуация в простом и сложном предложениях. Орфограмма"]
[null,2,"Текст как речевое произведение. Смысловая и композиционная целостность текста. Анализ текста"]
[null,3,"Выразительные средства лексики и фразеологии. Анализ средств выразительности"]
[null,4,"Правописание приставок. Слитное, дефисное, раздельное написание"]
[null,5,"Правописание суффиксов различных частей речи (кроме -Н-/-НН-). Правописание -Н- и -НН- в различных частях речи. Правописание личных окончаний глаголов и суффиксов причастий настоящего времени"]
[null,6,"Лексика и фразеология. Синонимы. Фразеологические обороты. Группы слов по происхождению и употреблению"]
[null,7,"Словосочетание"]
[null,8,"Предложение. Грамматическая (предикативная) основа предложения. Подлежащее и сказуемое как главные члены предложения "]
[null,9,"Осложнённое простое предложение"]
[null,10,"Пунктуационный анализ. Знаки препинания в предложениях со словами и конструкциями, грамматически не связанными с членами предложения"]
[null,11,"Синтаксический анализ сложного предложения"]
[null,12,"Пунктуационный анализ. Знаки препинания в сложносочинённом и сложноподчинённом предложениях"]
[null,13,"Синтаксический анализ сложного предложения"]
[null,14,"Сложные предложения с разными видами связи между частями"]
[null,15,"Текст как речевое произведение. Смысловая и композиционная целостность текста. Создание текстов различных стилей и функционально-смысловых типов речи. Информационная обработка текстов различных стилей и жанров. Грамматические нормы (морфологические нормы). Грамматические нормы (синтаксические нормы). Лексические нормы"]
[null,16,0]
[null,17,0]
[null,18,0]
[null,19,0]
[null,20,0]
[null,{"$f":"B710","v":21},0]
[null,22,0]
[null,23,0]
[null,24,0]
[null,25,0]
[null,26,0]
[null,27,0]
[null,28,0]
[null,29,0]
[null,30,0]
[null,31,0]
[null,32,0]
[null,33,0]
[null,34,0]
[null,35,0]
[]
[]
["Рекомендация: обратите внимание на задания по темам, которые вызвали у Вас затруднения, решены с ошибкой и отмечены \"0\" или к решению которых Вы не приступили (пустые ячейки)!"]
[]
[]
["Центр независимой оценки качества образования и образовательного аудита \"Легион\""]
[]
["Образовательная организация",null,null,null,{"$f":"E732","v":"Ленинская СОШ"}]
["Предмет",null,null,null,{"$f":"E733","v":"Русский язык"}]
["Максимальный балл",null,null,null,39]
["Пороговый балл",null,null,null,15]
["Зона риска",null,null,null,{"$f":"Результаты!E15","v":15},null,null,{"$f":"Результаты!H15","v":16}]
[]
["Уровни",null,null,null,{"$f":"E738","v":1},{"$f":"F738","v":2},3,4,5,6,7,8,9,10,11,12,13,14,15,"ПР.ГР",{"$error":"#REF!"},{"$error":"#REF!"},{"$error":"#REF!"},{"$error":"#REF!"},{"$error":"#REF!"},{"$error":"#REF!"},{"$error":"#REF!"},{"$error":"#REF!"},{"$error":"#REF!"},{"$error":"#REF!"},{"$error":"#REF!"},{"$error":"#REF!"},{"$error":"#REF!"},{"$error":"#REF!"},{"$error":"#REF!"},{"$error":"#REF!"},{"$error":"#REF!"},{"$error":"#REF!"},{"$error":"#REF!"},"Тестовый балл","% выплнения заданий по уровням",null,null,"Оценка"]
[null,null,null,null,null,null,null,null,null,null,null,null,null,null,null,null,null,null,null,null,null,null,null,null,null,null,null,null,null,null,null,null,null,null,null,null,null,null,null,null,"Базовый","Повышенный","Высокий"]
["№","Класс","Ф.И.О.","№ задания",{"$f":"E740","v":1},{"$f":"F740","v":2},3,4,5,6,7,8,9,10,11,12,13,14,15,0,{"$error":"#REF!"},{"$error":"#REF!"},{"$error":"#REF!"},{"$error":"#REF!"},{"$error":"#REF!"},{"$error":"#REF!"},{"$error":"#REF!"},{"$error":"#REF!"},{"$error":"#REF!"},{"$error":"#REF!"},{"$error":"#REF!"},{"$error":"#REF!"},{"$error":"#REF!"},{"$error":"#REF!"},{"$error":"#REF!"},{"$error":"#REF!"},{"$error":"#REF!"},{"$error":"#REF!"},{"$error":"#REF!"}]
["Максимальный балл",null,null,null,{"$f":"E741","v":7},1,1,1,1,1,1,1,1,1,1,1,1,1,9,10,{"$error":"#REF!"},{"$error":"#REF!"},{"$error":"#REF!"},{"$error":"#REF!"},{"$error":"#REF!"},{"$error":"#REF!"},{"$error":"#REF!"},{"$error":"#REF!"},{"$error":"#REF!"},{"$error":"#REF!"},{"$error":"#REF!"},{"$error":"#REF!"},{"$error":"#REF!"},{"$error":"#REF!"},{"$error":"#REF!"},{"$error":"#REF!"},{"$error":"#REF!"},{"$error":"#REF!"},{"$error":"#REF!"},39,76.92307692307692,{"$f":"AP741","v":{"$error":"#REF!"}},23.076923076923077,0]
[null,null,null,"вариант"]
[{"$f":"Результаты!A38","v":15},{"$f":"Результаты!B38","v":0},{"$f":"Результаты!C38","v":0},{"$f":"Результаты!D38","v":0},{"$f":"Результаты!E38","v":"-"},{"$f":"Результаты!F38","v":0},{"$f":"Результаты!G38","v":0},{"$f":"Результаты!H38","v":0},{"$f":"Результаты!I38","v":0},{"$f":"Результаты!J38","v":0},{"$f":"Результаты!K38","v":0},{"$f":"Результаты!L38","v":0},{"$f":"Результаты!M38","v":0},{"$f":"Результаты!N38","v":0},{"$f":"Результаты!O38","v":0},{"$f":"Результаты!P38","v":0},{"$f":"Результаты!Q38","v":0},{"$f":"Результаты!R38","v":0},{"$f":"Результаты!S38","v":"-"},{"$f":"Результаты!T38","v":"-"},{"$f":"Результаты!#REF!","v":{"$error":"#REF!"}},{"$f":"Результаты!#REF!","v":{"$error":"#REF!"}},{"$f":"Результаты!#REF!","v":{"$error":"#REF!"}},{"$f":"Результаты!#REF!","v":{"$error":"#REF!"}},{"$f":"Результаты!#REF!","v":{"$error":"#REF!"}},{"$f":"Результаты!#REF!","v":{"$error":"#REF!"}},{"$f":"Результаты!#REF!","v":{"$error":"#REF!"}},{"$f":"Результаты!#REF!","v":{"$error":"#REF!"}},{"$f":"Результаты!#REF!","v":{"$error":"#REF!"}},{"$f":"Результаты!#REF!","v":{"$error":"#REF!"}},{"$f":"Результаты!#REF!","v":{"$error":"#REF!"}},{"$f":"Результаты!#REF!","v":{"$error":"#REF!"}},{"$f":"Результаты!#REF!","v":{"$error":"#REF!"}},{"$f":"Результаты!#REF!","v":{"$error":"#REF!"}},{"$f":"Результаты!#REF!","v":{"$error":"#REF!"}},{"$f":"Результаты!#REF!","v":{"$error":"#REF!"}},{"$f":"Результаты!#REF!","v":{"$error":"#REF!"}},{"$f":"Результаты!#REF!","v":{"$error":"#REF!"}},{"$f":"Результаты!#REF!","v":{"$error":"#REF!"}},{"$f":"Результаты!U38","v":0},{"$f":"Результаты!V38","v":0},{"$f":"Результаты!#REF!","v":{"$error":"#REF!"}},{"$f":"Результаты!W38","v":0},{"$f":"Результаты!X38","v":" "}]
[]
[]
[null,{"$f":"B746","v":1},{"$f":"C746","v":"Информационная обработка текстов различных стилей и жанров. Текст как речевое произведение. Смысловая и композиционная целостность текста. Отбор языковых средств в тексте в зависимости от темы, цели, адресата и ситуации общения. Создание текстов различных стилей и функционально-смысловых типов речи. Грамматические нормы (морфологические нормы). Грамматические  нормы  (синтаксические нормы). Лексические нормы. Пунктуация в простом и сложном предложениях. Орфограмма"}]
[null,{"$f":"B747","v":2},"Текст как речевое произведение. Смысловая и композиционная целостность текста. Анализ текста"]
[null,3,"Выразительные средства лексики и фразеологии. Анализ средств выразительности"]
[null,4,"Правописание приставок. Слитное, дефисное, раздельное написание"]
[null,5,"Правописание суффиксов различных частей речи (кроме -Н-/-НН-). Правописание -Н- и -НН- в различных частях речи. Правописание личных окончаний глаголов и суффиксов причастий настоящего времени"]
[null,6,"Лексика и фразеология. Синонимы. Фразеологические обороты. Группы слов по происхождению и употреблению"]
[null,7,"Словосочетание"]
[null,8,"Предложение. Грамматическая (предикативная) основа предложения. Подлежащее и сказуемое как главные члены предложения "]
[null,9,"Осложнённое простое предложение"]
[null,10,"Пунктуационный анализ. Знаки препинания в предложениях со словами и конструкциями, грамматически не связанными с членами предложения"]
[null,11,"Синтаксический анализ сложного предложения"]
[null,12,"Пунктуационный анализ. Знаки препинания в сложносочинённом и сложноподчинённом предложениях"]
[null,13,"Синтаксический анализ сложного предложения"]
[null,14,"Сложные предложения с разными видами связи между частями"]
[null,15,"Текст как речевое произведение. Смысловая и композиционная целостность текста. Создание текстов различных стилей и функционально-смысловых типов речи. Информационная обработка текстов различных стилей и жанров. Грамматические нормы (морфологические нормы). Грамматические нормы (синтаксические нормы). Лексические нормы"]
[null,16,0]
[null,17,0]
[null,18,0]
[null,19,0]
[null,20,0]
[null,21,0]
[null,22,0]
[null,23,0]
[null,24,0]
[null,25,0]
[null,26,0]
[null,27,0]
[null,28,0]
[null,29,0]
[null,30,0]
[null,31,0]
[null,32,0]
[null,33,0]
[null,34,0]
[null,35,0]
[]
["Рекомендация: обратите внимание на задания по темам, которые вызвали у Вас затруднения, решены с ошибкой и отмечены \"0\" или к решению которых Вы не приступили (пустые ячейки)!"]
[]
[]
[]
["Центр независимой оценки качества образования и образовательного аудита \"Легион\""]
[]
["Образовательная организация",null,null,null,{"$f":"E788","v":"Ленинская СОШ"}]
["Предмет",null,null,null,{"$f":"E789","v":"Русский язык"}]
["Максимальный балл",null,null,null,39]
["Пороговый балл",null,null,null,15]
["Зона риска",null,null,null,{"$f":"Результаты!E15","v":15},null,null,{"$f":"Результаты!H15","v":16}]
[]
["Уровни",null,null,null,{"$f":"E794","v":1},{"$f":"F794","v":2},3,4,5,6,7,8,9,10,11,12,13,14,15,"ПР.ГР",{"$error":"#REF!"},{"$error":"#REF!"},{"$error":"#REF!"},{"$error":"#REF!"},{"$error":"#REF!"},{"$error":"#REF!"},{"$error":"#REF!"},{"$error":"#REF!"},{"$error":"#REF!"},{"$error":"#REF!"},{"$error":"#REF!"},{"$error":"#REF!"},{"$error":"#REF!"},{"$error":"#REF!"},{"$error":"#REF!"},{"$error":"#REF!"},{"$error":"#REF!"},{"$error":"#REF!"},{"$error":"#REF!"},"Тестовый балл","% выплнения заданий по уровням",null,null,"Оценка"]
[null,null,null,null,null,null,null,null,null,null,null,null,null,null,null,null,null,null,null,null,null,null,null,null,null,null,null,null,null,null,null,null,null,null,null,null,null,null,null,null,"Базовый","Повышенный","Высокий"]
["№","Класс","Ф.И.О.","№ задания",{"$f":"E796","v":1},{"$f":"F796","v":2},3,4,5,6,7,8,9,10,11,12,13,14,15,0,{"$error":"#REF!"},{"$error":"#REF!"},{"$error":"#REF!"},{"$error":"#REF!"},{"$error":"#REF!"},{"$error":"#REF!"},{"$error":"#REF!"},{"$error":"#REF!"},{"$error":"#REF!"},{"$error":"#REF!"},{"$error":"#REF!"},{"$error":"#REF!"},{"$error":"#REF!"},{"$error":"#REF!"},{"$error":"#REF!"},{"$error":"#REF!"},{"$error":"#REF!"},{"$error":"#REF!"},{"$error":"#REF!"}]
["Максимальный балл",null,null,null,{"$f":"E797","v":7},{"$f":"F797","v":1},1,1,1,1,1,1,1,1,1,1,1,1,9,10,{"$error":"#REF!"},{"$error":"#REF!"},{"$error":"#REF!"},{"$error":"#REF!"},{"$error":"#REF!"},{"$error":"#REF!"},{"$error":"#REF!"},{"$error":"#REF!"},{"$error":"#REF!"},{"$error":"#REF!"},{"$error":"#REF!"},{"$error":"#REF!"},{"$error":"#REF!"},{"$error":"#REF!"},{"$error":"#REF!"},{"$error":"#REF!"},{"$error":"#REF!"},{"$error":"#REF!"},{"$error":"#REF!"},39,76.92307692307692,{"$error":"#REF!"},23.076923076923077,0]
[null,null,null,"вариант"]
[{"$f":"Результаты!#REF!","v":{"$error":"#REF!"}},{"$f":"Результаты!#REF!","v":{"$error":"#REF!"}},{"$f":"Результаты!#REF!","v":{"$error":"#REF!"}},{"$f":"Результаты!#REF!","v":{"$error":"#REF!"}},{"$f":"Результаты!#REF!","v":{"$error":"#REF!"}},{"$f":"Результаты!#REF!","v":{"$error":"#REF!"}},{"$f":"Результаты!#REF!","v":{"$error":"#REF!"}},{"$f":"Результаты!#REF!","v":{"$error":"#REF!"}},{"$f":"Результаты!#REF!","v":{"$error":"#REF!"}},{"$f":"Результаты!#REF!","v":{"$error":"#REF!"}},{"$f":"Результаты!#REF!","v":{"$error":"#REF!"}},{"$f":"Результаты!#REF!","v":{"$error":"#REF!"}},{"$f":"Результаты!#REF!","v":{"$error":"#REF!"}},{"$f":"Результаты!#REF!","v":{"$error":"#REF!"}},{"$f":"Результаты!#REF!","v":{"$error":"#REF!"}},{"$f":"Результаты!#REF!","v":{"$error":"#REF!"}},{"$f":"Результаты!#REF!","v":{"$error":"#REF!"}},{"$f":"Результаты!#REF!","v":{"$error":"#REF!"}},{"$f":"Результаты!#REF!","v":{"$error":"#REF!"}},{"$f":"Результаты!#REF!","v":{"$error":"#REF!"}},{"$f":"Результаты!#REF!","v":{"$error":"#REF!"}},{"$f":"Результаты!#REF!","v":{"$error":"#REF!"}},{"$f":"Результаты!#REF!","v":{"$error":"#REF!"}},{"$f":"Результаты!#REF!","v":{"$error":"#REF!"}},{"$f":"Результаты!#REF!","v":{"$error":"#REF!"}},{"$f":"Результаты!#REF!","v":{"$error":"#REF!"}},{"$f":"Результаты!#REF!","v":{"$error":"#REF!"}},{"$f":"Результаты!#REF!","v":{"$error":"#REF!"}},{"$f":"Результаты!#REF!","v":{"$error":"#REF!"}},{"$f":"Результаты!#REF!","v":{"$error":"#REF!"}},{"$f":"Результаты!#REF!","v":{"$error":"#REF!"}},{"$f":"Результаты!#REF!","v":{"$error":"#REF!"}},{"$f":"Результаты!#REF!","v":{"$error":"#REF!"}},{"$f":"Результаты!#REF!","v":{"$error":"#REF!"}},{"$f":"Результаты!#REF!","v":{"$error":"#REF!"}},{"$f":"Результаты!#REF!","v":{"$error":"#REF!"}},{"$f":"Результаты!#REF!","v":{"$error":"#REF!"}},{"$f":"Результаты!#REF!","v":{"$error":"#REF!"}},{"$f":"Результаты!#REF!","v":{"$error":"#REF!"}},{"$f":"Результаты!#REF!","v":{"$error":"#REF!"}},{"$f":"Результаты!#REF!","v":{"$error":"#REF!"}},{"$f":"Результаты!#REF!","v":{"$error":"#REF!"}},{"$f":"Результаты!#REF!","v":{"$error":"#REF!"}},{"$f":"Результаты!#REF!","v":{"$error":"#REF!"}}]
[]
[]
[null,{"$f":"B802","v":1},"Информационная обработка текстов различных стилей и жанров. Текст как речевое произведение. Смысловая и композиционная целостность текста. Отбор языковых средств в тексте в зависимости от темы, цели, адресата и ситуации общения. Создание текстов различных стилей и функционально-смысловых типов речи. Грамматические нормы (морфологические нормы). Грамматические  нормы  (синтаксические нормы). Лексические нормы. Пунктуация в простом и сложном предложениях. Орфограмма"]
[null,2,"Текст как речевое произведение. Смысловая и композиционная целостность текста. Анализ текста"]
[null,3,"Выразительные средства лексики и фразеологии. Анализ средств выразительности"]
[null,4,"Правописание приставок. Слитное, дефисное, раздельное написание"]
[null,5,"Правописание суффиксов различных частей речи (кроме -Н-/-НН-). Правописание -Н- и -НН- в различных частях речи. Правописание личных окончаний глаголов и суффиксов причастий настоящего времени"]
[null,6,"Лексика и фразеология. Синонимы. Фразеологические обороты. Группы слов по происхождению и употреблению"]
[null,7,"Словосочетание"]
[null,8,"Предложение. Грамматическая (предикативная) основа предложения. Подлежащее и сказуемое как главные члены предложения "]
[null,9,"Осложнённое простое предложение"]
[null,10,"Пунктуационный анализ. Знаки препинания в предложениях со словами и конструкциями, грамматически не связанными с членами предложения"]
[null,11,"Синтаксический анализ сложного предложения"]
[null,12,"Пунктуационный анализ. Знаки препинания в сложносочинённом и сложноподчинённом предложениях"]
[null,13,"Синтаксический анализ сложного предложения"]
[null,14,"Сложные предложения с разными видами связи между частями"]
[null,15,"Текст как речевое произведение. Смысловая и композиционная целостность текста. Создание текстов различных стилей и функционально-смысловых типов речи. Информационная обработка текстов различных стилей и жанров. Грамматические нормы (морфологические нормы). Грамматические нормы (синтаксические нормы). Лексические нормы"]
[null,16,0]
[null,17,0]
[null,18,0]
[null,19,0]
[null,20,0]
[null,{"$f":"B822","v":21},0]
[null,22,0]
[null,23,0]
[null,24,0]
[null,25,0]
[null,26,0]
[null,27,0]
[null,28,0]
[null,29,0]
[null,30,0]
[null,31,0]
[null,32,0]
[null,33,0]
[null,34,0]
[null,35,0]
[]
[]
["Рекомендация: обратите внимание на задания по темам, которые вызвали у Вас затруднения, решены с ошибкой и отмечены \"0\" или к решению которых Вы не приступили (пустые ячейки)!"]
[]
[]
["Центр независимой оценки качества образования и образовательного аудита \"Легион\""]
[]
["Образовательная организация",null,null,null,{"$f":"E844","v":"Ленинская СОШ"}]
["Предмет",null,null,null,{"$f":"E845","v":"Русский язык"}]
["Максимальный балл",null,null,null,39]
["Пороговый балл",null,null,null,15]
["Зона риска",null,null,null,{"$f":"Результаты!E15","v":15},null,null,{"$f":"Результаты!H15","v":16}]
[]
["Уровни",null,null,null,{"$f":"E850","v":1},{"$f":"F850","v":2},3,4,5,6,7,8,9,10,11,12,13,14,15,"ПР.ГР",{"$error":"#REF!"},{"$error":"#REF!"},{"$error":"#REF!"},{"$error":"#REF!"},{"$error":"#REF!"},{"$error":"#REF!"},{"$error":"#REF!"},{"$error":"#REF!"},{"$error":"#REF!"},{"$error":"#REF!"},{"$error":"#REF!"},{"$error":"#REF!"},{"$error":"#REF!"},{"$error":"#REF!"},{"$error":"#REF!"},{"$error":"#REF!"},{"$error":"#REF!"},{"$error":"#REF!"},{"$error":"#REF!"},"Тестовый балл","% выплнения заданий по уровням",null,null,"Оценка"]
[null,null,null,null,null,null,null,null,null,null,null,null,null,null,null,null,null,null,null,null,null,null,null,null,null,null,null,null,null,null,null,null,null,null,null,null,null,null,null,null,"Базовый","Повышенный","Высокий"]
["№","Класс","Ф.И.О.","№ задания",{"$f":"E852","v":1},{"$f":"F852","v":2},3,4,5,6,7,8,9,10,11,12,13,14,15,0,{"$error":"#REF!"},{"$error":"#REF!"},{"$error":"#REF!"},{"$error":"#REF!"},{"$error":"#REF!"},{"$error":"#REF!"},{"$error":"#REF!"},{"$error":"#REF!"},{"$error":"#REF!"},{"$error":"#REF!"},{"$error":"#REF!"},{"$error":"#REF!"},{"$error":"#REF!"},{"$error":"#REF!"},{"$error":"#REF!"},{"$error":"#REF!"},{"$error":"#REF!"},{"$error":"#REF!"},{"$error":"#REF!"}]
["Максимальный балл",null,null,null,{"$f":"E853","v":7},{"$f":"F853","v":1},1,1,1,1,1,1,1,1,1,1,1,1,9,10,{"$error":"#REF!"},{"$error":"#REF!"},{"$error":"#REF!"},{"$error":"#REF!"},{"$error":"#REF!"},{"$error":"#REF!"},{"$error":"#REF!"},{"$error":"#REF!"},{"$error":"#REF!"},{"$error":"#REF!"},{"$error":"#REF!"},{"$error":"#REF!"},{"$error":"#REF!"},{"$error":"#REF!"},{"$error":"#REF!"},{"$error":"#REF!"},{"$error":"#REF!"},{"$error":"#REF!"},{"$error":"#REF!"},39,76.92307692307692,{"$error":"#REF!"},23.076923076923077,0]
[null,null,null,"вариант"]
[{"$f":"Результаты!#REF!","v":{"$error":"#REF!"}},{"$f":"Результаты!#REF!","v":{"$error":"#REF!"}},{"$f":"Результаты!#REF!","v":{"$error":"#REF!"}},{"$f":"Результаты!#REF!","v":{"$error":"#REF!"}},{"$f":"Результаты!#REF!","v":{"$error":"#REF!"}},{"$f":"Результаты!#REF!","v":{"$error":"#REF!"}},{"$f":"Результаты!#REF!","v":{"$error":"#REF!"}},{"$f":"Результаты!#REF!","v":{"$error":"#REF!"}},{"$f":"Результаты!#REF!","v":{"$error":"#REF!"}},{"$f":"Результаты!#REF!","v":{"$error":"#REF!"}},{"$f":"Результаты!#REF!","v":{"$error":"#REF!"}},{"$f":"Результаты!#REF!","v":{"$error":"#REF!"}},{"$f":"Результаты!#REF!","v":{"$error":"#REF!"}},{"$f":"Результаты!#REF!","v":{"$error":"#REF!"}},{"$f":"Результаты!#REF!","v":{"$error":"#REF!"}},{"$f":"Результаты!#REF!","v":{"$error":"#REF!"}},{"$f":"Результаты!#REF!","v":{"$error":"#REF!"}},{"$f":"Результаты!#REF!","v":{"$error":"#REF!"}},{"$f":"Результаты!#REF!","v":{"$error":"#REF!"}},{"$f":"Результаты!#REF!","v":{"$error":"#REF!"}},{"$f":"Результаты!#REF!","v":{"$error":"#REF!"}},{"$f":"Результаты!#REF!","v":{"$error":"#REF!"}},{"$f":"Результаты!#REF!","v":{"$error":"#REF!"}},{"$f":"Результаты!#REF!","v":{"$error":"#REF!"}},{"$f":"Результаты!#REF!","v":{"$error":"#REF!"}},{"$f":"Результаты!#REF!","v":{"$error":"#REF!"}},{"$f":"Результаты!#REF!","v":{"$error":"#REF!"}},{"$f":"Результаты!#REF!","v":{"$error":"#REF!"}},{"$f":"Результаты!#REF!","v":{"$error":"#REF!"}},{"$f":"Результаты!#REF!","v":{"$error":"#REF!"}},{"$f":"Результаты!#REF!","v":{"$error":"#REF!"}},{"$f":"Результаты!#REF!","v":{"$error":"#REF!"}},{"$f":"Результаты!#REF!","v":{"$error":"#REF!"}},{"$f":"Результаты!#REF!","v":{"$error":"#REF!"}},{"$f":"Результаты!#REF!","v":{"$error":"#REF!"}},{"$f":"Результаты!#REF!","v":{"$error":"#REF!"}},{"$f":"Результаты!#REF!","v":{"$error":"#REF!"}},{"$f":"Результаты!#REF!","v":{"$error":"#REF!"}},{"$f":"Результаты!#REF!","v":{"$error":"#REF!"}},{"$f":"Результаты!#REF!","v":{"$error":"#REF!"}},{"$f":"Результаты!#REF!","v":{"$error":"#REF!"}},{"$f":"Результаты!#REF!","v":{"$error":"#REF!"}},{"$f":"Результаты!#REF!","v":{"$error":"#REF!"}},{"$f":"Результаты!#REF!","v":{"$error":"#REF!"}}]
[]
[]
[null,{"$f":"B858","v":1},"Информационная обработка текстов различных стилей и жанров. Текст как речевое произведение. Смысловая и композиционная целостность текста. Отбор языковых средств в тексте в зависимости от темы, цели, адресата и ситуации общения. Создание текстов различных стилей и функционально-смысловых типов речи. Грамматические нормы (морфологические нормы). Грамматические  нормы  (синтаксические нормы). Лексические нормы. Пунктуация в простом и сложном предложениях. Орфограмма"]
[null,2,"Текст как речевое произведение. Смысловая и композиционная целостность текста. Анализ текста"]
[null,3,"Выразительные средства лексики и фразеологии. Анализ средств выразительности"]
[null,4,"Правописание приставок. Слитное, дефисное, раздельное написание"]
[null,5,"Правописание суффиксов различных частей речи (кроме -Н-/-НН-). Правописание -Н- и -НН- в различных частях речи. Правописание личных окончаний глаголов и суффиксов причастий настоящего времени"]
[null,6,"Лексика и фразеология. Синонимы. Фразеологические обороты. Группы слов по происхождению и употреблению"]
[null,7,"Словосочетание"]
[null,8,"Предложение. Грамматическая (предикативная) основа предложения. Подлежащее и сказуемое как главные члены предложения "]
[null,9,"Осложнённое простое предложение"]
[null,10,"Пунктуационный анализ. Знаки препинания в предложениях со словами и конструкциями, грамматически не связанными с членами предложения"]
[null,11,"Синтаксический анализ сложного предложения"]
[null,12,"Пунктуационный анализ. Знаки препинания в сложносочинённом и сложноподчинённом предложениях"]
[null,13,"Синтаксический анализ сложного предложения"]
[null,14,"Сложные предложения с разными видами связи между частями"]
[null,15,"Текст как речевое произведение. Смысловая и композиционная целостность текста. Создание текстов различных стилей и функционально-смысловых типов речи. Информационная обработка текстов различных стилей и жанров. Грамматические нормы (морфологические нормы). Грамматические нормы (синтаксические нормы). Лексические нормы"]
[null,16,0]
[null,17,0]
[null,18,0]
[null,19,0]
[null,20,0]
[null,{"$f":"B878","v":21},0]
[null,22,0]
[null,23,0]
[null,24,0]
[null,25,0]
[null,26,0]
[null,27,0]
[null,28,0]
[null,29,0]
[null,30,0]
[null,31,0]
[null,32,0]
[null,33,0]
[null,34,0]
[null,35,0]
[]
[]
["Рекомендация: обратите внимание на задания по темам, которые вызвали у Вас затруднения, решены с ошибкой и отмечены \"0\" или к решению которых Вы не приступили (пустые ячейки)!"]
[]
[]
["Центр независимой оценки качества образования и образовательного аудита \"Легион\""]
[]
["Образовательная организация",null,null,null,{"$f":"E900","v":"Ленинская СОШ"}]
["Предмет",null,null,null,{"$f":"E901","v":"Русский язык"}]
["Максимальный балл",null,null,null,39]
["Пороговый балл",null,null,null,15]
["Зона риска",null,null,null,{"$f":"Результаты!E15","v":15},null,null,{"$f":"Результаты!H15","v":16}]
[]
["Уровни",null,null,null,{"$f":"E906","v":1},{"$f":"F906","v":2},3,4,5,6,7,8,9,10,11,12,13,14,15,"ПР.ГР",{"$error":"#REF!"},{"$error":"#REF!"},{"$error":"#REF!"},{"$error":"#REF!"},{"$error":"#REF!"},{"$error":"#REF!"},{"$error":"#REF!"},{"$error":"#REF!"},{"$error":"#REF!"},{"$error":"#REF!"},{"$error":"#REF!"},{"$error":"#REF!"},{"$error":"#REF!"},{"$error":"#REF!"},{"$error":"#REF!"},{"$error":"#REF!"},{"$error":"#REF!"},{"$error":"#REF!"},{"$error":"#REF!"},"Тестовый балл","% выплнения заданий по уровням",null,null,"Оценка"]
[null,null,null,null,null,null,null,null,null,null,null,null,null,null,null,null,null,null,null,null,null,null,null,null,null,null,null,null,null,null,null,null,null,null,null,null,null,null,null,null,"Базовый","Повышенный","Высокий"]
["№","Класс","Ф.И.О.","№ задания",{"$f":"E908","v":1},{"$f":"F908","v":2},3,4,5,6,7,8,9,10,11,12,13,14,15,0,{"$error":"#REF!"},{"$error":"#REF!"},{"$error":"#REF!"},{"$error":"#REF!"},{"$error":"#REF!"},{"$error":"#REF!"},{"$error":"#REF!"},{"$error":"#REF!"},{"$error":"#REF!"},{"$error":"#REF!"},{"$error":"#REF!"},{"$error":"#REF!"},{"$error":"#REF!"},{"$error":"#REF!"},{"$error":"#REF!"},{"$error":"#REF!"},{"$error":"#REF!"},{"$error":"#REF!"},{"$error":"#REF!"}]
["Максимальный балл",null,null,null,{"$f":"E909","v":7},{"$f":"F909","v":1},1,1,1,1,1,1,1,1,1,1,1,1,9,10,{"$error":"#REF!"},{"$error":"#REF!"},{"$error":"#REF!"},{"$error":"#REF!"},{"$error":"#REF!"},{"$error":"#REF!"},{"$error":"#REF!"},{"$error":"#REF!"},{"$error":"#REF!"},{"$error":"#REF!"},{"$error":"#REF!"},{"$error":"#REF!"},{"$error":"#REF!"},{"$error":"#REF!"},{"$error":"#REF!"},{"$error":"#REF!"},{"$error":"#REF!"},{"$error":"#REF!"},{"$error":"#REF!"},39,76.92307692307692,{"$error":"#REF!"},23.076923076923077,0]
[null,null,null,"вариант"]
[{"$f":"Результаты!#REF!","v":{"$error":"#REF!"}},{"$f":"Результаты!#REF!","v":{"$error":"#REF!"}},{"$f":"Результаты!#REF!","v":{"$error":"#REF!"}},{"$f":"Результаты!#REF!","v":{"$error":"#REF!"}},{"$f":"Результаты!#REF!","v":{"$error":"#REF!"}},{"$f":"Результаты!#REF!","v":{"$error":"#REF!"}},{"$f":"Результаты!#REF!","v":{"$error":"#REF!"}},{"$f":"Результаты!#REF!","v":{"$error":"#REF!"}},{"$f":"Результаты!#REF!","v":{"$error":"#REF!"}},{"$f":"Результаты!#REF!","v":{"$error":"#REF!"}},{"$f":"Результаты!#REF!","v":{"$error":"#REF!"}},{"$f":"Результаты!#REF!","v":{"$error":"#REF!"}},{"$f":"Результаты!#REF!","v":{"$error":"#REF!"}},{"$f":"Результаты!#REF!","v":{"$error":"#REF!"}},{"$f":"Результаты!#REF!","v":{"$error":"#REF!"}},{"$f":"Результаты!#REF!","v":{"$error":"#REF!"}},{"$f":"Результаты!#REF!","v":{"$error":"#REF!"}},{"$f":"Результаты!#REF!","v":{"$error":"#REF!"}},{"$f":"Результаты!#REF!","v":{"$error":"#REF!"}},{"$f":"Результаты!#REF!","v":{"$error":"#REF!"}},{"$f":"Результаты!#REF!","v":{"$error":"#REF!"}},{"$f":"Результаты!#REF!","v":{"$error":"#REF!"}},{"$f":"Результаты!#REF!","v":{"$error":"#REF!"}},{"$f":"Результаты!#REF!","v":{"$error":"#REF!"}},{"$f":"Результаты!#REF!","v":{"$error":"#REF!"}},{"$f":"Результаты!#REF!","v":{"$error":"#REF!"}},{"$f":"Результаты!#REF!","v":{"$error":"#REF!"}},{"$f":"Результаты!#REF!","v":{"$error":"#REF!"}},{"$f":"Результаты!#REF!","v":{"$error":"#REF!"}},{"$f":"Результаты!#REF!","v":{"$error":"#REF!"}},{"$f":"Результаты!#REF!","v":{"$error":"#REF!"}},{"$f":"Результаты!#REF!","v":{"$error":"#REF!"}},{"$f":"Результаты!#REF!","v":{"$error":"#REF!"}},{"$f":"Результаты!#REF!","v":{"$error":"#REF!"}},{"$f":"Результаты!#REF!","v":{"$error":"#REF!"}},{"$f":"Результаты!#REF!","v":{"$error":"#REF!"}},{"$f":"Результаты!#REF!","v":{"$error":"#REF!"}},{"$f":"Результаты!#REF!","v":{"$error":"#REF!"}},{"$f":"Результаты!#REF!","v":{"$error":"#REF!"}},{"$f":"Результаты!#REF!","v":{"$error":"#REF!"}},{"$f":"Результаты!#REF!","v":{"$error":"#REF!"}},{"$f":"Результаты!#REF!","v":{"$error":"#REF!"}},{"$f":"Результаты!#REF!","v":{"$error":"#REF!"}},{"$f":"Результаты!#REF!","v":{"$error":"#REF!"}}]
[]
[]
[null,{"$f":"B914","v":1},"Информационная обработка текстов различных стилей и жанров. Текст как речевое произведение. Смысловая и композиционная целостность текста. Отбор языковых средств в тексте в зависимости от темы, цели, адресата и ситуации общения. Создание текстов различных стилей и функционально-смысловых типов речи. Грамматические нормы (морфологические нормы). Грамматические  нормы  (синтаксические нормы). Лексические нормы. Пунктуация в простом и сложном предложениях. Орфограмма"]
[null,2,"Текст как речевое произведение. Смысловая и композиционная целостность текста. Анализ текста"]
[null,3,"Выразительные средства лексики и фразеологии. Анализ средств выразительности"]
[null,4,"Правописание приставок. Слитное, дефисное, раздельное написание"]
[null,5,"Правописание суффиксов различных частей речи (кроме -Н-/-НН-). Правописание -Н- и -НН- в различных частях речи. Правописание личных окончаний глаголов и суффиксов причастий настоящего времени"]
[null,6,"Лексика и фразеология. Синонимы. Фразеологические обороты. Группы слов по происхождению и употреблению"]
[null,7,"Словосочетание"]
[null,8,"Предложение. Грамматическая (предикативная) основа предложения. Подлежащее и сказуемое как главные члены предложения "]
[null,9,"Осложнённое простое предложение"]
[null,10,"Пунктуационный анализ. Знаки препинания в предложениях со словами и конструкциями, грамматически не связанными с членами предложения"]
[null,11,"Синтаксический анализ сложного предложения"]
[null,12,"Пунктуационный анализ. Знаки препинания в сложносочинённом и сложноподчинённом предложениях"]
[null,13,"Синтаксический анализ сложного предложения"]
[null,14,"Сложные предложения с разными видами связи между частями"]
[null,15,"Текст как речевое произведение. Смысловая и композиционная целостность текста. Создание текстов различных стилей и функционально-смысловых типов речи. Информационная обработка текстов различных стилей и жанров. Грамматические нормы (морфологические нормы). Грамматические нормы (синтаксические нормы). Лексические нормы"]
[null,16,0]
[null,17,0]
[null,18,0]
[null,19,0]
[null,20,0]
[null,{"$f":"B934","v":21},0]
[null,22,0]
[null,23,0]
[null,24,0]
[null,25,0]
[null,26,0]
[null,27,0]
[null,28,0]
[null,29,0]
[null,30,0]
[null,31,0]
[null,32,0]
[null,33,0]
[null,34,0]
[null,35,0]
[]
[]
["Рекомендация: обратите внимание на задания по темам, которые вызвали у Вас затруднения, решены с ошибкой и отмечены \"0\" или к решению которых Вы не приступили (пустые ячейки)!"]
[]
[]
["Центр независимой оценки качества образования и образовательного аудита \"Легион\""]
[]
["Образовательная организация",null,null,null,{"$f":"E956","v":"Ленинская СОШ"}]
["Предмет",null,null,null,{"$f":"E957","v":"Русский язык"}]
["Максимальный балл",null,null,null,39]
["Пороговый балл",null,null,null,15]
["Зона риска",null,null,null,{"$f":"Результаты!E15","v":15},null,null,{"$f":"Результаты!H15","v":16}]
[]
["Уровни",null,null,null,{"$f":"E962","v":1},{"$f":"F962","v":2},3,4,5,6,7,8,9,10,11,12,13,14,15,"ПР.ГР",{"$error":"#REF!"},{"$error":"#REF!"},{"$error":"#REF!"},{"$error":"#REF!"},{"$error":"#REF!"},{"$error":"#REF!"},{"$error":"#REF!"},{"$error":"#REF!"},{"$error":"#REF!"},{"$error":"#REF!"},{"$error":"#REF!"},{"$error":"#REF!"},{"$error":"#REF!"},{"$error":"#REF!"},{"$error":"#REF!"},{"$error":"#REF!"},{"$error":"#REF!"},{"$error":"#REF!"},{"$error":"#REF!"},"Тестовый балл","% выплнения заданий по уровням",null,null,"Оценка"]
[null,null,null,null,null,null,null,null,null,null,null,null,null,null,null,null,null,null,null,null,null,null,null,null,null,null,null,null,null,null,null,null,null,null,null,null,null,null,null,null,"Базовый","Повышенный","Высокий"]
["№","Класс","Ф.И.О.","№ задания",{"$f":"E964","v":1},{"$f":"F964","v":2},3,4,5,6,7,8,9,10,11,12,13,14,15,0,{"$error":"#REF!"},{"$error":"#REF!"},{"$error":"#REF!"},{"$error":"#REF!"},{"$error":"#REF!"},{"$error":"#REF!"},{"$error":"#REF!"},{"$error":"#REF!"},{"$error":"#REF!"},{"$error":"#REF!"},{"$error":"#REF!"},{"$error":"#REF!"},{"$error":"#REF!"},{"$error":"#REF!"},{"$error":"#REF!"},{"$error":"#REF!"},{"$error":"#REF!"},{"$error":"#REF!"},{"$error":"#REF!"}]
["Максимальный балл",null,null,null,{"$f":"E965","v":7},{"$f":"F965","v":1},1,1,1,1,1,1,1,1,1,1,1,1,9,10,{"$error":"#REF!"},{"$error":"#REF!"},{"$error":"#REF!"},{"$error":"#REF!"},{"$error":"#REF!"},{"$error":"#REF!"},{"$error":"#REF!"},{"$error":"#REF!"},{"$error":"#REF!"},{"$error":"#REF!"},{"$error":"#REF!"},{"$error":"#REF!"},{"$error":"#REF!"},{"$error":"#REF!"},{"$error":"#REF!"},{"$error":"#REF!"},{"$error":"#REF!"},{"$error":"#REF!"},{"$error":"#REF!"},39,76.92307692307692,{"$error":"#REF!"},23.076923076923077,0]
[null,null,null,"вариант"]
[{"$f":"Результаты!#REF!","v":{"$error":"#REF!"}},{"$f":"Результаты!#REF!","v":{"$error":"#REF!"}},{"$f":"Результаты!#REF!","v":{"$error":"#REF!"}},{"$f":"Результаты!#REF!","v":{"$error":"#REF!"}},{"$f":"Результаты!#REF!","v":{"$error":"#REF!"}},{"$f":"Результаты!#REF!","v":{"$error":"#REF!"}},{"$f":"Результаты!#REF!","v":{"$error":"#REF!"}},{"$f":"Результаты!#REF!","v":{"$error":"#REF!"}},{"$f":"Результаты!#REF!","v":{"$error":"#REF!"}},{"$f":"Результаты!#REF!","v":{"$error":"#REF!"}},{"$f":"Результаты!#REF!","v":{"$error":"#REF!"}},{"$f":"Результаты!#REF!","v":{"$error":"#REF!"}},{"$f":"Результаты!#REF!","v":{"$error":"#REF!"}},{"$f":"Результаты!#REF!","v":{"$error":"#REF!"}},{"$f":"Результаты!#REF!","v":{"$error":"#REF!"}},{"$f":"Результаты!#REF!","v":{"$error":"#REF!"}},{"$f":"Результаты!#REF!","v":{"$error":"#REF!"}},{"$f":"Результаты!#REF!","v":{"$error":"#REF!"}},{"$f":"Результаты!#REF!","v":{"$error":"#REF!"}},{"$f":"Результаты!#REF!","v":{"$error":"#REF!"}},{"$f":"Результаты!#REF!","v":{"$error":"#REF!"}},{"$f":"Результаты!#REF!","v":{"$error":"#REF!"}},{"$f":"Результаты!#REF!","v":{"$error":"#REF!"}},{"$f":"Результаты!#REF!","v":{"$error":"#REF!"}},{"$f":"Результаты!#REF!","v":{"$error":"#REF!"}},{"$f":"Результаты!#REF!","v":{"$error":"#REF!"}},{"$f":"Результаты!#REF!","v":{"$error":"#REF!"}},{"$f":"Результаты!#REF!","v":{"$error":"#REF!"}},{"$f":"Результаты!#REF!","v":{"$error":"#REF!"}},{"$f":"Результаты!#REF!","v":{"$error":"#REF!"}},{"$f":"Результаты!#REF!","v":{"$error":"#REF!"}},{"$f":"Результаты!#REF!","v":{"$error":"#REF!"}},{"$f":"Результаты!#REF!","v":{"$error":"#REF!"}},{"$f":"Результаты!#REF!","v":{"$error":"#REF!"}},{"$f":"Результаты!#REF!","v":{"$error":"#REF!"}},{"$f":"Результаты!#REF!","v":{"$error":"#REF!"}},{"$f":"Результаты!#REF!","v":{"$error":"#REF!"}},{"$f":"Результаты!#REF!","v":{"$error":"#REF!"}},{"$f":"Результаты!#REF!","v":{"$error":"#REF!"}},{"$f":"Результаты!#REF!","v":{"$error":"#REF!"}},{"$f":"Результаты!#REF!","v":{"$error":"#REF!"}},{"$f":"Результаты!#REF!","v":{"$error":"#REF!"}},{"$f":"Результаты!#REF!","v":{"$error":"#REF!"}},{"$f":"Результаты!#REF!","v":{"$error":"#REF!"}}]
[]
[]
[null,{"$f":"B970","v":1},"Информационная обработка текстов различных стилей и жанров. Текст как речевое произведение. Смысловая и композиционная целостность текста. Отбор языковых средств в тексте в зависимости от темы, цели, адресата и ситуации общения. Создание текстов различных стилей и функционально-смысловых типов речи. Грамматические нормы (морфологические нормы). Грамматические  нормы  (синтаксические нормы). Лексические нормы. Пунктуация в простом и сложном предложениях. Орфограмма"]
[null,2,"Текст как речевое произведение. Смысловая и композиционная целостность текста. Анализ текста"]
[null,3,"Выразительные средства лексики и фразеологии. Анализ средств выразительности"]
[null,4,"Правописание приставок. Слитное, дефисное, раздельное написание"]
[null,5,"Правописание суффиксов различных частей речи (кроме -Н-/-НН-). Правописание -Н- и -НН- в различных частях речи. Правописание личных окончаний глаголов и суффиксов причастий настоящего времени"]
[null,6,"Лексика и фразеология. Синонимы. Фразеологические обороты. Группы слов по происхождению и употреблению"]
[null,7,"Словосочетание"]
[null,8,"Предложение. Грамматическая (предикативная) основа предложения. Подлежащее и сказуемое как главные члены предложения "]
[null,9,"Осложнённое простое предложение"]
[null,10,"Пунктуационный анализ. Знаки препинания в предложениях со словами и конструкциями, грамматически не связанными с членами предложения"]
[null,11,"Синтаксический анализ сложного предложения"]
[null,12,"Пунктуационный анализ. Знаки препинания в сложносочинённом и сложноподчинённом предложениях"]
[null,13,"Синтаксический анализ сложного предложения"]
[null,14,"Сложные предложения с разными видами связи между частями"]
[null,15,"Текст как речевое произведение. Смысловая и композиционная целостность текста. Создание текстов различных стилей и функционально-смысловых типов речи. Информационная обработка текстов различных стилей и жанров. Грамматические нормы (морфологические нормы). Грамматические нормы (синтаксические нормы). Лексические нормы"]
[null,16,0]
[null,17,0]
[null,18,0]
[null,19,0]
[null,20,0]
[null,{"$f":"B990","v":21},0]
[null,22,0]
[null,23,0]
[null,24,0]
[null,25,0]
[null,26,0]
[null,27,0]
[null,28,0]
[null,29,0]
[null,30,0]
[null,31,0]
[null,32,0]
[null,33,0]
[null,34,0]
[null,35,0]
[]
[]
["Рекомендация: обратите внимание на задания по темам, которые вызвали у Вас затруднения, решены с ошибкой и отмечены \"0\" или к решению которых Вы не приступили (пустые ячейки)!"]
[]
[]
["Центр независимой оценки качества образования и образовательного аудита \"Легион\""]
[]
["Образовательная организация",null,null,null,{"$f":"E1012","v":"Ленинская СОШ"}]
["Предмет",null,null,null,{"$f":"E1013","v":"Русский язык"}]
["Максимальный балл",null,null,null,39]
["Пороговый балл",null,null,null,15]
["Зона риска",null,null,null,{"$f":"Результаты!E15","v":15},null,null,{"$f":"Результаты!H15","v":16}]
[]
["Уровни",null,null,null,{"$f":"E1018","v":1},{"$f":"F1018","v":2},3,4,5,6,7,8,9,10,11,12,13,14,15,"ПР.ГР",{"$error":"#REF!"},{"$error":"#REF!"},{"$error":"#REF!"},{"$error":"#REF!"},{"$error":"#REF!"},{"$error":"#REF!"},{"$error":"#REF!"},{"$error":"#REF!"},{"$error":"#REF!"},{"$error":"#REF!"},{"$error":"#REF!"},{"$error":"#REF!"},{"$error":"#REF!"},{"$error":"#REF!"},{"$error":"#REF!"},{"$error":"#REF!"},{"$error":"#REF!"},{"$error":"#REF!"},{"$error":"#REF!"},"Тестовый балл","% выплнения заданий по уровням",null,null,"Оценка"]
[null,null,null,null,null,null,null,null,null,null,null,null,null,null,null,null,null,null,null,null,null,null,null,null,null,null,null,null,null,null,null,null,null,null,null,null,null,null,null,null,"Базовый","Повышенный","Высокий"]
["№","Класс","Ф.И.О.","№ задания",{"$f":"E1020","v":1},{"$f":"F1020","v":2},3,4,5,6,7,8,9,10,11,12,13,14,15,0,{"$error":"#REF!"},{"$error":"#REF!"},{"$error":"#REF!"},{"$error":"#REF!"},{"$error":"#REF!"},{"$error":"#REF!"},{"$error":"#REF!"},{"$error":"#REF!"},{"$error":"#REF!"},{"$error":"#REF!"},{"$error":"#REF!"},{"$error":"#REF!"},{"$error":"#REF!"},{"$error":"#REF!"},{"$error":"#REF!"},{"$error":"#REF!"},{"$error":"#REF!"},{"$error":"#REF!"},{"$error":"#REF!"}]
["Максимальный балл",null,null,null,{"$f":"E1021","v":7},{"$f":"F1021","v":1},1,1,1,1,1,1,1,1,1,1,1,1,9,10,{"$error":"#REF!"},{"$error":"#REF!"},{"$error":"#REF!"},{"$error":"#REF!"},{"$error":"#REF!"},{"$error":"#REF!"},{"$error":"#REF!"},{"$error":"#REF!"},{"$error":"#REF!"},{"$error":"#REF!"},{"$error":"#REF!"},{"$error":"#REF!"},{"$error":"#REF!"},{"$error":"#REF!"},{"$error":"#REF!"},{"$error":"#REF!"},{"$error":"#REF!"},{"$error":"#REF!"},{"$error":"#REF!"},39,76.92307692307692,{"$error":"#REF!"},23.076923076923077,0]
[null,null,null,"вариант"]
[{"$f":"Результаты!#REF!","v":{"$error":"#REF!"}},{"$f":"Результаты!#REF!","v":{"$error":"#REF!"}},{"$f":"Результаты!#REF!","v":{"$error":"#REF!"}},{"$f":"Результаты!#REF!","v":{"$error":"#REF!"}},{"$f":"Результаты!#REF!","v":{"$error":"#REF!"}},{"$f":"Результаты!#REF!","v":{"$error":"#REF!"}},{"$f":"Результаты!#REF!","v":{"$error":"#REF!"}},{"$f":"Результаты!#REF!","v":{"$error":"#REF!"}},{"$f":"Результаты!#REF!","v":{"$error":"#REF!"}},{"$f":"Результаты!#REF!","v":{"$error":"#REF!"}},{"$f":"Результаты!#REF!","v":{"$error":"#REF!"}},{"$f":"Результаты!#REF!","v":{"$error":"#REF!"}},{"$f":"Результаты!#REF!","v":{"$error":"#REF!"}},{"$f":"Результаты!#REF!","v":{"$error":"#REF!"}},{"$f":"Результаты!#REF!","v":{"$error":"#REF!"}},{"$f":"Результаты!#REF!","v":{"$error":"#REF!"}},{"$f":"Результаты!#REF!","v":{"$error":"#REF!"}},{"$f":"Результаты!#REF!","v":{"$error":"#REF!"}},{"$f":"Результаты!#REF!","v":{"$error":"#REF!"}},{"$f":"Результаты!#REF!","v":{"$error":"#REF!"}},{"$f":"Результаты!#REF!","v":{"$error":"#REF!"}},{"$f":"Результаты!#REF!","v":{"$error":"#REF!"}},{"$f":"Результаты!#REF!","v":{"$error":"#REF!"}},{"$f":"Результаты!#REF!","v":{"$error":"#REF!"}},{"$f":"Результаты!#REF!","v":{"$error":"#REF!"}},{"$f":"Результаты!#REF!","v":{"$error":"#REF!"}},{"$f":"Результаты!#REF!","v":{"$error":"#REF!"}},{"$f":"Результаты!#REF!","v":{"$error":"#REF!"}},{"$f":"Результаты!#REF!","v":{"$error":"#REF!"}},{"$f":"Результаты!#REF!","v":{"$error":"#REF!"}},{"$f":"Результаты!#REF!","v":{"$error":"#REF!"}},{"$f":"Результаты!#REF!","v":{"$error":"#REF!"}},{"$f":"Результаты!#REF!","v":{"$error":"#REF!"}},{"$f":"Результаты!#REF!","v":{"$error":"#REF!"}},{"$f":"Результаты!#REF!","v":{"$error":"#REF!"}},{"$f":"Результаты!#REF!","v":{"$error":"#REF!"}},{"$f":"Результаты!#REF!","v":{"$error":"#REF!"}},{"$f":"Результаты!#REF!","v":{"$error":"#REF!"}},{"$f":"Результаты!#REF!","v":{"$error":"#REF!"}},{"$f":"Результаты!#REF!","v":{"$error":"#REF!"}},{"$f":"Результаты!#REF!","v":{"$error":"#REF!"}},{"$f":"Результаты!#REF!","v":{"$error":"#REF!"}},{"$f":"Результаты!#REF!","v":{"$error":"#REF!"}},{"$f":"Результаты!#REF!","v":{"$error":"#REF!"}}]
[]
[]
[null,{"$f":"B1026","v":1},"Информационная обработка текстов различных стилей и жанров. Текст как речевое произведение. Смысловая и композиционная целостность текста. Отбор языковых средств в тексте в зависимости от темы, цели, адресата и ситуации общения. Создание текстов различных стилей и функционально-смысловых типов речи. Грамматические нормы (морфологические нормы). Грамматические  нормы  (синтаксические нормы). Лексические нормы. Пунктуация в простом и сложном предложениях. Орфограмма"]
[null,2,"Текст как речевое произведение. Смысловая и композиционная целостность текста. Анализ текста"]
[null,3,"Выразительные средства лексики и фразеологии. Анализ средств выразительности"]
[null,4,"Правописание приставок. Слитное, дефисное, раздельное написание"]
[null,5,"Правописание суффиксов различных частей речи (кроме -Н-/-НН-). Правописание -Н- и -НН- в различных частях речи. Правописание личных окончаний глаголов и суффиксов причастий настоящего времени"]
[null,6,"Лексика и фразеология. Синонимы. Фразеологические обороты. Группы слов по происхождению и употреблению"]
[null,7,"Словосочетание"]
[null,8,"Предложение. Грамматическая (предикативная) основа предложения. Подлежащее и сказуемое как главные члены предложения "]
[null,9,"Осложнённое простое предложение"]
[null,10,"Пунктуационный анализ. Знаки препинания в предложениях со словами и конструкциями, грамматически не связанными с членами предложения"]
[null,11,"Синтаксический анализ сложного предложения"]
[null,12,"Пунктуационный анализ. Знаки препинания в сложносочинённом и сложноподчинённом предложениях"]
[null,13,"Синтаксический анализ сложного предложения"]
[null,14,"Сложные предложения с разными видами связи между частями"]
[null,15,"Текст как речевое произведение. Смысловая и композиционная целостность текста. Создание текстов различных стилей и функционально-смысловых типов речи. Информационная обработка текстов различных стилей и жанров. Грамматические нормы (морфологические нормы). Грамматические нормы (синтаксические нормы). Лексические нормы"]
[null,16,0]
[null,17,0]
[null,18,0]
[null,19,0]
[null,20,0]
[null,{"$f":"B1046","v":21},0]
[null,22,0]
[null,23,0]
[null,24,0]
[null,25,0]
[null,26,0]
[null,27,0]
[null,28,0]
[null,29,0]
[null,30,0]
[null,31,0]
[null,32,0]
[null,33,0]
[null,34,0]
[null,35,0]
[]
[]
["Рекомендация: обратите внимание на задания по темам, которые вызвали у Вас затруднения, решены с ошибкой и отмечены \"0\" или к решению которых Вы не приступили (пустые ячейки)!"]
[]
[]
["Центр независимой оценки качества образования и образовательного аудита \"Легион\""]
[]
["Образовательная организация",null,null,null,{"$f":"E1068","v":"Ленинская СОШ"}]
["Предмет",null,null,null,{"$f":"E1069","v":"Русский язык"}]
["Максимальный балл",null,null,null,39]
["Пороговый балл",null,null,null,15]
["Зона риска",null,null,null,{"$f":"Результаты!E15","v":15},null,null,{"$f":"Результаты!H15","v":16}]
[]
["Уровни",null,null,null,{"$f":"E1074","v":1},{"$f":"F1074","v":2},3,4,5,6,7,8,9,10,11,12,13,14,15,"ПР.ГР",{"$error":"#REF!"},{"$error":"#REF!"},{"$error":"#REF!"},{"$error":"#REF!"},{"$error":"#REF!"},{"$error":"#REF!"},{"$error":"#REF!"},{"$error":"#REF!"},{"$error":"#REF!"},{"$error":"#REF!"},{"$error":"#REF!"},{"$error":"#REF!"},{"$error":"#REF!"},{"$error":"#REF!"},{"$error":"#REF!"},{"$error":"#REF!"},{"$error":"#REF!"},{"$error":"#REF!"},{"$error":"#REF!"},"Тестовый балл","% выплнения заданий по уровням",null,null,"Оценка"]
[null,null,null,null,null,null,null,null,null,null,null,null,null,null,null,null,null,null,null,null,null,null,null,null,null,null,null,null,null,null,null,null,null,null,null,null,null,null,null,null,"Базовый","Повышенный","Высокий"]
["№","Класс","Ф.И.О.","№ задания",{"$f":"E1076","v":1},{"$f":"F1076","v":2},3,4,5,6,7,8,9,10,11,12,13,14,15,0,{"$error":"#REF!"},{"$error":"#REF!"},{"$error":"#REF!"},{"$error":"#REF!"},{"$error":"#REF!"},{"$error":"#REF!"},{"$error":"#REF!"},{"$error":"#REF!"},{"$error":"#REF!"},{"$error":"#REF!"},{"$error":"#REF!"},{"$error":"#REF!"},{"$error":"#REF!"},{"$error":"#REF!"},{"$error":"#REF!"},{"$error":"#REF!"},{"$error":"#REF!"},{"$error":"#REF!"},{"$error":"#REF!"}]
["Максимальный балл",null,null,null,{"$f":"E1077","v":7},{"$f":"F1077","v":1},1,1,1,1,1,1,1,1,1,1,1,1,9,10,{"$error":"#REF!"},{"$error":"#REF!"},{"$error":"#REF!"},{"$error":"#REF!"},{"$error":"#REF!"},{"$error":"#REF!"},{"$error":"#REF!"},{"$error":"#REF!"},{"$error":"#REF!"},{"$error":"#REF!"},{"$error":"#REF!"},{"$error":"#REF!"},{"$error":"#REF!"},{"$error":"#REF!"},{"$error":"#REF!"},{"$error":"#REF!"},{"$error":"#REF!"},{"$error":"#REF!"},{"$error":"#REF!"},39,76.92307692307692,{"$error":"#REF!"},23.076923076923077,0]
[null,null,null,"вариант"]
[{"$f":"Результаты!#REF!","v":{"$error":"#REF!"}},{"$f":"Результаты!#REF!","v":{"$error":"#REF!"}},{"$f":"Результаты!#REF!","v":{"$error":"#REF!"}},{"$f":"Результаты!#REF!","v":{"$error":"#REF!"}},{"$f":"Результаты!#REF!","v":{"$error":"#REF!"}},{"$f":"Результаты!#REF!","v":{"$error":"#REF!"}},{"$f":"Результаты!#REF!","v":{"$error":"#REF!"}},{"$f":"Результаты!#REF!","v":{"$error":"#REF!"}},{"$f":"Результаты!#REF!","v":{"$error":"#REF!"}},{"$f":"Результаты!#REF!","v":{"$error":"#REF!"}},{"$f":"Результаты!#REF!","v":{"$error":"#REF!"}},{"$f":"Результаты!#REF!","v":{"$error":"#REF!"}},{"$f":"Результаты!#REF!","v":{"$error":"#REF!"}},{"$f":"Результаты!#REF!","v":{"$error":"#REF!"}},{"$f":"Результаты!#REF!","v":{"$error":"#REF!"}},{"$f":"Результаты!#REF!","v":{"$error":"#REF!"}},{"$f":"Результаты!#REF!","v":{"$error":"#REF!"}},{"$f":"Результаты!#REF!","v":{"$error":"#REF!"}},{"$f":"Результаты!#REF!","v":{"$error":"#REF!"}},{"$f":"Результаты!#REF!","v":{"$error":"#REF!"}},{"$f":"Результаты!#REF!","v":{"$error":"#REF!"}},{"$f":"Результаты!#REF!","v":{"$error":"#REF!"}},{"$f":"Результаты!#REF!","v":{"$error":"#REF!"}},{"$f":"Результаты!#REF!","v":{"$error":"#REF!"}},{"$f":"Результаты!#REF!","v":{"$error":"#REF!"}},{"$f":"Результаты!#REF!","v":{"$error":"#REF!"}},{"$f":"Результаты!#REF!","v":{"$error":"#REF!"}},{"$f":"Результаты!#REF!","v":{"$error":"#REF!"}},{"$f":"Результаты!#REF!","v":{"$error":"#REF!"}},{"$f":"Результаты!#REF!","v":{"$error":"#REF!"}},{"$f":"Результаты!#REF!","v":{"$error":"#REF!"}},{"$f":"Результаты!#REF!","v":{"$error":"#REF!"}},{"$f":"Результаты!#REF!","v":{"$error":"#REF!"}},{"$f":"Результаты!#REF!","v":{"$error":"#REF!"}},{"$f":"Результаты!#REF!","v":{"$error":"#REF!"}},{"$f":"Результаты!#REF!","v":{"$error":"#REF!"}},{"$f":"Результаты!#REF!","v":{"$error":"#REF!"}},{"$f":"Результаты!#REF!","v":{"$error":"#REF!"}},{"$f":"Результаты!#REF!","v":{"$error":"#REF!"}},{"$f":"Результаты!#REF!","v":{"$error":"#REF!"}},{"$f":"Результаты!#REF!","v":{"$error":"#REF!"}},{"$f":"Результаты!#REF!","v":{"$error":"#REF!"}},{"$f":"Результаты!#REF!","v":{"$error":"#REF!"}},{"$f":"Результаты!#REF!","v":{"$error":"#REF!"}}]
[]
[]
[null,{"$f":"B1082","v":1},"Информационная обработка текстов различных стилей и жанров. Текст как речевое произведение. Смысловая и композиционная целостность текста. Отбор языковых средств в тексте в зависимости от темы, цели, адресата и ситуации общения. Создание текстов различных стилей и функционально-смысловых типов речи. Грамматические нормы (морфологические нормы). Грамматические  нормы  (синтаксические нормы). Лексические нормы. Пунктуация в простом и сложном предложениях. Орфограмма"]
[null,2,"Текст как речевое произведение. Смысловая и композиционная целостность текста. Анализ текста"]
[null,3,"Выразительные средства лексики и фразеологии. Анализ средств выразительности"]
[null,4,"Правописание приставок. Слитное, дефисное, раздельное написание"]
[null,5,"Правописание суффиксов различных частей речи (кроме -Н-/-НН-). Правописание -Н- и -НН- в различных частях речи. Правописание личных окончаний глаголов и суффиксов причастий настоящего времени"]
[null,6,"Лексика и фразеология. Синонимы. Фразеологические обороты. Группы слов по происхождению и употреблению"]
[null,7,"Словосочетание"]
[null,8,"Предложение. Грамматическая (предикативная) основа предложения. Подлежащее и сказуемое как главные члены предложения "]
[null,9,"Осложнённое простое предложение"]
[null,10,"Пунктуационный анализ. Знаки препинания в предложениях со словами и конструкциями, грамматически не связанными с членами предложения"]
[null,11,"Синтаксический анализ сложного предложения"]
[null,12,"Пунктуационный анализ. Знаки препинания в сложносочинённом и сложноподчинённом предложениях"]
[null,13,"Синтаксический анализ сложного предложения"]
[null,14,"Сложные предложения с разными видами связи между частями"]
[null,15,"Текст как речевое произведение. Смысловая и композиционная целостность текста. Создание текстов различных стилей и функционально-смысловых типов речи. Информационная обработка текстов различных стилей и жанров. Грамматические нормы (морфологические нормы). Грамматические нормы (синтаксические нормы). Лексические нормы"]
[null,16,0]
[null,17,0]
[null,18,0]
[null,19,0]
[null,20,0]
[null,{"$f":"B1102","v":21},0]
[null,22,0]
[null,23,0]
[null,24,0]
[null,25,0]
[null,26,0]
[null,27,0]
[null,28,0]
[null,29,0]
[null,30,0]
[null,31,0]
[null,32,0]
[null,33,0]
[null,34,0]
[null,35,0]
[]
[]
["Рекомендация: обратите внимание на задания по темам, которые вызвали у Вас затруднения, решены с ошибкой и отмечены \"0\" или к решению которых Вы не приступили (пустые ячейки)!"]
[]
[]
["Центр независимой оценки качества образования и образовательного аудита \"Легион\""]
[]
["Образовательная организация",null,null,null,{"$f":"E1124","v":"Ленинская СОШ"}]
["Предмет",null,null,null,{"$f":"E1125","v":"Русский язык"}]
["Максимальный балл",null,null,null,39]
["Пороговый балл",null,null,null,15]
["Зона риска",null,null,null,{"$f":"Результаты!E15","v":15},null,null,{"$f":"Результаты!H15","v":16}]
[]
["Уровни",null,null,null,{"$f":"E1130","v":1},{"$f":"F1130","v":2},3,4,5,6,7,8,9,10,11,12,13,14,15,"ПР.ГР",{"$error":"#REF!"},{"$error":"#REF!"},{"$error":"#REF!"},{"$error":"#REF!"},{"$error":"#REF!"},{"$error":"#REF!"},{"$error":"#REF!"},{"$error":"#REF!"},{"$error":"#REF!"},{"$error":"#REF!"},{"$error":"#REF!"},{"$error":"#REF!"},{"$error":"#REF!"},{"$error":"#REF!"},{"$error":"#REF!"},{"$error":"#REF!"},{"$error":"#REF!"},{"$error":"#REF!"},{"$error":"#REF!"},"Тестовый балл","% выплнения заданий по уровням",null,null,"Оценка"]
[null,null,null,null,null,null,null,null,null,null,null,null,null,null,null,null,null,null,null,null,null,null,null,null,null,null,null,null,null,null,null,null,null,null,null,null,null,null,null,null,"Базовый","Повышенный","Высокий"]
["№","Класс","Ф.И.О.","№ задания",{"$f":"E1132","v":1},{"$f":"F1132","v":2},3,4,5,6,7,8,9,10,11,12,13,14,15,0,{"$error":"#REF!"},{"$error":"#REF!"},{"$error":"#REF!"},{"$error":"#REF!"},{"$error":"#REF!"},{"$error":"#REF!"},{"$error":"#REF!"},{"$error":"#REF!"},{"$error":"#REF!"},{"$error":"#REF!"},{"$error":"#REF!"},{"$error":"#REF!"},{"$error":"#REF!"},{"$error":"#REF!"},{"$error":"#REF!"},{"$error":"#REF!"},{"$error":"#REF!"},{"$error":"#REF!"},{"$error":"#REF!"}]
["Максимальный балл",null,null,null,{"$f":"E1133","v":7},{"$f":"F1133","v":1},1,1,1,1,1,1,1,1,1,1,1,1,9,10,{"$error":"#REF!"},{"$error":"#REF!"},{"$error":"#REF!"},{"$error":"#REF!"},{"$error":"#REF!"},{"$error":"#REF!"},{"$error":"#REF!"},{"$error":"#REF!"},{"$error":"#REF!"},{"$error":"#REF!"},{"$error":"#REF!"},{"$error":"#REF!"},{"$error":"#REF!"},{"$error":"#REF!"},{"$error":"#REF!"},{"$error":"#REF!"},{"$error":"#REF!"},{"$error":"#REF!"},{"$error":"#REF!"},39,76.92307692307692,{"$error":"#REF!"},23.076923076923077,0]
[null,null,null,"вариант"]
[{"$f":"Результаты!#REF!","v":{"$error":"#REF!"}},{"$f":"Результаты!#REF!","v":{"$error":"#REF!"}},{"$f":"Результаты!#REF!","v":{"$error":"#REF!"}},{"$f":"Результаты!#REF!","v":{"$error":"#REF!"}},{"$f":"Результаты!#REF!","v":{"$error":"#REF!"}},{"$f":"Результаты!#REF!","v":{"$error":"#REF!"}},{"$f":"Результаты!#REF!","v":{"$error":"#REF!"}},{"$f":"Результаты!#REF!","v":{"$error":"#REF!"}},{"$f":"Результаты!#REF!","v":{"$error":"#REF!"}},{"$f":"Результаты!#REF!","v":{"$error":"#REF!"}},{"$f":"Результаты!#REF!","v":{"$error":"#REF!"}},{"$f":"Результаты!#REF!","v":{"$error":"#REF!"}},{"$f":"Результаты!#REF!","v":{"$error":"#REF!"}},{"$f":"Результаты!#REF!","v":{"$error":"#REF!"}},{"$f":"Результаты!#REF!","v":{"$error":"#REF!"}},{"$f":"Результаты!#REF!","v":{"$error":"#REF!"}},{"$f":"Результаты!#REF!","v":{"$error":"#REF!"}},{"$f":"Результаты!#REF!","v":{"$error":"#REF!"}},{"$f":"Результаты!#REF!","v":{"$error":"#REF!"}},{"$f":"Результаты!#REF!","v":{"$error":"#REF!"}},{"$f":"Результаты!#REF!","v":{"$error":"#REF!"}},{"$f":"Результаты!#REF!","v":{"$error":"#REF!"}},{"$f":"Результаты!#REF!","v":{"$error":"#REF!"}},{"$f":"Результаты!#REF!","v":{"$error":"#REF!"}},{"$f":"Результаты!#REF!","v":{"$error":"#REF!"}},{"$f":"Результаты!#REF!","v":{"$error":"#REF!"}},{"$f":"Результаты!#REF!","v":{"$error":"#REF!"}},{"$f":"Результаты!#REF!","v":{"$error":"#REF!"}},{"$f":"Результаты!#REF!","v":{"$error":"#REF!"}},{"$f":"Результаты!#REF!","v":{"$error":"#REF!"}},{"$f":"Результаты!#REF!","v":{"$error":"#REF!"}},{"$f":"Результаты!#REF!","v":{"$error":"#REF!"}},{"$f":"Результаты!#REF!","v":{"$error":"#REF!"}},{"$f":"Результаты!#REF!","v":{"$error":"#REF!"}},{"$f":"Результаты!#REF!","v":{"$error":"#REF!"}},{"$f":"Результаты!#REF!","v":{"$error":"#REF!"}},{"$f":"Результаты!#REF!","v":{"$error":"#REF!"}},{"$f":"Результаты!#REF!","v":{"$error":"#REF!"}},{"$f":"Результаты!#REF!","v":{"$error":"#REF!"}},{"$f":"Результаты!#REF!","v":{"$error":"#REF!"}},{"$f":"Результаты!#REF!","v":{"$error":"#REF!"}},{"$f":"Результаты!#REF!","v":{"$error":"#REF!"}},{"$f":"Результаты!#REF!","v":{"$error":"#REF!"}},{"$f":"Результаты!#REF!","v":{"$error":"#REF!"}}]
[]
[]
[null,{"$f":"B1138","v":1},"Информационная обработка текстов различных стилей и жанров. Текст как речевое произведение. Смысловая и композиционная целостность текста. Отбор языковых средств в тексте в зависимости от темы, цели, адресата и ситуации общения. Создание текстов различных стилей и функционально-смысловых типов речи. Грамматические нормы (морфологические нормы). Грамматические  нормы  (синтаксические нормы). Лексические нормы. Пунктуация в простом и сложном предложениях. Орфограмма"]
[null,2,"Текст как речевое произведение. Смысловая и композиционная целостность текста. Анализ текста"]
[null,3,"Выразительные средства лексики и фразеологии. Анализ средств выразительности"]
[null,4,"Правописание приставок. Слитное, дефисное, раздельное написание"]
[null,5,"Правописание суффиксов различных частей речи (кроме -Н-/-НН-). Правописание -Н- и -НН- в различных частях речи. Правописание личных окончаний глаголов и суффиксов причастий настоящего времени"]
[null,6,"Лексика и фразеология. Синонимы. Фразеологические обороты. Группы слов по происхождению и употреблению"]
[null,7,"Словосочетание"]
[null,8,"Предложение. Грамматическая (предикативная) основа предложения. Подлежащее и сказуемое как главные члены предложения "]
[null,9,"Осложнённое простое предложение"]
[null,10,"Пунктуационный анализ. Знаки препинания в предложениях со словами и конструкциями, грамматически не связанными с членами предложения"]
[null,11,"Синтаксический анализ сложного предложения"]
[null,12,"Пунктуационный анализ. Знаки препинания в сложносочинённом и сложноподчинённом предложениях"]
[null,13,"Синтаксический анализ сложного предложения"]
[null,14,"Сложные предложения с разными видами связи между частями"]
[null,15,"Текст как речевое произведение. Смысловая и композиционная целостность текста. Создание текстов различных стилей и функционально-смысловых типов речи. Информационная обработка текстов различных стилей и жанров. Грамматические нормы (морфологические нормы). Грамматические нормы (синтаксические нормы). Лексические нормы"]
[null,16,0]
[null,17,0]
[null,18,0]
[null,19,0]
[null,20,0]
[null,{"$f":"B1158","v":21},0]
[null,22,0]
[null,23,0]
[null,24,0]
[null,25,0]
[null,26,0]
[null,27,0]
[null,28,0]
[null,29,0]
[null,30,0]
[null,31,0]
[null,32,0]
[null,33,0]
[null,34,0]
[null,35,0]
[]
[]
["Рекомендация: обратите внимание на задания по темам, которые вызвали у Вас затруднения, решены с ошибкой и отмечены \"0\" или к решению которых Вы не приступили (пустые ячейки)!"]
[]
[]
["Центр независимой оценки качества образования и образовательного аудита \"Легион\""]
[]
["Образовательная организация",null,null,null,{"$f":"E1180","v":"Ленинская СОШ"}]
["Предмет",null,null,null,{"$f":"E1181","v":"Русский язык"}]
["Максимальный балл",null,null,null,39]
["Пороговый балл",null,null,null,15]
["Зона риска",null,null,null,{"$f":"Результаты!E15","v":15},null,null,{"$f":"Результаты!H15","v":16}]
[]
["Уровни",null,null,null,{"$f":"E1186","v":1},{"$f":"F1186","v":2},3,4,5,6,7,8,9,10,11,12,13,14,15,"ПР.ГР",{"$error":"#REF!"},{"$error":"#REF!"},{"$error":"#REF!"},{"$error":"#REF!"},{"$error":"#REF!"},{"$error":"#REF!"},{"$error":"#REF!"},{"$error":"#REF!"},{"$error":"#REF!"},{"$error":"#REF!"},{"$error":"#REF!"},{"$error":"#REF!"},{"$error":"#REF!"},{"$error":"#REF!"},{"$error":"#REF!"},{"$error":"#REF!"},{"$error":"#REF!"},{"$error":"#REF!"},{"$error":"#REF!"},"Тестовый балл","% выплнения заданий по уровням",null,null,"Оценка"]
[null,null,null,null,null,null,null,null,null,null,null,null,null,null,null,null,null,null,null,null,null,null,null,null,null,null,null,null,null,null,null,null,null,null,null,null,null,null,null,null,"Базовый","Повышенный","Высокий"]
["№","Класс","Ф.И.О.","№ задания",{"$f":"E1188","v":1},{"$f":"F1188","v":2},3,4,5,6,7,8,9,10,11,12,13,14,15,0,{"$error":"#REF!"},{"$error":"#REF!"},{"$error":"#REF!"},{"$error":"#REF!"},{"$error":"#REF!"},{"$error":"#REF!"},{"$error":"#REF!"},{"$error":"#REF!"},{"$error":"#REF!"},{"$error":"#REF!"},{"$error":"#REF!"},{"$error":"#REF!"},{"$error":"#REF!"},{"$error":"#REF!"},{"$error":"#REF!"},{"$error":"#REF!"},{"$error":"#REF!"},{"$error":"#REF!"},{"$error":"#REF!"}]
["Максимальный балл",null,null,null,{"$f":"E1189","v":7},{"$f":"F1189","v":1},1,1,1,1,1,1,1,1,1,1,1,1,9,10,{"$error":"#REF!"},{"$error":"#REF!"},{"$error":"#REF!"},{"$error":"#REF!"},{"$error":"#REF!"},{"$error":"#REF!"},{"$error":"#REF!"},{"$error":"#REF!"},{"$error":"#REF!"},{"$error":"#REF!"},{"$error":"#REF!"},{"$error":"#REF!"},{"$error":"#REF!"},{"$error":"#REF!"},{"$error":"#REF!"},{"$error":"#REF!"},{"$error":"#REF!"},{"$error":"#REF!"},{"$error":"#REF!"},39,76.92307692307692,{"$error":"#REF!"},23.076923076923077,0]
[null,null,null,"вариант"]
[{"$f":"Результаты!#REF!","v":{"$error":"#REF!"}},{"$f":"Результаты!#REF!","v":{"$error":"#REF!"}},{"$f":"Результаты!#REF!","v":{"$error":"#REF!"}},{"$f":"Результаты!#REF!","v":{"$error":"#REF!"}},{"$f":"Результаты!#REF!","v":{"$error":"#REF!"}},{"$f":"Результаты!#REF!","v":{"$error":"#REF!"}},{"$f":"Результаты!#REF!","v":{"$error":"#REF!"}},{"$f":"Результаты!#REF!","v":{"$error":"#REF!"}},{"$f":"Результаты!#REF!","v":{"$error":"#REF!"}},{"$f":"Результаты!#REF!","v":{"$error":"#REF!"}},{"$f":"Результаты!#REF!","v":{"$error":"#REF!"}},{"$f":"Результаты!#REF!","v":{"$error":"#REF!"}},{"$f":"Результаты!#REF!","v":{"$error":"#REF!"}},{"$f":"Результаты!#REF!","v":{"$error":"#REF!"}},{"$f":"Результаты!#REF!","v":{"$error":"#REF!"}},{"$f":"Результаты!#REF!","v":{"$error":"#REF!"}},{"$f":"Результаты!#REF!","v":{"$error":"#REF!"}},{"$f":"Результаты!#REF!","v":{"$error":"#REF!"}},{"$f":"Результаты!#REF!","v":{"$error":"#REF!"}},{"$f":"Результаты!#REF!","v":{"$error":"#REF!"}},{"$f":"Результаты!#REF!","v":{"$error":"#REF!"}},{"$f":"Результаты!#REF!","v":{"$error":"#REF!"}},{"$f":"Результаты!#REF!","v":{"$error":"#REF!"}},{"$f":"Результаты!#REF!","v":{"$error":"#REF!"}},{"$f":"Результаты!#REF!","v":{"$error":"#REF!"}},{"$f":"Результаты!#REF!","v":{"$error":"#REF!"}},{"$f":"Результаты!#REF!","v":{"$error":"#REF!"}},{"$f":"Результаты!#REF!","v":{"$error":"#REF!"}},{"$f":"Результаты!#REF!","v":{"$error":"#REF!"}},{"$f":"Результаты!#REF!","v":{"$error":"#REF!"}},{"$f":"Результаты!#REF!","v":{"$error":"#REF!"}},{"$f":"Результаты!#REF!","v":{"$error":"#REF!"}},{"$f":"Результаты!#REF!","v":{"$error":"#REF!"}},{"$f":"Результаты!#REF!","v":{"$error":"#REF!"}},{"$f":"Результаты!#REF!","v":{"$error":"#REF!"}},{"$f":"Результаты!#REF!","v":{"$error":"#REF!"}},{"$f":"Результаты!#REF!","v":{"$error":"#REF!"}},{"$f":"Результаты!#REF!","v":{"$error":"#REF!"}},{"$f":"Результаты!#REF!","v":{"$error":"#REF!"}},{"$f":"Результаты!#REF!","v":{"$error":"#REF!"}},{"$f":"Результаты!#REF!","v":{"$error":"#REF!"}},{"$f":"Результаты!#REF!","v":{"$error":"#REF!"}},{"$f":"Результаты!#REF!","v":{"$error":"#REF!"}},{"$f":"Результаты!#REF!","v":{"$error":"#REF!"}}]
[]
[]
[null,{"$f":"B1194","v":1},"Информационная обработка текстов различных стилей и жанров. Текст как речевое произведение. Смысловая и композиционная целостность текста. Отбор языковых средств в тексте в зависимости от темы, цели, адресата и ситуации общения. Создание текстов различных стилей и функционально-смысловых типов речи. Грамматические нормы (морфологические нормы). Грамматические  нормы  (синтаксические нормы). Лексические нормы. Пунктуация в простом и сложном предложениях. Орфограмма"]
[null,{"$f":"B1195","v":2},"Текст как речевое произведение. Смысловая и композиционная целостность текста. Анализ текста"]
[null,{"$f":"B1196","v":3},"Выразительные средства лексики и фразеологии. Анализ средств выразительности"]
[null,{"$f":"B1197","v":4},"Правописание приставок. Слитное, дефисное, раздельное написание"]
[null,{"$f":"B1198","v":5},"Правописание суффиксов различных частей речи (кроме -Н-/-НН-). Правописание -Н- и -НН- в различных частях речи. Правописание личных окончаний глаголов и суффиксов причастий настоящего времени"]
[null,{"$f":"B1199","v":6},"Лексика и фразеология. Синонимы. Фразеологические обороты. Группы слов по происхождению и употреблению"]
[null,{"$f":"B1200","v":7},"Словосочетание"]
[null,{"$f":"B1201","v":8},"Предложение. Грамматическая (предикативная) основа предложения. Подлежащее и сказуемое как главные члены предложения "]
[null,{"$f":"B1202","v":9},"Осложнённое простое предложение"]
[null,{"$f":"B1203","v":10},"Пунктуационный анализ. Знаки препинания в предложениях со словами и конструкциями, грамматически не связанными с членами предложения"]
[null,{"$f":"B1204","v":11},"Синтаксический анализ сложного предложения"]
[null,{"$f":"B1205","v":12},"Пунктуационный анализ. Знаки препинания в сложносочинённом и сложноподчинённом предложениях"]
[null,{"$f":"B1206","v":13},"Синтаксический анализ сложного предложения"]
[null,{"$f":"B1207","v":14},"Сложные предложения с разными видами связи между частями"]
[null,{"$f":"B1208","v":15},"Текст как речевое произведение. Смысловая и композиционная целостность текста. Создание текстов различных стилей и функционально-смысловых типов речи. Информационная обработка текстов различных стилей и жанров. Грамматические нормы (морфологические нормы). Грамматические нормы (синтаксические нормы). Лексические нормы"]
[null,{"$f":"B1209","v":16},0]
[null,{"$f":"B1210","v":17},0]
[null,{"$f":"B1211","v":18},0]
[null,{"$f":"B1212","v":19},0]
[null,{"$f":"B1213","v":20},0]
[null,{"$f":"B1214","v":21},0]
[null,{"$f":"B1215","v":22},0]
[null,{"$f":"B1216","v":23},0]
[null,{"$f":"B1217","v":24},0]
[null,{"$f":"B1218","v":25},0]
[null,{"$f":"B1219","v":26},0]
[null,{"$f":"B1220","v":27},0]
[null,{"$f":"B1221","v":28},0]
[null,{"$f":"B1222","v":29},0]
[null,{"$f":"B1223","v":30},0]
[null,{"$f":"B1224","v":31},0]
[null,{"$f":"B1225","v":32},0]
[null,{"$f":"B1226","v":33},0]
[null,{"$f":"B1227","v":34},0]
[null,{"$f":"B1228","v":35},0]
[]
[]
["Рекомендация: обратите внимание на задания по темам, которые вызвали у Вас затруднения, решены с ошибкой и отмечены \"0\" или к решению которых Вы не приступили (пустые ячейки)!"]
[]
[]
["Центр независимой оценки качества образования и образовательного аудита \"Легион\""]
[]
["Образовательная организация",null,null,null,{"$f":"E1236","v":"Ленинская СОШ"}]
["Предмет",null,null,null,{"$f":"E1237","v":"Русский язык"}]
["Максимальный балл",null,null,null,39]
["Пороговый балл",null,null,null,15]
["Зона риска",null,null,null,{"$f":"Результаты!E15","v":15},null,null,{"$f":"Результаты!H15","v":16}]
[]
["Уровни",null,null,null,{"$f":"E1242","v":1},{"$f":"F1242","v":2},3,4,5,6,7,8,9,10,11,12,13,14,15,"ПР.ГР",{"$error":"#REF!"},{"$error":"#REF!"},{"$error":"#REF!"},{"$error":"#REF!"},{"$error":"#REF!"},{"$error":"#REF!"},{"$error":"#REF!"},{"$error":"#REF!"},{"$error":"#REF!"},{"$error":"#REF!"},{"$error":"#REF!"},{"$error":"#REF!"},{"$error":"#REF!"},{"$error":"#REF!"},{"$error":"#REF!"},{"$error":"#REF!"},{"$error":"#REF!"},{"$error":"#REF!"},{"$error":"#REF!"},"Тестовый балл","% выплнения заданий по уровням",null,null,"Оценка"]
[null,null,null,null,null,null,null,null,null,null,null,null,null,null,null,null,null,null,null,null,null,null,null,null,null,null,null,null,null,null,null,null,null,null,null,null,null,null,null,null,"Базовый","Повышенный","Высокий"]
["№","Класс","Ф.И.О.","№ задания",{"$f":"E1244","v":1},{"$f":"F1244","v":2},3,4,5,6,7,8,9,10,11,12,13,14,15,0,{"$error":"#REF!"},{"$error":"#REF!"},{"$error":"#REF!"},{"$error":"#REF!"},{"$error":"#REF!"},{"$error":"#REF!"},{"$error":"#REF!"},{"$error":"#REF!"},{"$error":"#REF!"},{"$error":"#REF!"},{"$error":"#REF!"},{"$error":"#REF!"},{"$error":"#REF!"},{"$error":"#REF!"},{"$error":"#REF!"},{"$error":"#REF!"},{"$error":"#REF!"},{"$error":"#REF!"},{"$error":"#REF!"}]
["Максимальный балл",null,null,null,{"$f":"E1245","v":7},{"$f":"F1245","v":1},1,1,1,1,1,1,1,1,1,1,1,1,9,10,{"$error":"#REF!"},{"$error":"#REF!"},{"$error":"#REF!"},{"$error":"#REF!"},{"$error":"#REF!"},{"$error":"#REF!"},{"$error":"#REF!"},{"$error":"#REF!"},{"$error":"#REF!"},{"$error":"#REF!"},{"$error":"#REF!"},{"$error":"#REF!"},{"$error":"#REF!"},{"$error":"#REF!"},{"$error":"#REF!"},{"$error":"#REF!"},{"$error":"#REF!"},{"$error":"#REF!"},{"$error":"#REF!"},39,76.92307692307692,{"$error":"#REF!"},23.076923076923077,0]
[null,null,null,"вариант"]
[{"$f":"Результаты!#REF!","v":{"$error":"#REF!"}},{"$f":"Результаты!#REF!","v":{"$error":"#REF!"}},{"$f":"Результаты!#REF!","v":{"$error":"#REF!"}},{"$f":"Результаты!#REF!","v":{"$error":"#REF!"}},{"$f":"Результаты!#REF!","v":{"$error":"#REF!"}},{"$f":"Результаты!#REF!","v":{"$error":"#REF!"}},{"$f":"Результаты!#REF!","v":{"$error":"#REF!"}},{"$f":"Результаты!#REF!","v":{"$error":"#REF!"}},{"$f":"Результаты!#REF!","v":{"$error":"#REF!"}},{"$f":"Результаты!#REF!","v":{"$error":"#REF!"}},{"$f":"Результаты!#REF!","v":{"$error":"#REF!"}},{"$f":"Результаты!#REF!","v":{"$error":"#REF!"}},{"$f":"Результаты!#REF!","v":{"$error":"#REF!"}},{"$f":"Результаты!#REF!","v":{"$error":"#REF!"}},{"$f":"Результаты!#REF!","v":{"$error":"#REF!"}},{"$f":"Результаты!#REF!","v":{"$error":"#REF!"}},{"$f":"Результаты!#REF!","v":{"$error":"#REF!"}},{"$f":"Результаты!#REF!","v":{"$error":"#REF!"}},{"$f":"Результаты!#REF!","v":{"$error":"#REF!"}},{"$f":"Результаты!#REF!","v":{"$error":"#REF!"}},{"$f":"Результаты!#REF!","v":{"$error":"#REF!"}},{"$f":"Результаты!#REF!","v":{"$error":"#REF!"}},{"$f":"Результаты!#REF!","v":{"$error":"#REF!"}},{"$f":"Результаты!#REF!","v":{"$error":"#REF!"}},{"$f":"Результаты!#REF!","v":{"$error":"#REF!"}},{"$f":"Результаты!#REF!","v":{"$error":"#REF!"}},{"$f":"Результаты!#REF!","v":{"$error":"#REF!"}},{"$f":"Результаты!#REF!","v":{"$error":"#REF!"}},{"$f":"Результаты!#REF!","v":{"$error":"#REF!"}},{"$f":"Результаты!#REF!","v":{"$error":"#REF!"}},{"$f":"Результаты!#REF!","v":{"$error":"#REF!"}},{"$f":"Результаты!#REF!","v":{"$error":"#REF!"}},{"$f":"Результаты!#REF!","v":{"$error":"#REF!"}},{"$f":"Результаты!#REF!","v":{"$error":"#REF!"}},{"$f":"Результаты!#REF!","v":{"$error":"#REF!"}},{"$f":"Результаты!#REF!","v":{"$error":"#REF!"}},{"$f":"Результаты!#REF!","v":{"$error":"#REF!"}},{"$f":"Результаты!#REF!","v":{"$error":"#REF!"}},{"$f":"Результаты!#REF!","v":{"$error":"#REF!"}},{"$f":"Результаты!#REF!","v":{"$error":"#REF!"}},{"$f":"Результаты!#REF!","v":{"$error":"#REF!"}},{"$f":"Результаты!#REF!","v":{"$error":"#REF!"}},{"$f":"Результаты!#REF!","v":{"$error":"#REF!"}},{"$f":"Результаты!#REF!","v":{"$error":"#REF!"}}]
[]
[]
[null,{"$f":"B1250","v":1},"Информационная обработка текстов различных стилей и жанров. Текст как речевое произведение. Смысловая и композиционная целостность текста. Отбор языковых средств в тексте в зависимости от темы, цели, адресата и ситуации общения. Создание текстов различных стилей и функционально-смысловых типов речи. Грамматические нормы (морфологические нормы). Грамматические  нормы  (синтаксические нормы). Лексические нормы. Пунктуация в простом и сложном предложениях. Орфограмма"]
[null,{"$f":"B1251","v":2},"Текст как речевое произведение. Смысловая и композиционная целостность текста. Анализ текста"]
[null,{"$f":"B1252","v":3},"Выразительные средства лексики и фразеологии. Анализ средств выразительности"]
[null,{"$f":"B1253","v":4},"Правописание приставок. Слитное, дефисное, раздельное написание"]
[null,{"$f":"B1254","v":5},"Правописание суффиксов различных частей речи (кроме -Н-/-НН-). Правописание -Н- и -НН- в различных частях речи. Правописание личных окончаний глаголов и суффиксов причастий настоящего времени"]
[null,{"$f":"B1255","v":6},"Лексика и фразеология. Синонимы. Фразеологические обороты. Группы слов по происхождению и употреблению"]
[null,{"$f":"B1256","v":7},"Словосочетание"]
[null,{"$f":"B1257","v":8},"Предложение. Грамматическая (предикативная) основа предложения. Подлежащее и сказуемое как главные члены предложения "]
[null,{"$f":"B1258","v":9},"Осложнённое простое предложение"]
[null,{"$f":"B1259","v":10},"Пунктуационный анализ. Знаки препинания в предложениях со словами и конструкциями, грамматически не связанными с членами предложения"]
[null,{"$f":"B1260","v":11},"Синтаксический анализ сложного предложения"]
[null,{"$f":"B1261","v":12},"Пунктуационный анализ. Знаки препинания в сложносочинённом и сложноподчинённом предложениях"]
[null,{"$f":"B1262","v":13},"Синтаксический анализ сложного предложения"]
[null,{"$f":"B1263","v":14},"Сложные предложения с разными видами связи между частями"]
[null,{"$f":"B1264","v":15},"Текст как речевое произведение. Смысловая и композиционная целостность текста. Создание текстов различных стилей и функционально-смысловых типов речи. Информационная обработка текстов различных стилей и жанров. Грамматические нормы (морфологические нормы). Грамматические нормы (синтаксические нормы). Лексические нормы"]
[null,{"$f":"B1265","v":16},0]
[null,{"$f":"B1266","v":17},0]
[null,{"$f":"B1267","v":18},0]
[null,{"$f":"B1268","v":19},0]
[null,{"$f":"B1269","v":20},0]
[null,{"$f":"B1270","v":21},0]
[null,{"$f":"B1271","v":22},0]
[null,{"$f":"B1272","v":23},0]
[null,{"$f":"B1273","v":24},0]
[null,{"$f":"B1274","v":25},0]
[null,{"$f":"B1275","v":26},0]
[null,{"$f":"B1276","v":27},0]
[null,{"$f":"B1277","v":28},0]
[null,{"$f":"B1278","v":29},0]
[null,{"$f":"B1279","v":30},0]
[null,{"$f":"B1280","v":31},0]
[null,{"$f":"B1281","v":32},0]
[null,{"$f":"B1282","v":33},0]
[null,{"$f":"B1283","v":34},0]
[null,{"$f":"B1284","v":35},0]
[]
[]
["Рекомендация: обратите внимание на задания по темам, которые вызвали у Вас затруднения, решены с ошибкой и отмечены \"0\" или к решению которых Вы не приступили (пустые ячейки)!"]
[]
[]
["Центр независимой оценки качества образования и образовательного аудита \"Легион\""]
[]
["Образовательная организация",null,null,null,{"$f":"E1292","v":"Ленинская СОШ"}]
["Предмет",null,null,null,{"$f":"E1293","v":"Русский язык"}]
["Максимальный балл",null,null,null,39]
["Пороговый балл",null,null,null,15]
["Зона риска",null,null,null,{"$f":"Результаты!E15","v":15},null,null,{"$f":"Результаты!H15","v":16}]
[]
["Уровни",null,null,null,{"$f":"E1298","v":1},{"$f":"F1298","v":2},3,4,5,6,7,8,9,10,11,12,13,14,15,"ПР.ГР",{"$error":"#REF!"},{"$error":"#REF!"},{"$error":"#REF!"},{"$error":"#REF!"},{"$error":"#REF!"},{"$error":"#REF!"},{"$error":"#REF!"},{"$error":"#REF!"},{"$error":"#REF!"},{"$error":"#REF!"},{"$error":"#REF!"},{"$error":"#REF!"},{"$error":"#REF!"},{"$error":"#REF!"},{"$error":"#REF!"},{"$error":"#REF!"},{"$error":"#REF!"},{"$error":"#REF!"},{"$error":"#REF!"},"Тестовый балл","% выплнения заданий по уровням",null,null,"Оценка"]
[null,null,null,null,null,null,null,null,null,null,null,null,null,null,null,null,null,null,null,null,null,null,null,null,null,null,null,null,null,null,null,null,null,null,null,null,null,null,null,null,"Базовый","Повышенный","Высокий"]
["№","Класс","Ф.И.О.","№ задания",{"$f":"E1300","v":1},{"$f":"F1300","v":2},3,4,5,6,7,8,9,10,11,12,13,14,15,0,{"$error":"#REF!"},{"$error":"#REF!"},{"$error":"#REF!"},{"$error":"#REF!"},{"$error":"#REF!"},{"$error":"#REF!"},{"$error":"#REF!"},{"$error":"#REF!"},{"$error":"#REF!"},{"$error":"#REF!"},{"$error":"#REF!"},{"$error":"#REF!"},{"$error":"#REF!"},{"$error":"#REF!"},{"$error":"#REF!"},{"$error":"#REF!"},{"$error":"#REF!"},{"$error":"#REF!"},{"$error":"#REF!"}]
["Максимальный балл",null,null,null,{"$f":"E1301","v":7},{"$f":"F1301","v":1},1,1,1,1,1,1,1,1,1,1,1,1,9,10,{"$error":"#REF!"},{"$error":"#REF!"},{"$error":"#REF!"},{"$error":"#REF!"},{"$error":"#REF!"},{"$error":"#REF!"},{"$error":"#REF!"},{"$error":"#REF!"},{"$error":"#REF!"},{"$error":"#REF!"},{"$error":"#REF!"},{"$error":"#REF!"},{"$error":"#REF!"},{"$error":"#REF!"},{"$error":"#REF!"},{"$error":"#REF!"},{"$error":"#REF!"},{"$error":"#REF!"},{"$error":"#REF!"},39,76.92307692307692,{"$error":"#REF!"},23.076923076923077,0]
[null,null,null,"вариант"]
[{"$f":"Результаты!#REF!","v":{"$error":"#REF!"}},{"$f":"Результаты!#REF!","v":{"$error":"#REF!"}},{"$f":"Результаты!#REF!","v":{"$error":"#REF!"}},{"$f":"Результаты!#REF!","v":{"$error":"#REF!"}},{"$f":"Результаты!#REF!","v":{"$error":"#REF!"}},{"$f":"Результаты!#REF!","v":{"$error":"#REF!"}},{"$f":"Результаты!#REF!","v":{"$error":"#REF!"}},{"$f":"Результаты!#REF!","v":{"$error":"#REF!"}},{"$f":"Результаты!#REF!","v":{"$error":"#REF!"}},{"$f":"Результаты!#REF!","v":{"$error":"#REF!"}},{"$f":"Результаты!#REF!","v":{"$error":"#REF!"}},{"$f":"Результаты!#REF!","v":{"$error":"#REF!"}},{"$f":"Результаты!#REF!","v":{"$error":"#REF!"}},{"$f":"Результаты!#REF!","v":{"$error":"#REF!"}},{"$f":"Результаты!#REF!","v":{"$error":"#REF!"}},{"$f":"Результаты!#REF!","v":{"$error":"#REF!"}},{"$f":"Результаты!#REF!","v":{"$error":"#REF!"}},{"$f":"Результаты!#REF!","v":{"$error":"#REF!"}},{"$f":"Результаты!#REF!","v":{"$error":"#REF!"}},{"$f":"Результаты!#REF!","v":{"$error":"#REF!"}},{"$f":"Результаты!#REF!","v":{"$error":"#REF!"}},{"$f":"Результаты!#REF!","v":{"$error":"#REF!"}},{"$f":"Результаты!#REF!","v":{"$error":"#REF!"}},{"$f":"Результаты!#REF!","v":{"$error":"#REF!"}},{"$f":"Результаты!#REF!","v":{"$error":"#REF!"}},{"$f":"Результаты!#REF!","v":{"$error":"#REF!"}},{"$f":"Результаты!#REF!","v":{"$error":"#REF!"}},{"$f":"Результаты!#REF!","v":{"$error":"#REF!"}},{"$f":"Результаты!#REF!","v":{"$error":"#REF!"}},{"$f":"Результаты!#REF!","v":{"$error":"#REF!"}},{"$f":"Результаты!#REF!","v":{"$error":"#REF!"}},{"$f":"Результаты!#REF!","v":{"$error":"#REF!"}},{"$f":"Результаты!#REF!","v":{"$error":"#REF!"}},{"$f":"Результаты!#REF!","v":{"$error":"#REF!"}},{"$f":"Результаты!#REF!","v":{"$error":"#REF!"}},{"$f":"Результаты!#REF!","v":{"$error":"#REF!"}},{"$f":"Результаты!#REF!","v":{"$error":"#REF!"}},{"$f":"Результаты!#REF!","v":{"$error":"#REF!"}},{"$f":"Результаты!#REF!","v":{"$error":"#REF!"}},{"$f":"Результаты!#REF!","v":{"$error":"#REF!"}},{"$f":"Результаты!#REF!","v":{"$error":"#REF!"}},{"$f":"Результаты!#REF!","v":{"$error":"#REF!"}},{"$f":"Результаты!#REF!","v":{"$error":"#REF!"}},{"$f":"Результаты!#REF!","v":{"$error":"#REF!"}}]
[]
[]
[null,{"$f":"B1306","v":1},{"$f":"C1306","v":"Информационная обработка текстов различных стилей и жанров. Текст как речевое произведение. Смысловая и композиционная целостность текста. Отбор языковых средств в тексте в зависимости от темы, цели, адресата и ситуации общения. Создание текстов различных стилей и функционально-смысловых типов речи. Грамматические нормы (морфологические нормы). Грамматические  нормы  (синтаксические нормы). Лексические нормы. Пунктуация в простом и сложном предложениях. Орфограмма"}]
[null,{"$f":"B1307","v":2},"Текст как речевое произведение. Смысловая и композиционная целостность текста. Анализ текста"]
[null,3,"Выразительные средства лексики и фразеологии. Анализ средств выразительности"]
[null,4,"Правописание приставок. Слитное, дефисное, раздельное написание"]
[null,5,"Правописание суффиксов различных частей речи (кроме -Н-/-НН-). Правописание -Н- и -НН- в различных частях речи. Правописание личных окончаний глаголов и суффиксов причастий настоящего времени"]
[null,6,"Лексика и фразеология. Синонимы. Фразеологические обороты. Группы слов по происхождению и употреблению"]
[null,7,"Словосочетание"]
[null,8,"Предложение. Грамматическая (предикативная) основа предложения. Подлежащее и сказуемое как главные члены предложения "]
[null,9,"Осложнённое простое предложение"]
[null,10,"Пунктуационный анализ. Знаки препинания в предложениях со словами и конструкциями, грамматически не связанными с членами предложения"]
[null,11,"Синтаксический анализ сложного предложения"]
[null,12,"Пунктуационный анализ. Знаки препинания в сложносочинённом и сложноподчинённом предложениях"]
[null,13,"Синтаксический анализ сложного предложения"]
[null,14,"Сложные предложения с разными видами связи между частями"]
[null,15,"Текст как речевое произведение. Смысловая и композиционная целостность текста. Создание текстов различных стилей и функционально-смысловых типов речи. Информационная обработка текстов различных стилей и жанров. Грамматические нормы (морфологические нормы). Грамматические нормы (синтаксические нормы). Лексические нормы"]
[null,16,0]
[null,17,0]
[null,18,0]
[null,19,0]
[null,20,0]
[null,21,0]
[null,22,0]
[null,23,0]
[null,24,0]
[null,25,0]
[null,26,0]
[null,27,0]
[null,28,0]
[null,29,0]
[null,30,0]
[null,31,0]
[null,32,0]
[null,33,0]
[null,34,0]
[null,35,0]
[]
[]
["Рекомендация: обратите внимание на задания по темам, которые вызвали у Вас затруднения, решены с ошибкой и отмечены \"0\" или к решению которых Вы не приступили (пустые ячейки)!"]
[]
[]
["Центр независимой оценки качества образования и образовательного аудита \"Легион\""]
[]
["Образовательная организация",null,null,null,{"$f":"E1348","v":"Ленинская СОШ"}]
["Предмет",null,null,null,{"$f":"E1349","v":"Русский язык"}]
["Максимальный балл",null,null,null,39]
["Пороговый балл",null,null,null,15]
["Зона риска",null,null,null,{"$f":"Результаты!E15","v":15},null,null,{"$f":"Результаты!H15","v":16}]
[]
["Уровни",null,null,null,{"$f":"E1354","v":1},{"$f":"F1354","v":2},3,4,5,6,7,8,9,10,11,12,13,14,15,"ПР.ГР",{"$error":"#REF!"},{"$error":"#REF!"},{"$error":"#REF!"},{"$error":"#REF!"},{"$error":"#REF!"},{"$error":"#REF!"},{"$error":"#REF!"},{"$error":"#REF!"},{"$error":"#REF!"},{"$error":"#REF!"},{"$error":"#REF!"},{"$error":"#REF!"},{"$error":"#REF!"},{"$error":"#REF!"},{"$error":"#REF!"},{"$error":"#REF!"},{"$error":"#REF!"},{"$error":"#REF!"},{"$error":"#REF!"},"Тестовый балл","% выплнения заданий по уровням",null,null,"Оценка"]
[null,null,null,null,null,null,null,null,null,null,null,null,null,null,null,null,null,null,null,null,null,null,null,null,null,null,null,null,null,null,null,null,null,null,null,null,null,null,null,null,"Базовый","Повышенный","Высокий"]
["№","Класс","Ф.И.О.","№ задания",{"$f":"E1356","v":1},{"$f":"F1356","v":2},3,4,5,6,7,8,9,10,11,12,13,14,15,0,{"$error":"#REF!"},{"$error":"#REF!"},{"$error":"#REF!"},{"$error":"#REF!"},{"$error":"#REF!"},{"$error":"#REF!"},{"$error":"#REF!"},{"$error":"#REF!"},{"$error":"#REF!"},{"$error":"#REF!"},{"$error":"#REF!"},{"$error":"#REF!"},{"$error":"#REF!"},{"$error":"#REF!"},{"$error":"#REF!"},{"$error":"#REF!"},{"$error":"#REF!"},{"$error":"#REF!"},{"$error":"#REF!"}]
["Максимальный балл",null,null,null,{"$f":"E1357","v":7},{"$f":"F1357","v":1},1,1,1,1,1,1,1,1,1,1,1,1,9,10,{"$error":"#REF!"},{"$error":"#REF!"},{"$error":"#REF!"},{"$error":"#REF!"},{"$error":"#REF!"},{"$error":"#REF!"},{"$error":"#REF!"},{"$error":"#REF!"},{"$error":"#REF!"},{"$error":"#REF!"},{"$error":"#REF!"},{"$error":"#REF!"},{"$error":"#REF!"},{"$error":"#REF!"},{"$error":"#REF!"},{"$error":"#REF!"},{"$error":"#REF!"},{"$error":"#REF!"},{"$error":"#REF!"},39,76.92307692307692,{"$error":"#REF!"},23.076923076923077,0]
[null,null,null,"вариант"]
[{"$f":"Результаты!#REF!","v":{"$error":"#REF!"}},{"$f":"Результаты!#REF!","v":{"$error":"#REF!"}},{"$f":"Результаты!#REF!","v":{"$error":"#REF!"}},{"$f":"Результаты!#REF!","v":{"$error":"#REF!"}},{"$f":"Результаты!#REF!","v":{"$error":"#REF!"}},{"$f":"Результаты!#REF!","v":{"$error":"#REF!"}},{"$f":"Результаты!#REF!","v":{"$error":"#REF!"}},{"$f":"Результаты!#REF!","v":{"$error":"#REF!"}},{"$f":"Результаты!#REF!","v":{"$error":"#REF!"}},{"$f":"Результаты!#REF!","v":{"$error":"#REF!"}},{"$f":"Результаты!#REF!","v":{"$error":"#REF!"}},{"$f":"Результаты!#REF!","v":{"$error":"#REF!"}},{"$f":"Результаты!#REF!","v":{"$error":"#REF!"}},{"$f":"Результаты!#REF!","v":{"$error":"#REF!"}},{"$f":"Результаты!#REF!","v":{"$error":"#REF!"}},{"$f":"Результаты!#REF!","v":{"$error":"#REF!"}},{"$f":"Результаты!#REF!","v":{"$error":"#REF!"}},{"$f":"Результаты!#REF!","v":{"$error":"#REF!"}},{"$f":"Результаты!#REF!","v":{"$error":"#REF!"}},{"$f":"Результаты!#REF!","v":{"$error":"#REF!"}},{"$f":"Результаты!#REF!","v":{"$error":"#REF!"}},{"$f":"Результаты!#REF!","v":{"$error":"#REF!"}},{"$f":"Результаты!#REF!","v":{"$error":"#REF!"}},{"$f":"Результаты!#REF!","v":{"$error":"#REF!"}},{"$f":"Результаты!#REF!","v":{"$error":"#REF!"}},{"$f":"Результаты!#REF!","v":{"$error":"#REF!"}},{"$f":"Результаты!#REF!","v":{"$error":"#REF!"}},{"$f":"Результаты!#REF!","v":{"$error":"#REF!"}},{"$f":"Результаты!#REF!","v":{"$error":"#REF!"}},{"$f":"Результаты!#REF!","v":{"$error":"#REF!"}},{"$f":"Результаты!#REF!","v":{"$error":"#REF!"}},{"$f":"Результаты!#REF!","v":{"$error":"#REF!"}},{"$f":"Результаты!#REF!","v":{"$error":"#REF!"}},{"$f":"Результаты!#REF!","v":{"$error":"#REF!"}},{"$f":"Результаты!#REF!","v":{"$error":"#REF!"}},{"$f":"Результаты!#REF!","v":{"$error":"#REF!"}},{"$f":"Результаты!#REF!","v":{"$error":"#REF!"}},{"$f":"Результаты!#REF!","v":{"$error":"#REF!"}},{"$f":"Результаты!#REF!","v":{"$error":"#REF!"}},{"$f":"Результаты!#REF!","v":{"$error":"#REF!"}},{"$f":"Результаты!#REF!","v":{"$error":"#REF!"}},{"$f":"Результаты!#REF!","v":{"$error":"#REF!"}},{"$f":"Результаты!#REF!","v":{"$error":"#REF!"}},{"$f":"Результаты!#REF!","v":{"$error":"#REF!"}}]
[]
[]
[null,{"$f":"B1362","v":1},{"$f":"C1362","v":"Информационная обработка текстов различных стилей и жанров. Текст как речевое произведение. Смысловая и композиционная целостность текста. Отбор языковых средств в тексте в зависимости от темы, цели, адресата и ситуации общения. Создание текстов различных стилей и функционально-смысловых типов речи. Грамматические нормы (морфологические нормы). Грамматические  нормы  (синтаксические нормы). Лексические нормы. Пунктуация в простом и сложном предложениях. Орфограмма"}]
[null,{"$f":"B1363","v":2},"Текст как речевое произведение. Смысловая и композиционная целостность текста. Анализ текста"]
[null,{"$f":"B1364","v":3},"Выразительные средства лексики и фразеологии. Анализ средств выразительности"]
[null,{"$f":"B1365","v":4},"Правописание приставок. Слитное, дефисное, раздельное написание"]
[null,{"$f":"B1366","v":5},"Правописание суффиксов различных частей речи (кроме -Н-/-НН-). Правописание -Н- и -НН- в различных частях речи. Правописание личных окончаний глаголов и суффиксов причастий настоящего времени"]
[null,{"$f":"B1367","v":6},"Лексика и фразеология. Синонимы. Фразеологические обороты. Группы слов по происхождению и употреблению"]
[null,{"$f":"B1368","v":7},"Словосочетание"]
[null,{"$f":"B1369","v":8},"Предложение. Грамматическая (предикативная) основа предложения. Подлежащее и сказуемое как главные члены предложения "]
[null,{"$f":"B1370","v":9},"Осложнённое простое предложение"]
[null,{"$f":"B1371","v":10},"Пунктуационный анализ. Знаки препинания в предложениях со словами и конструкциями, грамматически не связанными с членами предложения"]
[null,{"$f":"B1372","v":11},"Синтаксический анализ сложного предложения"]
[null,{"$f":"B1373","v":12},"Пунктуационный анализ. Знаки препинания в сложносочинённом и сложноподчинённом предложениях"]
[null,{"$f":"B1374","v":13},"Синтаксический анализ сложного предложения"]
[null,{"$f":"B1375","v":14},"Сложные предложения с разными видами связи между частями"]
[null,{"$f":"B1376","v":15},"Текст как речевое произведение. Смысловая и композиционная целостность текста. Создание текстов различных стилей и функционально-смысловых типов речи. Информационная обработка текстов различных стилей и жанров. Грамматические нормы (морфологические нормы). Грамматические нормы (синтаксические нормы). Лексические нормы"]
[null,{"$f":"B1377","v":16},0]
[null,{"$f":"B1378","v":17},0]
[null,{"$f":"B1379","v":18},0]
[null,{"$f":"B1380","v":19},0]
[null,{"$f":"B1381","v":20},0]
[null,{"$f":"B1382","v":21},0]
[null,{"$f":"B1383","v":22},0]
[null,{"$f":"B1384","v":23},0]
[null,{"$f":"B1385","v":24},0]
[null,{"$f":"B1386","v":25},0]
[null,{"$f":"B1387","v":26},0]
[null,{"$f":"B1388","v":27},0]
[null,{"$f":"B1389","v":28},0]
[null,{"$f":"B1390","v":29},0]
[null,{"$f":"B1391","v":30},0]
[null,{"$f":"B1392","v":31},0]
[null,{"$f":"B1393","v":32},0]
[null,{"$f":"B1394","v":33},0]
[null,{"$f":"B1395","v":34},0]
[null,{"$f":"B1396","v":35},0]
[]
[]
["Рекомендация: обратите внимание на задания по темам, которые вызвали у Вас затруднения, решены с ошибкой и отмечены \"0\" или к решению которых Вы не приступили (пустые ячейки)!"]
[]
[]
["Центр независимой оценки качества образования и образовательного аудита \"Легион\""]
[]
["Образовательная организация",null,null,null,{"$f":"E1404","v":"Ленинская СОШ"}]
["Предмет",null,null,null,{"$f":"E1405","v":"Русский язык"}]
["Максимальный балл",null,null,null,39]
["Пороговый балл",null,null,null,15]
["Зона риска",null,null,null,{"$f":"Результаты!E15","v":15},null,null,{"$f":"Результаты!H15","v":16}]
[]
["Уровни",null,null,null,{"$f":"E1410","v":1},{"$f":"F1410","v":2},3,4,5,6,7,8,9,10,11,12,13,14,15,"ПР.ГР",{"$error":"#REF!"},{"$error":"#REF!"},{"$error":"#REF!"},{"$error":"#REF!"},{"$error":"#REF!"},{"$error":"#REF!"},{"$error":"#REF!"},{"$error":"#REF!"},{"$error":"#REF!"},{"$error":"#REF!"},{"$error":"#REF!"},{"$error":"#REF!"},{"$error":"#REF!"},{"$error":"#REF!"},{"$error":"#REF!"},{"$error":"#REF!"},{"$error":"#REF!"},{"$error":"#REF!"},{"$error":"#REF!"},"Тестовый балл","% выплнения заданий по уровням",null,null,"Оценка"]
[null,null,null,null,null,null,null,null,null,null,null,null,null,null,null,null,null,null,null,null,null,null,null,null,null,null,null,null,null,null,null,null,null,null,null,null,null,null,null,null,"Базовый","Повышенный","Высокий"]
["№","Класс","Ф.И.О.","№ задания",{"$f":"E1412","v":1},{"$f":"F1412","v":2},3,4,5,6,7,8,9,10,11,12,13,14,15,0,{"$error":"#REF!"},{"$error":"#REF!"},{"$error":"#REF!"},{"$error":"#REF!"},{"$error":"#REF!"},{"$error":"#REF!"},{"$error":"#REF!"},{"$error":"#REF!"},{"$error":"#REF!"},{"$error":"#REF!"},{"$error":"#REF!"},{"$error":"#REF!"},{"$error":"#REF!"},{"$error":"#REF!"},{"$error":"#REF!"},{"$error":"#REF!"},{"$error":"#REF!"},{"$error":"#REF!"},{"$error":"#REF!"}]
["Максимальный балл",null,null,null,{"$f":"E1413","v":7},{"$f":"F1413","v":1},1,1,1,1,1,1,1,1,1,1,1,1,9,10,{"$error":"#REF!"},{"$error":"#REF!"},{"$error":"#REF!"},{"$error":"#REF!"},{"$error":"#REF!"},{"$error":"#REF!"},{"$error":"#REF!"},{"$error":"#REF!"},{"$error":"#REF!"},{"$error":"#REF!"},{"$error":"#REF!"},{"$error":"#REF!"},{"$error":"#REF!"},{"$error":"#REF!"},{"$error":"#REF!"},{"$error":"#REF!"},{"$error":"#REF!"},{"$error":"#REF!"},{"$error":"#REF!"},39,76.92307692307692,{"$error":"#REF!"},23.076923076923077,0]
[null,null,null,"вариант"]
[{"$f":"Результаты!#REF!","v":{"$error":"#REF!"}},{"$f":"Результаты!#REF!","v":{"$error":"#REF!"}},{"$f":"Результаты!#REF!","v":{"$error":"#REF!"}},{"$f":"Результаты!#REF!","v":{"$error":"#REF!"}},{"$f":"Результаты!#REF!","v":{"$error":"#REF!"}},{"$f":"Результаты!#REF!","v":{"$error":"#REF!"}},{"$f":"Результаты!#REF!","v":{"$error":"#REF!"}},{"$f":"Результаты!#REF!","v":{"$error":"#REF!"}},{"$f":"Результаты!#REF!","v":{"$error":"#REF!"}},{"$f":"Результаты!#REF!","v":{"$error":"#REF!"}},{"$f":"Результаты!#REF!","v":{"$error":"#REF!"}},{"$f":"Результаты!#REF!","v":{"$error":"#REF!"}},{"$f":"Результаты!#REF!","v":{"$error":"#REF!"}},{"$f":"Результаты!#REF!","v":{"$error":"#REF!"}},{"$f":"Результаты!#REF!","v":{"$error":"#REF!"}},{"$f":"Результаты!#REF!","v":{"$error":"#REF!"}},{"$f":"Результаты!#REF!","v":{"$error":"#REF!"}},{"$f":"Результаты!#REF!","v":{"$error":"#REF!"}},{"$f":"Результаты!#REF!","v":{"$error":"#REF!"}},{"$f":"Результаты!#REF!","v":{"$error":"#REF!"}},{"$f":"Результаты!#REF!","v":{"$error":"#REF!"}},{"$f":"Результаты!#REF!","v":{"$error":"#REF!"}},{"$f":"Результаты!#REF!","v":{"$error":"#REF!"}},{"$f":"Результаты!#REF!","v":{"$error":"#REF!"}},{"$f":"Результаты!#REF!","v":{"$error":"#REF!"}},{"$f":"Результаты!#REF!","v":{"$error":"#REF!"}},{"$f":"Результаты!#REF!","v":{"$error":"#REF!"}},{"$f":"Результаты!#REF!","v":{"$error":"#REF!"}},{"$f":"Результаты!#REF!","v":{"$error":"#REF!"}},{"$f":"Результаты!#REF!","v":{"$error":"#REF!"}},{"$f":"Результаты!#REF!","v":{"$error":"#REF!"}},{"$f":"Результаты!#REF!","v":{"$error":"#REF!"}},{"$f":"Результаты!#REF!","v":{"$error":"#REF!"}},{"$f":"Результаты!#REF!","v":{"$error":"#REF!"}},{"$f":"Результаты!#REF!","v":{"$error":"#REF!"}},{"$f":"Результаты!#REF!","v":{"$error":"#REF!"}},{"$f":"Результаты!#REF!","v":{"$error":"#REF!"}},{"$f":"Результаты!#REF!","v":{"$error":"#REF!"}},{"$f":"Результаты!#REF!","v":{"$error":"#REF!"}},{"$f":"Результаты!#REF!","v":{"$error":"#REF!"}},{"$f":"Результаты!#REF!","v":{"$error":"#REF!"}},{"$f":"Результаты!#REF!","v":{"$error":"#REF!"}},{"$f":"Результаты!#REF!","v":{"$error":"#REF!"}},{"$f":"Результаты!#REF!","v":{"$error":"#REF!"}}]
[]
[]
[null,{"$f":"B1418","v":1},"Информационная обработка текстов различных стилей и жанров. Текст как речевое произведение. Смысловая и композиционная целостность текста. Отбор языковых средств в тексте в зависимости от темы, цели, адресата и ситуации общения. Создание текстов различных стилей и функционально-смысловых типов речи. Грамматические нормы (морфологические нормы). Грамматические  нормы  (синтаксические нормы). Лексические нормы. Пунктуация в простом и сложном предложениях. Орфограмма"]
[null,{"$f":"B1419","v":2},"Текст как речевое произведение. Смысловая и композиционная целостность текста. Анализ текста"]
[null,{"$f":"B1420","v":3},"Выразительные средства лексики и фразеологии. Анализ средств выразительности"]
[null,{"$f":"B1421","v":4},"Правописание приставок. Слитное, дефисное, раздельное написание"]
[null,{"$f":"B1422","v":5},"Правописание суффиксов различных частей речи (кроме -Н-/-НН-). Правописание -Н- и -НН- в различных частях речи. Правописание личных окончаний глаголов и суффиксов причастий настоящего времени"]
[null,{"$f":"B1423","v":6},"Лексика и фразеология. Синонимы. Фразеологические обороты. Группы слов по происхождению и употреблению"]
[null,{"$f":"B1424","v":7},"Словосочетание"]
[null,{"$f":"B1425","v":8},"Предложение. Грамматическая (предикативная) основа предложения. Подлежащее и сказуемое как главные члены предложения "]
[null,{"$f":"B1426","v":9},"Осложнённое простое предложение"]
[null,{"$f":"B1427","v":10},"Пунктуационный анализ. Знаки препинания в предложениях со словами и конструкциями, грамматически не связанными с членами предложения"]
[null,{"$f":"B1428","v":11},"Синтаксический анализ сложного предложения"]
[null,{"$f":"B1429","v":12},"Пунктуационный анализ. Знаки препинания в сложносочинённом и сложноподчинённом предложениях"]
[null,{"$f":"B1430","v":13},"Синтаксический анализ сложного предложения"]
[null,{"$f":"B1431","v":14},"Сложные предложения с разными видами связи между частями"]
[null,{"$f":"B1432","v":15},"Текст как речевое произведение. Смысловая и композиционная целостность текста. Создание текстов различных стилей и функционально-смысловых типов речи. Информационная обработка текстов различных стилей и жанров. Грамматические нормы (морфологические нормы). Грамматические нормы (синтаксические нормы). Лексические нормы"]
[null,{"$f":"B1433","v":16},0]
[null,{"$f":"B1434","v":17},0]
[null,{"$f":"B1435","v":18},0]
[null,{"$f":"B1436","v":19},0]
[null,{"$f":"B1437","v":20},0]
[null,{"$f":"B1438","v":21},0]
[null,{"$f":"B1439","v":22},0]
[null,{"$f":"B1440","v":23},0]
[null,{"$f":"B1441","v":24},0]
[null,{"$f":"B1442","v":25},0]
[null,{"$f":"B1443","v":26},0]
[null,{"$f":"B1444","v":27},0]
[null,{"$f":"B1445","v":28},0]
[null,{"$f":"B1446","v":29},0]
[null,{"$f":"B1447","v":30},0]
[null,{"$f":"B1448","v":31},0]
[null,{"$f":"B1449","v":32},0]
[null,{"$f":"B1450","v":33},0]
[null,{"$f":"B1451","v":34},0]
[null,35,0]
[]
[]
["Рекомендация: обратите внимание на задания по темам, которые вызвали у Вас затруднения, решены с ошибкой и отмечены \"0\" или к решению которых Вы не приступили (пустые ячейки)!"]
[]
[]
["Центр независимой оценки качества образования и образовательного аудита \"Легион\""]
[]
["Образовательная организация",null,null,null,{"$f":"E1460","v":"Ленинская СОШ"}]
["Предмет",null,null,null,{"$f":"E1461","v":"Русский язык"}]
["Максимальный балл",null,null,null,39]
["Пороговый балл",null,null,null,15]
["Зона риска",null,null,null,{"$f":"Результаты!E15","v":15},null,null,{"$f":"Результаты!H15","v":16}]
[]
["Уровни",null,null,null,{"$f":"E1466","v":1},{"$f":"F1466","v":2},3,4,5,6,7,8,9,10,11,12,13,14,15,"ПР.ГР",{"$error":"#REF!"},{"$error":"#REF!"},{"$error":"#REF!"},{"$error":"#REF!"},{"$error":"#REF!"},{"$error":"#REF!"},{"$error":"#REF!"},{"$error":"#REF!"},{"$error":"#REF!"},{"$error":"#REF!"},{"$error":"#REF!"},{"$error":"#REF!"},{"$error":"#REF!"},{"$error":"#REF!"},{"$error":"#REF!"},{"$error":"#REF!"},{"$error":"#REF!"},{"$error":"#REF!"},{"$error":"#REF!"},"Тестовый балл","% выплнения заданий по уровням",null,null,"Оценка"]
[null,null,null,null,null,null,null,null,null,null,null,null,null,null,null,null,null,null,null,null,null,null,null,null,null,null,null,null,null,null,null,null,null,null,null,null,null,null,null,null,"Базовый","Повышенный","Высокий"]
["№","Класс","Ф.И.О.","№ задания",{"$f":"E1468","v":1},{"$f":"F1468","v":2},3,4,5,6,7,8,9,10,11,12,13,14,15,0,{"$error":"#REF!"},{"$error":"#REF!"},{"$error":"#REF!"},{"$error":"#REF!"},{"$error":"#REF!"},{"$error":"#REF!"},{"$error":"#REF!"},{"$error":"#REF!"},{"$error":"#REF!"},{"$error":"#REF!"},{"$error":"#REF!"},{"$error":"#REF!"},{"$error":"#REF!"},{"$error":"#REF!"},{"$error":"#REF!"},{"$error":"#REF!"},{"$error":"#REF!"},{"$error":"#REF!"},{"$error":"#REF!"}]
["Максимальный балл",null,null,null,{"$f":"E1469","v":7},{"$f":"F1469","v":1},1,1,1,1,1,1,1,1,1,1,1,1,9,10,{"$error":"#REF!"},{"$error":"#REF!"},{"$error":"#REF!"},{"$error":"#REF!"},{"$error":"#REF!"},{"$error":"#REF!"},{"$error":"#REF!"},{"$error":"#REF!"},{"$error":"#REF!"},{"$error":"#REF!"},{"$error":"#REF!"},{"$error":"#REF!"},{"$error":"#REF!"},{"$error":"#REF!"},{"$error":"#REF!"},{"$error":"#REF!"},{"$error":"#REF!"},{"$error":"#REF!"},{"$error":"#REF!"},39,76.92307692307692,{"$error":"#REF!"},23.076923076923077,0]
[null,null,null,"вариант"]
[{"$f":"Результаты!#REF!","v":{"$error":"#REF!"}},{"$f":"Результаты!#REF!","v":{"$error":"#REF!"}},{"$f":"Результаты!#REF!","v":{"$error":"#REF!"}},{"$f":"Результаты!#REF!","v":{"$error":"#REF!"}},{"$f":"Результаты!#REF!","v":{"$error":"#REF!"}},{"$f":"Результаты!#REF!","v":{"$error":"#REF!"}},{"$f":"Результаты!#REF!","v":{"$error":"#REF!"}},{"$f":"Результаты!#REF!","v":{"$error":"#REF!"}},{"$f":"Результаты!#REF!","v":{"$error":"#REF!"}},{"$f":"Результаты!#REF!","v":{"$error":"#REF!"}},{"$f":"Результаты!#REF!","v":{"$error":"#REF!"}},{"$f":"Результаты!#REF!","v":{"$error":"#REF!"}},{"$f":"Результаты!#REF!","v":{"$error":"#REF!"}},{"$f":"Результаты!#REF!","v":{"$error":"#REF!"}},{"$f":"Результаты!#REF!","v":{"$error":"#REF!"}},{"$f":"Результаты!#REF!","v":{"$error":"#REF!"}},{"$f":"Результаты!#REF!","v":{"$error":"#REF!"}},{"$f":"Результаты!#REF!","v":{"$error":"#REF!"}},{"$f":"Результаты!#REF!","v":{"$error":"#REF!"}},{"$f":"Результаты!#REF!","v":{"$error":"#REF!"}},{"$f":"Результаты!#REF!","v":{"$error":"#REF!"}},{"$f":"Результаты!#REF!","v":{"$error":"#REF!"}},{"$f":"Результаты!#REF!","v":{"$error":"#REF!"}},{"$f":"Результаты!#REF!","v":{"$error":"#REF!"}},{"$f":"Результаты!#REF!","v":{"$error":"#REF!"}},{"$f":"Результаты!#REF!","v":{"$error":"#REF!"}},{"$f":"Результаты!#REF!","v":{"$error":"#REF!"}},{"$f":"Результаты!#REF!","v":{"$error":"#REF!"}},{"$f":"Результаты!#REF!","v":{"$error":"#REF!"}},{"$f":"Результаты!#REF!","v":{"$error":"#REF!"}},{"$f":"Результаты!#REF!","v":{"$error":"#REF!"}},{"$f":"Результаты!#REF!","v":{"$error":"#REF!"}},{"$f":"Результаты!#REF!","v":{"$error":"#REF!"}},{"$f":"Результаты!#REF!","v":{"$error":"#REF!"}},{"$f":"Результаты!#REF!","v":{"$error":"#REF!"}},{"$f":"Результаты!#REF!","v":{"$error":"#REF!"}},{"$f":"Результаты!#REF!","v":{"$error":"#REF!"}},{"$f":"Результаты!#REF!","v":{"$error":"#REF!"}},{"$f":"Результаты!#REF!","v":{"$error":"#REF!"}},{"$f":"Результаты!#REF!","v":{"$error":"#REF!"}},{"$f":"Результаты!#REF!","v":{"$error":"#REF!"}},{"$f":"Результаты!#REF!","v":{"$error":"#REF!"}},{"$f":"Результаты!#REF!","v":{"$error":"#REF!"}},{"$f":"Результаты!#REF!","v":{"$error":"#REF!"}}]
[]
[]
[null,{"$f":"B1474","v":1},"Информационная обработка текстов различных стилей и жанров. Текст как речевое произведение. Смысловая и композиционная целостность текста. Отбор языковых средств в тексте в зависимости от темы, цели, адресата и ситуации общения. Создание текстов различных стилей и функционально-смысловых типов речи. Грамматические нормы (морфологические нормы). Грамматические  нормы  (синтаксические нормы). Лексические нормы. Пунктуация в простом и сложном предложениях. Орфограмма"]
[null,2,"Текст как речевое произведение. Смысловая и композиционная целостность текста. Анализ текста"]
[null,3,"Выразительные средства лексики и фразеологии. Анализ средств выразительности"]
[null,4,"Правописание приставок. Слитное, дефисное, раздельное написание"]
[null,5,"Правописание суффиксов различных частей речи (кроме -Н-/-НН-). Правописание -Н- и -НН- в различных частях речи. Правописание личных окончаний глаголов и суффиксов причастий настоящего времени"]
[null,6,"Лексика и фразеология. Синонимы. Фразеологические обороты. Группы слов по происхождению и употреблению"]
[null,7,"Словосочетание"]
[null,8,"Предложение. Грамматическая (предикативная) основа предложения. Подлежащее и сказуемое как главные члены предложения "]
[null,9,"Осложнённое простое предложение"]
[null,10,"Пунктуационный анализ. Знаки препинания в предложениях со словами и конструкциями, грамматически не связанными с членами предложения"]
[null,11,"Синтаксический анализ сложного предложения"]
[null,12,"Пунктуационный анализ. Знаки препинания в сложносочинённом и сложноподчинённом предложениях"]
[null,13,"Синтаксический анализ сложного предложения"]
[null,14,"Сложные предложения с разными видами связи между частями"]
[null,15,"Текст как речевое произведение. Смысловая и композиционная целостность текста. Создание текстов различных стилей и функционально-смысловых типов речи. Информационная обработка текстов различных стилей и жанров. Грамматические нормы (морфологические нормы). Грамматические нормы (синтаксические нормы). Лексические нормы"]
[null,16,0]
[null,17,0]
[null,18,0]
[null,19,0]
[null,20,0]
[null,{"$f":"B1494","v":21},0]
[null,22,0]
[null,23,0]
[null,24,0]
[null,25,0]
[null,26,0]
[null,27,0]
[null,28,0]
[null,29,0]
[null,30,0]
[null,31,0]
[null,32,0]
[null,33,0]
[null,34,0]
[null,35,0]
[]
["Рекомендация: обратите внимание на задания по темам, которые вызвали у Вас затруднения, решены с ошибкой и отмечены \"0\" или к решению которых Вы не приступили (пустые ячейки)!"]
[]
[]
[]
["Центр независимой оценки качества образования и образовательного аудита \"Легион\""]
[]
["Образовательная организация",null,null,null,{"$f":"E1516","v":"Ленинская СОШ"}]
["Предмет",null,null,null,{"$f":"E1517","v":"Русский язык"}]
["Максимальный балл",null,null,null,39]
["Пороговый балл",null,null,null,15]
["Зона риска",null,null,null,{"$f":"Результаты!E15","v":15},null,null,{"$f":"Результаты!H15","v":16}]
[]
["Уровни",null,null,null,{"$f":"E1522","v":1},{"$f":"F1522","v":2},3,4,5,6,7,8,9,10,11,12,13,14,15,"ПР.ГР",{"$error":"#REF!"},{"$error":"#REF!"},{"$error":"#REF!"},{"$error":"#REF!"},{"$error":"#REF!"},{"$error":"#REF!"},{"$error":"#REF!"},{"$error":"#REF!"},{"$error":"#REF!"},{"$error":"#REF!"},{"$error":"#REF!"},{"$error":"#REF!"},{"$error":"#REF!"},{"$error":"#REF!"},{"$error":"#REF!"},{"$error":"#REF!"},{"$error":"#REF!"},{"$error":"#REF!"},{"$error":"#REF!"},"Тестовый балл","% выплнения заданий по уровням",null,null,"Оценка"]
[null,null,null,null,null,null,null,null,null,null,null,null,null,null,null,null,null,null,null,null,null,null,null,null,null,null,null,null,null,null,null,null,null,null,null,null,null,null,null,null,"Базовый","Повышенный","Высокий"]
["№","Класс","Ф.И.О.","№ задания",{"$f":"E1524","v":1},{"$f":"F1524","v":2},3,4,5,6,7,8,9,10,11,12,13,14,15,0,{"$error":"#REF!"},{"$error":"#REF!"},{"$error":"#REF!"},{"$error":"#REF!"},{"$error":"#REF!"},{"$error":"#REF!"},{"$error":"#REF!"},{"$error":"#REF!"},{"$error":"#REF!"},{"$error":"#REF!"},{"$error":"#REF!"},{"$error":"#REF!"},{"$error":"#REF!"},{"$error":"#REF!"},{"$error":"#REF!"},{"$error":"#REF!"},{"$error":"#REF!"},{"$error":"#REF!"},{"$error":"#REF!"}]
["Максимальный балл",null,null,null,{"$f":"E1525","v":7},{"$f":"F1525","v":1},1,1,1,1,1,1,1,1,1,1,1,1,9,10,{"$error":"#REF!"},{"$error":"#REF!"},{"$error":"#REF!"},{"$error":"#REF!"},{"$error":"#REF!"},{"$error":"#REF!"},{"$error":"#REF!"},{"$error":"#REF!"},{"$error":"#REF!"},{"$error":"#REF!"},{"$error":"#REF!"},{"$error":"#REF!"},{"$error":"#REF!"},{"$error":"#REF!"},{"$error":"#REF!"},{"$error":"#REF!"},{"$error":"#REF!"},{"$error":"#REF!"},{"$error":"#REF!"},39,76.92307692307692,{"$error":"#REF!"},23.076923076923077,0]
[null,null,null,"вариант"]
[{"$f":"Результаты!#REF!","v":{"$error":"#REF!"}},{"$f":"Результаты!#REF!","v":{"$error":"#REF!"}},{"$f":"Результаты!#REF!","v":{"$error":"#REF!"}},{"$f":"Результаты!#REF!","v":{"$error":"#REF!"}},{"$f":"Результаты!#REF!","v":{"$error":"#REF!"}},{"$f":"Результаты!#REF!","v":{"$error":"#REF!"}},{"$f":"Результаты!#REF!","v":{"$error":"#REF!"}},{"$f":"Результаты!#REF!","v":{"$error":"#REF!"}},{"$f":"Результаты!#REF!","v":{"$error":"#REF!"}},{"$f":"Результаты!#REF!","v":{"$error":"#REF!"}},{"$f":"Результаты!#REF!","v":{"$error":"#REF!"}},{"$f":"Результаты!#REF!","v":{"$error":"#REF!"}},{"$f":"Результаты!#REF!","v":{"$error":"#REF!"}},{"$f":"Результаты!#REF!","v":{"$error":"#REF!"}},{"$f":"Результаты!#REF!","v":{"$error":"#REF!"}},{"$f":"Результаты!#REF!","v":{"$error":"#REF!"}},{"$f":"Результаты!#REF!","v":{"$error":"#REF!"}},{"$f":"Результаты!#REF!","v":{"$error":"#REF!"}},{"$f":"Результаты!#REF!","v":{"$error":"#REF!"}},{"$f":"Результаты!#REF!","v":{"$error":"#REF!"}},{"$f":"Результаты!#REF!","v":{"$error":"#REF!"}},{"$f":"Результаты!#REF!","v":{"$error":"#REF!"}},{"$f":"Результаты!#REF!","v":{"$error":"#REF!"}},{"$f":"Результаты!#REF!","v":{"$error":"#REF!"}},{"$f":"Результаты!#REF!","v":{"$error":"#REF!"}},{"$f":"Результаты!#REF!","v":{"$error":"#REF!"}},{"$f":"Результаты!#REF!","v":{"$error":"#REF!"}},{"$f":"Результаты!#REF!","v":{"$error":"#REF!"}},{"$f":"Результаты!#REF!","v":{"$error":"#REF!"}},{"$f":"Результаты!#REF!","v":{"$error":"#REF!"}},{"$f":"Результаты!#REF!","v":{"$error":"#REF!"}},{"$f":"Результаты!#REF!","v":{"$error":"#REF!"}},{"$f":"Результаты!#REF!","v":{"$error":"#REF!"}},{"$f":"Результаты!#REF!","v":{"$error":"#REF!"}},{"$f":"Результаты!#REF!","v":{"$error":"#REF!"}},{"$f":"Результаты!#REF!","v":{"$error":"#REF!"}},{"$f":"Результаты!#REF!","v":{"$error":"#REF!"}},{"$f":"Результаты!#REF!","v":{"$error":"#REF!"}},{"$f":"Результаты!#REF!","v":{"$error":"#REF!"}},{"$f":"Результаты!#REF!","v":{"$error":"#REF!"}},{"$f":"Результаты!#REF!","v":{"$error":"#REF!"}},{"$f":"Результаты!#REF!","v":{"$error":"#REF!"}},{"$f":"Результаты!#REF!","v":{"$error":"#REF!"}},{"$f":"Результаты!#REF!","v":{"$error":"#REF!"}}]
[]
[]
[null,{"$f":"B1530","v":1},{"$f":"C1530","v":"Информационная обработка текстов различных стилей и жанров. Текст как речевое произведение. Смысловая и композиционная целостность текста. Отбор языковых средств в тексте в зависимости от темы, цели, адресата и ситуации общения. Создание текстов различных стилей и функционально-смысловых типов речи. Грамматические нормы (морфологические нормы). Грамматические  нормы  (синтаксические нормы). Лексические нормы. Пунктуация в простом и сложном предложениях. Орфограмма"}]
[null,{"$f":"B1531","v":2},"Текст как речевое произведение. Смысловая и композиционная целостность текста. Анализ текста"]
[null,{"$f":"B1532","v":3},"Выразительные средства лексики и фразеологии. Анализ средств выразительности"]
[null,{"$f":"B1533","v":4},"Правописание приставок. Слитное, дефисное, раздельное написание"]
[null,{"$f":"B1534","v":5},"Правописание суффиксов различных частей речи (кроме -Н-/-НН-). Правописание -Н- и -НН- в различных частях речи. Правописание личных окончаний глаголов и суффиксов причастий настоящего времени"]
[null,{"$f":"B1535","v":6},"Лексика и фразеология. Синонимы. Фразеологические обороты. Группы слов по происхождению и употреблению"]
[null,{"$f":"B1536","v":7},"Словосочетание"]
[null,{"$f":"B1537","v":8},"Предложение. Грамматическая (предикативная) основа предложения. Подлежащее и сказуемое как главные члены предложения "]
[null,{"$f":"B1538","v":9},"Осложнённое простое предложение"]
[null,{"$f":"B1539","v":10},"Пунктуационный анализ. Знаки препинания в предложениях со словами и конструкциями, грамматически не связанными с членами предложения"]
[null,{"$f":"B1540","v":11},"Синтаксический анализ сложного предложения"]
[null,{"$f":"B1541","v":12},"Пунктуационный анализ. Знаки препинания в сложносочинённом и сложноподчинённом предложениях"]
[null,{"$f":"B1542","v":13},"Синтаксический анализ сложного предложения"]
[null,{"$f":"B1543","v":14},"Сложные предложения с разными видами связи между частями"]
[null,{"$f":"B1544","v":15},"Текст как речевое произведение. Смысловая и композиционная целостность текста. Создание текстов различных стилей и функционально-смысловых типов речи. Информационная обработка текстов различных стилей и жанров. Грамматические нормы (морфологические нормы). Грамматические нормы (синтаксические нормы). Лексические нормы"]
[null,{"$f":"B1545","v":16},0]
[null,{"$f":"B1546","v":17},0]
[null,{"$f":"B1547","v":18},0]
[null,{"$f":"B1548","v":19},0]
[null,{"$f":"B1549","v":20},0]
[null,{"$f":"B1550","v":21},0]
[null,{"$f":"B1551","v":22},0]
[null,{"$f":"B1552","v":23},0]
[null,{"$f":"B1553","v":24},0]
[null,{"$f":"B1554","v":25},0]
[null,{"$f":"B1555","v":26},0]
[null,{"$f":"B1556","v":27},0]
[null,{"$f":"B1557","v":28},0]
[null,{"$f":"B1558","v":29},0]
[null,{"$f":"B1559","v":30},0]
[null,{"$f":"B1560","v":31},0]
[null,{"$f":"B1561","v":32},0]
[null,{"$f":"B1562","v":33},0]
[null,{"$f":"B1563","v":34},0]
[null,{"$f":"B1564","v":35},0]
[]
["Рекомендация: обратите внимание на задания по темам, которые вызвали у Вас затруднения, решены с ошибкой и отмечены \"0\" или к решению которых Вы не приступили (пустые ячейки)!"]
[]
[]
[]
["Центр независимой оценки качества образования и образовательного аудита \"Легион\""]
[]
["Образовательная организация",null,null,null,{"$f":"E1572","v":"Ленинская СОШ"}]
["Предмет",null,null,null,{"$f":"E1573","v":"Русский язык"}]
["Максимальный балл",null,null,null,39]
["Пороговый балл",null,null,null,15]
["Зона риска",null,null,null,{"$f":"Результаты!E15","v":15},null,null,{"$f":"Результаты!H15","v":16}]
[]
["Уровни",null,null,null,{"$f":"E1578","v":1},{"$f":"F1578","v":2},3,4,5,6,7,8,9,10,11,12,13,14,15,"ПР.ГР",{"$error":"#REF!"},{"$error":"#REF!"},{"$error":"#REF!"},{"$error":"#REF!"},{"$error":"#REF!"},{"$error":"#REF!"},{"$error":"#REF!"},{"$error":"#REF!"},{"$error":"#REF!"},{"$error":"#REF!"},{"$error":"#REF!"},{"$error":"#REF!"},{"$error":"#REF!"},{"$error":"#REF!"},{"$error":"#REF!"},{"$error":"#REF!"},{"$error":"#REF!"},{"$error":"#REF!"},{"$error":"#REF!"},"Тестовый балл","% выплнения заданий по уровням",null,null,"Оценка"]
[null,null,null,null,null,null,null,null,null,null,null,null,null,null,null,null,null,null,null,null,null,null,null,null,null,null,null,null,null,null,null,null,null,null,null,null,null,null,null,null,"Базовый","Повышенный","Высокий"]
["№","Класс","Ф.И.О.","№ задания",{"$f":"E1580","v":1},{"$f":"F1580","v":2},3,4,5,6,7,8,9,10,11,12,13,14,15,0,{"$error":"#REF!"},{"$error":"#REF!"},{"$error":"#REF!"},{"$error":"#REF!"},{"$error":"#REF!"},{"$error":"#REF!"},{"$error":"#REF!"},{"$error":"#REF!"},{"$error":"#REF!"},{"$error":"#REF!"},{"$error":"#REF!"},{"$error":"#REF!"},{"$error":"#REF!"},{"$error":"#REF!"},{"$error":"#REF!"},{"$error":"#REF!"},{"$error":"#REF!"},{"$error":"#REF!"},{"$error":"#REF!"}]
["Максимальный балл",null,null,null,{"$f":"E1581","v":7},{"$f":"F1581","v":1},1,1,1,1,1,1,1,1,1,1,1,1,9,10,{"$error":"#REF!"},{"$error":"#REF!"},{"$error":"#REF!"},{"$error":"#REF!"},{"$error":"#REF!"},{"$error":"#REF!"},{"$error":"#REF!"},{"$error":"#REF!"},{"$error":"#REF!"},{"$error":"#REF!"},{"$error":"#REF!"},{"$error":"#REF!"},{"$error":"#REF!"},{"$error":"#REF!"},{"$error":"#REF!"},{"$error":"#REF!"},{"$error":"#REF!"},{"$error":"#REF!"},{"$error":"#REF!"},39,76.92307692307692,{"$error":"#REF!"},23.076923076923077,0]
[null,null,null,"вариант"]
[{"$f":"Результаты!#REF!","v":{"$error":"#REF!"}},{"$f":"Результаты!#REF!","v":{"$error":"#REF!"}},{"$f":"Результаты!#REF!","v":{"$error":"#REF!"}},{"$f":"Результаты!#REF!","v":{"$error":"#REF!"}},{"$f":"Результаты!#REF!","v":{"$error":"#REF!"}},{"$f":"Результаты!#REF!","v":{"$error":"#REF!"}},{"$f":"Результаты!#REF!","v":{"$error":"#REF!"}},{"$f":"Результаты!#REF!","v":{"$error":"#REF!"}},{"$f":"Результаты!#REF!","v":{"$error":"#REF!"}},{"$f":"Результаты!#REF!","v":{"$error":"#REF!"}},{"$f":"Результаты!#REF!","v":{"$error":"#REF!"}},{"$f":"Результаты!#REF!","v":{"$error":"#REF!"}},{"$f":"Результаты!#REF!","v":{"$error":"#REF!"}},{"$f":"Результаты!#REF!","v":{"$error":"#REF!"}},{"$f":"Результаты!#REF!","v":{"$error":"#REF!"}},{"$f":"Результаты!#REF!","v":{"$error":"#REF!"}},{"$f":"Результаты!#REF!","v":{"$error":"#REF!"}},{"$f":"Результаты!#REF!","v":{"$error":"#REF!"}},{"$f":"Результаты!#REF!","v":{"$error":"#REF!"}},{"$f":"Результаты!#REF!","v":{"$error":"#REF!"}},{"$f":"Результаты!#REF!","v":{"$error":"#REF!"}},{"$f":"Результаты!#REF!","v":{"$error":"#REF!"}},{"$f":"Результаты!#REF!","v":{"$error":"#REF!"}},{"$f":"Результаты!#REF!","v":{"$error":"#REF!"}},{"$f":"Результаты!#REF!","v":{"$error":"#REF!"}},{"$f":"Результаты!#REF!","v":{"$error":"#REF!"}},{"$f":"Результаты!#REF!","v":{"$error":"#REF!"}},{"$f":"Результаты!#REF!","v":{"$error":"#REF!"}},{"$f":"Результаты!#REF!","v":{"$error":"#REF!"}},{"$f":"Результаты!#REF!","v":{"$error":"#REF!"}},{"$f":"Результаты!#REF!","v":{"$error":"#REF!"}},{"$f":"Результаты!#REF!","v":{"$error":"#REF!"}},{"$f":"Результаты!#REF!","v":{"$error":"#REF!"}},{"$f":"Результаты!#REF!","v":{"$error":"#REF!"}},{"$f":"Результаты!#REF!","v":{"$error":"#REF!"}},{"$f":"Результаты!#REF!","v":{"$error":"#REF!"}},{"$f":"Результаты!#REF!","v":{"$error":"#REF!"}},{"$f":"Результаты!#REF!","v":{"$error":"#REF!"}},{"$f":"Результаты!#REF!","v":{"$error":"#REF!"}},{"$f":"Результаты!#REF!","v":{"$error":"#REF!"}},{"$f":"Результаты!#REF!","v":{"$error":"#REF!"}},{"$f":"Результаты!#REF!","v":{"$error":"#REF!"}},{"$f":"Результаты!#REF!","v":{"$error":"#REF!"}},{"$f":"Результаты!#REF!","v":{"$error":"#REF!"}}]
[]
[]
[null,{"$f":"B1586","v":1},{"$f":"C1586","v":"Информационная обработка текстов различных стилей и жанров. Текст как речевое произведение. Смысловая и композиционная целостность текста. Отбор языковых средств в тексте в зависимости от темы, цели, адресата и ситуации общения. Создание текстов различных стилей и функционально-смысловых типов речи. Грамматические нормы (морфологические нормы). Грамматические  нормы  (синтаксические нормы). Лексические нормы. Пунктуация в простом и сложном предложениях. Орфограмма"}]
[null,{"$f":"B1587","v":2},"Текст как речевое произведение. Смысловая и композиционная целостность текста. Анализ текста"]
[null,3,"Выразительные средства лексики и фразеологии. Анализ средств выразительности"]
[null,4,"Правописание приставок. Слитное, дефисное, раздельное написание"]
[null,5,"Правописание суффиксов различных частей речи (кроме -Н-/-НН-). Правописание -Н- и -НН- в различных частях речи. Правописание личных окончаний глаголов и суффиксов причастий настоящего времени"]
[null,6,"Лексика и фразеология. Синонимы. Фразеологические обороты. Группы слов по происхождению и употреблению"]
[null,7,"Словосочетание"]
[null,8,"Предложение. Грамматическая (предикативная) основа предложения. Подлежащее и сказуемое как главные члены предложения "]
[null,9,"Осложнённое простое предложение"]
[null,10,"Пунктуационный анализ. Знаки препинания в предложениях со словами и конструкциями, грамматически не связанными с членами предложения"]
[null,11,"Синтаксический анализ сложного предложения"]
[null,12,"Пунктуационный анализ. Знаки препинания в сложносочинённом и сложноподчинённом предложениях"]
[null,13,"Синтаксический анализ сложного предложения"]
[null,14,"Сложные предложения с разными видами связи между частями"]
[null,15,"Текст как речевое произведение. Смысловая и композиционная целостность текста. Создание текстов различных стилей и функционально-смысловых типов речи. Информационная обработка текстов различных стилей и жанров. Грамматические нормы (морфологические нормы). Грамматические нормы (синтаксические нормы). Лексические нормы"]
[null,16,0]
[null,17,0]
[null,18,0]
[null,19,0]
[null,20,0]
[null,21,0]
[null,22,0]
[null,23,0]
[null,24,0]
[null,25,0]
[null,26,0]
[null,27,0]
[null,28,0]
[null,29,0]
[null,30,0]
[null,31,0]
[null,32,0]
[null,33,0]
[null,34,0]
[null,35,0]
[]
["Рекомендация: обратите внимание на задания по темам, которые вызвали у Вас затруднения, решены с ошибкой и отмечены \"0\" или к решению которых Вы не приступили (пустые ячейки)!"]
[]
[]
[]
["Центр независимой оценки качества образования и образовательного аудита \"Легион\""]
[]
["Образовательная организация",null,null,null,{"$f":"E1572","v":"Ленинская СОШ"}]
["Предмет",null,null,null,{"$f":"E1573","v":"Русский язык"}]
["Максимальный балл",null,null,null,39]
["Пороговый балл",null,null,null,15]
["Зона риска",null,null,null,{"$f":"Результаты!E15","v":15},null,null,{"$f":"Результаты!H15","v":16}]
[]
["Уровни",null,null,null,{"$f":"E1634","v":1},{"$f":"F1634","v":2},3,4,5,6,7,8,9,10,11,12,13,14,15,"ПР.ГР",{"$error":"#REF!"},{"$error":"#REF!"},{"$error":"#REF!"},{"$error":"#REF!"},{"$error":"#REF!"},{"$error":"#REF!"},{"$error":"#REF!"},{"$error":"#REF!"},{"$error":"#REF!"},{"$error":"#REF!"},{"$error":"#REF!"},{"$error":"#REF!"},{"$error":"#REF!"},{"$error":"#REF!"},{"$error":"#REF!"},{"$error":"#REF!"},{"$error":"#REF!"},{"$error":"#REF!"},{"$error":"#REF!"},"Тестовый балл","% выплнения заданий по уровням",null,null,"Оценка"]
[null,null,null,null,null,null,null,null,null,null,null,null,null,null,null,null,null,null,null,null,null,null,null,null,null,null,null,null,null,null,null,null,null,null,null,null,null,null,null,null,"Базовый","Повышенный","Высокий"]
["№","Класс","Ф.И.О.","№ задания",{"$f":"E1636","v":1},{"$f":"F1636","v":2},3,4,5,6,7,8,9,10,11,12,13,14,15,0,{"$error":"#REF!"},{"$error":"#REF!"},{"$error":"#REF!"},{"$error":"#REF!"},{"$error":"#REF!"},{"$error":"#REF!"},{"$error":"#REF!"},{"$error":"#REF!"},{"$error":"#REF!"},{"$error":"#REF!"},{"$error":"#REF!"},{"$error":"#REF!"},{"$error":"#REF!"},{"$error":"#REF!"},{"$error":"#REF!"},{"$error":"#REF!"},{"$error":"#REF!"},{"$error":"#REF!"},{"$error":"#REF!"}]
["Максимальный балл",null,null,null,{"$f":"E1637","v":7},{"$f":"F1637","v":1},1,1,1,1,1,1,1,1,1,1,1,1,9,10,{"$error":"#REF!"},{"$error":"#REF!"},{"$error":"#REF!"},{"$error":"#REF!"},{"$error":"#REF!"},{"$error":"#REF!"},{"$error":"#REF!"},{"$error":"#REF!"},{"$error":"#REF!"},{"$error":"#REF!"},{"$error":"#REF!"},{"$error":"#REF!"},{"$error":"#REF!"},{"$error":"#REF!"},{"$error":"#REF!"},{"$error":"#REF!"},{"$error":"#REF!"},{"$error":"#REF!"},{"$error":"#REF!"},39,76.92307692307692,{"$error":"#REF!"},23.076923076923077,0]
[null,null,null,"вариант"]
[{"$f":"Результаты!#REF!","v":{"$error":"#REF!"}},{"$f":"Результаты!#REF!","v":{"$error":"#REF!"}},{"$f":"Результаты!#REF!","v":{"$error":"#REF!"}},{"$f":"Результаты!#REF!","v":{"$error":"#REF!"}},{"$f":"Результаты!#REF!","v":{"$error":"#REF!"}},{"$f":"Результаты!#REF!","v":{"$error":"#REF!"}},{"$f":"Результаты!#REF!","v":{"$error":"#REF!"}},{"$f":"Результаты!#REF!","v":{"$error":"#REF!"}},{"$f":"Результаты!#REF!","v":{"$error":"#REF!"}},{"$f":"Результаты!#REF!","v":{"$error":"#REF!"}},{"$f":"Результаты!#REF!","v":{"$error":"#REF!"}},{"$f":"Результаты!#REF!","v":{"$error":"#REF!"}},{"$f":"Результаты!#REF!","v":{"$error":"#REF!"}},{"$f":"Результаты!#REF!","v":{"$error":"#REF!"}},{"$f":"Результаты!#REF!","v":{"$error":"#REF!"}},{"$f":"Результаты!#REF!","v":{"$error":"#REF!"}},{"$f":"Результаты!#REF!","v":{"$error":"#REF!"}},{"$f":"Результаты!#REF!","v":{"$error":"#REF!"}},{"$f":"Результаты!#REF!","v":{"$error":"#REF!"}},{"$f":"Результаты!#REF!","v":{"$error":"#REF!"}},{"$f":"Результаты!#REF!","v":{"$error":"#REF!"}},{"$f":"Результаты!#REF!","v":{"$error":"#REF!"}},{"$f":"Результаты!#REF!","v":{"$error":"#REF!"}},{"$f":"Результаты!#REF!","v":{"$error":"#REF!"}},{"$f":"Результаты!#REF!","v":{"$error":"#REF!"}},{"$f":"Результаты!#REF!","v":{"$error":"#REF!"}},{"$f":"Результаты!#REF!","v":{"$error":"#REF!"}},{"$f":"Результаты!#REF!","v":{"$error":"#REF!"}},{"$f":"Результаты!#REF!","v":{"$error":"#REF!"}},{"$f":"Результаты!#REF!","v":{"$error":"#REF!"}},{"$f":"Результаты!#REF!","v":{"$error":"#REF!"}},{"$f":"Результаты!#REF!","v":{"$error":"#REF!"}},{"$f":"Результаты!#REF!","v":{"$error":"#REF!"}},{"$f":"Результаты!#REF!","v":{"$error":"#REF!"}},{"$f":"Результаты!#REF!","v":{"$error":"#REF!"}},{"$f":"Результаты!#REF!","v":{"$error":"#REF!"}},{"$f":"Результаты!#REF!","v":{"$error":"#REF!"}},{"$f":"Результаты!#REF!","v":{"$error":"#REF!"}},{"$f":"Результаты!#REF!","v":{"$error":"#REF!"}},{"$f":"Результаты!#REF!","v":{"$error":"#REF!"}},{"$f":"Результаты!#REF!","v":{"$error":"#REF!"}},{"$f":"Результаты!#REF!","v":{"$error":"#REF!"}},{"$f":"Результаты!#REF!","v":{"$error":"#REF!"}},{"$f":"Результаты!#REF!","v":{"$error":"#REF!"}}]
[]
[]
[null,{"$f":"B1642","v":1},{"$f":"C1642","v":"Информационная обработка текстов различных стилей и жанров. Текст как речевое произведение. Смысловая и композиционная целостность текста. Отбор языковых средств в тексте в зависимости от темы, цели, адресата и ситуации общения. Создание текстов различных стилей и функционально-смысловых типов речи. Грамматические нормы (морфологические нормы). Грамматические  нормы  (синтаксические нормы). Лексические нормы. Пунктуация в простом и сложном предложениях. Орфограмма"}]
[null,{"$f":"B1643","v":2},"Текст как речевое произведение. Смысловая и композиционная целостность текста. Анализ текста"]
[null,{"$f":"B1644","v":3},"Выразительные средства лексики и фразеологии. Анализ средств выразительности"]
[null,{"$f":"B1645","v":4},"Правописание приставок. Слитное, дефисное, раздельное написание"]
[null,{"$f":"B1646","v":5},"Правописание суффиксов различных частей речи (кроме -Н-/-НН-). Правописание -Н- и -НН- в различных частях речи. Правописание личных окончаний глаголов и суффиксов причастий настоящего времени"]
[null,{"$f":"B1647","v":6},"Лексика и фразеология. Синонимы. Фразеологические обороты. Группы слов по происхождению и употреблению"]
[null,{"$f":"B1648","v":7},"Словосочетание"]
[null,{"$f":"B1649","v":8},"Предложение. Грамматическая (предикативная) основа предложения. Подлежащее и сказуемое как главные члены предложения "]
[null,{"$f":"B1650","v":9},"Осложнённое простое предложение"]
[null,{"$f":"B1651","v":10},"Пунктуационный анализ. Знаки препинания в предложениях со словами и конструкциями, грамматически не связанными с членами предложения"]
[null,{"$f":"B1652","v":11},"Синтаксический анализ сложного предложения"]
[null,{"$f":"B1653","v":12},"Пунктуационный анализ. Знаки препинания в сложносочинённом и сложноподчинённом предложениях"]
[null,{"$f":"B1654","v":13},"Синтаксический анализ сложного предложения"]
[null,{"$f":"B1655","v":14},"Сложные предложения с разными видами связи между частями"]
[null,{"$f":"B1656","v":15},"Текст как речевое произведение. Смысловая и композиционная целостность текста. Создание текстов различных стилей и функционально-смысловых типов речи. Информационная обработка текстов различных стилей и жанров. Грамматические нормы (морфологические нормы). Грамматические нормы (синтаксические нормы). Лексические нормы"]
[null,{"$f":"B1657","v":16},0]
[null,{"$f":"B1658","v":17},0]
[null,{"$f":"B1659","v":18},0]
[null,{"$f":"B1660","v":19},0]
[null,{"$f":"B1661","v":20},0]
[null,{"$f":"B1662","v":21},0]
[null,{"$f":"B1663","v":22},0]
[null,{"$f":"B1664","v":23},0]
[null,{"$f":"B1665","v":24},0]
[null,{"$f":"B1666","v":25},0]
[null,{"$f":"B1667","v":26},0]
[null,{"$f":"B1668","v":27},0]
[null,{"$f":"B1669","v":28},0]
[null,{"$f":"B1670","v":29},0]
[null,{"$f":"B1671","v":30},0]
[null,{"$f":"B1672","v":31},0]
[null,{"$f":"B1673","v":32},0]
[null,{"$f":"B1674","v":33},0]
[null,{"$f":"B1675","v":34},{"$f":"C1675","v":0}]
[null,{"$f":"B1676","v":35},{"$f":"C1676","v":0}]
[]
["Рекомендация: обратите внимание на задания по темам, которые вызвали у Вас затруднения, решены с ошибкой и отмечены \"0\" или к решению которых Вы не приступили (пустые ячейки)!"]
[]
[]
[]
["Центр независимой оценки качества образования и образовательного аудита \"Легион\""]
[]
["Образовательная организация",null,null,null,{"$f":"E1684","v":"Ленинская СОШ"}]
["Предмет",null,null,null,{"$f":"E1685","v":"Русский язык"}]
["Максимальный балл",null,null,null,39]
["Пороговый балл",null,null,null,15]
["Зона риска",null,null,null,{"$f":"Результаты!E15","v":15},null,null,{"$f":"Результаты!H15","v":16}]
[]
["Уровни",null,null,null,{"$f":"E1690","v":1},{"$f":"F1690","v":2},3,4,5,6,7,8,9,10,11,12,13,14,15,"ПР.ГР",{"$error":"#REF!"},{"$error":"#REF!"},{"$error":"#REF!"},{"$error":"#REF!"},{"$error":"#REF!"},{"$error":"#REF!"},{"$error":"#REF!"},{"$error":"#REF!"},{"$error":"#REF!"},{"$error":"#REF!"},{"$error":"#REF!"},{"$error":"#REF!"},{"$error":"#REF!"},{"$error":"#REF!"},{"$error":"#REF!"},{"$error":"#REF!"},{"$error":"#REF!"},{"$error":"#REF!"},{"$error":"#REF!"},"Тестовый балл","% выплнения заданий по уровням",null,null,"Оценка"]
[null,null,null,null,null,null,null,null,null,null,null,null,null,null,null,null,null,null,null,null,null,null,null,null,null,null,null,null,null,null,null,null,null,null,null,null,null,null,null,null,"Базовый","Повышенный","Высокий"]
["№","Класс","Ф.И.О.","№ задания",{"$f":"E1692","v":1},{"$f":"F1692","v":2},3,4,5,6,7,8,9,10,11,12,13,14,15,0,{"$error":"#REF!"},{"$error":"#REF!"},{"$error":"#REF!"},{"$error":"#REF!"},{"$error":"#REF!"},{"$error":"#REF!"},{"$error":"#REF!"},{"$error":"#REF!"},{"$error":"#REF!"},{"$error":"#REF!"},{"$error":"#REF!"},{"$error":"#REF!"},{"$error":"#REF!"},{"$error":"#REF!"},{"$error":"#REF!"},{"$error":"#REF!"},{"$error":"#REF!"},{"$error":"#REF!"},{"$error":"#REF!"}]
["Максимальный балл",null,null,null,{"$f":"E1693","v":7},1,1,1,1,1,1,1,1,1,1,1,1,1,9,10,{"$error":"#REF!"},{"$error":"#REF!"},{"$error":"#REF!"},{"$error":"#REF!"},{"$error":"#REF!"},{"$error":"#REF!"},{"$error":"#REF!"},{"$error":"#REF!"},{"$error":"#REF!"},{"$error":"#REF!"},{"$error":"#REF!"},{"$error":"#REF!"},{"$error":"#REF!"},{"$error":"#REF!"},{"$error":"#REF!"},{"$error":"#REF!"},{"$error":"#REF!"},{"$error":"#REF!"},{"$error":"#REF!"},39,76.92307692307692,{"$f":"AP1693","v":{"$error":"#REF!"}},23.076923076923077,0]
[null,null,null,"вариант"]
[{"$f":"Результаты!#REF!","v":{"$error":"#REF!"}},{"$f":"Результаты!#REF!","v":{"$error":"#REF!"}},{"$f":"Результаты!#REF!","v":{"$error":"#REF!"}},{"$f":"Результаты!#REF!","v":{"$error":"#REF!"}},{"$f":"Результаты!#REF!","v":{"$error":"#REF!"}},{"$f":"Результаты!#REF!","v":{"$error":"#REF!"}},{"$f":"Результаты!#REF!","v":{"$error":"#REF!"}},{"$f":"Результаты!#REF!","v":{"$error":"#REF!"}},{"$f":"Результаты!#REF!","v":{"$error":"#REF!"}},{"$f":"Результаты!#REF!","v":{"$error":"#REF!"}},{"$f":"Результаты!#REF!","v":{"$error":"#REF!"}},{"$f":"Результаты!#REF!","v":{"$error":"#REF!"}},{"$f":"Результаты!#REF!","v":{"$error":"#REF!"}},{"$f":"Результаты!#REF!","v":{"$error":"#REF!"}},{"$f":"Результаты!#REF!","v":{"$error":"#REF!"}},{"$f":"Результаты!#REF!","v":{"$error":"#REF!"}},{"$f":"Результаты!#REF!","v":{"$error":"#REF!"}},{"$f":"Результаты!#REF!","v":{"$error":"#REF!"}},{"$f":"Результаты!#REF!","v":{"$error":"#REF!"}},{"$f":"Результаты!#REF!","v":{"$error":"#REF!"}},{"$f":"Результаты!#REF!","v":{"$error":"#REF!"}},{"$f":"Результаты!#REF!","v":{"$error":"#REF!"}},{"$f":"Результаты!#REF!","v":{"$error":"#REF!"}},{"$f":"Результаты!#REF!","v":{"$error":"#REF!"}},{"$f":"Результаты!#REF!","v":{"$error":"#REF!"}},{"$f":"Результаты!#REF!","v":{"$error":"#REF!"}},{"$f":"Результаты!#REF!","v":{"$error":"#REF!"}},{"$f":"Результаты!#REF!","v":{"$error":"#REF!"}},{"$f":"Результаты!#REF!","v":{"$error":"#REF!"}},{"$f":"Результаты!#REF!","v":{"$error":"#REF!"}},{"$f":"Результаты!#REF!","v":{"$error":"#REF!"}},{"$f":"Результаты!#REF!","v":{"$error":"#REF!"}},{"$f":"Результаты!#REF!","v":{"$error":"#REF!"}},{"$f":"Результаты!#REF!","v":{"$error":"#REF!"}},{"$f":"Результаты!#REF!","v":{"$error":"#REF!"}},{"$f":"Результаты!#REF!","v":{"$error":"#REF!"}},{"$f":"Результаты!#REF!","v":{"$error":"#REF!"}},{"$f":"Результаты!#REF!","v":{"$error":"#REF!"}},{"$f":"Результаты!#REF!","v":{"$error":"#REF!"}},{"$f":"Результаты!#REF!","v":{"$error":"#REF!"}},{"$f":"Результаты!#REF!","v":{"$error":"#REF!"}},{"$f":"Результаты!#REF!","v":{"$error":"#REF!"}},{"$f":"Результаты!#REF!","v":{"$error":"#REF!"}},{"$f":"Результаты!#REF!","v":{"$error":"#REF!"}}]
[]
[]
[null,{"$f":"B1698","v":1},{"$f":"C1698","v":"Информационная обработка текстов различных стилей и жанров. Текст как речевое произведение. Смысловая и композиционная целостность текста. Отбор языковых средств в тексте в зависимости от темы, цели, адресата и ситуации общения. Создание текстов различных стилей и функционально-смысловых типов речи. Грамматические нормы (морфологические нормы). Грамматические  нормы  (синтаксические нормы). Лексические нормы. Пунктуация в простом и сложном предложениях. Орфограмма"}]
[null,{"$f":"B1699","v":2},"Текст как речевое произведение. Смысловая и композиционная целостность текста. Анализ текста"]
[null,{"$f":"B1700","v":3},"Выразительные средства лексики и фразеологии. Анализ средств выразительности"]
[null,{"$f":"B1701","v":4},"Правописание приставок. Слитное, дефисное, раздельное написание"]
[null,{"$f":"B1702","v":5},"Правописание суффиксов различных частей речи (кроме -Н-/-НН-). Правописание -Н- и -НН- в различных частях речи. Правописание личных окончаний глаголов и суффиксов причастий настоящего времени"]
[null,{"$f":"B1703","v":6},"Лексика и фразеология. Синонимы. Фразеологические обороты. Группы слов по происхождению и употреблению"]
[null,{"$f":"B1704","v":7},"Словосочетание"]
[null,{"$f":"B1705","v":8},"Предложение. Грамматическая (предикативная) основа предложения. Подлежащее и сказуемое как главные члены предложения "]
[null,{"$f":"B1706","v":9},"Осложнённое простое предложение"]
[null,{"$f":"B1707","v":10},"Пунктуационный анализ. Знаки препинания в предложениях со словами и конструкциями, грамматически не связанными с членами предложения"]
[null,{"$f":"B1708","v":11},"Синтаксический анализ сложного предложения"]
[null,{"$f":"B1709","v":12},"Пунктуационный анализ. Знаки препинания в сложносочинённом и сложноподчинённом предложениях"]
[null,{"$f":"B1710","v":13},"Синтаксический анализ сложного предложения"]
[null,{"$f":"B1711","v":14},"Сложные предложения с разными видами связи между частями"]
[null,{"$f":"B1712","v":15},"Текст как речевое произведение. Смысловая и композиционная целостность текста. Создание текстов различных стилей и функционально-смысловых типов речи. Информационная обработка текстов различных стилей и жанров. Грамматические нормы (морфологические нормы). Грамматические нормы (синтаксические нормы). Лексические нормы"]
[null,{"$f":"B1713","v":16},0]
[null,{"$f":"B1714","v":17},0]
[null,{"$f":"B1715","v":18},0]
[null,{"$f":"B1716","v":19},0]
[null,{"$f":"B1717","v":20},0]
[null,{"$f":"B1718","v":21},0]
[null,{"$f":"B1719","v":22},0]
[null,{"$f":"B1720","v":23},0]
[null,{"$f":"B1721","v":24},0]
[null,{"$f":"B1722","v":25},0]
[null,{"$f":"B1723","v":26},0]
[null,{"$f":"B1724","v":27},0]
[null,{"$f":"B1725","v":28},0]
[null,{"$f":"B1726","v":29},0]
[null,{"$f":"B1727","v":30},0]
[null,{"$f":"B1728","v":31},0]
[null,{"$f":"B1729","v":32},0]
[null,{"$f":"B1730","v":33},0]
[null,{"$f":"B1731","v":34},0]
[null,{"$f":"B1732","v":35},0]
[]
["Рекомендация: обратите внимание на задания по темам, которые вызвали у Вас затруднения, решены с ошибкой и отмечены \"0\" или к решению которых Вы не приступили (пустые ячейки)!"]
[]
[]
[]
["Центр независимой оценки качества образования и образовательного аудита \"Легион\""]
[]
["Образовательная организация",null,null,null,{"$f":"E1684","v":"Ленинская СОШ"}]
["Предмет",null,null,null,{"$f":"E1685","v":"Русский язык"}]
["Максимальный балл",null,null,null,39]
["Пороговый балл",null,null,null,15]
["Зона риска",null,null,null,{"$f":"Результаты!E15","v":15},null,null,{"$f":"Результаты!H15","v":16}]
[]
["Уровни",null,null,null,{"$f":"E1746","v":1},{"$f":"F1746","v":2},3,4,5,6,7,8,9,10,11,12,13,14,15,"ПР.ГР",{"$error":"#REF!"},{"$error":"#REF!"},{"$error":"#REF!"},{"$error":"#REF!"},{"$error":"#REF!"},{"$error":"#REF!"},{"$error":"#REF!"},{"$error":"#REF!"},{"$error":"#REF!"},{"$error":"#REF!"},{"$error":"#REF!"},{"$error":"#REF!"},{"$error":"#REF!"},{"$error":"#REF!"},{"$error":"#REF!"},{"$error":"#REF!"},{"$error":"#REF!"},{"$error":"#REF!"},{"$error":"#REF!"},"Тестовый балл","% выплнения заданий по уровням",null,null,"Оценка"]
[null,null,null,null,null,null,null,null,null,null,null,null,null,null,null,null,null,null,null,null,null,null,null,null,null,null,null,null,null,null,null,null,null,null,null,null,null,null,null,null,"Базовый","Повышенный","Высокий"]
["№","Класс","Ф.И.О.","№ задания",{"$f":"E1748","v":1},{"$f":"F1748","v":2},3,4,5,6,7,8,9,10,11,12,13,14,15,0,{"$error":"#REF!"},{"$error":"#REF!"},{"$error":"#REF!"},{"$error":"#REF!"},{"$error":"#REF!"},{"$error":"#REF!"},{"$error":"#REF!"},{"$error":"#REF!"},{"$error":"#REF!"},{"$error":"#REF!"},{"$error":"#REF!"},{"$error":"#REF!"},{"$error":"#REF!"},{"$error":"#REF!"},{"$error":"#REF!"},{"$error":"#REF!"},{"$error":"#REF!"},{"$error":"#REF!"},{"$error":"#REF!"}]
["Максимальный балл",null,null,null,{"$f":"E1749","v":7},{"$f":"F1749","v":1},1,1,1,1,1,1,1,1,1,1,1,1,9,10,{"$error":"#REF!"},{"$error":"#REF!"},{"$error":"#REF!"},{"$error":"#REF!"},{"$error":"#REF!"},{"$error":"#REF!"},{"$error":"#REF!"},{"$error":"#REF!"},{"$error":"#REF!"},{"$error":"#REF!"},{"$error":"#REF!"},{"$error":"#REF!"},{"$error":"#REF!"},{"$error":"#REF!"},{"$error":"#REF!"},{"$error":"#REF!"},{"$error":"#REF!"},{"$error":"#REF!"},{"$error":"#REF!"},39,76.92307692307692,{"$error":"#REF!"},23.076923076923077,0]
[null,null,null,"вариант"]
[{"$f":"Результаты!#REF!","v":{"$error":"#REF!"}},{"$f":"Результаты!#REF!","v":{"$error":"#REF!"}},{"$f":"Результаты!#REF!","v":{"$error":"#REF!"}},{"$f":"Результаты!#REF!","v":{"$error":"#REF!"}},{"$f":"Результаты!#REF!","v":{"$error":"#REF!"}},{"$f":"Результаты!#REF!","v":{"$error":"#REF!"}},{"$f":"Результаты!#REF!","v":{"$error":"#REF!"}},{"$f":"Результаты!#REF!","v":{"$error":"#REF!"}},{"$f":"Результаты!#REF!","v":{"$error":"#REF!"}},{"$f":"Результаты!#REF!","v":{"$error":"#REF!"}},{"$f":"Результаты!#REF!","v":{"$error":"#REF!"}},{"$f":"Результаты!#REF!","v":{"$error":"#REF!"}},{"$f":"Результаты!#REF!","v":{"$error":"#REF!"}},{"$f":"Результаты!#REF!","v":{"$error":"#REF!"}},{"$f":"Результаты!#REF!","v":{"$error":"#REF!"}},{"$f":"Результаты!#REF!","v":{"$error":"#REF!"}},{"$f":"Результаты!#REF!","v":{"$error":"#REF!"}},{"$f":"Результаты!#REF!","v":{"$error":"#REF!"}},{"$f":"Результаты!#REF!","v":{"$error":"#REF!"}},{"$f":"Результаты!#REF!","v":{"$error":"#REF!"}},{"$f":"Результаты!#REF!","v":{"$error":"#REF!"}},{"$f":"Результаты!#REF!","v":{"$error":"#REF!"}},{"$f":"Результаты!#REF!","v":{"$error":"#REF!"}},{"$f":"Результаты!#REF!","v":{"$error":"#REF!"}},{"$f":"Результаты!#REF!","v":{"$error":"#REF!"}},{"$f":"Результаты!#REF!","v":{"$error":"#REF!"}},{"$f":"Результаты!#REF!","v":{"$error":"#REF!"}},{"$f":"Результаты!#REF!","v":{"$error":"#REF!"}},{"$f":"Результаты!#REF!","v":{"$error":"#REF!"}},{"$f":"Результаты!#REF!","v":{"$error":"#REF!"}},{"$f":"Результаты!#REF!","v":{"$error":"#REF!"}},{"$f":"Результаты!#REF!","v":{"$error":"#REF!"}},{"$f":"Результаты!#REF!","v":{"$error":"#REF!"}},{"$f":"Результаты!#REF!","v":{"$error":"#REF!"}},{"$f":"Результаты!#REF!","v":{"$error":"#REF!"}},{"$f":"Результаты!#REF!","v":{"$error":"#REF!"}},{"$f":"Результаты!#REF!","v":{"$error":"#REF!"}},{"$f":"Результаты!#REF!","v":{"$error":"#REF!"}},{"$f":"Результаты!#REF!","v":{"$error":"#REF!"}},{"$f":"Результаты!#REF!","v":{"$error":"#REF!"}},{"$f":"Результаты!#REF!","v":{"$error":"#REF!"}},{"$f":"Результаты!#REF!","v":{"$error":"#REF!"}},{"$f":"Результаты!#REF!","v":{"$error":"#REF!"}},{"$f":"Результаты!#REF!","v":{"$error":"#REF!"}}]
[]
[]
[null,{"$f":"B1754","v":1},{"$f":"C1754","v":"Информационная обработка текстов различных стилей и жанров. Текст как речевое произведение. Смысловая и композиционная целостность текста. Отбор языковых средств в тексте в зависимости от темы, цели, адресата и ситуации общения. Создание текстов различных стилей и функционально-смысловых типов речи. Грамматические нормы (морфологические нормы). Грамматические  нормы  (синтаксические нормы). Лексические нормы. Пунктуация в простом и сложном предложениях. Орфограмма"}]
[null,{"$f":"B1755","v":2},"Текст как речевое произведение. Смысловая и композиционная целостность текста. Анализ текста"]
[null,{"$f":"B1756","v":3},"Выразительные средства лексики и фразеологии. Анализ средств выразительности"]
[null,{"$f":"B1757","v":4},"Правописание приставок. Слитное, дефисное, раздельное написание"]
[null,{"$f":"B1758","v":5},"Правописание суффиксов различных частей речи (кроме -Н-/-НН-). Правописание -Н- и -НН- в различных частях речи. Правописание личных окончаний глаголов и суффиксов причастий настоящего времени"]
[null,{"$f":"B1759","v":6},"Лексика и фразеология. Синонимы. Фразеологические обороты. Группы слов по происхождению и употреблению"]
[null,{"$f":"B1760","v":7},"Словосочетание"]
[null,{"$f":"B1761","v":8},"Предложение. Грамматическая (предикативная) основа предложения. Подлежащее и сказуемое как главные члены предложения "]
[null,{"$f":"B1762","v":9},"Осложнённое простое предложение"]
[null,{"$f":"B1763","v":10},"Пунктуационный анализ. Знаки препинания в предложениях со словами и конструкциями, грамматически не связанными с членами предложения"]
[null,{"$f":"B1764","v":11},"Синтаксический анализ сложного предложения"]
[null,{"$f":"B1765","v":12},"Пунктуационный анализ. Знаки препинания в сложносочинённом и сложноподчинённом предложениях"]
[null,{"$f":"B1766","v":13},"Синтаксический анализ сложного предложения"]
[null,{"$f":"B1767","v":14},"Сложные предложения с разными видами связи между частями"]
[null,{"$f":"B1768","v":15},"Текст как речевое произведение. Смысловая и композиционная целостность текста. Создание текстов различных стилей и функционально-смысловых типов речи. Информационная обработка текстов различных стилей и жанров. Грамматические нормы (морфологические нормы). Грамматические нормы (синтаксические нормы). Лексические нормы"]
[null,{"$f":"B1769","v":16},0]
[null,{"$f":"B1770","v":17},0]
[null,{"$f":"B1771","v":18},0]
[null,{"$f":"B1772","v":19},0]
[null,{"$f":"B1773","v":20},0]
[null,{"$f":"B1774","v":21},0]
[null,{"$f":"B1775","v":22},0]
[null,{"$f":"B1776","v":23},0]
[null,{"$f":"B1777","v":24},0]
[null,{"$f":"B1778","v":25},0]
[null,{"$f":"B1779","v":26},0]
[null,{"$f":"B1780","v":27},0]
[null,{"$f":"B1781","v":28},0]
[null,{"$f":"B1782","v":29},0]
[null,{"$f":"B1783","v":30},0]
[null,{"$f":"B1784","v":31},0]
[null,{"$f":"B1785","v":32},0]
[null,{"$f":"B1786","v":33},0]
[null,{"$f":"B1787","v":34},{"$f":"C1787","v":0}]
[null,{"$f":"B1788","v":35},{"$f":"C1788","v":0}]
[]
["Рекомендация: обратите внимание на задания по темам, которые вызвали у Вас затруднения, решены с ошибкой и отмечены \"0\" или к решению которых Вы не приступили (пустые ячейки)!"]
[]
[]
[]
["Центр независимой оценки качества образования и образовательного аудита \"Легион\""]
[]
["Образовательная организация",null,null,null,{"$f":"E1796","v":"Ленинская СОШ"}]
["Предмет",null,null,null,{"$f":"E1797","v":"Русский язык"}]
["Максимальный балл",null,null,null,39]
["Пороговый балл",null,null,null,15]
["Зона риска",null,null,null,{"$f":"Результаты!E15","v":15},null,null,{"$f":"Результаты!H15","v":16}]
[]
["Уровни",null,null,null,{"$f":"E1802","v":1},{"$f":"F1802","v":2},3,4,5,6,7,8,9,10,11,12,13,14,15,"ПР.ГР",{"$error":"#REF!"},{"$error":"#REF!"},{"$error":"#REF!"},{"$error":"#REF!"},{"$error":"#REF!"},{"$error":"#REF!"},{"$error":"#REF!"},{"$error":"#REF!"},{"$error":"#REF!"},{"$error":"#REF!"},{"$error":"#REF!"},{"$error":"#REF!"},{"$error":"#REF!"},{"$error":"#REF!"},{"$error":"#REF!"},{"$error":"#REF!"},{"$error":"#REF!"},{"$error":"#REF!"},{"$error":"#REF!"},"Тестовый балл","% выплнения заданий по уровням",null,null,"Оценка"]
[null,null,null,null,null,null,null,null,null,null,null,null,null,null,null,null,null,null,null,null,null,null,null,null,null,null,null,null,null,null,null,null,null,null,null,null,null,null,null,null,"Базовый","Повышенный","Высокий"]
["№","Класс","Ф.И.О.","№ задания",{"$f":"E1804","v":1},{"$f":"F1804","v":2},3,4,5,6,7,8,9,10,11,12,13,14,15,0,{"$error":"#REF!"},{"$error":"#REF!"},{"$error":"#REF!"},{"$error":"#REF!"},{"$error":"#REF!"},{"$error":"#REF!"},{"$error":"#REF!"},{"$error":"#REF!"},{"$error":"#REF!"},{"$error":"#REF!"},{"$error":"#REF!"},{"$error":"#REF!"},{"$error":"#REF!"},{"$error":"#REF!"},{"$error":"#REF!"},{"$error":"#REF!"},{"$error":"#REF!"},{"$error":"#REF!"},{"$error":"#REF!"}]
["Максимальный балл",null,null,null,{"$f":"E1805","v":7},{"$f":"F1805","v":1},1,1,1,1,1,1,1,1,1,1,1,1,9,10,{"$error":"#REF!"},{"$error":"#REF!"},{"$error":"#REF!"},{"$error":"#REF!"},{"$error":"#REF!"},{"$error":"#REF!"},{"$error":"#REF!"},{"$error":"#REF!"},{"$error":"#REF!"},{"$error":"#REF!"},{"$error":"#REF!"},{"$error":"#REF!"},{"$error":"#REF!"},{"$error":"#REF!"},{"$error":"#REF!"},{"$error":"#REF!"},{"$error":"#REF!"},{"$error":"#REF!"},{"$error":"#REF!"},39,76.92307692307692,{"$error":"#REF!"},23.076923076923077,0]
[null,null,null,"вариант"]
[{"$f":"Результаты!#REF!","v":{"$error":"#REF!"}},{"$f":"Результаты!#REF!","v":{"$error":"#REF!"}},{"$f":"Результаты!#REF!","v":{"$error":"#REF!"}},{"$f":"Результаты!#REF!","v":{"$error":"#REF!"}},{"$f":"Результаты!#REF!","v":{"$error":"#REF!"}},{"$f":"Результаты!#REF!","v":{"$error":"#REF!"}},{"$f":"Результаты!#REF!","v":{"$error":"#REF!"}},{"$f":"Результаты!#REF!","v":{"$error":"#REF!"}},{"$f":"Результаты!#REF!","v":{"$error":"#REF!"}},{"$f":"Результаты!#REF!","v":{"$error":"#REF!"}},{"$f":"Результаты!#REF!","v":{"$error":"#REF!"}},{"$f":"Результаты!#REF!","v":{"$error":"#REF!"}},{"$f":"Результаты!#REF!","v":{"$error":"#REF!"}},{"$f":"Результаты!#REF!","v":{"$error":"#REF!"}},{"$f":"Результаты!#REF!","v":{"$error":"#REF!"}},{"$f":"Результаты!#REF!","v":{"$error":"#REF!"}},{"$f":"Результаты!#REF!","v":{"$error":"#REF!"}},{"$f":"Результаты!#REF!","v":{"$error":"#REF!"}},{"$f":"Результаты!#REF!","v":{"$error":"#REF!"}},{"$f":"Результаты!#REF!","v":{"$error":"#REF!"}},{"$f":"Результаты!#REF!","v":{"$error":"#REF!"}},{"$f":"Результаты!#REF!","v":{"$error":"#REF!"}},{"$f":"Результаты!#REF!","v":{"$error":"#REF!"}},{"$f":"Результаты!#REF!","v":{"$error":"#REF!"}},{"$f":"Результаты!#REF!","v":{"$error":"#REF!"}},{"$f":"Результаты!#REF!","v":{"$error":"#REF!"}},{"$f":"Результаты!#REF!","v":{"$error":"#REF!"}},{"$f":"Результаты!#REF!","v":{"$error":"#REF!"}},{"$f":"Результаты!#REF!","v":{"$error":"#REF!"}},{"$f":"Результаты!#REF!","v":{"$error":"#REF!"}},{"$f":"Результаты!#REF!","v":{"$error":"#REF!"}},{"$f":"Результаты!#REF!","v":{"$error":"#REF!"}},{"$f":"Результаты!#REF!","v":{"$error":"#REF!"}},{"$f":"Результаты!#REF!","v":{"$error":"#REF!"}},{"$f":"Результаты!#REF!","v":{"$error":"#REF!"}},{"$f":"Результаты!#REF!","v":{"$error":"#REF!"}},{"$f":"Результаты!#REF!","v":{"$error":"#REF!"}},{"$f":"Результаты!#REF!","v":{"$error":"#REF!"}},{"$f":"Результаты!#REF!","v":{"$error":"#REF!"}},{"$f":"Результаты!#REF!","v":{"$error":"#REF!"}},{"$f":"Результаты!#REF!","v":{"$error":"#REF!"}},{"$f":"Результаты!#REF!","v":{"$error":"#REF!"}},{"$f":"Результаты!#REF!","v":{"$error":"#REF!"}},{"$f":"Результаты!#REF!","v":{"$error":"#REF!"}}]
[]
[]
[null,{"$f":"B1810","v":1},{"$f":"C1810","v":"Информационная обработка текстов различных стилей и жанров. Текст как речевое произведение. Смысловая и композиционная целостность текста. Отбор языковых средств в тексте в зависимости от темы, цели, адресата и ситуации общения. Создание текстов различных стилей и функционально-смысловых типов речи. Грамматические нормы (морфологические нормы). Грамматические  нормы  (синтаксические нормы). Лексические нормы. Пунктуация в простом и сложном предложениях. Орфограмма"}]
[null,{"$f":"B1811","v":2},"Текст как речевое произведение. Смысловая и композиционная целостность текста. Анализ текста"]
[null,{"$f":"B1812","v":3},"Выразительные средства лексики и фразеологии. Анализ средств выразительности"]
[null,{"$f":"B1813","v":4},"Правописание приставок. Слитное, дефисное, раздельное написание"]
[null,{"$f":"B1814","v":5},"Правописание суффиксов различных частей речи (кроме -Н-/-НН-). Правописание -Н- и -НН- в различных частях речи. Правописание личных окончаний глаголов и суффиксов причастий настоящего времени"]
[null,{"$f":"B1815","v":6},"Лексика и фразеология. Синонимы. Фразеологические обороты. Группы слов по происхождению и употреблению"]
[null,{"$f":"B1816","v":7},"Словосочетание"]
[null,{"$f":"B1817","v":8},"Предложение. Грамматическая (предикативная) основа предложения. Подлежащее и сказуемое как главные члены предложения "]
[null,{"$f":"B1818","v":9},"Осложнённое простое предложение"]
[null,{"$f":"B1819","v":10},"Пунктуационный анализ. Знаки препинания в предложениях со словами и конструкциями, грамматически не связанными с членами предложения"]
[null,{"$f":"B1820","v":11},"Синтаксический анализ сложного предложения"]
[null,{"$f":"B1821","v":12},"Пунктуационный анализ. Знаки препинания в сложносочинённом и сложноподчинённом предложениях"]
[null,{"$f":"B1822","v":13},"Синтаксический анализ сложного предложения"]
[null,{"$f":"B1823","v":14},"Сложные предложения с разными видами связи между частями"]
[null,{"$f":"B1824","v":15},"Текст как речевое произведение. Смысловая и композиционная целостность текста. Создание текстов различных стилей и функционально-смысловых типов речи. Информационная обработка текстов различных стилей и жанров. Грамматические нормы (морфологические нормы). Грамматические нормы (синтаксические нормы). Лексические нормы"]
[null,{"$f":"B1825","v":16},0]
[null,{"$f":"B1826","v":17},0]
[null,{"$f":"B1827","v":18},0]
[null,{"$f":"B1828","v":19},0]
[null,{"$f":"B1829","v":20},0]
[null,{"$f":"B1830","v":21},0]
[null,{"$f":"B1831","v":22},0]
[null,{"$f":"B1832","v":23},0]
[null,{"$f":"B1833","v":24},0]
[null,{"$f":"B1834","v":25},0]
[null,{"$f":"B1835","v":26},0]
[null,{"$f":"B1836","v":27},0]
[null,{"$f":"B1837","v":28},0]
[null,{"$f":"B1838","v":29},0]
[null,{"$f":"B1839","v":30},0]
[null,{"$f":"B1840","v":31},0]
[null,{"$f":"B1841","v":32},0]
[null,{"$f":"B1842","v":33},0]
[null,{"$f":"B1843","v":34},0]
[null,{"$f":"B1844","v":35},0]
[]
["Рекомендация: обратите внимание на задания по темам, которые вызвали у Вас затруднения, решены с ошибкой и отмечены \"0\" или к решению которых Вы не приступили (пустые ячейки)!"]
[]
[]
[]
["Центр независимой оценки качества образования и образовательного аудита \"Легион\""]
[]
["Образовательная организация",null,null,null,{"$f":"E1852","v":"Ленинская СОШ"}]
["Предмет",null,null,null,{"$f":"E1853","v":"Русский язык"}]
["Максимальный балл",null,null,null,39]
["Пороговый балл",null,null,null,15]
["Зона риска",null,null,null,{"$f":"Результаты!E15","v":15},null,null,{"$f":"Результаты!H15","v":16}]
[]
["Уровни",null,null,null,{"$f":"E1858","v":1},{"$f":"F1858","v":2},3,4,5,6,7,8,9,10,11,12,13,14,15,"ПР.ГР",{"$error":"#REF!"},{"$error":"#REF!"},{"$error":"#REF!"},{"$error":"#REF!"},{"$error":"#REF!"},{"$error":"#REF!"},{"$error":"#REF!"},{"$error":"#REF!"},{"$error":"#REF!"},{"$error":"#REF!"},{"$error":"#REF!"},{"$error":"#REF!"},{"$error":"#REF!"},{"$error":"#REF!"},{"$error":"#REF!"},{"$error":"#REF!"},{"$error":"#REF!"},{"$error":"#REF!"},{"$error":"#REF!"},"Тестовый балл","% выплнения заданий по уровням",null,null,"Оценка"]
[null,null,null,null,null,null,null,null,null,null,null,null,null,null,null,null,null,null,null,null,null,null,null,null,null,null,null,null,null,null,null,null,null,null,null,null,null,null,null,null,"Базовый","Повышенный","Высокий"]
["№","Класс","Ф.И.О.","№ задания",{"$f":"E1860","v":1},{"$f":"F1860","v":2},3,4,5,6,7,8,9,10,11,12,13,14,15,0,{"$error":"#REF!"},{"$error":"#REF!"},{"$error":"#REF!"},{"$error":"#REF!"},{"$error":"#REF!"},{"$error":"#REF!"},{"$error":"#REF!"},{"$error":"#REF!"},{"$error":"#REF!"},{"$error":"#REF!"},{"$error":"#REF!"},{"$error":"#REF!"},{"$error":"#REF!"},{"$error":"#REF!"},{"$error":"#REF!"},{"$error":"#REF!"},{"$error":"#REF!"},{"$error":"#REF!"},{"$error":"#REF!"}]
["Максимальный балл",null,null,null,{"$f":"E1861","v":7},{"$f":"F1861","v":1},1,1,1,1,1,1,1,1,1,1,1,1,9,10,{"$error":"#REF!"},{"$error":"#REF!"},{"$error":"#REF!"},{"$error":"#REF!"},{"$error":"#REF!"},{"$error":"#REF!"},{"$error":"#REF!"},{"$error":"#REF!"},{"$error":"#REF!"},{"$error":"#REF!"},{"$error":"#REF!"},{"$error":"#REF!"},{"$error":"#REF!"},{"$error":"#REF!"},{"$error":"#REF!"},{"$error":"#REF!"},{"$error":"#REF!"},{"$error":"#REF!"},{"$error":"#REF!"},39,76.92307692307692,{"$error":"#REF!"},23.076923076923077,0]
[null,null,null,"вариант"]
[{"$f":"Результаты!#REF!","v":{"$error":"#REF!"}},{"$f":"Результаты!#REF!","v":{"$error":"#REF!"}},{"$f":"Результаты!#REF!","v":{"$error":"#REF!"}},{"$f":"Результаты!#REF!","v":{"$error":"#REF!"}},{"$f":"Результаты!#REF!","v":{"$error":"#REF!"}},{"$f":"Результаты!#REF!","v":{"$error":"#REF!"}},{"$f":"Результаты!#REF!","v":{"$error":"#REF!"}},{"$f":"Результаты!#REF!","v":{"$error":"#REF!"}},{"$f":"Результаты!#REF!","v":{"$error":"#REF!"}},{"$f":"Результаты!#REF!","v":{"$error":"#REF!"}},{"$f":"Результаты!#REF!","v":{"$error":"#REF!"}},{"$f":"Результаты!#REF!","v":{"$error":"#REF!"}},{"$f":"Результаты!#REF!","v":{"$error":"#REF!"}},{"$f":"Результаты!#REF!","v":{"$error":"#REF!"}},{"$f":"Результаты!#REF!","v":{"$error":"#REF!"}},{"$f":"Результаты!#REF!","v":{"$error":"#REF!"}},{"$f":"Результаты!#REF!","v":{"$error":"#REF!"}},{"$f":"Результаты!#REF!","v":{"$error":"#REF!"}},{"$f":"Результаты!#REF!","v":{"$error":"#REF!"}},{"$f":"Результаты!#REF!","v":{"$error":"#REF!"}},{"$f":"Результаты!#REF!","v":{"$error":"#REF!"}},{"$f":"Результаты!#REF!","v":{"$error":"#REF!"}},{"$f":"Результаты!#REF!","v":{"$error":"#REF!"}},{"$f":"Результаты!#REF!","v":{"$error":"#REF!"}},{"$f":"Результаты!#REF!","v":{"$error":"#REF!"}},{"$f":"Результаты!#REF!","v":{"$error":"#REF!"}},{"$f":"Результаты!#REF!","v":{"$error":"#REF!"}},{"$f":"Результаты!#REF!","v":{"$error":"#REF!"}},{"$f":"Результаты!#REF!","v":{"$error":"#REF!"}},{"$f":"Результаты!#REF!","v":{"$error":"#REF!"}},{"$f":"Результаты!#REF!","v":{"$error":"#REF!"}},{"$f":"Результаты!#REF!","v":{"$error":"#REF!"}},{"$f":"Результаты!#REF!","v":{"$error":"#REF!"}},{"$f":"Результаты!#REF!","v":{"$error":"#REF!"}},{"$f":"Результаты!#REF!","v":{"$error":"#REF!"}},{"$f":"Результаты!#REF!","v":{"$error":"#REF!"}},{"$f":"Результаты!#REF!","v":{"$error":"#REF!"}},{"$f":"Результаты!#REF!","v":{"$error":"#REF!"}},{"$f":"Результаты!#REF!","v":{"$error":"#REF!"}},{"$f":"Результаты!#REF!","v":{"$error":"#REF!"}},{"$f":"Результаты!#REF!","v":{"$error":"#REF!"}},{"$f":"Результаты!#REF!","v":{"$error":"#REF!"}},{"$f":"Результаты!#REF!","v":{"$error":"#REF!"}},{"$f":"Результаты!#REF!","v":{"$error":"#REF!"}}]
[]
[]
[null,{"$f":"B1866","v":1},"Информационная обработка текстов различных стилей и жанров. Текст как речевое произведение. Смысловая и композиционная целостность текста. Отбор языковых средств в тексте в зависимости от темы, цели, адресата и ситуации общения. Создание текстов различных стилей и функционально-смысловых типов речи. Грамматические нормы (морфологические нормы). Грамматические  нормы  (синтаксические нормы). Лексические нормы. Пунктуация в простом и сложном предложениях. Орфограмма"]
[null,{"$f":"B1867","v":2},"Текст как речевое произведение. Смысловая и композиционная целостность текста. Анализ текста"]
[null,{"$f":"B1868","v":3},"Выразительные средства лексики и фразеологии. Анализ средств выразительности"]
[null,{"$f":"B1869","v":4},"Правописание приставок. Слитное, дефисное, раздельное написание"]
[null,{"$f":"B1870","v":5},"Правописание суффиксов различных частей речи (кроме -Н-/-НН-). Правописание -Н- и -НН- в различных частях речи. Правописание личных окончаний глаголов и суффиксов причастий настоящего времени"]
[null,{"$f":"B1871","v":6},"Лексика и фразеология. Синонимы. Фразеологические обороты. Группы слов по происхождению и употреблению"]
[null,{"$f":"B1872","v":7},"Словосочетание"]
[null,{"$f":"B1873","v":8},"Предложение. Грамматическая (предикативная) основа предложения. Подлежащее и сказуемое как главные члены предложения "]
[null,{"$f":"B1874","v":9},"Осложнённое простое предложение"]
[null,{"$f":"B1875","v":10},"Пунктуационный анализ. Знаки препинания в предложениях со словами и конструкциями, грамматически не связанными с членами предложения"]
[null,{"$f":"B1876","v":11},"Синтаксический анализ сложного предложения"]
[null,{"$f":"B1877","v":12},"Пунктуационный анализ. Знаки препинания в сложносочинённом и сложноподчинённом предложениях"]
[null,{"$f":"B1878","v":13},"Синтаксический анализ сложного предложения"]
[null,{"$f":"B1879","v":14},"Сложные предложения с разными видами связи между частями"]
[null,{"$f":"B1880","v":15},"Текст как речевое произведение. Смысловая и композиционная целостность текста. Создание текстов различных стилей и функционально-смысловых типов речи. Информационная обработка текстов различных стилей и жанров. Грамматические нормы (морфологические нормы). Грамматические нормы (синтаксические нормы). Лексические нормы"]
[null,{"$f":"B1881","v":16},0]
[null,{"$f":"B1882","v":17},0]
[null,{"$f":"B1883","v":18},0]
[null,{"$f":"B1884","v":19},0]
[null,{"$f":"B1885","v":20},0]
[null,{"$f":"B1886","v":21},0]
[null,{"$f":"B1887","v":22},0]
[null,{"$f":"B1888","v":23},0]
[null,{"$f":"B1889","v":24},0]
[null,{"$f":"B1890","v":25},0]
[null,{"$f":"B1891","v":26},0]
[null,{"$f":"B1892","v":27},0]
[null,{"$f":"B1893","v":28},0]
[null,{"$f":"B1894","v":29},0]
[null,{"$f":"B1895","v":30},0]
[null,{"$f":"B1896","v":31},0]
[null,{"$f":"B1897","v":32},0]
[null,{"$f":"B1898","v":33},0]
[null,{"$f":"B1899","v":34},0]
[null,{"$f":"B1900","v":35},0]
[]
[]
["Рекомендация: обратите внимание на задания по темам, которые вызвали у Вас затруднения, решены с ошибкой и отмечены \"0\" или к решению которых Вы не приступили (пустые ячейки)!"]
[]
[]
["Центр независимой оценки качества образования и образовательного аудита \"Легион\""]
[]
["Образовательная организация",null,null,null,{"$f":"E1908","v":"Ленинская СОШ"}]
["Предмет",null,null,null,{"$f":"E1909","v":"Русский язык"}]
["Максимальный балл",null,null,null,39]
["Пороговый балл",null,null,null,15]
["Зона риска",null,null,null,{"$f":"Результаты!E15","v":15},null,null,{"$f":"Результаты!H15","v":16}]
[]
["Уровни",null,null,null,{"$f":"E1914","v":1},{"$f":"F1914","v":2},3,4,5,6,7,8,9,10,11,12,13,14,15,"ПР.ГР",{"$error":"#REF!"},{"$error":"#REF!"},{"$error":"#REF!"},{"$error":"#REF!"},{"$error":"#REF!"},{"$error":"#REF!"},{"$error":"#REF!"},{"$error":"#REF!"},{"$error":"#REF!"},{"$error":"#REF!"},{"$error":"#REF!"},{"$error":"#REF!"},{"$error":"#REF!"},{"$error":"#REF!"},{"$error":"#REF!"},{"$error":"#REF!"},{"$error":"#REF!"},{"$error":"#REF!"},{"$error":"#REF!"},"Тестовый балл","% выплнения заданий по уровням",null,null,"Оценка"]
[null,null,null,null,null,null,null,null,null,null,null,null,null,null,null,null,null,null,null,null,null,null,null,null,null,null,null,null,null,null,null,null,null,null,null,null,null,null,null,null,"Базовый","Повышенный","Высокий"]
["№","Класс","Ф.И.О.","№ задания",{"$f":"E1916","v":1},{"$f":"F1916","v":2},3,4,5,6,7,8,9,10,11,12,13,14,15,0,{"$error":"#REF!"},{"$error":"#REF!"},{"$error":"#REF!"},{"$error":"#REF!"},{"$error":"#REF!"},{"$error":"#REF!"},{"$error":"#REF!"},{"$error":"#REF!"},{"$error":"#REF!"},{"$error":"#REF!"},{"$error":"#REF!"},{"$error":"#REF!"},{"$error":"#REF!"},{"$error":"#REF!"},{"$error":"#REF!"},{"$error":"#REF!"},{"$error":"#REF!"},{"$error":"#REF!"},{"$error":"#REF!"}]
["Максимальный балл",null,null,null,{"$f":"E1917","v":7},{"$f":"F1917","v":1},1,1,1,1,1,1,1,1,1,1,1,1,9,10,{"$error":"#REF!"},{"$error":"#REF!"},{"$error":"#REF!"},{"$error":"#REF!"},{"$error":"#REF!"},{"$error":"#REF!"},{"$error":"#REF!"},{"$error":"#REF!"},{"$error":"#REF!"},{"$error":"#REF!"},{"$error":"#REF!"},{"$error":"#REF!"},{"$error":"#REF!"},{"$error":"#REF!"},{"$error":"#REF!"},{"$error":"#REF!"},{"$error":"#REF!"},{"$error":"#REF!"},{"$error":"#REF!"},39,76.92307692307692,{"$error":"#REF!"},23.076923076923077,0]
[null,null,null,"вариант"]
[{"$f":"Результаты!#REF!","v":{"$error":"#REF!"}},{"$f":"Результаты!#REF!","v":{"$error":"#REF!"}},{"$f":"Результаты!#REF!","v":{"$error":"#REF!"}},{"$f":"Результаты!#REF!","v":{"$error":"#REF!"}},{"$f":"Результаты!#REF!","v":{"$error":"#REF!"}},{"$f":"Результаты!#REF!","v":{"$error":"#REF!"}},{"$f":"Результаты!#REF!","v":{"$error":"#REF!"}},{"$f":"Результаты!#REF!","v":{"$error":"#REF!"}},{"$f":"Результаты!#REF!","v":{"$error":"#REF!"}},{"$f":"Результаты!#REF!","v":{"$error":"#REF!"}},{"$f":"Результаты!#REF!","v":{"$error":"#REF!"}},{"$f":"Результаты!#REF!","v":{"$error":"#REF!"}},{"$f":"Результаты!#REF!","v":{"$error":"#REF!"}},{"$f":"Результаты!#REF!","v":{"$error":"#REF!"}},{"$f":"Результаты!#REF!","v":{"$error":"#REF!"}},{"$f":"Результаты!#REF!","v":{"$error":"#REF!"}},{"$f":"Результаты!#REF!","v":{"$error":"#REF!"}},{"$f":"Результаты!#REF!","v":{"$error":"#REF!"}},{"$f":"Результаты!#REF!","v":{"$error":"#REF!"}},{"$f":"Результаты!#REF!","v":{"$error":"#REF!"}},{"$f":"Результаты!#REF!","v":{"$error":"#REF!"}},{"$f":"Результаты!#REF!","v":{"$error":"#REF!"}},{"$f":"Результаты!#REF!","v":{"$error":"#REF!"}},{"$f":"Результаты!#REF!","v":{"$error":"#REF!"}},{"$f":"Результаты!#REF!","v":{"$error":"#REF!"}},{"$f":"Результаты!#REF!","v":{"$error":"#REF!"}},{"$f":"Результаты!#REF!","v":{"$error":"#REF!"}},{"$f":"Результаты!#REF!","v":{"$error":"#REF!"}},{"$f":"Результаты!#REF!","v":{"$error":"#REF!"}},{"$f":"Результаты!#REF!","v":{"$error":"#REF!"}},{"$f":"Результаты!#REF!","v":{"$error":"#REF!"}},{"$f":"Результаты!#REF!","v":{"$error":"#REF!"}},{"$f":"Результаты!#REF!","v":{"$error":"#REF!"}},{"$f":"Результаты!#REF!","v":{"$error":"#REF!"}},{"$f":"Результаты!#REF!","v":{"$error":"#REF!"}},{"$f":"Результаты!#REF!","v":{"$error":"#REF!"}},{"$f":"Результаты!#REF!","v":{"$error":"#REF!"}},{"$f":"Результаты!#REF!","v":{"$error":"#REF!"}},{"$f":"Результаты!#REF!","v":{"$error":"#REF!"}},{"$f":"Результаты!#REF!","v":{"$error":"#REF!"}},{"$f":"Результаты!#REF!","v":{"$error":"#REF!"}},{"$f":"Результаты!#REF!","v":{"$error":"#REF!"}},{"$f":"Результаты!#REF!","v":{"$error":"#REF!"}},{"$f":"Результаты!#REF!","v":{"$error":"#REF!"}}]
[]
[]
[null,{"$f":"B1922","v":1},{"$f":"C1922","v":"Информационная обработка текстов различных стилей и жанров. Текст как речевое произведение. Смысловая и композиционная целостность текста. Отбор языковых средств в тексте в зависимости от темы, цели, адресата и ситуации общения. Создание текстов различных стилей и функционально-смысловых типов речи. Грамматические нормы (морфологические нормы). Грамматические  нормы  (синтаксические нормы). Лексические нормы. Пунктуация в простом и сложном предложениях. Орфограмма"}]
[null,{"$f":"B1923","v":2},"Текст как речевое произведение. Смысловая и композиционная целостность текста. Анализ текста"]
[null,{"$f":"B1924","v":3},"Выразительные средства лексики и фразеологии. Анализ средств выразительности"]
[null,{"$f":"B1925","v":4},"Правописание приставок. Слитное, дефисное, раздельное написание"]
[null,{"$f":"B1926","v":5},"Правописание суффиксов различных частей речи (кроме -Н-/-НН-). Правописание -Н- и -НН- в различных частях речи. Правописание личных окончаний глаголов и суффиксов причастий настоящего времени"]
[null,{"$f":"B1927","v":6},"Лексика и фразеология. Синонимы. Фразеологические обороты. Группы слов по происхождению и употреблению"]
[null,{"$f":"B1928","v":7},"Словосочетание"]
[null,{"$f":"B1929","v":8},"Предложение. Грамматическая (предикативная) основа предложения. Подлежащее и сказуемое как главные члены предложения "]
[null,{"$f":"B1930","v":9},"Осложнённое простое предложение"]
[null,{"$f":"B1931","v":10},"Пунктуационный анализ. Знаки препинания в предложениях со словами и конструкциями, грамматически не связанными с членами предложения"]
[null,{"$f":"B1932","v":11},"Синтаксический анализ сложного предложения"]
[null,{"$f":"B1933","v":12},"Пунктуационный анализ. Знаки препинания в сложносочинённом и сложноподчинённом предложениях"]
[null,{"$f":"B1934","v":13},"Синтаксический анализ сложного предложения"]
[null,{"$f":"B1935","v":14},"Сложные предложения с разными видами связи между частями"]
[null,{"$f":"B1936","v":15},"Текст как речевое произведение. Смысловая и композиционная целостность текста. Создание текстов различных стилей и функционально-смысловых типов речи. Информационная обработка текстов различных стилей и жанров. Грамматические нормы (морфологические нормы). Грамматические нормы (синтаксические нормы). Лексические нормы"]
[null,{"$f":"B1937","v":16},0]
[null,{"$f":"B1938","v":17},0]
[null,{"$f":"B1939","v":18},0]
[null,{"$f":"B1940","v":19},0]
[null,{"$f":"B1941","v":20},0]
[null,{"$f":"B1942","v":21},0]
[null,{"$f":"B1943","v":22},0]
[null,{"$f":"B1944","v":23},0]
[null,{"$f":"B1945","v":24},0]
[null,{"$f":"B1946","v":25},0]
[null,{"$f":"B1947","v":26},0]
[null,{"$f":"B1948","v":27},0]
[null,{"$f":"B1949","v":28},0]
[null,{"$f":"B1950","v":29},0]
[null,{"$f":"B1951","v":30},0]
[null,{"$f":"B1952","v":31},0]
[null,{"$f":"B1953","v":32},0]
[null,{"$f":"B1954","v":33},0]
[null,{"$f":"B1955","v":34},0]
[null,{"$f":"B1956","v":35},0]
[]
["Рекомендация: обратите внимание на задания по темам, которые вызвали у Вас затруднения, решены с ошибкой и отмечены \"0\" или к решению которых Вы не приступили (пустые ячейки)!"]
[]
[]
[]
["Центр независимой оценки качества образования и образовательного аудита \"Легион\""]
[]
["Образовательная организация",null,null,null,{"$f":"E1964","v":"Ленинская СОШ"}]
["Предмет",null,null,null,{"$f":"E1965","v":"Русский язык"}]
["Максимальный балл",null,null,null,39]
["Пороговый балл",null,null,null,15]
["Зона риска",null,null,null,{"$f":"Результаты!E15","v":15},null,null,{"$f":"Результаты!H15","v":16}]
[]
["Уровни",null,null,null,{"$f":"E1970","v":1},{"$f":"F1970","v":2},3,4,5,6,7,8,9,10,11,12,13,14,15,"ПР.ГР",{"$error":"#REF!"},{"$error":"#REF!"},{"$error":"#REF!"},{"$error":"#REF!"},{"$error":"#REF!"},{"$error":"#REF!"},{"$error":"#REF!"},{"$error":"#REF!"},{"$error":"#REF!"},{"$error":"#REF!"},{"$error":"#REF!"},{"$error":"#REF!"},{"$error":"#REF!"},{"$error":"#REF!"},{"$error":"#REF!"},{"$error":"#REF!"},{"$error":"#REF!"},{"$error":"#REF!"},{"$error":"#REF!"},"Тестовый балл","% выплнения заданий по уровням",null,null,"Оценка"]
[null,null,null,null,null,null,null,null,null,null,null,null,null,null,null,null,null,null,null,null,null,null,null,null,null,null,null,null,null,null,null,null,null,null,null,null,null,null,null,null,"Базовый","Повышенный","Высокий"]
["№","Класс","Ф.И.О.","№ задания",{"$f":"E1972","v":1},{"$f":"F1972","v":2},3,4,5,6,7,8,9,10,11,12,13,14,15,0,{"$error":"#REF!"},{"$error":"#REF!"},{"$error":"#REF!"},{"$error":"#REF!"},{"$error":"#REF!"},{"$error":"#REF!"},{"$error":"#REF!"},{"$error":"#REF!"},{"$error":"#REF!"},{"$error":"#REF!"},{"$error":"#REF!"},{"$error":"#REF!"},{"$error":"#REF!"},{"$error":"#REF!"},{"$error":"#REF!"},{"$error":"#REF!"},{"$error":"#REF!"},{"$error":"#REF!"},{"$error":"#REF!"}]
["Максимальный балл",null,null,null,{"$f":"E1973","v":7},{"$f":"F1973","v":1},1,1,1,1,1,1,1,1,1,1,1,1,9,10,{"$error":"#REF!"},{"$error":"#REF!"},{"$error":"#REF!"},{"$error":"#REF!"},{"$error":"#REF!"},{"$error":"#REF!"},{"$error":"#REF!"},{"$error":"#REF!"},{"$error":"#REF!"},{"$error":"#REF!"},{"$error":"#REF!"},{"$error":"#REF!"},{"$error":"#REF!"},{"$error":"#REF!"},{"$error":"#REF!"},{"$error":"#REF!"},{"$error":"#REF!"},{"$error":"#REF!"},{"$error":"#REF!"},39,76.92307692307692,{"$error":"#REF!"},23.076923076923077,0]
[null,null,null,"вариант"]
[{"$f":"Результаты!#REF!","v":{"$error":"#REF!"}},{"$f":"Результаты!#REF!","v":{"$error":"#REF!"}},{"$f":"Результаты!#REF!","v":{"$error":"#REF!"}},{"$f":"Результаты!#REF!","v":{"$error":"#REF!"}},{"$f":"Результаты!#REF!","v":{"$error":"#REF!"}},{"$f":"Результаты!#REF!","v":{"$error":"#REF!"}},{"$f":"Результаты!#REF!","v":{"$error":"#REF!"}},{"$f":"Результаты!#REF!","v":{"$error":"#REF!"}},{"$f":"Результаты!#REF!","v":{"$error":"#REF!"}},{"$f":"Результаты!#REF!","v":{"$error":"#REF!"}},{"$f":"Результаты!#REF!","v":{"$error":"#REF!"}},{"$f":"Результаты!#REF!","v":{"$error":"#REF!"}},{"$f":"Результаты!#REF!","v":{"$error":"#REF!"}},{"$f":"Результаты!#REF!","v":{"$error":"#REF!"}},{"$f":"Результаты!#REF!","v":{"$error":"#REF!"}},{"$f":"Результаты!#REF!","v":{"$error":"#REF!"}},{"$f":"Результаты!#REF!","v":{"$error":"#REF!"}},{"$f":"Результаты!#REF!","v":{"$error":"#REF!"}},{"$f":"Результаты!#REF!","v":{"$error":"#REF!"}},{"$f":"Результаты!#REF!","v":{"$error":"#REF!"}},{"$f":"Результаты!#REF!","v":{"$error":"#REF!"}},{"$f":"Результаты!#REF!","v":{"$error":"#REF!"}},{"$f":"Результаты!#REF!","v":{"$error":"#REF!"}},{"$f":"Результаты!#REF!","v":{"$error":"#REF!"}},{"$f":"Результаты!#REF!","v":{"$error":"#REF!"}},{"$f":"Результаты!#REF!","v":{"$error":"#REF!"}},{"$f":"Результаты!#REF!","v":{"$error":"#REF!"}},{"$f":"Результаты!#REF!","v":{"$error":"#REF!"}},{"$f":"Результаты!#REF!","v":{"$error":"#REF!"}},{"$f":"Результаты!#REF!","v":{"$error":"#REF!"}},{"$f":"Результаты!#REF!","v":{"$error":"#REF!"}},{"$f":"Результаты!#REF!","v":{"$error":"#REF!"}},{"$f":"Результаты!#REF!","v":{"$error":"#REF!"}},{"$f":"Результаты!#REF!","v":{"$error":"#REF!"}},{"$f":"Результаты!#REF!","v":{"$error":"#REF!"}},{"$f":"Результаты!#REF!","v":{"$error":"#REF!"}},{"$f":"Результаты!#REF!","v":{"$error":"#REF!"}},{"$f":"Результаты!#REF!","v":{"$error":"#REF!"}},{"$f":"Результаты!#REF!","v":{"$error":"#REF!"}},{"$f":"Результаты!#REF!","v":{"$error":"#REF!"}},{"$f":"Результаты!#REF!","v":{"$error":"#REF!"}},{"$f":"Результаты!#REF!","v":{"$error":"#REF!"}},{"$f":"Результаты!#REF!","v":{"$error":"#REF!"}},{"$f":"Результаты!#REF!","v":{"$error":"#REF!"}}]
[]
[]
[null,{"$f":"B1978","v":1},{"$f":"C1978","v":"Информационная обработка текстов различных стилей и жанров. Текст как речевое произведение. Смысловая и композиционная целостность текста. Отбор языковых средств в тексте в зависимости от темы, цели, адресата и ситуации общения. Создание текстов различных стилей и функционально-смысловых типов речи. Грамматические нормы (морфологические нормы). Грамматические  нормы  (синтаксические нормы). Лексические нормы. Пунктуация в простом и сложном предложениях. Орфограмма"}]
[null,{"$f":"B1979","v":2},"Текст как речевое произведение. Смысловая и композиционная целостность текста. Анализ текста"]
[null,{"$f":"B1980","v":3},"Выразительные средства лексики и фразеологии. Анализ средств выразительности"]
[null,{"$f":"B1981","v":4},"Правописание приставок. Слитное, дефисное, раздельное написание"]
[null,{"$f":"B1982","v":5},"Правописание суффиксов различных частей речи (кроме -Н-/-НН-). Правописание -Н- и -НН- в различных частях речи. Правописание личных окончаний глаголов и суффиксов причастий настоящего времени"]
[null,{"$f":"B1983","v":6},"Лексика и фразеология. Синонимы. Фразеологические обороты. Группы слов по происхождению и употреблению"]
[null,{"$f":"B1984","v":7},"Словосочетание"]
[null,{"$f":"B1985","v":8},"Предложение. Грамматическая (предикативная) основа предложения. Подлежащее и сказуемое как главные члены предложения "]
[null,{"$f":"B1986","v":9},"Осложнённое простое предложение"]
[null,{"$f":"B1987","v":10},"Пунктуационный анализ. Знаки препинания в предложениях со словами и конструкциями, грамматически не связанными с членами предложения"]
[null,{"$f":"B1988","v":11},"Синтаксический анализ сложного предложения"]
[null,{"$f":"B1989","v":12},"Пунктуационный анализ. Знаки препинания в сложносочинённом и сложноподчинённом предложениях"]
[null,{"$f":"B1990","v":13},"Синтаксический анализ сложного предложения"]
[null,{"$f":"B1991","v":14},"Сложные предложения с разными видами связи между частями"]
[null,{"$f":"B1992","v":15},"Текст как речевое произведение. Смысловая и композиционная целостность текста. Создание текстов различных стилей и функционально-смысловых типов речи. Информационная обработка текстов различных стилей и жанров. Грамматические нормы (морфологические нормы). Грамматические нормы (синтаксические нормы). Лексические нормы"]
[null,{"$f":"B1993","v":16},0]
[null,{"$f":"B1994","v":17},0]
[null,{"$f":"B1995","v":18},0]
[null,{"$f":"B1996","v":19},0]
[null,{"$f":"B1997","v":20},0]
[null,{"$f":"B1998","v":21},0]
[null,{"$f":"B1999","v":22},0]
[null,{"$f":"B2000","v":23},0]
[null,{"$f":"B2001","v":24},0]
[null,{"$f":"B2002","v":25},0]
[null,{"$f":"B2003","v":26},0]
[null,{"$f":"B2004","v":27},0]
[null,{"$f":"B2005","v":28},0]
[null,{"$f":"B2006","v":29},0]
[null,{"$f":"B2007","v":30},0]
[null,{"$f":"B2008","v":31},0]
[null,{"$f":"B2009","v":32},0]
[null,{"$f":"B2010","v":33},0]
[null,{"$f":"B2011","v":34},0]
[null,{"$f":"B2012","v":35},0]
[]
["Рекомендация: обратите внимание на задания по темам, которые вызвали у Вас затруднения, решены с ошибкой и отмечены \"0\" или к решению которых Вы не приступили (пустые ячейки)!"]
[]
[]
[]
["Центр независимой оценки качества образования и образовательного аудита \"Легион\""]
[]
["Образовательная организация",null,null,null,{"$f":"E2020","v":"Ленинская СОШ"}]
["Предмет",null,null,null,{"$f":"E2021","v":"Русский язык"}]
["Максимальный балл",null,null,null,39]
["Пороговый балл",null,null,null,15]
["Зона риска",null,null,null,{"$f":"Результаты!E15","v":15},null,null,{"$f":"Результаты!H15","v":16}]
[]
["Уровни",null,null,null,{"$f":"E2026","v":1},{"$f":"F2026","v":2},3,4,5,6,7,8,9,10,11,12,13,14,15,"ПР.ГР",{"$error":"#REF!"},{"$error":"#REF!"},{"$error":"#REF!"},{"$error":"#REF!"},{"$error":"#REF!"},{"$error":"#REF!"},{"$error":"#REF!"},{"$error":"#REF!"},{"$error":"#REF!"},{"$error":"#REF!"},{"$error":"#REF!"},{"$error":"#REF!"},{"$error":"#REF!"},{"$error":"#REF!"},{"$error":"#REF!"},{"$error":"#REF!"},{"$error":"#REF!"},{"$error":"#REF!"},{"$error":"#REF!"},"Тестовый балл","% выплнения заданий по уровням",null,null,"Оценка"]
[null,null,null,null,null,null,null,null,null,null,null,null,null,null,null,null,null,null,null,null,null,null,null,null,null,null,null,null,null,null,null,null,null,null,null,null,null,null,null,null,"Базовый","Повышенный","Высокий"]
["№","Класс","Ф.И.О.","№ задания",{"$f":"E2028","v":1},{"$f":"F2028","v":2},3,4,5,6,7,8,9,10,11,12,13,14,15,0,{"$error":"#REF!"},{"$error":"#REF!"},{"$error":"#REF!"},{"$error":"#REF!"},{"$error":"#REF!"},{"$error":"#REF!"},{"$error":"#REF!"},{"$error":"#REF!"},{"$error":"#REF!"},{"$error":"#REF!"},{"$error":"#REF!"},{"$error":"#REF!"},{"$error":"#REF!"},{"$error":"#REF!"},{"$error":"#REF!"},{"$error":"#REF!"},{"$error":"#REF!"},{"$error":"#REF!"},{"$error":"#REF!"}]
["Максимальный балл",null,null,null,{"$f":"E2029","v":7},{"$f":"F2029","v":1},1,1,1,1,1,1,1,1,1,1,1,1,9,10,{"$error":"#REF!"},{"$error":"#REF!"},{"$error":"#REF!"},{"$error":"#REF!"},{"$error":"#REF!"},{"$error":"#REF!"},{"$error":"#REF!"},{"$error":"#REF!"},{"$error":"#REF!"},{"$error":"#REF!"},{"$error":"#REF!"},{"$error":"#REF!"},{"$error":"#REF!"},{"$error":"#REF!"},{"$error":"#REF!"},{"$error":"#REF!"},{"$error":"#REF!"},{"$error":"#REF!"},{"$error":"#REF!"},39,76.92307692307692,{"$error":"#REF!"},23.076923076923077,0]
[null,null,null,"вариант"]
[{"$f":"Результаты!#REF!","v":{"$error":"#REF!"}},{"$f":"Результаты!#REF!","v":{"$error":"#REF!"}},{"$f":"Результаты!#REF!","v":{"$error":"#REF!"}},{"$f":"Результаты!#REF!","v":{"$error":"#REF!"}},{"$f":"Результаты!#REF!","v":{"$error":"#REF!"}},{"$f":"Результаты!#REF!","v":{"$error":"#REF!"}},{"$f":"Результаты!#REF!","v":{"$error":"#REF!"}},{"$f":"Результаты!#REF!","v":{"$error":"#REF!"}},{"$f":"Результаты!#REF!","v":{"$error":"#REF!"}},{"$f":"Результаты!#REF!","v":{"$error":"#REF!"}},{"$f":"Результаты!#REF!","v":{"$error":"#REF!"}},{"$f":"Результаты!#REF!","v":{"$error":"#REF!"}},{"$f":"Результаты!#REF!","v":{"$error":"#REF!"}},{"$f":"Результаты!#REF!","v":{"$error":"#REF!"}},{"$f":"Результаты!#REF!","v":{"$error":"#REF!"}},{"$f":"Результаты!#REF!","v":{"$error":"#REF!"}},{"$f":"Результаты!#REF!","v":{"$error":"#REF!"}},{"$f":"Результаты!#REF!","v":{"$error":"#REF!"}},{"$f":"Результаты!#REF!","v":{"$error":"#REF!"}},{"$f":"Результаты!#REF!","v":{"$error":"#REF!"}},{"$f":"Результаты!#REF!","v":{"$error":"#REF!"}},{"$f":"Результаты!#REF!","v":{"$error":"#REF!"}},{"$f":"Результаты!#REF!","v":{"$error":"#REF!"}},{"$f":"Результаты!#REF!","v":{"$error":"#REF!"}},{"$f":"Результаты!#REF!","v":{"$error":"#REF!"}},{"$f":"Результаты!#REF!","v":{"$error":"#REF!"}},{"$f":"Результаты!#REF!","v":{"$error":"#REF!"}},{"$f":"Результаты!#REF!","v":{"$error":"#REF!"}},{"$f":"Результаты!#REF!","v":{"$error":"#REF!"}},{"$f":"Результаты!#REF!","v":{"$error":"#REF!"}},{"$f":"Результаты!#REF!","v":{"$error":"#REF!"}},{"$f":"Результаты!#REF!","v":{"$error":"#REF!"}},{"$f":"Результаты!#REF!","v":{"$error":"#REF!"}},{"$f":"Результаты!#REF!","v":{"$error":"#REF!"}},{"$f":"Результаты!#REF!","v":{"$error":"#REF!"}},{"$f":"Результаты!#REF!","v":{"$error":"#REF!"}},{"$f":"Результаты!#REF!","v":{"$error":"#REF!"}},{"$f":"Результаты!#REF!","v":{"$error":"#REF!"}},{"$f":"Результаты!#REF!","v":{"$error":"#REF!"}},{"$f":"Результаты!#REF!","v":{"$error":"#REF!"}},{"$f":"Результаты!#REF!","v":{"$error":"#REF!"}},{"$f":"Результаты!#REF!","v":{"$error":"#REF!"}},{"$f":"Результаты!#REF!","v":{"$error":"#REF!"}},{"$f":"Результаты!#REF!","v":{"$error":"#REF!"}}]
[]
[]
[null,{"$f":"B2034","v":1},{"$f":"C2034","v":"Информационная обработка текстов различных стилей и жанров. Текст как речевое произведение. Смысловая и композиционная целостность текста. Отбор языковых средств в тексте в зависимости от темы, цели, адресата и ситуации общения. Создание текстов различных стилей и функционально-смысловых типов речи. Грамматические нормы (морфологические нормы). Грамматические  нормы  (синтаксические нормы). Лексические нормы. Пунктуация в простом и сложном предложениях. Орфограмма"}]
[null,{"$f":"B2035","v":2},"Текст как речевое произведение. Смысловая и композиционная целостность текста. Анализ текста"]
[null,{"$f":"B2036","v":3},"Выразительные средства лексики и фразеологии. Анализ средств выразительности"]
[null,{"$f":"B2037","v":4},"Правописание приставок. Слитное, дефисное, раздельное написание"]
[null,{"$f":"B2038","v":5},"Правописание суффиксов различных частей речи (кроме -Н-/-НН-). Правописание -Н- и -НН- в различных частях речи. Правописание личных окончаний глаголов и суффиксов причастий настоящего времени"]
[null,{"$f":"B2039","v":6},"Лексика и фразеология. Синонимы. Фразеологические обороты. Группы слов по происхождению и употреблению"]
[null,{"$f":"B2040","v":7},"Словосочетание"]
[null,{"$f":"B2041","v":8},"Предложение. Грамматическая (предикативная) основа предложения. Подлежащее и сказуемое как главные члены предложения "]
[null,{"$f":"B2042","v":9},"Осложнённое простое предложение"]
[null,{"$f":"B2043","v":10},"Пунктуационный анализ. Знаки препинания в предложениях со словами и конструкциями, грамматически не связанными с членами предложения"]
[null,{"$f":"B2044","v":11},"Синтаксический анализ сложного предложения"]
[null,{"$f":"B2045","v":12},"Пунктуационный анализ. Знаки препинания в сложносочинённом и сложноподчинённом предложениях"]
[null,{"$f":"B2046","v":13},"Синтаксический анализ сложного предложения"]
[null,{"$f":"B2047","v":14},"Сложные предложения с разными видами связи между частями"]
[null,{"$f":"B2048","v":15},"Текст как речевое произведение. Смысловая и композиционная целостность текста. Создание текстов различных стилей и функционально-смысловых типов речи. Информационная обработка текстов различных стилей и жанров. Грамматические нормы (морфологические нормы). Грамматические нормы (синтаксические нормы). Лексические нормы"]
[null,{"$f":"B2049","v":16},0]
[null,{"$f":"B2050","v":17},0]
[null,{"$f":"B2051","v":18},0]
[null,{"$f":"B2052","v":19},0]
[null,{"$f":"B2053","v":20},0]
[null,{"$f":"B2054","v":21},0]
[null,{"$f":"B2055","v":22},0]
[null,{"$f":"B2056","v":23},0]
[null,{"$f":"B2057","v":24},0]
[null,{"$f":"B2058","v":25},0]
[null,{"$f":"B2059","v":26},0]
[null,{"$f":"B2060","v":27},0]
[null,{"$f":"B2061","v":28},0]
[null,{"$f":"B2062","v":29},0]
[null,{"$f":"B2063","v":30},0]
[null,{"$f":"B2064","v":31},0]
[null,{"$f":"B2065","v":32},0]
[null,{"$f":"B2066","v":33},0]
[null,{"$f":"B2067","v":34},0]
[null,{"$f":"B2068","v":35},0]
[]
["Рекомендация: обратите внимание на задания по темам, которые вызвали у Вас затруднения, решены с ошибкой и отмечены \"0\" или к решению которых Вы не приступили (пустые ячейки)!"]
[]
[]
[]
["Центр независимой оценки качества образования и образовательного аудита \"Легион\""]
[]
["Образовательная организация",null,null,null,{"$f":"E2020","v":"Ленинская СОШ"}]
["Предмет",null,null,null,{"$f":"E2021","v":"Русский язык"}]
["Максимальный балл",null,null,null,39]
["Пороговый балл",null,null,null,15]
["Зона риска",null,null,null,{"$f":"Результаты!E15","v":15},null,null,{"$f":"Результаты!H15","v":16}]
[]
["Уровни",null,null,null,{"$f":"E2082","v":1},{"$f":"F2082","v":2},3,4,5,6,7,8,9,10,11,12,13,14,15,"ПР.ГР",{"$error":"#REF!"},{"$error":"#REF!"},{"$error":"#REF!"},{"$error":"#REF!"},{"$error":"#REF!"},{"$error":"#REF!"},{"$error":"#REF!"},{"$error":"#REF!"},{"$error":"#REF!"},{"$error":"#REF!"},{"$error":"#REF!"},{"$error":"#REF!"},{"$error":"#REF!"},{"$error":"#REF!"},{"$error":"#REF!"},{"$error":"#REF!"},{"$error":"#REF!"},{"$error":"#REF!"},{"$error":"#REF!"},"Тестовый балл","% выплнения заданий по уровням",null,null,"Оценка"]
[null,null,null,null,null,null,null,null,null,null,null,null,null,null,null,null,null,null,null,null,null,null,null,null,null,null,null,null,null,null,null,null,null,null,null,null,null,null,null,null,"Базовый","Повышенный","Высокий"]
["№","Класс","Ф.И.О.","№ задания",{"$f":"E2084","v":1},{"$f":"F2084","v":2},3,4,5,6,7,8,9,10,11,12,13,14,15,0,{"$error":"#REF!"},{"$error":"#REF!"},{"$error":"#REF!"},{"$error":"#REF!"},{"$error":"#REF!"},{"$error":"#REF!"},{"$error":"#REF!"},{"$error":"#REF!"},{"$error":"#REF!"},{"$error":"#REF!"},{"$error":"#REF!"},{"$error":"#REF!"},{"$error":"#REF!"},{"$error":"#REF!"},{"$error":"#REF!"},{"$error":"#REF!"},{"$error":"#REF!"},{"$error":"#REF!"},{"$error":"#REF!"}]
["Максимальный балл",null,null,null,{"$f":"E2085","v":7},{"$f":"F2085","v":1},1,1,1,1,1,1,1,1,1,1,1,1,9,10,{"$error":"#REF!"},{"$error":"#REF!"},{"$error":"#REF!"},{"$error":"#REF!"},{"$error":"#REF!"},{"$error":"#REF!"},{"$error":"#REF!"},{"$error":"#REF!"},{"$error":"#REF!"},{"$error":"#REF!"},{"$error":"#REF!"},{"$error":"#REF!"},{"$error":"#REF!"},{"$error":"#REF!"},{"$error":"#REF!"},{"$error":"#REF!"},{"$error":"#REF!"},{"$error":"#REF!"},{"$error":"#REF!"},39,76.92307692307692,{"$error":"#REF!"},23.076923076923077,0]
[null,null,null,"вариант"]
[{"$f":"Результаты!#REF!","v":{"$error":"#REF!"}},{"$f":"Результаты!#REF!","v":{"$error":"#REF!"}},{"$f":"Результаты!#REF!","v":{"$error":"#REF!"}},{"$f":"Результаты!#REF!","v":{"$error":"#REF!"}},{"$f":"Результаты!#REF!","v":{"$error":"#REF!"}},{"$f":"Результаты!#REF!","v":{"$error":"#REF!"}},{"$f":"Результаты!#REF!","v":{"$error":"#REF!"}},{"$f":"Результаты!#REF!","v":{"$error":"#REF!"}},{"$f":"Результаты!#REF!","v":{"$error":"#REF!"}},{"$f":"Результаты!#REF!","v":{"$error":"#REF!"}},{"$f":"Результаты!#REF!","v":{"$error":"#REF!"}},{"$f":"Результаты!#REF!","v":{"$error":"#REF!"}},{"$f":"Результаты!#REF!","v":{"$error":"#REF!"}},{"$f":"Результаты!#REF!","v":{"$error":"#REF!"}},{"$f":"Результаты!#REF!","v":{"$error":"#REF!"}},{"$f":"Результаты!#REF!","v":{"$error":"#REF!"}},{"$f":"Результаты!#REF!","v":{"$error":"#REF!"}},{"$f":"Результаты!#REF!","v":{"$error":"#REF!"}},{"$f":"Результаты!#REF!","v":{"$error":"#REF!"}},{"$f":"Результаты!#REF!","v":{"$error":"#REF!"}},{"$f":"Результаты!#REF!","v":{"$error":"#REF!"}},{"$f":"Результаты!#REF!","v":{"$error":"#REF!"}},{"$f":"Результаты!#REF!","v":{"$error":"#REF!"}},{"$f":"Результаты!#REF!","v":{"$error":"#REF!"}},{"$f":"Результаты!#REF!","v":{"$error":"#REF!"}},{"$f":"Результаты!#REF!","v":{"$error":"#REF!"}},{"$f":"Результаты!#REF!","v":{"$error":"#REF!"}},{"$f":"Результаты!#REF!","v":{"$error":"#REF!"}},{"$f":"Результаты!#REF!","v":{"$error":"#REF!"}},{"$f":"Результаты!#REF!","v":{"$error":"#REF!"}},{"$f":"Результаты!#REF!","v":{"$error":"#REF!"}},{"$f":"Результаты!#REF!","v":{"$error":"#REF!"}},{"$f":"Результаты!#REF!","v":{"$error":"#REF!"}},{"$f":"Результаты!#REF!","v":{"$error":"#REF!"}},{"$f":"Результаты!#REF!","v":{"$error":"#REF!"}},{"$f":"Результаты!#REF!","v":{"$error":"#REF!"}},{"$f":"Результаты!#REF!","v":{"$error":"#REF!"}},{"$f":"Результаты!#REF!","v":{"$error":"#REF!"}},{"$f":"Результаты!#REF!","v":{"$error":"#REF!"}},{"$f":"Результаты!#REF!","v":{"$error":"#REF!"}},{"$f":"Результаты!#REF!","v":{"$error":"#REF!"}},{"$f":"Результаты!#REF!","v":{"$error":"#REF!"}},{"$f":"Результаты!#REF!","v":{"$error":"#REF!"}},{"$f":"Результаты!#REF!","v":{"$error":"#REF!"}}]
[]
[]
[null,{"$f":"B2090","v":1},{"$f":"C2090","v":"Информационная обработка текстов различных стилей и жанров. Текст как речевое произведение. Смысловая и композиционная целостность текста. Отбор языковых средств в тексте в зависимости от темы, цели, адресата и ситуации общения. Создание текстов различных стилей и функционально-смысловых типов речи. Грамматические нормы (морфологические нормы). Грамматические  нормы  (синтаксические нормы). Лексические нормы. Пунктуация в простом и сложном предложениях. Орфограмма"}]
[null,{"$f":"B2091","v":2},"Текст как речевое произведение. Смысловая и композиционная целостность текста. Анализ текста"]
[null,{"$f":"B2092","v":3},"Выразительные средства лексики и фразеологии. Анализ средств выразительности"]
[null,{"$f":"B2093","v":4},"Правописание приставок. Слитное, дефисное, раздельное написание"]
[null,{"$f":"B2094","v":5},"Правописание суффиксов различных частей речи (кроме -Н-/-НН-). Правописание -Н- и -НН- в различных частях речи. Правописание личных окончаний глаголов и суффиксов причастий настоящего времени"]
[null,{"$f":"B2095","v":6},"Лексика и фразеология. Синонимы. Фразеологические обороты. Группы слов по происхождению и употреблению"]
[null,{"$f":"B2096","v":7},"Словосочетание"]
[null,{"$f":"B2097","v":8},"Предложение. Грамматическая (предикативная) основа предложения. Подлежащее и сказуемое как главные члены предложения "]
[null,{"$f":"B2098","v":9},"Осложнённое простое предложение"]
[null,{"$f":"B2099","v":10},"Пунктуационный анализ. Знаки препинания в предложениях со словами и конструкциями, грамматически не связанными с членами предложения"]
[null,{"$f":"B2100","v":11},"Синтаксический анализ сложного предложения"]
[null,{"$f":"B2101","v":12},"Пунктуационный анализ. Знаки препинания в сложносочинённом и сложноподчинённом предложениях"]
[null,{"$f":"B2102","v":13},"Синтаксический анализ сложного предложения"]
[null,{"$f":"B2103","v":14},"Сложные предложения с разными видами связи между частями"]
[null,{"$f":"B2104","v":15},"Текст как речевое произведение. Смысловая и композиционная целостность текста. Создание текстов различных стилей и функционально-смысловых типов речи. Информационная обработка текстов различных стилей и жанров. Грамматические нормы (морфологические нормы). Грамматические нормы (синтаксические нормы). Лексические нормы"]
[null,{"$f":"B2105","v":16},0]
[null,{"$f":"B2106","v":17},0]
[null,{"$f":"B2107","v":18},0]
[null,{"$f":"B2108","v":19},0]
[null,{"$f":"B2109","v":20},0]
[null,{"$f":"B2110","v":21},0]
[null,{"$f":"B2111","v":22},0]
[null,{"$f":"B2112","v":23},0]
[null,{"$f":"B2113","v":24},0]
[null,{"$f":"B2114","v":25},0]
[null,{"$f":"B2115","v":26},0]
[null,{"$f":"B2116","v":27},0]
[null,{"$f":"B2117","v":28},0]
[null,{"$f":"B2118","v":29},0]
[null,{"$f":"B2119","v":30},0]
[null,{"$f":"B2120","v":31},0]
[null,{"$f":"B2121","v":32},0]
[null,{"$f":"B2122","v":33},0]
[null,{"$f":"B2123","v":34},{"$f":"C2123","v":0}]
[null,{"$f":"B2124","v":35},{"$f":"C2124","v":0}]
[]
["Рекомендация: обратите внимание на задания по темам, которые вызвали у Вас затруднения, решены с ошибкой и отмечены \"0\" или к решению которых Вы не приступили (пустые ячейки)!"]
[]
[]
[]
["Центр независимой оценки качества образования и образовательного аудита \"Легион\""]
[]
["Образовательная организация",null,null,null,{"$f":"E2132","v":"Ленинская СОШ"}]
["Предмет",null,null,null,{"$f":"E2133","v":"Русский язык"}]
["Максимальный балл",null,null,null,39]
["Пороговый балл",null,null,null,15]
["Зона риска",null,null,null,{"$f":"Результаты!E15","v":15},null,null,{"$f":"Результаты!H15","v":16}]
[]
["Уровни",null,null,null,{"$f":"E2138","v":1},{"$f":"F2138","v":2},3,4,5,6,7,8,9,10,11,12,13,14,15,"ПР.ГР",{"$error":"#REF!"},{"$error":"#REF!"},{"$error":"#REF!"},{"$error":"#REF!"},{"$error":"#REF!"},{"$error":"#REF!"},{"$error":"#REF!"},{"$error":"#REF!"},{"$error":"#REF!"},{"$error":"#REF!"},{"$error":"#REF!"},{"$error":"#REF!"},{"$error":"#REF!"},{"$error":"#REF!"},{"$error":"#REF!"},{"$error":"#REF!"},{"$error":"#REF!"},{"$error":"#REF!"},{"$error":"#REF!"},"Тестовый балл","% выплнения заданий по уровням",null,null,"Оценка"]
[null,null,null,null,null,null,null,null,null,null,null,null,null,null,null,null,null,null,null,null,null,null,null,null,null,null,null,null,null,null,null,null,null,null,null,null,null,null,null,null,"Базовый","Повышенный","Высокий"]
["№","Класс","Ф.И.О.","№ задания",{"$f":"E2140","v":1},{"$f":"F2140","v":2},3,4,5,6,7,8,9,10,11,12,13,14,15,0,{"$error":"#REF!"},{"$error":"#REF!"},{"$error":"#REF!"},{"$error":"#REF!"},{"$error":"#REF!"},{"$error":"#REF!"},{"$error":"#REF!"},{"$error":"#REF!"},{"$error":"#REF!"},{"$error":"#REF!"},{"$error":"#REF!"},{"$error":"#REF!"},{"$error":"#REF!"},{"$error":"#REF!"},{"$error":"#REF!"},{"$error":"#REF!"},{"$error":"#REF!"},{"$error":"#REF!"},{"$error":"#REF!"}]
["Максимальный балл",null,null,null,{"$f":"E2141","v":7},{"$f":"F2141","v":1},1,1,1,1,1,1,1,1,1,1,1,1,9,10,{"$error":"#REF!"},{"$error":"#REF!"},{"$error":"#REF!"},{"$error":"#REF!"},{"$error":"#REF!"},{"$error":"#REF!"},{"$error":"#REF!"},{"$error":"#REF!"},{"$error":"#REF!"},{"$error":"#REF!"},{"$error":"#REF!"},{"$error":"#REF!"},{"$error":"#REF!"},{"$error":"#REF!"},{"$error":"#REF!"},{"$error":"#REF!"},{"$error":"#REF!"},{"$error":"#REF!"},{"$error":"#REF!"},39,76.92307692307692,{"$error":"#REF!"},23.076923076923077,0]
[null,null,null,"вариант"]
[{"$f":"Результаты!#REF!","v":{"$error":"#REF!"}},{"$f":"Результаты!#REF!","v":{"$error":"#REF!"}},{"$f":"Результаты!#REF!","v":{"$error":"#REF!"}},{"$f":"Результаты!#REF!","v":{"$error":"#REF!"}},{"$f":"Результаты!#REF!","v":{"$error":"#REF!"}},{"$f":"Результаты!#REF!","v":{"$error":"#REF!"}},{"$f":"Результаты!#REF!","v":{"$error":"#REF!"}},{"$f":"Результаты!#REF!","v":{"$error":"#REF!"}},{"$f":"Результаты!#REF!","v":{"$error":"#REF!"}},{"$f":"Результаты!#REF!","v":{"$error":"#REF!"}},{"$f":"Результаты!#REF!","v":{"$error":"#REF!"}},{"$f":"Результаты!#REF!","v":{"$error":"#REF!"}},{"$f":"Результаты!#REF!","v":{"$error":"#REF!"}},{"$f":"Результаты!#REF!","v":{"$error":"#REF!"}},{"$f":"Результаты!#REF!","v":{"$error":"#REF!"}},{"$f":"Результаты!#REF!","v":{"$error":"#REF!"}},{"$f":"Результаты!#REF!","v":{"$error":"#REF!"}},{"$f":"Результаты!#REF!","v":{"$error":"#REF!"}},{"$f":"Результаты!#REF!","v":{"$error":"#REF!"}},{"$f":"Результаты!#REF!","v":{"$error":"#REF!"}},{"$f":"Результаты!#REF!","v":{"$error":"#REF!"}},{"$f":"Результаты!#REF!","v":{"$error":"#REF!"}},{"$f":"Результаты!#REF!","v":{"$error":"#REF!"}},{"$f":"Результаты!#REF!","v":{"$error":"#REF!"}},{"$f":"Результаты!#REF!","v":{"$error":"#REF!"}},{"$f":"Результаты!#REF!","v":{"$error":"#REF!"}},{"$f":"Результаты!#REF!","v":{"$error":"#REF!"}},{"$f":"Результаты!#REF!","v":{"$error":"#REF!"}},{"$f":"Результаты!#REF!","v":{"$error":"#REF!"}},{"$f":"Результаты!#REF!","v":{"$error":"#REF!"}},{"$f":"Результаты!#REF!","v":{"$error":"#REF!"}},{"$f":"Результаты!#REF!","v":{"$error":"#REF!"}},{"$f":"Результаты!#REF!","v":{"$error":"#REF!"}},{"$f":"Результаты!#REF!","v":{"$error":"#REF!"}},{"$f":"Результаты!#REF!","v":{"$error":"#REF!"}},{"$f":"Результаты!#REF!","v":{"$error":"#REF!"}},{"$f":"Результаты!#REF!","v":{"$error":"#REF!"}},{"$f":"Результаты!#REF!","v":{"$error":"#REF!"}},{"$f":"Результаты!#REF!","v":{"$error":"#REF!"}},{"$f":"Результаты!#REF!","v":{"$error":"#REF!"}},{"$f":"Результаты!#REF!","v":{"$error":"#REF!"}},{"$f":"Результаты!#REF!","v":{"$error":"#REF!"}},{"$f":"Результаты!#REF!","v":{"$error":"#REF!"}},{"$f":"Результаты!#REF!","v":{"$error":"#REF!"}}]
[]
[]
[null,{"$f":"B2146","v":1},{"$f":"C2146","v":"Информационная обработка текстов различных стилей и жанров. Текст как речевое произведение. Смысловая и композиционная целостность текста. Отбор языковых средств в тексте в зависимости от темы, цели, адресата и ситуации общения. Создание текстов различных стилей и функционально-смысловых типов речи. Грамматические нормы (морфологические нормы). Грамматические  нормы  (синтаксические нормы). Лексические нормы. Пунктуация в простом и сложном предложениях. Орфограмма"}]
[null,{"$f":"B2147","v":2},"Текст как речевое произведение. Смысловая и композиционная целостность текста. Анализ текста"]
[null,{"$f":"B2148","v":3},"Выразительные средства лексики и фразеологии. Анализ средств выразительности"]
[null,{"$f":"B2149","v":4},"Правописание приставок. Слитное, дефисное, раздельное написание"]
[null,{"$f":"B2150","v":5},"Правописание суффиксов различных частей речи (кроме -Н-/-НН-). Правописание -Н- и -НН- в различных частях речи. Правописание личных окончаний глаголов и суффиксов причастий настоящего времени"]
[null,{"$f":"B2151","v":6},"Лексика и фразеология. Синонимы. Фразеологические обороты. Группы слов по происхождению и употреблению"]
[null,{"$f":"B2152","v":7},"Словосочетание"]
[null,{"$f":"B2153","v":8},"Предложение. Грамматическая (предикативная) основа предложения. Подлежащее и сказуемое как главные члены предложения "]
[null,{"$f":"B2154","v":9},"Осложнённое простое предложение"]
[null,{"$f":"B2155","v":10},"Пунктуационный анализ. Знаки препинания в предложениях со словами и конструкциями, грамматически не связанными с членами предложения"]
[null,{"$f":"B2156","v":11},"Синтаксический анализ сложного предложения"]
[null,{"$f":"B2157","v":12},"Пунктуационный анализ. Знаки препинания в сложносочинённом и сложноподчинённом предложениях"]
[null,{"$f":"B2158","v":13},"Синтаксический анализ сложного предложения"]
[null,{"$f":"B2159","v":14},"Сложные предложения с разными видами связи между частями"]
[null,{"$f":"B2160","v":15},"Текст как речевое произведение. Смысловая и композиционная целостность текста. Создание текстов различных стилей и функционально-смысловых типов речи. Информационная обработка текстов различных стилей и жанров. Грамматические нормы (морфологические нормы). Грамматические нормы (синтаксические нормы). Лексические нормы"]
[null,{"$f":"B2161","v":16},0]
[null,{"$f":"B2162","v":17},0]
[null,{"$f":"B2163","v":18},0]
[null,{"$f":"B2164","v":19},0]
[null,{"$f":"B2165","v":20},0]
[null,{"$f":"B2166","v":21},0]
[null,{"$f":"B2167","v":22},0]
[null,{"$f":"B2168","v":23},0]
[null,{"$f":"B2169","v":24},0]
[null,{"$f":"B2170","v":25},0]
[null,{"$f":"B2171","v":26},0]
[null,{"$f":"B2172","v":27},0]
[null,{"$f":"B2173","v":28},0]
[null,{"$f":"B2174","v":29},0]
[null,{"$f":"B2175","v":30},0]
[null,{"$f":"B2176","v":31},0]
[null,{"$f":"B2177","v":32},0]
[null,{"$f":"B2178","v":33},0]
[null,{"$f":"B2179","v":34},0]
[null,{"$f":"B2180","v":35},0]
[]
["Рекомендация: обратите внимание на задания по темам, которые вызвали у Вас затруднения, решены с ошибкой и отмечены \"0\" или к решению которых Вы не приступили (пустые ячейки)!"]
[]
[]
[]
["Центр независимой оценки качества образования и образовательного аудита \"Легион\""]
[]
["Образовательная организация",null,null,null,{"$f":"E2188","v":"Ленинская СОШ"}]
["Предмет",null,null,null,{"$f":"E2189","v":"Русский язык"}]
["Максимальный балл",null,null,null,39]
["Пороговый балл",null,null,null,15]
["Зона риска",null,null,null,{"$f":"Результаты!E15","v":15},null,null,{"$f":"Результаты!H15","v":16}]
[]
["Уровни",null,null,null,{"$f":"E2194","v":1},{"$f":"F2194","v":2},3,4,5,6,7,8,9,10,11,12,13,14,15,"ПР.ГР",{"$error":"#REF!"},{"$error":"#REF!"},{"$error":"#REF!"},{"$error":"#REF!"},{"$error":"#REF!"},{"$error":"#REF!"},{"$error":"#REF!"},{"$error":"#REF!"},{"$error":"#REF!"},{"$error":"#REF!"},{"$error":"#REF!"},{"$error":"#REF!"},{"$error":"#REF!"},{"$error":"#REF!"},{"$error":"#REF!"},{"$error":"#REF!"},{"$error":"#REF!"},{"$error":"#REF!"},{"$error":"#REF!"},"Тестовый балл","% выплнения заданий по уровням",null,null,"Оценка"]
[null,null,null,null,null,null,null,null,null,null,null,null,null,null,null,null,null,null,null,null,null,null,null,null,null,null,null,null,null,null,null,null,null,null,null,null,null,null,null,null,"Базовый","Повышенный","Высокий"]
["№","Класс","Ф.И.О.","№ задания",{"$f":"E2196","v":1},{"$f":"F2196","v":2},3,4,5,6,7,8,9,10,11,12,13,14,15,0,{"$error":"#REF!"},{"$error":"#REF!"},{"$error":"#REF!"},{"$error":"#REF!"},{"$error":"#REF!"},{"$error":"#REF!"},{"$error":"#REF!"},{"$error":"#REF!"},{"$error":"#REF!"},{"$error":"#REF!"},{"$error":"#REF!"},{"$error":"#REF!"},{"$error":"#REF!"},{"$error":"#REF!"},{"$error":"#REF!"},{"$error":"#REF!"},{"$error":"#REF!"},{"$error":"#REF!"},{"$error":"#REF!"}]
["Максимальный балл",null,null,null,{"$f":"E2197","v":7},{"$f":"F2197","v":1},1,1,1,1,1,1,1,1,1,1,1,1,9,10,{"$error":"#REF!"},{"$error":"#REF!"},{"$error":"#REF!"},{"$error":"#REF!"},{"$error":"#REF!"},{"$error":"#REF!"},{"$error":"#REF!"},{"$error":"#REF!"},{"$error":"#REF!"},{"$error":"#REF!"},{"$error":"#REF!"},{"$error":"#REF!"},{"$error":"#REF!"},{"$error":"#REF!"},{"$error":"#REF!"},{"$error":"#REF!"},{"$error":"#REF!"},{"$error":"#REF!"},{"$error":"#REF!"},39,76.92307692307692,{"$error":"#REF!"},23.076923076923077,0]
[null,null,null,"вариант"]
[{"$f":"Результаты!#REF!","v":{"$error":"#REF!"}},{"$f":"Результаты!#REF!","v":{"$error":"#REF!"}},{"$f":"Результаты!#REF!","v":{"$error":"#REF!"}},{"$f":"Результаты!#REF!","v":{"$error":"#REF!"}},{"$f":"Результаты!#REF!","v":{"$error":"#REF!"}},{"$f":"Результаты!#REF!","v":{"$error":"#REF!"}},{"$f":"Результаты!#REF!","v":{"$error":"#REF!"}},{"$f":"Результаты!#REF!","v":{"$error":"#REF!"}},{"$f":"Результаты!#REF!","v":{"$error":"#REF!"}},{"$f":"Результаты!#REF!","v":{"$error":"#REF!"}},{"$f":"Результаты!#REF!","v":{"$error":"#REF!"}},{"$f":"Результаты!#REF!","v":{"$error":"#REF!"}},{"$f":"Результаты!#REF!","v":{"$error":"#REF!"}},{"$f":"Результаты!#REF!","v":{"$error":"#REF!"}},{"$f":"Результаты!#REF!","v":{"$error":"#REF!"}},{"$f":"Результаты!#REF!","v":{"$error":"#REF!"}},{"$f":"Результаты!#REF!","v":{"$error":"#REF!"}},{"$f":"Результаты!#REF!","v":{"$error":"#REF!"}},{"$f":"Результаты!#REF!","v":{"$error":"#REF!"}},{"$f":"Результаты!#REF!","v":{"$error":"#REF!"}},{"$f":"Результаты!#REF!","v":{"$error":"#REF!"}},{"$f":"Результаты!#REF!","v":{"$error":"#REF!"}},{"$f":"Результаты!#REF!","v":{"$error":"#REF!"}},{"$f":"Результаты!#REF!","v":{"$error":"#REF!"}},{"$f":"Результаты!#REF!","v":{"$error":"#REF!"}},{"$f":"Результаты!#REF!","v":{"$error":"#REF!"}},{"$f":"Результаты!#REF!","v":{"$error":"#REF!"}},{"$f":"Результаты!#REF!","v":{"$error":"#REF!"}},{"$f":"Результаты!#REF!","v":{"$error":"#REF!"}},{"$f":"Результаты!#REF!","v":{"$error":"#REF!"}},{"$f":"Результаты!#REF!","v":{"$error":"#REF!"}},{"$f":"Результаты!#REF!","v":{"$error":"#REF!"}},{"$f":"Результаты!#REF!","v":{"$error":"#REF!"}},{"$f":"Результаты!#REF!","v":{"$error":"#REF!"}},{"$f":"Результаты!#REF!","v":{"$error":"#REF!"}},{"$f":"Результаты!#REF!","v":{"$error":"#REF!"}},{"$f":"Результаты!#REF!","v":{"$error":"#REF!"}},{"$f":"Результаты!#REF!","v":{"$error":"#REF!"}},{"$f":"Результаты!#REF!","v":{"$error":"#REF!"}},{"$f":"Результаты!#REF!","v":{"$error":"#REF!"}},{"$f":"Результаты!#REF!","v":{"$error":"#REF!"}},{"$f":"Результаты!#REF!","v":{"$error":"#REF!"}},{"$f":"Результаты!#REF!","v":{"$error":"#REF!"}},{"$f":"Результаты!#REF!","v":{"$error":"#REF!"}}]
[]
[]
[null,{"$f":"B2202","v":1},"Информационная обработка текстов различных стилей и жанров. Текст как речевое произведение. Смысловая и композиционная целостность текста. Отбор языковых средств в тексте в зависимости от темы, цели, адресата и ситуации общения. Создание текстов различных стилей и функционально-смысловых типов речи. Грамматические нормы (морфологические нормы). Грамматические  нормы  (синтаксические нормы). Лексические нормы. Пунктуация в простом и сложном предложениях. Орфограмма"]
[null,{"$f":"B2203","v":2},"Текст как речевое произведение. Смысловая и композиционная целостность текста. Анализ текста"]
[null,{"$f":"B2204","v":3},"Выразительные средства лексики и фразеологии. Анализ средств выразительности"]
[null,{"$f":"B2205","v":4},"Правописание приставок. Слитное, дефисное, раздельное написание"]
[null,{"$f":"B2206","v":5},"Правописание суффиксов различных частей речи (кроме -Н-/-НН-). Правописание -Н- и -НН- в различных частях речи. Правописание личных окончаний глаголов и суффиксов причастий настоящего времени"]
[null,{"$f":"B2207","v":6},"Лексика и фразеология. Синонимы. Фразеологические обороты. Группы слов по происхождению и употреблению"]
[null,{"$f":"B2208","v":7},"Словосочетание"]
[null,{"$f":"B2209","v":8},"Предложение. Грамматическая (предикативная) основа предложения. Подлежащее и сказуемое как главные члены предложения "]
[null,{"$f":"B2210","v":9},"Осложнённое простое предложение"]
[null,{"$f":"B2211","v":10},"Пунктуационный анализ. Знаки препинания в предложениях со словами и конструкциями, грамматически не связанными с членами предложения"]
[null,{"$f":"B2212","v":11},"Синтаксический анализ сложного предложения"]
[null,{"$f":"B2213","v":12},"Пунктуационный анализ. Знаки препинания в сложносочинённом и сложноподчинённом предложениях"]
[null,{"$f":"B2214","v":13},"Синтаксический анализ сложного предложения"]
[null,{"$f":"B2215","v":14},"Сложные предложения с разными видами связи между частями"]
[null,{"$f":"B2216","v":15},"Текст как речевое произведение. Смысловая и композиционная целостность текста. Создание текстов различных стилей и функционально-смысловых типов речи. Информационная обработка текстов различных стилей и жанров. Грамматические нормы (морфологические нормы). Грамматические нормы (синтаксические нормы). Лексические нормы"]
[null,{"$f":"B2217","v":16},0]
[null,{"$f":"B2218","v":17},0]
[null,{"$f":"B2219","v":18},0]
[null,{"$f":"B2220","v":19},0]
[null,{"$f":"B2221","v":20},0]
[null,{"$f":"B2222","v":21},0]
[null,{"$f":"B2223","v":22},0]
[null,{"$f":"B2224","v":23},0]
[null,{"$f":"B2225","v":24},0]
[null,{"$f":"B2226","v":25},0]
[null,{"$f":"B2227","v":26},0]
[null,{"$f":"B2228","v":27},0]
[null,{"$f":"B2229","v":28},0]
[null,{"$f":"B2230","v":29},0]
[null,{"$f":"B2231","v":30},0]
[null,{"$f":"B2232","v":31},0]
[null,{"$f":"B2233","v":32},0]
[null,{"$f":"B2234","v":33},0]
[null,{"$f":"B2235","v":34},0]
[null,{"$f":"B2236","v":35},0]
[]
[]
["Рекомендация: обратите внимание на задания по темам, которые вызвали у Вас затруднения, решены с ошибкой и отмечены \"0\" или к решению которых Вы не приступили (пустые ячейки)!"]
[]
[]
["Центр независимой оценки качества образования и образовательного аудита \"Легион\""]
[]
["Образовательная организация",null,null,null,{"$f":"E2244","v":"Ленинская СОШ"}]
["Предмет",null,null,null,{"$f":"E2245","v":"Русский язык"}]
["Максимальный балл",null,null,null,39]
["Пороговый балл",null,null,null,15]
["Зона риска",null,null,null,{"$f":"Результаты!E15","v":15},null,null,{"$f":"Результаты!H15","v":16}]
[]
["Уровни",null,null,null,{"$f":"E2250","v":1},{"$f":"F2250","v":2},3,4,5,6,7,8,9,10,11,12,13,14,15,"ПР.ГР",{"$error":"#REF!"},{"$error":"#REF!"},{"$error":"#REF!"},{"$error":"#REF!"},{"$error":"#REF!"},{"$error":"#REF!"},{"$error":"#REF!"},{"$error":"#REF!"},{"$error":"#REF!"},{"$error":"#REF!"},{"$error":"#REF!"},{"$error":"#REF!"},{"$error":"#REF!"},{"$error":"#REF!"},{"$error":"#REF!"},{"$error":"#REF!"},{"$error":"#REF!"},{"$error":"#REF!"},{"$error":"#REF!"},"Тестовый балл","% выплнения заданий по уровням",null,null,"Оценка"]
[null,null,null,null,null,null,null,null,null,null,null,null,null,null,null,null,null,null,null,null,null,null,null,null,null,null,null,null,null,null,null,null,null,null,null,null,null,null,null,null,"Базовый","Повышенный","Высокий"]
["№","Класс","Ф.И.О.","№ задания",{"$f":"E2252","v":1},{"$f":"F2252","v":2},3,4,5,6,7,8,9,10,11,12,13,14,15,0,{"$error":"#REF!"},{"$error":"#REF!"},{"$error":"#REF!"},{"$error":"#REF!"},{"$error":"#REF!"},{"$error":"#REF!"},{"$error":"#REF!"},{"$error":"#REF!"},{"$error":"#REF!"},{"$error":"#REF!"},{"$error":"#REF!"},{"$error":"#REF!"},{"$error":"#REF!"},{"$error":"#REF!"},{"$error":"#REF!"},{"$error":"#REF!"},{"$error":"#REF!"},{"$error":"#REF!"},{"$error":"#REF!"}]
["Максимальный балл",null,null,null,{"$f":"E2253","v":7},{"$f":"F2253","v":1},1,1,1,1,1,1,1,1,1,1,1,1,9,10,{"$error":"#REF!"},{"$error":"#REF!"},{"$error":"#REF!"},{"$error":"#REF!"},{"$error":"#REF!"},{"$error":"#REF!"},{"$error":"#REF!"},{"$error":"#REF!"},{"$error":"#REF!"},{"$error":"#REF!"},{"$error":"#REF!"},{"$error":"#REF!"},{"$error":"#REF!"},{"$error":"#REF!"},{"$error":"#REF!"},{"$error":"#REF!"},{"$error":"#REF!"},{"$error":"#REF!"},{"$error":"#REF!"},39,76.92307692307692,{"$error":"#REF!"},23.076923076923077,0]
[null,null,null,"вариант"]
[{"$f":"Результаты!#REF!","v":{"$error":"#REF!"}},{"$f":"Результаты!#REF!","v":{"$error":"#REF!"}},{"$f":"Результаты!#REF!","v":{"$error":"#REF!"}},{"$f":"Результаты!#REF!","v":{"$error":"#REF!"}},{"$f":"Результаты!#REF!","v":{"$error":"#REF!"}},{"$f":"Результаты!#REF!","v":{"$error":"#REF!"}},{"$f":"Результаты!#REF!","v":{"$error":"#REF!"}},{"$f":"Результаты!#REF!","v":{"$error":"#REF!"}},{"$f":"Результаты!#REF!","v":{"$error":"#REF!"}},{"$f":"Результаты!#REF!","v":{"$error":"#REF!"}},{"$f":"Результаты!#REF!","v":{"$error":"#REF!"}},{"$f":"Результаты!#REF!","v":{"$error":"#REF!"}},{"$f":"Результаты!#REF!","v":{"$error":"#REF!"}},{"$f":"Результаты!#REF!","v":{"$error":"#REF!"}},{"$f":"Результаты!#REF!","v":{"$error":"#REF!"}},{"$f":"Результаты!#REF!","v":{"$error":"#REF!"}},{"$f":"Результаты!#REF!","v":{"$error":"#REF!"}},{"$f":"Результаты!#REF!","v":{"$error":"#REF!"}},{"$f":"Результаты!#REF!","v":{"$error":"#REF!"}},{"$f":"Результаты!#REF!","v":{"$error":"#REF!"}},{"$f":"Результаты!#REF!","v":{"$error":"#REF!"}},{"$f":"Результаты!#REF!","v":{"$error":"#REF!"}},{"$f":"Результаты!#REF!","v":{"$error":"#REF!"}},{"$f":"Результаты!#REF!","v":{"$error":"#REF!"}},{"$f":"Результаты!#REF!","v":{"$error":"#REF!"}},{"$f":"Результаты!#REF!","v":{"$error":"#REF!"}},{"$f":"Результаты!#REF!","v":{"$error":"#REF!"}},{"$f":"Результаты!#REF!","v":{"$error":"#REF!"}},{"$f":"Результаты!#REF!","v":{"$error":"#REF!"}},{"$f":"Результаты!#REF!","v":{"$error":"#REF!"}},{"$f":"Результаты!#REF!","v":{"$error":"#REF!"}},{"$f":"Результаты!#REF!","v":{"$error":"#REF!"}},{"$f":"Результаты!#REF!","v":{"$error":"#REF!"}},{"$f":"Результаты!#REF!","v":{"$error":"#REF!"}},{"$f":"Результаты!#REF!","v":{"$error":"#REF!"}},{"$f":"Результаты!#REF!","v":{"$error":"#REF!"}},{"$f":"Результаты!#REF!","v":{"$error":"#REF!"}},{"$f":"Результаты!#REF!","v":{"$error":"#REF!"}},{"$f":"Результаты!#REF!","v":{"$error":"#REF!"}},{"$f":"Результаты!#REF!","v":{"$error":"#REF!"}},{"$f":"Результаты!#REF!","v":{"$error":"#REF!"}},{"$f":"Результаты!#REF!","v":{"$error":"#REF!"}},{"$f":"Результаты!#REF!","v":{"$error":"#REF!"}},{"$f":"Результаты!#REF!","v":{"$error":"#REF!"}}]
[]
[]
[null,{"$f":"B2258","v":1},"Информационная обработка текстов различных стилей и жанров. Текст как речевое произведение. Смысловая и композиционная целостность текста. Отбор языковых средств в тексте в зависимости от темы, цели, адресата и ситуации общения. Создание текстов различных стилей и функционально-смысловых типов речи. Грамматические нормы (морфологические нормы). Грамматические  нормы  (синтаксические нормы). Лексические нормы. Пунктуация в простом и сложном предложениях. Орфограмма"]
[null,{"$f":"B2259","v":2},"Текст как речевое произведение. Смысловая и композиционная целостность текста. Анализ текста"]
[null,{"$f":"B2260","v":3},"Выразительные средства лексики и фразеологии. Анализ средств выразительности"]
[null,{"$f":"B2261","v":4},"Правописание приставок. Слитное, дефисное, раздельное написание"]
[null,{"$f":"B2262","v":5},"Правописание суффиксов различных частей речи (кроме -Н-/-НН-). Правописание -Н- и -НН- в различных частях речи. Правописание личных окончаний глаголов и суффиксов причастий настоящего времени"]
[null,{"$f":"B2263","v":6},"Лексика и фразеология. Синонимы. Фразеологические обороты. Группы слов по происхождению и употреблению"]
[null,{"$f":"B2264","v":7},"Словосочетание"]
[null,{"$f":"B2265","v":8},"Предложение. Грамматическая (предикативная) основа предложения. Подлежащее и сказуемое как главные члены предложения "]
[null,{"$f":"B2266","v":9},"Осложнённое простое предложение"]
[null,{"$f":"B2267","v":10},"Пунктуационный анализ. Знаки препинания в предложениях со словами и конструкциями, грамматически не связанными с членами предложения"]
[null,{"$f":"B2268","v":11},"Синтаксический анализ сложного предложения"]
[null,{"$f":"B2269","v":12},"Пунктуационный анализ. Знаки препинания в сложносочинённом и сложноподчинённом предложениях"]
[null,{"$f":"B2270","v":13},"Синтаксический анализ сложного предложения"]
[null,{"$f":"B2271","v":14},"Сложные предложения с разными видами связи между частями"]
[null,{"$f":"B2272","v":15},"Текст как речевое произведение. Смысловая и композиционная целостность текста. Создание текстов различных стилей и функционально-смысловых типов речи. Информационная обработка текстов различных стилей и жанров. Грамматические нормы (морфологические нормы). Грамматические нормы (синтаксические нормы). Лексические нормы"]
[null,{"$f":"B2273","v":16},0]
[null,{"$f":"B2274","v":17},0]
[null,{"$f":"B2275","v":18},0]
[null,{"$f":"B2276","v":19},0]
[null,{"$f":"B2277","v":20},0]
[null,{"$f":"B2278","v":21},0]
[null,{"$f":"B2279","v":22},0]
[null,{"$f":"B2280","v":23},0]
[null,{"$f":"B2281","v":24},0]
[null,{"$f":"B2282","v":25},0]
[null,{"$f":"B2283","v":26},0]
[null,{"$f":"B2284","v":27},0]
[null,{"$f":"B2285","v":28},0]
[null,{"$f":"B2286","v":29},0]
[null,{"$f":"B2287","v":30},0]
[null,{"$f":"B2288","v":31},0]
[null,{"$f":"B2289","v":32},0]
[null,{"$f":"B2290","v":33},0]
[null,{"$f":"B2291","v":34},0]
[null,{"$f":"B2292","v":35},0]
[]
[]
["Рекомендация: обратите внимание на задания по темам, которые вызвали у Вас затруднения, решены с ошибкой и отмечены \"0\" или к решению которых Вы не приступили (пустые ячейки)!"]
[]
[]
["Центр независимой оценки качества образования и образовательного аудита \"Легион\""]
[]
["Образовательная организация",null,null,null,{"$f":"E2300","v":"Ленинская СОШ"}]
["Предмет",null,null,null,{"$f":"E2301","v":"Русский язык"}]
["Максимальный балл",null,null,null,39]
["Пороговый балл",null,null,null,15]
["Зона риска",null,null,null,{"$f":"Результаты!E15","v":15},null,null,{"$f":"Результаты!H15","v":16}]
[]
["Уровни",null,null,null,{"$f":"E2306","v":1},{"$f":"F2306","v":2},3,4,5,6,7,8,9,10,11,12,13,14,15,"ПР.ГР",{"$error":"#REF!"},{"$error":"#REF!"},{"$error":"#REF!"},{"$error":"#REF!"},{"$error":"#REF!"},{"$error":"#REF!"},{"$error":"#REF!"},{"$error":"#REF!"},{"$error":"#REF!"},{"$error":"#REF!"},{"$error":"#REF!"},{"$error":"#REF!"},{"$error":"#REF!"},{"$error":"#REF!"},{"$error":"#REF!"},{"$error":"#REF!"},{"$error":"#REF!"},{"$error":"#REF!"},{"$error":"#REF!"},"Тестовый балл","% выплнения заданий по уровням",null,null,"Оценка"]
[null,null,null,null,null,null,null,null,null,null,null,null,null,null,null,null,null,null,null,null,null,null,null,null,null,null,null,null,null,null,null,null,null,null,null,null,null,null,null,null,"Базовый","Повышенный","Высокий"]
["№","Класс","Ф.И.О.","№ задания",{"$f":"E2308","v":1},{"$f":"F2308","v":2},3,4,5,6,7,8,9,10,11,12,13,14,15,0,{"$error":"#REF!"},{"$error":"#REF!"},{"$error":"#REF!"},{"$error":"#REF!"},{"$error":"#REF!"},{"$error":"#REF!"},{"$error":"#REF!"},{"$error":"#REF!"},{"$error":"#REF!"},{"$error":"#REF!"},{"$error":"#REF!"},{"$error":"#REF!"},{"$error":"#REF!"},{"$error":"#REF!"},{"$error":"#REF!"},{"$error":"#REF!"},{"$error":"#REF!"},{"$error":"#REF!"},{"$error":"#REF!"}]
["Максимальный балл",null,null,null,{"$f":"E2309","v":7},{"$f":"F2309","v":1},1,1,1,1,1,1,1,1,1,1,1,1,9,10,{"$error":"#REF!"},{"$error":"#REF!"},{"$error":"#REF!"},{"$error":"#REF!"},{"$error":"#REF!"},{"$error":"#REF!"},{"$error":"#REF!"},{"$error":"#REF!"},{"$error":"#REF!"},{"$error":"#REF!"},{"$error":"#REF!"},{"$error":"#REF!"},{"$error":"#REF!"},{"$error":"#REF!"},{"$error":"#REF!"},{"$error":"#REF!"},{"$error":"#REF!"},{"$error":"#REF!"},{"$error":"#REF!"},39,76.92307692307692,{"$error":"#REF!"},23.076923076923077,0]
[null,null,null,"вариант"]
[{"$f":"Результаты!#REF!","v":{"$error":"#REF!"}},{"$f":"Результаты!#REF!","v":{"$error":"#REF!"}},{"$f":"Результаты!#REF!","v":{"$error":"#REF!"}},{"$f":"Результаты!#REF!","v":{"$error":"#REF!"}},{"$f":"Результаты!#REF!","v":{"$error":"#REF!"}},{"$f":"Результаты!#REF!","v":{"$error":"#REF!"}},{"$f":"Результаты!#REF!","v":{"$error":"#REF!"}},{"$f":"Результаты!#REF!","v":{"$error":"#REF!"}},{"$f":"Результаты!#REF!","v":{"$error":"#REF!"}},{"$f":"Результаты!#REF!","v":{"$error":"#REF!"}},{"$f":"Результаты!#REF!","v":{"$error":"#REF!"}},{"$f":"Результаты!#REF!","v":{"$error":"#REF!"}},{"$f":"Результаты!#REF!","v":{"$error":"#REF!"}},{"$f":"Результаты!#REF!","v":{"$error":"#REF!"}},{"$f":"Результаты!#REF!","v":{"$error":"#REF!"}},{"$f":"Результаты!#REF!","v":{"$error":"#REF!"}},{"$f":"Результаты!#REF!","v":{"$error":"#REF!"}},{"$f":"Результаты!#REF!","v":{"$error":"#REF!"}},{"$f":"Результаты!#REF!","v":{"$error":"#REF!"}},{"$f":"Результаты!#REF!","v":{"$error":"#REF!"}},{"$f":"Результаты!#REF!","v":{"$error":"#REF!"}},{"$f":"Результаты!#REF!","v":{"$error":"#REF!"}},{"$f":"Результаты!#REF!","v":{"$error":"#REF!"}},{"$f":"Результаты!#REF!","v":{"$error":"#REF!"}},{"$f":"Результаты!#REF!","v":{"$error":"#REF!"}},{"$f":"Результаты!#REF!","v":{"$error":"#REF!"}},{"$f":"Результаты!#REF!","v":{"$error":"#REF!"}},{"$f":"Результаты!#REF!","v":{"$error":"#REF!"}},{"$f":"Результаты!#REF!","v":{"$error":"#REF!"}},{"$f":"Результаты!#REF!","v":{"$error":"#REF!"}},{"$f":"Результаты!#REF!","v":{"$error":"#REF!"}},{"$f":"Результаты!#REF!","v":{"$error":"#REF!"}},{"$f":"Результаты!#REF!","v":{"$error":"#REF!"}},{"$f":"Результаты!#REF!","v":{"$error":"#REF!"}},{"$f":"Результаты!#REF!","v":{"$error":"#REF!"}},{"$f":"Результаты!#REF!","v":{"$error":"#REF!"}},{"$f":"Результаты!#REF!","v":{"$error":"#REF!"}},{"$f":"Результаты!#REF!","v":{"$error":"#REF!"}},{"$f":"Результаты!#REF!","v":{"$error":"#REF!"}},{"$f":"Результаты!#REF!","v":{"$error":"#REF!"}},{"$f":"Результаты!#REF!","v":{"$error":"#REF!"}},{"$f":"Результаты!#REF!","v":{"$error":"#REF!"}},{"$f":"Результаты!#REF!","v":{"$error":"#REF!"}},{"$f":"Результаты!#REF!","v":{"$error":"#REF!"}}]
[]
[]
[null,{"$f":"B2314","v":1},{"$f":"C2314","v":"Информационная обработка текстов различных стилей и жанров. Текст как речевое произведение. Смысловая и композиционная целостность текста. Отбор языковых средств в тексте в зависимости от темы, цели, адресата и ситуации общения. Создание текстов различных стилей и функционально-смысловых типов речи. Грамматические нормы (морфологические нормы). Грамматические  нормы  (синтаксические нормы). Лексические нормы. Пунктуация в простом и сложном предложениях. Орфограмма"}]
[null,{"$f":"B2315","v":2},"Текст как речевое произведение. Смысловая и композиционная целостность текста. Анализ текста"]
[null,{"$f":"B2316","v":3},"Выразительные средства лексики и фразеологии. Анализ средств выразительности"]
[null,{"$f":"B2317","v":4},"Правописание приставок. Слитное, дефисное, раздельное написание"]
[null,{"$f":"B2318","v":5},"Правописание суффиксов различных частей речи (кроме -Н-/-НН-). Правописание -Н- и -НН- в различных частях речи. Правописание личных окончаний глаголов и суффиксов причастий настоящего времени"]
[null,{"$f":"B2319","v":6},"Лексика и фразеология. Синонимы. Фразеологические обороты. Группы слов по происхождению и употреблению"]
[null,{"$f":"B2320","v":7},"Словосочетание"]
[null,{"$f":"B2321","v":8},"Предложение. Грамматическая (предикативная) основа предложения. Подлежащее и сказуемое как главные члены предложения "]
[null,{"$f":"B2322","v":9},"Осложнённое простое предложение"]
[null,{"$f":"B2323","v":10},"Пунктуационный анализ. Знаки препинания в предложениях со словами и конструкциями, грамматически не связанными с членами предложения"]
[null,{"$f":"B2324","v":11},"Синтаксический анализ сложного предложения"]
[null,{"$f":"B2325","v":12},"Пунктуационный анализ. Знаки препинания в сложносочинённом и сложноподчинённом предложениях"]
[null,{"$f":"B2326","v":13},"Синтаксический анализ сложного предложения"]
[null,{"$f":"B2327","v":14},"Сложные предложения с разными видами связи между частями"]
[null,{"$f":"B2328","v":15},"Текст как речевое произведение. Смысловая и композиционная целостность текста. Создание текстов различных стилей и функционально-смысловых типов речи. Информационная обработка текстов различных стилей и жанров. Грамматические нормы (морфологические нормы). Грамматические нормы (синтаксические нормы). Лексические нормы"]
[null,{"$f":"B2329","v":16},0]
[null,{"$f":"B2330","v":17},0]
[null,{"$f":"B2331","v":18},0]
[null,{"$f":"B2332","v":19},0]
[null,{"$f":"B2333","v":20},0]
[null,{"$f":"B2334","v":21},0]
[null,{"$f":"B2335","v":22},0]
[null,{"$f":"B2336","v":23},0]
[null,{"$f":"B2337","v":24},0]
[null,{"$f":"B2338","v":25},0]
[null,{"$f":"B2339","v":26},0]
[null,{"$f":"B2340","v":27},0]
[null,{"$f":"B2341","v":28},0]
[null,{"$f":"B2342","v":29},0]
[null,{"$f":"B2343","v":30},0]
[null,{"$f":"B2344","v":31},0]
[null,{"$f":"B2345","v":32},0]
[null,{"$f":"B2346","v":33},0]
[null,{"$f":"B2347","v":34},0]
[null,{"$f":"B2348","v":35},0]
[]
["Рекомендация: обратите внимание на задания по темам, которые вызвали у Вас затруднения, решены с ошибкой и отмечены \"0\" или к решению которых Вы не приступили (пустые ячейки)!"]
[]
[]
[]
["Центр независимой оценки качества образования и образовательного аудита \"Легион\""]
[]
["Образовательная организация",null,null,null,{"$f":"E2356","v":"Ленинская СОШ"}]
["Предмет",null,null,null,{"$f":"E2357","v":"Русский язык"}]
["Максимальный балл",null,null,null,39]
["Пороговый балл",null,null,null,15]
["Зона риска",null,null,null,{"$f":"Результаты!E15","v":15},null,null,{"$f":"Результаты!H15","v":16}]
[]
["Уровни",null,null,null,{"$f":"E2362","v":1},{"$f":"F2362","v":2},3,4,5,6,7,8,9,10,11,12,13,14,15,"ПР.ГР",{"$error":"#REF!"},{"$error":"#REF!"},{"$error":"#REF!"},{"$error":"#REF!"},{"$error":"#REF!"},{"$error":"#REF!"},{"$error":"#REF!"},{"$error":"#REF!"},{"$error":"#REF!"},{"$error":"#REF!"},{"$error":"#REF!"},{"$error":"#REF!"},{"$error":"#REF!"},{"$error":"#REF!"},{"$error":"#REF!"},{"$error":"#REF!"},{"$error":"#REF!"},{"$error":"#REF!"},{"$error":"#REF!"},"Тестовый балл","% выплнения заданий по уровням",null,null,"Оценка"]
[null,null,null,null,null,null,null,null,null,null,null,null,null,null,null,null,null,null,null,null,null,null,null,null,null,null,null,null,null,null,null,null,null,null,null,null,null,null,null,null,"Базовый","Повышенный","Высокий"]
["№","Класс","Ф.И.О.","№ задания",{"$f":"E2364","v":1},{"$f":"F2364","v":2},3,4,5,6,7,8,9,10,11,12,13,14,15,0,{"$error":"#REF!"},{"$error":"#REF!"},{"$error":"#REF!"},{"$error":"#REF!"},{"$error":"#REF!"},{"$error":"#REF!"},{"$error":"#REF!"},{"$error":"#REF!"},{"$error":"#REF!"},{"$error":"#REF!"},{"$error":"#REF!"},{"$error":"#REF!"},{"$error":"#REF!"},{"$error":"#REF!"},{"$error":"#REF!"},{"$error":"#REF!"},{"$error":"#REF!"},{"$error":"#REF!"},{"$error":"#REF!"}]
["Максимальный балл",null,null,null,{"$f":"E2365","v":7},{"$f":"F2365","v":1},1,1,1,1,1,1,1,1,1,1,1,1,9,10,{"$error":"#REF!"},{"$error":"#REF!"},{"$error":"#REF!"},{"$error":"#REF!"},{"$error":"#REF!"},{"$error":"#REF!"},{"$error":"#REF!"},{"$error":"#REF!"},{"$error":"#REF!"},{"$error":"#REF!"},{"$error":"#REF!"},{"$error":"#REF!"},{"$error":"#REF!"},{"$error":"#REF!"},{"$error":"#REF!"},{"$error":"#REF!"},{"$error":"#REF!"},{"$error":"#REF!"},{"$error":"#REF!"},39,76.92307692307692,{"$error":"#REF!"},23.076923076923077,0]
[null,null,null,"вариант"]
[{"$f":"Результаты!#REF!","v":{"$error":"#REF!"}},{"$f":"Результаты!#REF!","v":{"$error":"#REF!"}},{"$f":"Результаты!#REF!","v":{"$error":"#REF!"}},{"$f":"Результаты!#REF!","v":{"$error":"#REF!"}},{"$f":"Результаты!#REF!","v":{"$error":"#REF!"}},{"$f":"Результаты!#REF!","v":{"$error":"#REF!"}},{"$f":"Результаты!#REF!","v":{"$error":"#REF!"}},{"$f":"Результаты!#REF!","v":{"$error":"#REF!"}},{"$f":"Результаты!#REF!","v":{"$error":"#REF!"}},{"$f":"Результаты!#REF!","v":{"$error":"#REF!"}},{"$f":"Результаты!#REF!","v":{"$error":"#REF!"}},{"$f":"Результаты!#REF!","v":{"$error":"#REF!"}},{"$f":"Результаты!#REF!","v":{"$error":"#REF!"}},{"$f":"Результаты!#REF!","v":{"$error":"#REF!"}},{"$f":"Результаты!#REF!","v":{"$error":"#REF!"}},{"$f":"Результаты!#REF!","v":{"$error":"#REF!"}},{"$f":"Результаты!#REF!","v":{"$error":"#REF!"}},{"$f":"Результаты!#REF!","v":{"$error":"#REF!"}},{"$f":"Результаты!#REF!","v":{"$error":"#REF!"}},{"$f":"Результаты!#REF!","v":{"$error":"#REF!"}},{"$f":"Результаты!#REF!","v":{"$error":"#REF!"}},{"$f":"Результаты!#REF!","v":{"$error":"#REF!"}},{"$f":"Результаты!#REF!","v":{"$error":"#REF!"}},{"$f":"Результаты!#REF!","v":{"$error":"#REF!"}},{"$f":"Результаты!#REF!","v":{"$error":"#REF!"}},{"$f":"Результаты!#REF!","v":{"$error":"#REF!"}},{"$f":"Результаты!#REF!","v":{"$error":"#REF!"}},{"$f":"Результаты!#REF!","v":{"$error":"#REF!"}},{"$f":"Результаты!#REF!","v":{"$error":"#REF!"}},{"$f":"Результаты!#REF!","v":{"$error":"#REF!"}},{"$f":"Результаты!#REF!","v":{"$error":"#REF!"}},{"$f":"Результаты!#REF!","v":{"$error":"#REF!"}},{"$f":"Результаты!#REF!","v":{"$error":"#REF!"}},{"$f":"Результаты!#REF!","v":{"$error":"#REF!"}},{"$f":"Результаты!#REF!","v":{"$error":"#REF!"}},{"$f":"Результаты!#REF!","v":{"$error":"#REF!"}},{"$f":"Результаты!#REF!","v":{"$error":"#REF!"}},{"$f":"Результаты!#REF!","v":{"$error":"#REF!"}},{"$f":"Результаты!#REF!","v":{"$error":"#REF!"}},{"$f":"Результаты!#REF!","v":{"$error":"#REF!"}},{"$f":"Результаты!#REF!","v":{"$error":"#REF!"}},{"$f":"Результаты!#REF!","v":{"$error":"#REF!"}},{"$f":"Результаты!#REF!","v":{"$error":"#REF!"}},{"$f":"Результаты!#REF!","v":{"$error":"#REF!"}}]
[]
[]
[null,{"$f":"B2370","v":1},"Информационная обработка текстов различных стилей и жанров. Текст как речевое произведение. Смысловая и композиционная целостность текста. Отбор языковых средств в тексте в зависимости от темы, цели, адресата и ситуации общения. Создание текстов различных стилей и функционально-смысловых типов речи. Грамматические нормы (морфологические нормы). Грамматические  нормы  (синтаксические нормы). Лексические нормы. Пунктуация в простом и сложном предложениях. Орфограмма"]
[null,{"$f":"B2371","v":2},"Текст как речевое произведение. Смысловая и композиционная целостность текста. Анализ текста"]
[null,{"$f":"B2372","v":3},"Выразительные средства лексики и фразеологии. Анализ средств выразительности"]
[null,{"$f":"B2373","v":4},"Правописание приставок. Слитное, дефисное, раздельное написание"]
[null,{"$f":"B2374","v":5},"Правописание суффиксов различных частей речи (кроме -Н-/-НН-). Правописание -Н- и -НН- в различных частях речи. Правописание личных окончаний глаголов и суффиксов причастий настоящего времени"]
[null,{"$f":"B2375","v":6},"Лексика и фразеология. Синонимы. Фразеологические обороты. Группы слов по происхождению и употреблению"]
[null,{"$f":"B2376","v":7},"Словосочетание"]
[null,{"$f":"B2377","v":8},"Предложение. Грамматическая (предикативная) основа предложения. Подлежащее и сказуемое как главные члены предложения "]
[null,{"$f":"B2378","v":9},"Осложнённое простое предложение"]
[null,{"$f":"B2379","v":10},"Пунктуационный анализ. Знаки препинания в предложениях со словами и конструкциями, грамматически не связанными с членами предложения"]
[null,{"$f":"B2380","v":11},"Синтаксический анализ сложного предложения"]
[null,{"$f":"B2381","v":12},"Пунктуационный анализ. Знаки препинания в сложносочинённом и сложноподчинённом предложениях"]
[null,{"$f":"B2382","v":13},"Синтаксический анализ сложного предложения"]
[null,{"$f":"B2383","v":14},"Сложные предложения с разными видами связи между частями"]
[null,{"$f":"B2384","v":15},"Текст как речевое произведение. Смысловая и композиционная целостность текста. Создание текстов различных стилей и функционально-смысловых типов речи. Информационная обработка текстов различных стилей и жанров. Грамматические нормы (морфологические нормы). Грамматические нормы (синтаксические нормы). Лексические нормы"]
[null,{"$f":"B2385","v":16},0]
[null,{"$f":"B2386","v":17},0]
[null,{"$f":"B2387","v":18},0]
[null,{"$f":"B2388","v":19},0]
[null,{"$f":"B2389","v":20},0]
[null,{"$f":"B2390","v":21},0]
[null,{"$f":"B2391","v":22},0]
[null,{"$f":"B2392","v":23},0]
[null,{"$f":"B2393","v":24},0]
[null,{"$f":"B2394","v":25},0]
[null,{"$f":"B2395","v":26},0]
[null,{"$f":"B2396","v":27},0]
[null,{"$f":"B2397","v":28},0]
[null,{"$f":"B2398","v":29},0]
[null,{"$f":"B2399","v":30},0]
[null,{"$f":"B2400","v":31},0]
[null,{"$f":"B2401","v":32},0]
[null,{"$f":"B2402","v":33},0]
[null,{"$f":"B2403","v":34},0]
[null,{"$f":"B2404","v":35},0]
[]
[]
["Рекомендация: обратите внимание на задания по темам, которые вызвали у Вас затруднения, решены с ошибкой и отмечены \"0\" или к решению которых Вы не приступили (пустые ячейки)!"]
[]
[]
["Центр независимой оценки качества образования и образовательного аудита \"Легион\""]
[]
["Образовательная организация",null,null,null,{"$f":"E2356","v":"Ленинская СОШ"}]
["Предмет",null,null,null,{"$f":"E2357","v":"Русский язык"}]
["Максимальный балл",null,null,null,39]
["Пороговый балл",null,null,null,15]
["Зона риска",null,null,null,{"$f":"Результаты!E15","v":15},null,null,{"$f":"Результаты!H15","v":16}]
[]
["Уровни",null,null,null,{"$f":"E2418","v":1},{"$f":"F2418","v":2},3,4,5,6,7,8,9,10,11,12,13,14,15,"ПР.ГР",{"$error":"#REF!"},{"$error":"#REF!"},{"$error":"#REF!"},{"$error":"#REF!"},{"$error":"#REF!"},{"$error":"#REF!"},{"$error":"#REF!"},{"$error":"#REF!"},{"$error":"#REF!"},{"$error":"#REF!"},{"$error":"#REF!"},{"$error":"#REF!"},{"$error":"#REF!"},{"$error":"#REF!"},{"$error":"#REF!"},{"$error":"#REF!"},{"$error":"#REF!"},{"$error":"#REF!"},{"$error":"#REF!"},"Тестовый балл","% выплнения заданий по уровням",null,null,"Оценка"]
[null,null,null,null,null,null,null,null,null,null,null,null,null,null,null,null,null,null,null,null,null,null,null,null,null,null,null,null,null,null,null,null,null,null,null,null,null,null,null,null,"Базовый","Повышенный","Высокий"]
["№","Класс","Ф.И.О.","№ задания",{"$f":"E2420","v":1},{"$f":"F2420","v":2},3,4,5,6,7,8,9,10,11,12,13,14,15,0,{"$error":"#REF!"},{"$error":"#REF!"},{"$error":"#REF!"},{"$error":"#REF!"},{"$error":"#REF!"},{"$error":"#REF!"},{"$error":"#REF!"},{"$error":"#REF!"},{"$error":"#REF!"},{"$error":"#REF!"},{"$error":"#REF!"},{"$error":"#REF!"},{"$error":"#REF!"},{"$error":"#REF!"},{"$error":"#REF!"},{"$error":"#REF!"},{"$error":"#REF!"},{"$error":"#REF!"},{"$error":"#REF!"}]
["Максимальный балл",null,null,null,{"$f":"E2421","v":7},1,1,1,1,1,1,1,1,1,1,1,1,1,9,10,{"$error":"#REF!"},{"$error":"#REF!"},{"$error":"#REF!"},{"$error":"#REF!"},{"$error":"#REF!"},{"$error":"#REF!"},{"$error":"#REF!"},{"$error":"#REF!"},{"$error":"#REF!"},{"$error":"#REF!"},{"$error":"#REF!"},{"$error":"#REF!"},{"$error":"#REF!"},{"$error":"#REF!"},{"$error":"#REF!"},{"$error":"#REF!"},{"$error":"#REF!"},{"$error":"#REF!"},{"$error":"#REF!"},{"$f":"AN2421","v":39},{"$f":"AO2421","v":76.92307692307692},{"$error":"#REF!"},23.076923076923077,0]
[null,null,null,"вариант"]
[{"$f":"Результаты!#REF!","v":{"$error":"#REF!"}},{"$f":"Результаты!#REF!","v":{"$error":"#REF!"}},{"$f":"Результаты!#REF!","v":{"$error":"#REF!"}},{"$f":"Результаты!#REF!","v":{"$error":"#REF!"}},{"$f":"Результаты!#REF!","v":{"$error":"#REF!"}},{"$f":"Результаты!#REF!","v":{"$error":"#REF!"}},{"$f":"Результаты!#REF!","v":{"$error":"#REF!"}},{"$f":"Результаты!#REF!","v":{"$error":"#REF!"}},{"$f":"Результаты!#REF!","v":{"$error":"#REF!"}},{"$f":"Результаты!#REF!","v":{"$error":"#REF!"}},{"$f":"Результаты!#REF!","v":{"$error":"#REF!"}},{"$f":"Результаты!#REF!","v":{"$error":"#REF!"}},{"$f":"Результаты!#REF!","v":{"$error":"#REF!"}},{"$f":"Результаты!#REF!","v":{"$error":"#REF!"}},{"$f":"Результаты!#REF!","v":{"$error":"#REF!"}},{"$f":"Результаты!#REF!","v":{"$error":"#REF!"}},{"$f":"Результаты!#REF!","v":{"$error":"#REF!"}},{"$f":"Результаты!#REF!","v":{"$error":"#REF!"}},{"$f":"Результаты!#REF!","v":{"$error":"#REF!"}},{"$f":"Результаты!#REF!","v":{"$error":"#REF!"}},{"$f":"Результаты!#REF!","v":{"$error":"#REF!"}},{"$f":"Результаты!#REF!","v":{"$error":"#REF!"}},{"$f":"Результаты!#REF!","v":{"$error":"#REF!"}},{"$f":"Результаты!#REF!","v":{"$error":"#REF!"}},{"$f":"Результаты!#REF!","v":{"$error":"#REF!"}},{"$f":"Результаты!#REF!","v":{"$error":"#REF!"}},{"$f":"Результаты!#REF!","v":{"$error":"#REF!"}},{"$f":"Результаты!#REF!","v":{"$error":"#REF!"}},{"$f":"Результаты!#REF!","v":{"$error":"#REF!"}},{"$f":"Результаты!#REF!","v":{"$error":"#REF!"}},{"$f":"Результаты!#REF!","v":{"$error":"#REF!"}},{"$f":"Результаты!#REF!","v":{"$error":"#REF!"}},{"$f":"Результаты!#REF!","v":{"$error":"#REF!"}},{"$f":"Результаты!#REF!","v":{"$error":"#REF!"}},{"$f":"Результаты!#REF!","v":{"$error":"#REF!"}},{"$f":"Результаты!#REF!","v":{"$error":"#REF!"}},{"$f":"Результаты!#REF!","v":{"$error":"#REF!"}},{"$f":"Результаты!#REF!","v":{"$error":"#REF!"}},{"$f":"Результаты!#REF!","v":{"$error":"#REF!"}},{"$f":"Результаты!#REF!","v":{"$error":"#REF!"}},{"$f":"Результаты!#REF!","v":{"$error":"#REF!"}},{"$f":"Результаты!#REF!","v":{"$error":"#REF!"}},{"$f":"Результаты!#REF!","v":{"$error":"#REF!"}},{"$f":"Результаты!#REF!","v":{"$error":"#REF!"}}]
[]
[]
[null,{"$f":"B2426","v":1},{"$f":"C2426","v":"Информационная обработка текстов различных стилей и жанров. Текст как речевое произведение. Смысловая и композиционная целостность текста. Отбор языковых средств в тексте в зависимости от темы, цели, адресата и ситуации общения. Создание текстов различных стилей и функционально-смысловых типов речи. Грамматические нормы (морфологические нормы). Грамматические  нормы  (синтаксические нормы). Лексические нормы. Пунктуация в простом и сложном предложениях. Орфограмма"}]
[null,{"$f":"B2427","v":2},"Текст как речевое произведение. Смысловая и композиционная целостность текста. Анализ текста"]
[null,3,"Выразительные средства лексики и фразеологии. Анализ средств выразительности"]
[null,4,"Правописание приставок. Слитное, дефисное, раздельное написание"]
[null,5,"Правописание суффиксов различных частей речи (кроме -Н-/-НН-). Правописание -Н- и -НН- в различных частях речи. Правописание личных окончаний глаголов и суффиксов причастий настоящего времени"]
[null,6,"Лексика и фразеология. Синонимы. Фразеологические обороты. Группы слов по происхождению и употреблению"]
[null,7,"Словосочетание"]
[null,8,"Предложение. Грамматическая (предикативная) основа предложения. Подлежащее и сказуемое как главные члены предложения "]
[null,9,"Осложнённое простое предложение"]
[null,10,"Пунктуационный анализ. Знаки препинания в предложениях со словами и конструкциями, грамматически не связанными с членами предложения"]
[null,11,"Синтаксический анализ сложного предложения"]
[null,12,"Пунктуационный анализ. Знаки препинания в сложносочинённом и сложноподчинённом предложениях"]
[null,13,"Синтаксический анализ сложного предложения"]
[null,14,"Сложные предложения с разными видами связи между частями"]
[null,15,"Текст как речевое произведение. Смысловая и композиционная целостность текста. Создание текстов различных стилей и функционально-смысловых типов речи. Информационная обработка текстов различных стилей и жанров. Грамматические нормы (морфологические нормы). Грамматические нормы (синтаксические нормы). Лексические нормы"]
[null,16,0]
[null,17,0]
[null,18,0]
[null,19,0]
[null,20,0]
[null,21,0]
[null,22,0]
[null,23,0]
[null,24,0]
[null,25,0]
[null,26,0]
[null,27,0]
[null,28,0]
[null,29,0]
[null,30,0]
[null,31,0]
[null,32,0]
[null,33,0]
[null,34,0]
[null,35,0]
[]
["Рекомендация: обратите внимание на задания по темам, которые вызвали у Вас затруднения, решены с ошибкой и отмечены \"0\" или к решению которых Вы не приступили (пустые ячейки)!"]
[]
[]
[]
["Центр независимой оценки качества образования и образовательного аудита \"Легион\""]
[]
["Образовательная организация",null,null,null,{"$f":"E2468","v":"Ленинская СОШ"}]
["Предмет",null,null,null,{"$f":"E2469","v":"Русский язык"}]
["Максимальный балл",null,null,null,39]
["Пороговый балл",null,null,null,15]
["Зона риска",null,null,null,{"$f":"Результаты!E15","v":15},null,null,{"$f":"Результаты!H15","v":16}]
[]
["Уровни",null,null,null,{"$f":"E2474","v":1},{"$f":"F2474","v":2},3,4,5,6,7,8,9,10,11,12,13,14,15,"ПР.ГР",{"$error":"#REF!"},{"$error":"#REF!"},{"$error":"#REF!"},{"$error":"#REF!"},{"$error":"#REF!"},{"$error":"#REF!"},{"$error":"#REF!"},{"$error":"#REF!"},{"$error":"#REF!"},{"$error":"#REF!"},{"$error":"#REF!"},{"$error":"#REF!"},{"$error":"#REF!"},{"$error":"#REF!"},{"$error":"#REF!"},{"$error":"#REF!"},{"$error":"#REF!"},{"$error":"#REF!"},{"$error":"#REF!"},"Тестовый балл","% выплнения заданий по уровням",null,null,"Оценка"]
[null,null,null,null,null,null,null,null,null,null,null,null,null,null,null,null,null,null,null,null,null,null,null,null,null,null,null,null,null,null,null,null,null,null,null,null,null,null,null,null,"Базовый","Повышенный","Высокий"]
["№","Класс","Ф.И.О.","№ задания",{"$f":"E2476","v":1},{"$f":"F2476","v":2},3,4,5,6,7,8,9,10,11,12,13,14,15,0,{"$error":"#REF!"},{"$error":"#REF!"},{"$error":"#REF!"},{"$error":"#REF!"},{"$error":"#REF!"},{"$error":"#REF!"},{"$error":"#REF!"},{"$error":"#REF!"},{"$error":"#REF!"},{"$error":"#REF!"},{"$error":"#REF!"},{"$error":"#REF!"},{"$error":"#REF!"},{"$error":"#REF!"},{"$error":"#REF!"},{"$error":"#REF!"},{"$error":"#REF!"},{"$error":"#REF!"},{"$error":"#REF!"}]
["Максимальный балл",null,null,null,{"$f":"E2477","v":7},{"$f":"F2477","v":1},1,1,1,1,1,1,1,1,1,1,1,1,9,10,{"$error":"#REF!"},{"$error":"#REF!"},{"$error":"#REF!"},{"$error":"#REF!"},{"$error":"#REF!"},{"$error":"#REF!"},{"$error":"#REF!"},{"$error":"#REF!"},{"$error":"#REF!"},{"$error":"#REF!"},{"$error":"#REF!"},{"$error":"#REF!"},{"$error":"#REF!"},{"$error":"#REF!"},{"$error":"#REF!"},{"$error":"#REF!"},{"$error":"#REF!"},{"$error":"#REF!"},{"$error":"#REF!"},39,76.92307692307692,{"$error":"#REF!"},23.076923076923077,0]
[null,null,null,"вариант"]
[{"$f":"Результаты!#REF!","v":{"$error":"#REF!"}},{"$f":"Результаты!#REF!","v":{"$error":"#REF!"}},{"$f":"Результаты!#REF!","v":{"$error":"#REF!"}},{"$f":"Результаты!#REF!","v":{"$error":"#REF!"}},{"$f":"Результаты!#REF!","v":{"$error":"#REF!"}},{"$f":"Результаты!#REF!","v":{"$error":"#REF!"}},{"$f":"Результаты!#REF!","v":{"$error":"#REF!"}},{"$f":"Результаты!#REF!","v":{"$error":"#REF!"}},{"$f":"Результаты!#REF!","v":{"$error":"#REF!"}},{"$f":"Результаты!#REF!","v":{"$error":"#REF!"}},{"$f":"Результаты!#REF!","v":{"$error":"#REF!"}},{"$f":"Результаты!#REF!","v":{"$error":"#REF!"}},{"$f":"Результаты!#REF!","v":{"$error":"#REF!"}},{"$f":"Результаты!#REF!","v":{"$error":"#REF!"}},{"$f":"Результаты!#REF!","v":{"$error":"#REF!"}},{"$f":"Результаты!#REF!","v":{"$error":"#REF!"}},{"$f":"Результаты!#REF!","v":{"$error":"#REF!"}},{"$f":"Результаты!#REF!","v":{"$error":"#REF!"}},{"$f":"Результаты!#REF!","v":{"$error":"#REF!"}},{"$f":"Результаты!#REF!","v":{"$error":"#REF!"}},{"$f":"Результаты!#REF!","v":{"$error":"#REF!"}},{"$f":"Результаты!#REF!","v":{"$error":"#REF!"}},{"$f":"Результаты!#REF!","v":{"$error":"#REF!"}},{"$f":"Результаты!#REF!","v":{"$error":"#REF!"}},{"$f":"Результаты!#REF!","v":{"$error":"#REF!"}},{"$f":"Результаты!#REF!","v":{"$error":"#REF!"}},{"$f":"Результаты!#REF!","v":{"$error":"#REF!"}},{"$f":"Результаты!#REF!","v":{"$error":"#REF!"}},{"$f":"Результаты!#REF!","v":{"$error":"#REF!"}},{"$f":"Результаты!#REF!","v":{"$error":"#REF!"}},{"$f":"Результаты!#REF!","v":{"$error":"#REF!"}},{"$f":"Результаты!#REF!","v":{"$error":"#REF!"}},{"$f":"Результаты!#REF!","v":{"$error":"#REF!"}},{"$f":"Результаты!#REF!","v":{"$error":"#REF!"}},{"$f":"Результаты!#REF!","v":{"$error":"#REF!"}},{"$f":"Результаты!#REF!","v":{"$error":"#REF!"}},{"$f":"Результаты!#REF!","v":{"$error":"#REF!"}},{"$f":"Результаты!#REF!","v":{"$error":"#REF!"}},{"$f":"Результаты!#REF!","v":{"$error":"#REF!"}},{"$f":"Результаты!#REF!","v":{"$error":"#REF!"}},{"$f":"Результаты!#REF!","v":{"$error":"#REF!"}},{"$f":"Результаты!#REF!","v":{"$error":"#REF!"}},{"$f":"Результаты!#REF!","v":{"$error":"#REF!"}},{"$f":"Результаты!#REF!","v":{"$error":"#REF!"}}]
[]
[]
[null,{"$f":"B2482","v":1},{"$f":"C2482","v":"Информационная обработка текстов различных стилей и жанров. Текст как речевое произведение. Смысловая и композиционная целостность текста. Отбор языковых средств в тексте в зависимости от темы, цели, адресата и ситуации общения. Создание текстов различных стилей и функционально-смысловых типов речи. Грамматические нормы (морфологические нормы). Грамматические  нормы  (синтаксические нормы). Лексические нормы. Пунктуация в простом и сложном предложениях. Орфограмма"}]
[null,{"$f":"B2483","v":2},"Текст как речевое произведение. Смысловая и композиционная целостность текста. Анализ текста"]
[null,{"$f":"B2484","v":3},"Выразительные средства лексики и фразеологии. Анализ средств выразительности"]
[null,{"$f":"B2485","v":4},"Правописание приставок. Слитное, дефисное, раздельное написание"]
[null,{"$f":"B2486","v":5},"Правописание суффиксов различных частей речи (кроме -Н-/-НН-). Правописание -Н- и -НН- в различных частях речи. Правописание личных окончаний глаголов и суффиксов причастий настоящего времени"]
[null,{"$f":"B2487","v":6},"Лексика и фразеология. Синонимы. Фразеологические обороты. Группы слов по происхождению и употреблению"]
[null,{"$f":"B2488","v":7},"Словосочетание"]
[null,{"$f":"B2489","v":8},"Предложение. Грамматическая (предикативная) основа предложения. Подлежащее и сказуемое как главные члены предложения "]
[null,{"$f":"B2490","v":9},"Осложнённое простое предложение"]
[null,{"$f":"B2491","v":10},"Пунктуационный анализ. Знаки препинания в предложениях со словами и конструкциями, грамматически не связанными с членами предложения"]
[null,{"$f":"B2492","v":11},"Синтаксический анализ сложного предложения"]
[null,{"$f":"B2493","v":12},"Пунктуационный анализ. Знаки препинания в сложносочинённом и сложноподчинённом предложениях"]
[null,{"$f":"B2494","v":13},"Синтаксический анализ сложного предложения"]
[null,{"$f":"B2495","v":14},"Сложные предложения с разными видами связи между частями"]
[null,{"$f":"B2496","v":15},"Текст как речевое произведение. Смысловая и композиционная целостность текста. Создание текстов различных стилей и функционально-смысловых типов речи. Информационная обработка текстов различных стилей и жанров. Грамматические нормы (морфологические нормы). Грамматические нормы (синтаксические нормы). Лексические нормы"]
[null,{"$f":"B2497","v":16},0]
[null,{"$f":"B2498","v":17},0]
[null,{"$f":"B2499","v":18},0]
[null,{"$f":"B2500","v":19},0]
[null,{"$f":"B2501","v":20},0]
[null,{"$f":"B2502","v":21},0]
[null,{"$f":"B2503","v":22},0]
[null,{"$f":"B2504","v":23},0]
[null,{"$f":"B2505","v":24},0]
[null,{"$f":"B2506","v":25},0]
[null,{"$f":"B2507","v":26},0]
[null,{"$f":"B2508","v":27},0]
[null,{"$f":"B2509","v":28},0]
[null,{"$f":"B2510","v":29},0]
[null,{"$f":"B2511","v":30},0]
[null,{"$f":"B2512","v":31},0]
[null,{"$f":"B2513","v":32},0]
[null,{"$f":"B2514","v":33},0]
[null,{"$f":"B2515","v":34},0]
[null,{"$f":"B2516","v":35},0]
[]
["Рекомендация: обратите внимание на задания по темам, которые вызвали у Вас затруднения, решены с ошибкой и отмечены \"0\" или к решению которых Вы не приступили (пустые ячейки)!"]
[]
[]
[]
["Центр независимой оценки качества образования и образовательного аудита \"Легион\""]
[]
["Образовательная организация",null,null,null,{"$f":"E2524","v":"Ленинская СОШ"}]
["Предмет",null,null,null,{"$f":"E2525","v":"Русский язык"}]
["Максимальный балл",null,null,null,39]
["Пороговый балл",null,null,null,15]
["Зона риска",null,null,null,{"$f":"Результаты!E15","v":15},null,null,{"$f":"Результаты!H15","v":16}]
[]
["Уровни",null,null,null,{"$f":"E2530","v":1},{"$f":"F2530","v":2},3,4,5,6,7,8,9,10,11,12,13,14,15,"ПР.ГР",{"$error":"#REF!"},{"$error":"#REF!"},{"$error":"#REF!"},{"$error":"#REF!"},{"$error":"#REF!"},{"$error":"#REF!"},{"$error":"#REF!"},{"$error":"#REF!"},{"$error":"#REF!"},{"$error":"#REF!"},{"$error":"#REF!"},{"$error":"#REF!"},{"$error":"#REF!"},{"$error":"#REF!"},{"$error":"#REF!"},{"$error":"#REF!"},{"$error":"#REF!"},{"$error":"#REF!"},{"$error":"#REF!"},"Тестовый балл","% выплнения заданий по уровням",null,null,"Оценка"]
[null,null,null,null,null,null,null,null,null,null,null,null,null,null,null,null,null,null,null,null,null,null,null,null,null,null,null,null,null,null,null,null,null,null,null,null,null,null,null,null,"Базовый","Повышенный","Высокий"]
["№","Класс","Ф.И.О.","№ задания",{"$f":"E2532","v":1},{"$f":"F2532","v":2},3,4,5,6,7,8,9,10,11,12,13,14,15,0,{"$error":"#REF!"},{"$error":"#REF!"},{"$error":"#REF!"},{"$error":"#REF!"},{"$error":"#REF!"},{"$error":"#REF!"},{"$error":"#REF!"},{"$error":"#REF!"},{"$error":"#REF!"},{"$error":"#REF!"},{"$error":"#REF!"},{"$error":"#REF!"},{"$error":"#REF!"},{"$error":"#REF!"},{"$error":"#REF!"},{"$error":"#REF!"},{"$error":"#REF!"},{"$error":"#REF!"},{"$error":"#REF!"}]
["Максимальный балл",null,null,null,{"$f":"E2533","v":7},{"$f":"F2533","v":1},1,1,1,1,1,1,1,1,1,1,1,1,9,10,{"$error":"#REF!"},{"$error":"#REF!"},{"$error":"#REF!"},{"$error":"#REF!"},{"$error":"#REF!"},{"$error":"#REF!"},{"$error":"#REF!"},{"$error":"#REF!"},{"$error":"#REF!"},{"$error":"#REF!"},{"$error":"#REF!"},{"$error":"#REF!"},{"$error":"#REF!"},{"$error":"#REF!"},{"$error":"#REF!"},{"$error":"#REF!"},{"$error":"#REF!"},{"$error":"#REF!"},{"$error":"#REF!"},39,76.92307692307692,{"$error":"#REF!"},23.076923076923077,0]
[null,null,null,"вариант"]
[{"$f":"Результаты!#REF!","v":{"$error":"#REF!"}},{"$f":"Результаты!#REF!","v":{"$error":"#REF!"}},{"$f":"Результаты!#REF!","v":{"$error":"#REF!"}},{"$f":"Результаты!#REF!","v":{"$error":"#REF!"}},{"$f":"Результаты!#REF!","v":{"$error":"#REF!"}},{"$f":"Результаты!#REF!","v":{"$error":"#REF!"}},{"$f":"Результаты!#REF!","v":{"$error":"#REF!"}},{"$f":"Результаты!#REF!","v":{"$error":"#REF!"}},{"$f":"Результаты!#REF!","v":{"$error":"#REF!"}},{"$f":"Результаты!#REF!","v":{"$error":"#REF!"}},{"$f":"Результаты!#REF!","v":{"$error":"#REF!"}},{"$f":"Результаты!#REF!","v":{"$error":"#REF!"}},{"$f":"Результаты!#REF!","v":{"$error":"#REF!"}},{"$f":"Результаты!#REF!","v":{"$error":"#REF!"}},{"$f":"Результаты!#REF!","v":{"$error":"#REF!"}},{"$f":"Результаты!#REF!","v":{"$error":"#REF!"}},{"$f":"Результаты!#REF!","v":{"$error":"#REF!"}},{"$f":"Результаты!#REF!","v":{"$error":"#REF!"}},{"$f":"Результаты!#REF!","v":{"$error":"#REF!"}},{"$f":"Результаты!#REF!","v":{"$error":"#REF!"}},{"$f":"Результаты!#REF!","v":{"$error":"#REF!"}},{"$f":"Результаты!#REF!","v":{"$error":"#REF!"}},{"$f":"Результаты!#REF!","v":{"$error":"#REF!"}},{"$f":"Результаты!#REF!","v":{"$error":"#REF!"}},{"$f":"Результаты!#REF!","v":{"$error":"#REF!"}},{"$f":"Результаты!#REF!","v":{"$error":"#REF!"}},{"$f":"Результаты!#REF!","v":{"$error":"#REF!"}},{"$f":"Результаты!#REF!","v":{"$error":"#REF!"}},{"$f":"Результаты!#REF!","v":{"$error":"#REF!"}},{"$f":"Результаты!#REF!","v":{"$error":"#REF!"}},{"$f":"Результаты!#REF!","v":{"$error":"#REF!"}},{"$f":"Результаты!#REF!","v":{"$error":"#REF!"}},{"$f":"Результаты!#REF!","v":{"$error":"#REF!"}},{"$f":"Результаты!#REF!","v":{"$error":"#REF!"}},{"$f":"Результаты!#REF!","v":{"$error":"#REF!"}},{"$f":"Результаты!#REF!","v":{"$error":"#REF!"}},{"$f":"Результаты!#REF!","v":{"$error":"#REF!"}},{"$f":"Результаты!#REF!","v":{"$error":"#REF!"}},{"$f":"Результаты!#REF!","v":{"$error":"#REF!"}},{"$f":"Результаты!#REF!","v":{"$error":"#REF!"}},{"$f":"Результаты!#REF!","v":{"$error":"#REF!"}},{"$f":"Результаты!#REF!","v":{"$error":"#REF!"}},{"$f":"Результаты!#REF!","v":{"$error":"#REF!"}},{"$f":"Результаты!#REF!","v":{"$error":"#REF!"}}]
[]
[]
[null,{"$f":"B2538","v":1},"Информационная обработка текстов различных стилей и жанров. Текст как речевое произведение. Смысловая и композиционная целостность текста. Отбор языковых средств в тексте в зависимости от темы, цели, адресата и ситуации общения. Создание текстов различных стилей и функционально-смысловых типов речи. Грамматические нормы (морфологические нормы). Грамматические  нормы  (синтаксические нормы). Лексические нормы. Пунктуация в простом и сложном предложениях. Орфограмма"]
[null,{"$f":"B2539","v":2},"Текст как речевое произведение. Смысловая и композиционная целостность текста. Анализ текста"]
[null,{"$f":"B2540","v":3},"Выразительные средства лексики и фразеологии. Анализ средств выразительности"]
[null,{"$f":"B2541","v":4},"Правописание приставок. Слитное, дефисное, раздельное написание"]
[null,{"$f":"B2542","v":5},"Правописание суффиксов различных частей речи (кроме -Н-/-НН-). Правописание -Н- и -НН- в различных частях речи. Правописание личных окончаний глаголов и суффиксов причастий настоящего времени"]
[null,{"$f":"B2543","v":6},"Лексика и фразеология. Синонимы. Фразеологические обороты. Группы слов по происхождению и употреблению"]
[null,{"$f":"B2544","v":7},"Словосочетание"]
[null,{"$f":"B2545","v":8},"Предложение. Грамматическая (предикативная) основа предложения. Подлежащее и сказуемое как главные члены предложения "]
[null,{"$f":"B2546","v":9},"Осложнённое простое предложение"]
[null,{"$f":"B2547","v":10},"Пунктуационный анализ. Знаки препинания в предложениях со словами и конструкциями, грамматически не связанными с членами предложения"]
[null,{"$f":"B2548","v":11},"Синтаксический анализ сложного предложения"]
[null,{"$f":"B2549","v":12},"Пунктуационный анализ. Знаки препинания в сложносочинённом и сложноподчинённом предложениях"]
[null,{"$f":"B2550","v":13},"Синтаксический анализ сложного предложения"]
[null,{"$f":"B2551","v":14},"Сложные предложения с разными видами связи между частями"]
[null,{"$f":"B2552","v":15},"Текст как речевое произведение. Смысловая и композиционная целостность текста. Создание текстов различных стилей и функционально-смысловых типов речи. Информационная обработка текстов различных стилей и жанров. Грамматические нормы (морфологические нормы). Грамматические нормы (синтаксические нормы). Лексические нормы"]
[null,{"$f":"B2553","v":16},0]
[null,{"$f":"B2554","v":17},0]
[null,{"$f":"B2555","v":18},0]
[null,{"$f":"B2556","v":19},0]
[null,{"$f":"B2557","v":20},0]
[null,{"$f":"B2558","v":21},0]
[null,{"$f":"B2559","v":22},0]
[null,{"$f":"B2560","v":23},0]
[null,{"$f":"B2561","v":24},0]
[null,{"$f":"B2562","v":25},0]
[null,{"$f":"B2563","v":26},0]
[null,{"$f":"B2564","v":27},0]
[null,{"$f":"B2565","v":28},0]
[null,{"$f":"B2566","v":29},0]
[null,{"$f":"B2567","v":30},0]
[null,{"$f":"B2568","v":31},0]
[null,{"$f":"B2569","v":32},0]
[null,{"$f":"B2570","v":33},0]
[null,{"$f":"B2571","v":34},0]
[null,{"$f":"B2572","v":35},0]
[]
[]
["Рекомендация: обратите внимание на задания по темам, которые вызвали у Вас затруднения, решены с ошибкой и отмечены \"0\" или к решению которых Вы не приступили (пустые ячейки)!"]
[]
[]
["Центр независимой оценки качества образования и образовательного аудита \"Легион\""]
[]
["Образовательная организация",null,null,null,{"$f":"E2580","v":"Ленинская СОШ"}]
["Предмет",null,null,null,{"$f":"E2581","v":"Русский язык"}]
["Максимальный балл",null,null,null,39]
["Пороговый балл",null,null,null,15]
["Зона риска",null,null,null,{"$f":"Результаты!E15","v":15},null,null,{"$f":"Результаты!H15","v":16}]
[]
["Уровни",null,null,null,{"$f":"E2586","v":1},{"$f":"F2586","v":2},3,4,5,6,7,8,9,10,11,12,13,14,15,"ПР.ГР",{"$error":"#REF!"},{"$error":"#REF!"},{"$error":"#REF!"},{"$error":"#REF!"},{"$error":"#REF!"},{"$error":"#REF!"},{"$error":"#REF!"},{"$error":"#REF!"},{"$error":"#REF!"},{"$error":"#REF!"},{"$error":"#REF!"},{"$error":"#REF!"},{"$error":"#REF!"},{"$error":"#REF!"},{"$error":"#REF!"},{"$error":"#REF!"},{"$error":"#REF!"},{"$error":"#REF!"},{"$error":"#REF!"},"Тестовый балл","% выплнения заданий по уровням",null,null,"Оценка"]
[null,null,null,null,null,null,null,null,null,null,null,null,null,null,null,null,null,null,null,null,null,null,null,null,null,null,null,null,null,null,null,null,null,null,null,null,null,null,null,null,"Базовый","Повышенный","Высокий"]
["№","Класс","Ф.И.О.","№ задания",{"$f":"E2588","v":1},{"$f":"F2588","v":2},3,4,5,6,7,8,9,10,11,12,13,14,15,0,{"$error":"#REF!"},{"$error":"#REF!"},{"$error":"#REF!"},{"$error":"#REF!"},{"$error":"#REF!"},{"$error":"#REF!"},{"$error":"#REF!"},{"$error":"#REF!"},{"$error":"#REF!"},{"$error":"#REF!"},{"$error":"#REF!"},{"$error":"#REF!"},{"$error":"#REF!"},{"$error":"#REF!"},{"$error":"#REF!"},{"$error":"#REF!"},{"$error":"#REF!"},{"$error":"#REF!"},{"$error":"#REF!"}]
["Максимальный балл",null,null,null,{"$f":"E2589","v":7},{"$f":"F2589","v":1},1,1,1,1,1,1,1,1,1,1,1,1,9,10,{"$error":"#REF!"},{"$error":"#REF!"},{"$error":"#REF!"},{"$error":"#REF!"},{"$error":"#REF!"},{"$error":"#REF!"},{"$error":"#REF!"},{"$error":"#REF!"},{"$error":"#REF!"},{"$error":"#REF!"},{"$error":"#REF!"},{"$error":"#REF!"},{"$error":"#REF!"},{"$error":"#REF!"},{"$error":"#REF!"},{"$error":"#REF!"},{"$error":"#REF!"},{"$error":"#REF!"},{"$error":"#REF!"},39,76.92307692307692,{"$error":"#REF!"},23.076923076923077,0]
[null,null,null,"вариант"]
[{"$f":"Результаты!#REF!","v":{"$error":"#REF!"}},{"$f":"Результаты!#REF!","v":{"$error":"#REF!"}},{"$f":"Результаты!#REF!","v":{"$error":"#REF!"}},{"$f":"Результаты!#REF!","v":{"$error":"#REF!"}},{"$f":"Результаты!#REF!","v":{"$error":"#REF!"}},{"$f":"Результаты!#REF!","v":{"$error":"#REF!"}},{"$f":"Результаты!#REF!","v":{"$error":"#REF!"}},{"$f":"Результаты!#REF!","v":{"$error":"#REF!"}},{"$f":"Результаты!#REF!","v":{"$error":"#REF!"}},{"$f":"Результаты!#REF!","v":{"$error":"#REF!"}},{"$f":"Результаты!#REF!","v":{"$error":"#REF!"}},{"$f":"Результаты!#REF!","v":{"$error":"#REF!"}},{"$f":"Результаты!#REF!","v":{"$error":"#REF!"}},{"$f":"Результаты!#REF!","v":{"$error":"#REF!"}},{"$f":"Результаты!#REF!","v":{"$error":"#REF!"}},{"$f":"Результаты!#REF!","v":{"$error":"#REF!"}},{"$f":"Результаты!#REF!","v":{"$error":"#REF!"}},{"$f":"Результаты!#REF!","v":{"$error":"#REF!"}},{"$f":"Результаты!#REF!","v":{"$error":"#REF!"}},{"$f":"Результаты!#REF!","v":{"$error":"#REF!"}},{"$f":"Результаты!#REF!","v":{"$error":"#REF!"}},{"$f":"Результаты!#REF!","v":{"$error":"#REF!"}},{"$f":"Результаты!#REF!","v":{"$error":"#REF!"}},{"$f":"Результаты!#REF!","v":{"$error":"#REF!"}},{"$f":"Результаты!#REF!","v":{"$error":"#REF!"}},{"$f":"Результаты!#REF!","v":{"$error":"#REF!"}},{"$f":"Результаты!#REF!","v":{"$error":"#REF!"}},{"$f":"Результаты!#REF!","v":{"$error":"#REF!"}},{"$f":"Результаты!#REF!","v":{"$error":"#REF!"}},{"$f":"Результаты!#REF!","v":{"$error":"#REF!"}},{"$f":"Результаты!#REF!","v":{"$error":"#REF!"}},{"$f":"Результаты!#REF!","v":{"$error":"#REF!"}},{"$f":"Результаты!#REF!","v":{"$error":"#REF!"}},{"$f":"Результаты!#REF!","v":{"$error":"#REF!"}},{"$f":"Результаты!#REF!","v":{"$error":"#REF!"}},{"$f":"Результаты!#REF!","v":{"$error":"#REF!"}},{"$f":"Результаты!#REF!","v":{"$error":"#REF!"}},{"$f":"Результаты!#REF!","v":{"$error":"#REF!"}},{"$f":"Результаты!#REF!","v":{"$error":"#REF!"}},{"$f":"Результаты!#REF!","v":{"$error":"#REF!"}},{"$f":"Результаты!#REF!","v":{"$error":"#REF!"}},{"$f":"Результаты!#REF!","v":{"$error":"#REF!"}},{"$f":"Результаты!#REF!","v":{"$error":"#REF!"}},{"$f":"Результаты!#REF!","v":{"$error":"#REF!"}}]
[]
[]
[null,{"$f":"B2594","v":1},{"$f":"C2594","v":"Информационная обработка текстов различных стилей и жанров. Текст как речевое произведение. Смысловая и композиционная целостность текста. Отбор языковых средств в тексте в зависимости от темы, цели, адресата и ситуации общения. Создание текстов различных стилей и функционально-смысловых типов речи. Грамматические нормы (морфологические нормы). Грамматические  нормы  (синтаксические нормы). Лексические нормы. Пунктуация в простом и сложном предложениях. Орфограмма"}]
[null,{"$f":"B2595","v":2},"Текст как речевое произведение. Смысловая и композиционная целостность текста. Анализ текста"]
[null,{"$f":"B2596","v":3},"Выразительные средства лексики и фразеологии. Анализ средств выразительности"]
[null,{"$f":"B2597","v":4},"Правописание приставок. Слитное, дефисное, раздельное написание"]
[null,{"$f":"B2598","v":5},"Правописание суффиксов различных частей речи (кроме -Н-/-НН-). Правописание -Н- и -НН- в различных частях речи. Правописание личных окончаний глаголов и суффиксов причастий настоящего времени"]
[null,{"$f":"B2599","v":6},"Лексика и фразеология. Синонимы. Фразеологические обороты. Группы слов по происхождению и употреблению"]
[null,{"$f":"B2600","v":7},"Словосочетание"]
[null,{"$f":"B2601","v":8},"Предложение. Грамматическая (предикативная) основа предложения. Подлежащее и сказуемое как главные члены предложения "]
[null,{"$f":"B2602","v":9},"Осложнённое простое предложение"]
[null,{"$f":"B2603","v":10},"Пунктуационный анализ. Знаки препинания в предложениях со словами и конструкциями, грамматически не связанными с членами предложения"]
[null,{"$f":"B2604","v":11},"Синтаксический анализ сложного предложения"]
[null,{"$f":"B2605","v":12},"Пунктуационный анализ. Знаки препинания в сложносочинённом и сложноподчинённом предложениях"]
[null,{"$f":"B2606","v":13},"Синтаксический анализ сложного предложения"]
[null,{"$f":"B2607","v":14},"Сложные предложения с разными видами связи между частями"]
[null,{"$f":"B2608","v":15},"Текст как речевое произведение. Смысловая и композиционная целостность текста. Создание текстов различных стилей и функционально-смысловых типов речи. Информационная обработка текстов различных стилей и жанров. Грамматические нормы (морфологические нормы). Грамматические нормы (синтаксические нормы). Лексические нормы"]
[null,{"$f":"B2609","v":16},0]
[null,{"$f":"B2610","v":17},0]
[null,{"$f":"B2611","v":18},0]
[null,{"$f":"B2612","v":19},0]
[null,{"$f":"B2613","v":20},0]
[null,{"$f":"B2614","v":21},0]
[null,{"$f":"B2615","v":22},0]
[null,{"$f":"B2616","v":23},0]
[null,{"$f":"B2617","v":24},0]
[null,{"$f":"B2618","v":25},0]
[null,{"$f":"B2619","v":26},0]
[null,{"$f":"B2620","v":27},0]
[null,{"$f":"B2621","v":28},0]
[null,{"$f":"B2622","v":29},0]
[null,{"$f":"B2623","v":30},0]
[null,{"$f":"B2624","v":31},0]
[null,{"$f":"B2625","v":32},0]
[null,{"$f":"B2626","v":33},0]
[null,{"$f":"B2627","v":34},0]
[null,{"$f":"B2628","v":35},0]
[]
["Рекомендация: обратите внимание на задания по темам, которые вызвали у Вас затруднения, решены с ошибкой и отмечены \"0\" или к решению которых Вы не приступили (пустые ячейки)!"]
[]
[]
[]
["Центр независимой оценки качества образования и образовательного аудита \"Легион\""]
[]
["Образовательная организация",null,null,null,{"$f":"E2636","v":"Ленинская СОШ"}]
["Предмет",null,null,null,{"$f":"E2637","v":"Русский язык"}]
["Максимальный балл",null,null,null,39]
["Пороговый балл",null,null,null,15]
["Зона риска",null,null,null,{"$f":"Результаты!E15","v":15},null,null,{"$f":"Результаты!H15","v":16}]
[]
["Уровни",null,null,null,{"$f":"E2642","v":1},{"$f":"F2642","v":2},3,4,5,6,7,8,9,10,11,12,13,14,15,"ПР.ГР",{"$error":"#REF!"},{"$error":"#REF!"},{"$error":"#REF!"},{"$error":"#REF!"},{"$error":"#REF!"},{"$error":"#REF!"},{"$error":"#REF!"},{"$error":"#REF!"},{"$error":"#REF!"},{"$error":"#REF!"},{"$error":"#REF!"},{"$error":"#REF!"},{"$error":"#REF!"},{"$error":"#REF!"},{"$error":"#REF!"},{"$error":"#REF!"},{"$error":"#REF!"},{"$error":"#REF!"},{"$error":"#REF!"},"Тестовый балл","% выплнения заданий по уровням",null,null,"Оценка"]
[null,null,null,null,null,null,null,null,null,null,null,null,null,null,null,null,null,null,null,null,null,null,null,null,null,null,null,null,null,null,null,null,null,null,null,null,null,null,null,null,"Базовый","Повышенный","Высокий"]
["№","Класс","Ф.И.О.","№ задания",{"$f":"E2644","v":1},{"$f":"F2644","v":2},3,4,5,6,7,8,9,10,11,12,13,14,15,0,{"$error":"#REF!"},{"$error":"#REF!"},{"$error":"#REF!"},{"$error":"#REF!"},{"$error":"#REF!"},{"$error":"#REF!"},{"$error":"#REF!"},{"$error":"#REF!"},{"$error":"#REF!"},{"$error":"#REF!"},{"$error":"#REF!"},{"$error":"#REF!"},{"$error":"#REF!"},{"$error":"#REF!"},{"$error":"#REF!"},{"$error":"#REF!"},{"$error":"#REF!"},{"$error":"#REF!"},{"$error":"#REF!"}]
["Максимальный балл",null,null,null,{"$f":"E2645","v":7},{"$f":"F2645","v":1},1,1,1,1,1,1,1,1,1,1,1,1,9,10,{"$error":"#REF!"},{"$error":"#REF!"},{"$error":"#REF!"},{"$error":"#REF!"},{"$error":"#REF!"},{"$error":"#REF!"},{"$error":"#REF!"},{"$error":"#REF!"},{"$error":"#REF!"},{"$error":"#REF!"},{"$error":"#REF!"},{"$error":"#REF!"},{"$error":"#REF!"},{"$error":"#REF!"},{"$error":"#REF!"},{"$error":"#REF!"},{"$error":"#REF!"},{"$error":"#REF!"},{"$error":"#REF!"},39,76.92307692307692,{"$error":"#REF!"},23.076923076923077,0]
[null,null,null,"вариант"]
[{"$f":"Результаты!#REF!","v":{"$error":"#REF!"}},{"$f":"Результаты!#REF!","v":{"$error":"#REF!"}},{"$f":"Результаты!#REF!","v":{"$error":"#REF!"}},{"$f":"Результаты!#REF!","v":{"$error":"#REF!"}},{"$f":"Результаты!#REF!","v":{"$error":"#REF!"}},{"$f":"Результаты!#REF!","v":{"$error":"#REF!"}},{"$f":"Результаты!#REF!","v":{"$error":"#REF!"}},{"$f":"Результаты!#REF!","v":{"$error":"#REF!"}},{"$f":"Результаты!#REF!","v":{"$error":"#REF!"}},{"$f":"Результаты!#REF!","v":{"$error":"#REF!"}},{"$f":"Результаты!#REF!","v":{"$error":"#REF!"}},{"$f":"Результаты!#REF!","v":{"$error":"#REF!"}},{"$f":"Результаты!#REF!","v":{"$error":"#REF!"}},{"$f":"Результаты!#REF!","v":{"$error":"#REF!"}},{"$f":"Результаты!#REF!","v":{"$error":"#REF!"}},{"$f":"Результаты!#REF!","v":{"$error":"#REF!"}},{"$f":"Результаты!#REF!","v":{"$error":"#REF!"}},{"$f":"Результаты!#REF!","v":{"$error":"#REF!"}},{"$f":"Результаты!#REF!","v":{"$error":"#REF!"}},{"$f":"Результаты!#REF!","v":{"$error":"#REF!"}},{"$f":"Результаты!#REF!","v":{"$error":"#REF!"}},{"$f":"Результаты!#REF!","v":{"$error":"#REF!"}},{"$f":"Результаты!#REF!","v":{"$error":"#REF!"}},{"$f":"Результаты!#REF!","v":{"$error":"#REF!"}},{"$f":"Результаты!#REF!","v":{"$error":"#REF!"}},{"$f":"Результаты!#REF!","v":{"$error":"#REF!"}},{"$f":"Результаты!#REF!","v":{"$error":"#REF!"}},{"$f":"Результаты!#REF!","v":{"$error":"#REF!"}},{"$f":"Результаты!#REF!","v":{"$error":"#REF!"}},{"$f":"Результаты!#REF!","v":{"$error":"#REF!"}},{"$f":"Результаты!#REF!","v":{"$error":"#REF!"}},{"$f":"Результаты!#REF!","v":{"$error":"#REF!"}},{"$f":"Результаты!#REF!","v":{"$error":"#REF!"}},{"$f":"Результаты!#REF!","v":{"$error":"#REF!"}},{"$f":"Результаты!#REF!","v":{"$error":"#REF!"}},{"$f":"Результаты!#REF!","v":{"$error":"#REF!"}},{"$f":"Результаты!#REF!","v":{"$error":"#REF!"}},{"$f":"Результаты!#REF!","v":{"$error":"#REF!"}},{"$f":"Результаты!#REF!","v":{"$error":"#REF!"}},{"$f":"Результаты!#REF!","v":{"$error":"#REF!"}},{"$f":"Результаты!#REF!","v":{"$error":"#REF!"}},{"$f":"Результаты!#REF!","v":{"$error":"#REF!"}},{"$f":"Результаты!#REF!","v":{"$error":"#REF!"}},{"$f":"Результаты!#REF!","v":{"$error":"#REF!"}}]
[]
[]
[null,{"$f":"B2650","v":1},{"$f":"C2650","v":"Информационная обработка текстов различных стилей и жанров. Текст как речевое произведение. Смысловая и композиционная целостность текста. Отбор языковых средств в тексте в зависимости от темы, цели, адресата и ситуации общения. Создание текстов различных стилей и функционально-смысловых типов речи. Грамматические нормы (морфологические нормы). Грамматические  нормы  (синтаксические нормы). Лексические нормы. Пунктуация в простом и сложном предложениях. Орфограмма"}]
[null,{"$f":"B2651","v":2},"Текст как речевое произведение. Смысловая и композиционная целостность текста. Анализ текста"]
[null,{"$f":"B2652","v":3},"Выразительные средства лексики и фразеологии. Анализ средств выразительности"]
[null,{"$f":"B2653","v":4},"Правописание приставок. Слитное, дефисное, раздельное написание"]
[null,{"$f":"B2654","v":5},"Правописание суффиксов различных частей речи (кроме -Н-/-НН-). Правописание -Н- и -НН- в различных частях речи. Правописание личных окончаний глаголов и суффиксов причастий настоящего времени"]
[null,{"$f":"B2655","v":6},"Лексика и фразеология. Синонимы. Фразеологические обороты. Группы слов по происхождению и употреблению"]
[null,{"$f":"B2656","v":7},"Словосочетание"]
[null,{"$f":"B2657","v":8},"Предложение. Грамматическая (предикативная) основа предложения. Подлежащее и сказуемое как главные члены предложения "]
[null,{"$f":"B2658","v":9},"Осложнённое простое предложение"]
[null,{"$f":"B2659","v":10},"Пунктуационный анализ. Знаки препинания в предложениях со словами и конструкциями, грамматически не связанными с членами предложения"]
[null,{"$f":"B2660","v":11},"Синтаксический анализ сложного предложения"]
[null,{"$f":"B2661","v":12},"Пунктуационный анализ. Знаки препинания в сложносочинённом и сложноподчинённом предложениях"]
[null,{"$f":"B2662","v":13},"Синтаксический анализ сложного предложения"]
[null,{"$f":"B2663","v":14},"Сложные предложения с разными видами связи между частями"]
[null,{"$f":"B2664","v":15},"Текст как речевое произведение. Смысловая и композиционная целостность текста. Создание текстов различных стилей и функционально-смысловых типов речи. Информационная обработка текстов различных стилей и жанров. Грамматические нормы (морфологические нормы). Грамматические нормы (синтаксические нормы). Лексические нормы"]
[null,{"$f":"B2665","v":16},0]
[null,{"$f":"B2666","v":17},0]
[null,{"$f":"B2667","v":18},0]
[null,{"$f":"B2668","v":19},0]
[null,{"$f":"B2669","v":20},0]
[null,{"$f":"B2670","v":21},0]
[null,{"$f":"B2671","v":22},0]
[null,{"$f":"B2672","v":23},0]
[null,{"$f":"B2673","v":24},0]
[null,{"$f":"B2674","v":25},0]
[null,{"$f":"B2675","v":26},0]
[null,{"$f":"B2676","v":27},0]
[null,{"$f":"B2677","v":28},0]
[null,{"$f":"B2678","v":29},0]
[null,{"$f":"B2679","v":30},0]
[null,{"$f":"B2680","v":31},0]
[null,{"$f":"B2681","v":32},0]
[null,{"$f":"B2682","v":33},0]
[null,{"$f":"B2683","v":34},0]
[null,{"$f":"B2684","v":35},0]
[]
["Рекомендация: обратите внимание на задания по темам, которые вызвали у Вас затруднения, решены с ошибкой и отмечены \"0\" или к решению которых Вы не приступили (пустые ячейки)!"]
[]
[]
[]
["Центр независимой оценки качества образования и образовательного аудита \"Легион\""]
[]
["Образовательная организация",null,null,null,{"$f":"E2692","v":"Ленинская СОШ"}]
["Предмет",null,null,null,{"$f":"E2693","v":"Русский язык"}]
["Максимальный балл",null,null,null,39]
["Пороговый балл",null,null,null,15]
["Зона риска",null,null,null,{"$f":"Результаты!E15","v":15},null,null,{"$f":"Результаты!H15","v":16}]
[]
["Уровни",null,null,null,{"$f":"E2698","v":1},{"$f":"F2698","v":2},3,4,5,6,7,8,9,10,11,12,13,14,15,"ПР.ГР",{"$error":"#REF!"},{"$error":"#REF!"},{"$error":"#REF!"},{"$error":"#REF!"},{"$error":"#REF!"},{"$error":"#REF!"},{"$error":"#REF!"},{"$error":"#REF!"},{"$error":"#REF!"},{"$error":"#REF!"},{"$error":"#REF!"},{"$error":"#REF!"},{"$error":"#REF!"},{"$error":"#REF!"},{"$error":"#REF!"},{"$error":"#REF!"},{"$error":"#REF!"},{"$error":"#REF!"},{"$error":"#REF!"},"Тестовый балл","% выплнения заданий по уровням",null,null,"Оценка"]
[null,null,null,null,null,null,null,null,null,null,null,null,null,null,null,null,null,null,null,null,null,null,null,null,null,null,null,null,null,null,null,null,null,null,null,null,null,null,null,null,"Базовый","Повышенный","Высокий"]
["№","Класс","Ф.И.О.","№ задания",{"$f":"E2700","v":1},{"$f":"F2700","v":2},3,4,5,6,7,8,9,10,11,12,13,14,15,0,{"$error":"#REF!"},{"$error":"#REF!"},{"$error":"#REF!"},{"$error":"#REF!"},{"$error":"#REF!"},{"$error":"#REF!"},{"$error":"#REF!"},{"$error":"#REF!"},{"$error":"#REF!"},{"$error":"#REF!"},{"$error":"#REF!"},{"$error":"#REF!"},{"$error":"#REF!"},{"$error":"#REF!"},{"$error":"#REF!"},{"$error":"#REF!"},{"$error":"#REF!"},{"$error":"#REF!"},{"$error":"#REF!"}]
["Максимальный балл",null,null,null,{"$f":"E2701","v":7},{"$f":"F2701","v":1},1,1,1,1,1,1,1,1,1,1,1,1,9,10,{"$error":"#REF!"},{"$error":"#REF!"},{"$error":"#REF!"},{"$error":"#REF!"},{"$error":"#REF!"},{"$error":"#REF!"},{"$error":"#REF!"},{"$error":"#REF!"},{"$error":"#REF!"},{"$error":"#REF!"},{"$error":"#REF!"},{"$error":"#REF!"},{"$error":"#REF!"},{"$error":"#REF!"},{"$error":"#REF!"},{"$error":"#REF!"},{"$error":"#REF!"},{"$error":"#REF!"},{"$error":"#REF!"},39,76.92307692307692,{"$error":"#REF!"},23.076923076923077,0]
[null,null,null,"вариант"]
[{"$f":"Результаты!#REF!","v":{"$error":"#REF!"}},{"$f":"Результаты!#REF!","v":{"$error":"#REF!"}},{"$f":"Результаты!#REF!","v":{"$error":"#REF!"}},{"$f":"Результаты!#REF!","v":{"$error":"#REF!"}},{"$f":"Результаты!#REF!","v":{"$error":"#REF!"}},{"$f":"Результаты!#REF!","v":{"$error":"#REF!"}},{"$f":"Результаты!#REF!","v":{"$error":"#REF!"}},{"$f":"Результаты!#REF!","v":{"$error":"#REF!"}},{"$f":"Результаты!#REF!","v":{"$error":"#REF!"}},{"$f":"Результаты!#REF!","v":{"$error":"#REF!"}},{"$f":"Результаты!#REF!","v":{"$error":"#REF!"}},{"$f":"Результаты!#REF!","v":{"$error":"#REF!"}},{"$f":"Результаты!#REF!","v":{"$error":"#REF!"}},{"$f":"Результаты!#REF!","v":{"$error":"#REF!"}},{"$f":"Результаты!#REF!","v":{"$error":"#REF!"}},{"$f":"Результаты!#REF!","v":{"$error":"#REF!"}},{"$f":"Результаты!#REF!","v":{"$error":"#REF!"}},{"$f":"Результаты!#REF!","v":{"$error":"#REF!"}},{"$f":"Результаты!#REF!","v":{"$error":"#REF!"}},{"$f":"Результаты!#REF!","v":{"$error":"#REF!"}},{"$f":"Результаты!#REF!","v":{"$error":"#REF!"}},{"$f":"Результаты!#REF!","v":{"$error":"#REF!"}},{"$f":"Результаты!#REF!","v":{"$error":"#REF!"}},{"$f":"Результаты!#REF!","v":{"$error":"#REF!"}},{"$f":"Результаты!#REF!","v":{"$error":"#REF!"}},{"$f":"Результаты!#REF!","v":{"$error":"#REF!"}},{"$f":"Результаты!#REF!","v":{"$error":"#REF!"}},{"$f":"Результаты!#REF!","v":{"$error":"#REF!"}},{"$f":"Результаты!#REF!","v":{"$error":"#REF!"}},{"$f":"Результаты!#REF!","v":{"$error":"#REF!"}},{"$f":"Результаты!#REF!","v":{"$error":"#REF!"}},{"$f":"Результаты!#REF!","v":{"$error":"#REF!"}},{"$f":"Результаты!#REF!","v":{"$error":"#REF!"}},{"$f":"Результаты!#REF!","v":{"$error":"#REF!"}},{"$f":"Результаты!#REF!","v":{"$error":"#REF!"}},{"$f":"Результаты!#REF!","v":{"$error":"#REF!"}},{"$f":"Результаты!#REF!","v":{"$error":"#REF!"}},{"$f":"Результаты!#REF!","v":{"$error":"#REF!"}},{"$f":"Результаты!#REF!","v":{"$error":"#REF!"}},{"$f":"Результаты!#REF!","v":{"$error":"#REF!"}},{"$f":"Результаты!#REF!","v":{"$error":"#REF!"}},{"$f":"Результаты!#REF!","v":{"$error":"#REF!"}},{"$f":"Результаты!#REF!","v":{"$error":"#REF!"}},{"$f":"Результаты!#REF!","v":{"$error":"#REF!"}}]
[]
[]
[null,{"$f":"B2706","v":1},{"$f":"C2706","v":"Информационная обработка текстов различных стилей и жанров. Текст как речевое произведение. Смысловая и композиционная целостность текста. Отбор языковых средств в тексте в зависимости от темы, цели, адресата и ситуации общения. Создание текстов различных стилей и функционально-смысловых типов речи. Грамматические нормы (морфологические нормы). Грамматические  нормы  (синтаксические нормы). Лексические нормы. Пунктуация в простом и сложном предложениях. Орфограмма"}]
[null,{"$f":"B2707","v":2},"Текст как речевое произведение. Смысловая и композиционная целостность текста. Анализ текста"]
[null,{"$f":"B2708","v":3},"Выразительные средства лексики и фразеологии. Анализ средств выразительности"]
[null,{"$f":"B2709","v":4},"Правописание приставок. Слитное, дефисное, раздельное написание"]
[null,{"$f":"B2710","v":5},"Правописание суффиксов различных частей речи (кроме -Н-/-НН-). Правописание -Н- и -НН- в различных частях речи. Правописание личных окончаний глаголов и суффиксов причастий настоящего времени"]
[null,{"$f":"B2711","v":6},"Лексика и фразеология. Синонимы. Фразеологические обороты. Группы слов по происхождению и употреблению"]
[null,{"$f":"B2712","v":7},"Словосочетание"]
[null,{"$f":"B2713","v":8},"Предложение. Грамматическая (предикативная) основа предложения. Подлежащее и сказуемое как главные члены предложения "]
[null,{"$f":"B2714","v":9},"Осложнённое простое предложение"]
[null,{"$f":"B2715","v":10},"Пунктуационный анализ. Знаки препинания в предложениях со словами и конструкциями, грамматически не связанными с членами предложения"]
[null,{"$f":"B2716","v":11},"Синтаксический анализ сложного предложения"]
[null,{"$f":"B2717","v":12},"Пунктуационный анализ. Знаки препинания в сложносочинённом и сложноподчинённом предложениях"]
[null,{"$f":"B2718","v":13},"Синтаксический анализ сложного предложения"]
[null,{"$f":"B2719","v":14},"Сложные предложения с разными видами связи между частями"]
[null,{"$f":"B2720","v":15},"Текст как речевое произведение. Смысловая и композиционная целостность текста. Создание текстов различных стилей и функционально-смысловых типов речи. Информационная обработка текстов различных стилей и жанров. Грамматические нормы (морфологические нормы). Грамматические нормы (синтаксические нормы). Лексические нормы"]
[null,{"$f":"B2721","v":16},0]
[null,{"$f":"B2722","v":17},0]
[null,{"$f":"B2723","v":18},0]
[null,{"$f":"B2724","v":19},0]
[null,{"$f":"B2725","v":20},0]
[null,{"$f":"B2726","v":21},0]
[null,{"$f":"B2727","v":22},0]
[null,{"$f":"B2728","v":23},0]
[null,{"$f":"B2729","v":24},0]
[null,{"$f":"B2730","v":25},0]
[null,{"$f":"B2731","v":26},0]
[null,{"$f":"B2732","v":27},0]
[null,{"$f":"B2733","v":28},0]
[null,{"$f":"B2734","v":29},0]
[null,{"$f":"B2735","v":30},0]
[null,{"$f":"B2736","v":31},0]
[null,{"$f":"B2737","v":32},0]
[null,{"$f":"B2738","v":33},0]
[null,{"$f":"B2739","v":34},0]
[null,{"$f":"B2740","v":35},0]
[]
["Рекомендация: обратите внимание на задания по темам, которые вызвали у Вас затруднения, решены с ошибкой и отмечены \"0\" или к решению которых Вы не приступили (пустые ячейки)!"]
[]
[]
[]
["Центр независимой оценки качества образования и образовательного аудита \"Легион\""]
[]
["Образовательная организация",null,null,null,{"$f":"E2692","v":"Ленинская СОШ"}]
["Предмет",null,null,null,{"$f":"E2693","v":"Русский язык"}]
["Максимальный балл",null,null,null,39]
["Пороговый балл",null,null,null,15]
["Зона риска",null,null,null,{"$f":"Результаты!E15","v":15},null,null,{"$f":"Результаты!H15","v":16}]
[]
["Уровни",null,null,null,{"$f":"E2754","v":1},{"$f":"F2754","v":2},3,4,5,6,7,8,9,10,11,12,13,14,15,"ПР.ГР",{"$error":"#REF!"},{"$error":"#REF!"},{"$error":"#REF!"},{"$error":"#REF!"},{"$error":"#REF!"},{"$error":"#REF!"},{"$error":"#REF!"},{"$error":"#REF!"},{"$error":"#REF!"},{"$error":"#REF!"},{"$error":"#REF!"},{"$error":"#REF!"},{"$error":"#REF!"},{"$error":"#REF!"},{"$error":"#REF!"},{"$error":"#REF!"},{"$error":"#REF!"},{"$error":"#REF!"},{"$error":"#REF!"},"Тестовый балл","% выплнения заданий по уровням",null,null,"Оценка"]
[null,null,null,null,null,null,null,null,null,null,null,null,null,null,null,null,null,null,null,null,null,null,null,null,null,null,null,null,null,null,null,null,null,null,null,null,null,null,null,null,"Базовый","Повышенный","Высокий"]
["№","Класс","Ф.И.О.","№ задания",{"$f":"E2756","v":1},{"$f":"F2756","v":2},3,4,5,6,7,8,9,10,11,12,13,14,15,0,{"$error":"#REF!"},{"$error":"#REF!"},{"$error":"#REF!"},{"$error":"#REF!"},{"$error":"#REF!"},{"$error":"#REF!"},{"$error":"#REF!"},{"$error":"#REF!"},{"$error":"#REF!"},{"$error":"#REF!"},{"$error":"#REF!"},{"$error":"#REF!"},{"$error":"#REF!"},{"$error":"#REF!"},{"$error":"#REF!"},{"$error":"#REF!"},{"$error":"#REF!"},{"$error":"#REF!"},{"$error":"#REF!"}]
["Максимальный балл",null,null,null,{"$f":"E2757","v":7},{"$f":"F2757","v":1},1,1,1,1,1,1,1,1,1,1,1,1,9,10,{"$error":"#REF!"},{"$error":"#REF!"},{"$error":"#REF!"},{"$error":"#REF!"},{"$error":"#REF!"},{"$error":"#REF!"},{"$error":"#REF!"},{"$error":"#REF!"},{"$error":"#REF!"},{"$error":"#REF!"},{"$error":"#REF!"},{"$error":"#REF!"},{"$error":"#REF!"},{"$error":"#REF!"},{"$error":"#REF!"},{"$error":"#REF!"},{"$error":"#REF!"},{"$error":"#REF!"},{"$error":"#REF!"},39,76.92307692307692,{"$error":"#REF!"},23.076923076923077,0]
[null,null,null,"вариант"]
[{"$f":"Результаты!#REF!","v":{"$error":"#REF!"}},{"$f":"Результаты!#REF!","v":{"$error":"#REF!"}},{"$f":"Результаты!#REF!","v":{"$error":"#REF!"}},{"$f":"Результаты!#REF!","v":{"$error":"#REF!"}},{"$f":"Результаты!#REF!","v":{"$error":"#REF!"}},{"$f":"Результаты!#REF!","v":{"$error":"#REF!"}},{"$f":"Результаты!#REF!","v":{"$error":"#REF!"}},{"$f":"Результаты!#REF!","v":{"$error":"#REF!"}},{"$f":"Результаты!#REF!","v":{"$error":"#REF!"}},{"$f":"Результаты!#REF!","v":{"$error":"#REF!"}},{"$f":"Результаты!#REF!","v":{"$error":"#REF!"}},{"$f":"Результаты!#REF!","v":{"$error":"#REF!"}},{"$f":"Результаты!#REF!","v":{"$error":"#REF!"}},{"$f":"Результаты!#REF!","v":{"$error":"#REF!"}},{"$f":"Результаты!#REF!","v":{"$error":"#REF!"}},{"$f":"Результаты!#REF!","v":{"$error":"#REF!"}},{"$f":"Результаты!#REF!","v":{"$error":"#REF!"}},{"$f":"Результаты!#REF!","v":{"$error":"#REF!"}},{"$f":"Результаты!#REF!","v":{"$error":"#REF!"}},{"$f":"Результаты!#REF!","v":{"$error":"#REF!"}},{"$f":"Результаты!#REF!","v":{"$error":"#REF!"}},{"$f":"Результаты!#REF!","v":{"$error":"#REF!"}},{"$f":"Результаты!#REF!","v":{"$error":"#REF!"}},{"$f":"Результаты!#REF!","v":{"$error":"#REF!"}},{"$f":"Результаты!#REF!","v":{"$error":"#REF!"}},{"$f":"Результаты!#REF!","v":{"$error":"#REF!"}},{"$f":"Результаты!#REF!","v":{"$error":"#REF!"}},{"$f":"Результаты!#REF!","v":{"$error":"#REF!"}},{"$f":"Результаты!#REF!","v":{"$error":"#REF!"}},{"$f":"Результаты!#REF!","v":{"$error":"#REF!"}},{"$f":"Результаты!#REF!","v":{"$error":"#REF!"}},{"$f":"Результаты!#REF!","v":{"$error":"#REF!"}},{"$f":"Результаты!#REF!","v":{"$error":"#REF!"}},{"$f":"Результаты!#REF!","v":{"$error":"#REF!"}},{"$f":"Результаты!#REF!","v":{"$error":"#REF!"}},{"$f":"Результаты!#REF!","v":{"$error":"#REF!"}},{"$f":"Результаты!#REF!","v":{"$error":"#REF!"}},{"$f":"Результаты!#REF!","v":{"$error":"#REF!"}},{"$f":"Результаты!#REF!","v":{"$error":"#REF!"}},{"$f":"Результаты!#REF!","v":{"$error":"#REF!"}},{"$f":"Результаты!#REF!","v":{"$error":"#REF!"}},{"$f":"Результаты!#REF!","v":{"$error":"#REF!"}},{"$f":"Результаты!#REF!","v":{"$error":"#REF!"}},{"$f":"Результаты!#REF!","v":{"$error":"#REF!"}}]
[]
[]
[null,{"$f":"B2762","v":1},{"$f":"C2762","v":"Информационная обработка текстов различных стилей и жанров. Текст как речевое произведение. Смысловая и композиционная целостность текста. Отбор языковых средств в тексте в зависимости от темы, цели, адресата и ситуации общения. Создание текстов различных стилей и функционально-смысловых типов речи. Грамматические нормы (морфологические нормы). Грамматические  нормы  (синтаксические нормы). Лексические нормы. Пунктуация в простом и сложном предложениях. Орфограмма"}]
[null,{"$f":"B2763","v":2},"Текст как речевое произведение. Смысловая и композиционная целостность текста. Анализ текста"]
[null,{"$f":"B2764","v":3},"Выразительные средства лексики и фразеологии. Анализ средств выразительности"]
[null,{"$f":"B2765","v":4},"Правописание приставок. Слитное, дефисное, раздельное написание"]
[null,{"$f":"B2766","v":5},"Правописание суффиксов различных частей речи (кроме -Н-/-НН-). Правописание -Н- и -НН- в различных частях речи. Правописание личных окончаний глаголов и суффиксов причастий настоящего времени"]
[null,{"$f":"B2767","v":6},"Лексика и фразеология. Синонимы. Фразеологические обороты. Группы слов по происхождению и употреблению"]
[null,{"$f":"B2768","v":7},"Словосочетание"]
[null,{"$f":"B2769","v":8},"Предложение. Грамматическая (предикативная) основа предложения. Подлежащее и сказуемое как главные члены предложения "]
[null,{"$f":"B2770","v":9},"Осложнённое простое предложение"]
[null,{"$f":"B2771","v":10},"Пунктуационный анализ. Знаки препинания в предложениях со словами и конструкциями, грамматически не связанными с членами предложения"]
[null,{"$f":"B2772","v":11},"Синтаксический анализ сложного предложения"]
[null,{"$f":"B2773","v":12},"Пунктуационный анализ. Знаки препинания в сложносочинённом и сложноподчинённом предложениях"]
[null,{"$f":"B2774","v":13},"Синтаксический анализ сложного предложения"]
[null,{"$f":"B2775","v":14},"Сложные предложения с разными видами связи между частями"]
[null,{"$f":"B2776","v":15},"Текст как речевое произведение. Смысловая и композиционная целостность текста. Создание текстов различных стилей и функционально-смысловых типов речи. Информационная обработка текстов различных стилей и жанров. Грамматические нормы (морфологические нормы). Грамматические нормы (синтаксические нормы). Лексические нормы"]
[null,{"$f":"B2777","v":16},0]
[null,{"$f":"B2778","v":17},0]
[null,{"$f":"B2779","v":18},0]
[null,{"$f":"B2780","v":19},0]
[null,{"$f":"B2781","v":20},0]
[null,{"$f":"B2782","v":21},0]
[null,{"$f":"B2783","v":22},0]
[null,{"$f":"B2784","v":23},0]
[null,{"$f":"B2785","v":24},0]
[null,{"$f":"B2786","v":25},0]
[null,{"$f":"B2787","v":26},0]
[null,{"$f":"B2788","v":27},0]
[null,{"$f":"B2789","v":28},0]
[null,{"$f":"B2790","v":29},0]
[null,{"$f":"B2791","v":30},0]
[null,{"$f":"B2792","v":31},0]
[null,{"$f":"B2793","v":32},0]
[null,{"$f":"B2794","v":33},0]
[null,{"$f":"B2795","v":34},{"$f":"C2795","v":0}]
[null,{"$f":"B2796","v":35},{"$f":"C2796","v":0}]
[]
["Рекомендация: обратите внимание на задания по темам, которые вызвали у Вас затруднения, решены с ошибкой и отмечены \"0\" или к решению которых Вы не приступили (пустые ячейки)!"]
[]
[]
[]
["Центр независимой оценки качества образования и образовательного аудита \"Легион\""]
[]
["Образовательная организация",null,null,null,{"$f":"E2804","v":"Ленинская СОШ"}]
["Предмет",null,null,null,{"$f":"E2805","v":"Русский язык"}]
["Максимальный балл",null,null,null,39]
["Пороговый балл",null,null,null,15]
["Зона риска",null,null,null,{"$f":"Результаты!E15","v":15},null,null,{"$f":"Результаты!H15","v":16}]
[]
["Уровни",null,null,null,{"$f":"E2810","v":1},{"$f":"F2810","v":2},3,4,5,6,7,8,9,10,11,12,13,14,15,"ПР.ГР",{"$error":"#REF!"},{"$error":"#REF!"},{"$error":"#REF!"},{"$error":"#REF!"},{"$error":"#REF!"},{"$error":"#REF!"},{"$error":"#REF!"},{"$error":"#REF!"},{"$error":"#REF!"},{"$error":"#REF!"},{"$error":"#REF!"},{"$error":"#REF!"},{"$error":"#REF!"},{"$error":"#REF!"},{"$error":"#REF!"},{"$error":"#REF!"},{"$error":"#REF!"},{"$error":"#REF!"},{"$error":"#REF!"},"Тестовый балл","% выплнения заданий по уровням",null,null,"Оценка"]
[null,null,null,null,null,null,null,null,null,null,null,null,null,null,null,null,null,null,null,null,null,null,null,null,null,null,null,null,null,null,null,null,null,null,null,null,null,null,null,null,"Базовый","Повышенный","Высокий"]
["№","Класс","Ф.И.О.","№ задания",{"$f":"E2812","v":1},{"$f":"F2812","v":2},3,4,5,6,7,8,9,10,11,12,13,14,15,0,{"$error":"#REF!"},{"$error":"#REF!"},{"$error":"#REF!"},{"$error":"#REF!"},{"$error":"#REF!"},{"$error":"#REF!"},{"$error":"#REF!"},{"$error":"#REF!"},{"$error":"#REF!"},{"$error":"#REF!"},{"$error":"#REF!"},{"$error":"#REF!"},{"$error":"#REF!"},{"$error":"#REF!"},{"$error":"#REF!"},{"$error":"#REF!"},{"$error":"#REF!"},{"$error":"#REF!"},{"$error":"#REF!"}]
["Максимальный балл",null,null,null,{"$f":"E2813","v":7},{"$f":"F2813","v":1},1,1,1,1,1,1,1,1,1,1,1,1,9,10,{"$error":"#REF!"},{"$error":"#REF!"},{"$error":"#REF!"},{"$error":"#REF!"},{"$error":"#REF!"},{"$error":"#REF!"},{"$error":"#REF!"},{"$error":"#REF!"},{"$error":"#REF!"},{"$error":"#REF!"},{"$error":"#REF!"},{"$error":"#REF!"},{"$error":"#REF!"},{"$error":"#REF!"},{"$error":"#REF!"},{"$error":"#REF!"},{"$error":"#REF!"},{"$error":"#REF!"},{"$error":"#REF!"},39,76.92307692307692,{"$error":"#REF!"},23.076923076923077,0]
[null,null,null,"вариант"]
[{"$f":"Результаты!#REF!","v":{"$error":"#REF!"}},{"$f":"Результаты!#REF!","v":{"$error":"#REF!"}},{"$f":"Результаты!#REF!","v":{"$error":"#REF!"}},{"$f":"Результаты!#REF!","v":{"$error":"#REF!"}},{"$f":"Результаты!#REF!","v":{"$error":"#REF!"}},{"$f":"Результаты!#REF!","v":{"$error":"#REF!"}},{"$f":"Результаты!#REF!","v":{"$error":"#REF!"}},{"$f":"Результаты!#REF!","v":{"$error":"#REF!"}},{"$f":"Результаты!#REF!","v":{"$error":"#REF!"}},{"$f":"Результаты!#REF!","v":{"$error":"#REF!"}},{"$f":"Результаты!#REF!","v":{"$error":"#REF!"}},{"$f":"Результаты!#REF!","v":{"$error":"#REF!"}},{"$f":"Результаты!#REF!","v":{"$error":"#REF!"}},{"$f":"Результаты!#REF!","v":{"$error":"#REF!"}},{"$f":"Результаты!#REF!","v":{"$error":"#REF!"}},{"$f":"Результаты!#REF!","v":{"$error":"#REF!"}},{"$f":"Результаты!#REF!","v":{"$error":"#REF!"}},{"$f":"Результаты!#REF!","v":{"$error":"#REF!"}},{"$f":"Результаты!#REF!","v":{"$error":"#REF!"}},{"$f":"Результаты!#REF!","v":{"$error":"#REF!"}},{"$f":"Результаты!#REF!","v":{"$error":"#REF!"}},{"$f":"Результаты!#REF!","v":{"$error":"#REF!"}},{"$f":"Результаты!#REF!","v":{"$error":"#REF!"}},{"$f":"Результаты!#REF!","v":{"$error":"#REF!"}},{"$f":"Результаты!#REF!","v":{"$error":"#REF!"}},{"$f":"Результаты!#REF!","v":{"$error":"#REF!"}},{"$f":"Результаты!#REF!","v":{"$error":"#REF!"}},{"$f":"Результаты!#REF!","v":{"$error":"#REF!"}},{"$f":"Результаты!#REF!","v":{"$error":"#REF!"}},{"$f":"Результаты!#REF!","v":{"$error":"#REF!"}},{"$f":"Результаты!#REF!","v":{"$error":"#REF!"}},{"$f":"Результаты!#REF!","v":{"$error":"#REF!"}},{"$f":"Результаты!#REF!","v":{"$error":"#REF!"}},{"$f":"Результаты!#REF!","v":{"$error":"#REF!"}},{"$f":"Результаты!#REF!","v":{"$error":"#REF!"}},{"$f":"Результаты!#REF!","v":{"$error":"#REF!"}},{"$f":"Результаты!#REF!","v":{"$error":"#REF!"}},{"$f":"Результаты!#REF!","v":{"$error":"#REF!"}},{"$f":"Результаты!#REF!","v":{"$error":"#REF!"}},{"$f":"Результаты!#REF!","v":{"$error":"#REF!"}},{"$f":"Результаты!#REF!","v":{"$error":"#REF!"}},{"$f":"Результаты!#REF!","v":{"$error":"#REF!"}},{"$f":"Результаты!#REF!","v":{"$error":"#REF!"}},{"$f":"Результаты!#REF!","v":{"$error":"#REF!"}}]
[]
[]
[null,{"$f":"B2818","v":1},{"$f":"C2818","v":"Информационная обработка текстов различных стилей и жанров. Текст как речевое произведение. Смысловая и композиционная целостность текста. Отбор языковых средств в тексте в зависимости от темы, цели, адресата и ситуации общения. Создание текстов различных стилей и функционально-смысловых типов речи. Грамматические нормы (морфологические нормы). Грамматические  нормы  (синтаксические нормы). Лексические нормы. Пунктуация в простом и сложном предложениях. Орфограмма"}]
[null,{"$f":"B2819","v":2},"Текст как речевое произведение. Смысловая и композиционная целостность текста. Анализ текста"]
[null,{"$f":"B2820","v":3},"Выразительные средства лексики и фразеологии. Анализ средств выразительности"]
[null,{"$f":"B2821","v":4},"Правописание приставок. Слитное, дефисное, раздельное написание"]
[null,{"$f":"B2822","v":5},"Правописание суффиксов различных частей речи (кроме -Н-/-НН-). Правописание -Н- и -НН- в различных частях речи. Правописание личных окончаний глаголов и суффиксов причастий настоящего времени"]
[null,{"$f":"B2823","v":6},"Лексика и фразеология. Синонимы. Фразеологические обороты. Группы слов по происхождению и употреблению"]
[null,{"$f":"B2824","v":7},"Словосочетание"]
[null,{"$f":"B2825","v":8},"Предложение. Грамматическая (предикативная) основа предложения. Подлежащее и сказуемое как главные члены предложения "]
[null,{"$f":"B2826","v":9},"Осложнённое простое предложение"]
[null,{"$f":"B2827","v":10},"Пунктуационный анализ. Знаки препинания в предложениях со словами и конструкциями, грамматически не связанными с членами предложения"]
[null,{"$f":"B2828","v":11},"Синтаксический анализ сложного предложения"]
[null,{"$f":"B2829","v":12},"Пунктуационный анализ. Знаки препинания в сложносочинённом и сложноподчинённом предложениях"]
[null,{"$f":"B2830","v":13},"Синтаксический анализ сложного предложения"]
[null,{"$f":"B2831","v":14},"Сложные предложения с разными видами связи между частями"]
[null,{"$f":"B2832","v":15},"Текст как речевое произведение. Смысловая и композиционная целостность текста. Создание текстов различных стилей и функционально-смысловых типов речи. Информационная обработка текстов различных стилей и жанров. Грамматические нормы (морфологические нормы). Грамматические нормы (синтаксические нормы). Лексические нормы"]
[null,{"$f":"B2833","v":16},0]
[null,{"$f":"B2834","v":17},0]
[null,{"$f":"B2835","v":18},0]
[null,{"$f":"B2836","v":19},0]
[null,{"$f":"B2837","v":20},0]
[null,{"$f":"B2838","v":21},0]
[null,{"$f":"B2839","v":22},0]
[null,{"$f":"B2840","v":23},0]
[null,{"$f":"B2841","v":24},0]
[null,{"$f":"B2842","v":25},0]
[null,{"$f":"B2843","v":26},0]
[null,{"$f":"B2844","v":27},0]
[null,{"$f":"B2845","v":28},0]
[null,{"$f":"B2846","v":29},0]
[null,{"$f":"B2847","v":30},0]
[null,{"$f":"B2848","v":31},0]
[null,{"$f":"B2849","v":32},0]
[null,{"$f":"B2850","v":33},0]
[null,{"$f":"B2851","v":34},0]
[null,{"$f":"B2852","v":35},0]
[]
["Рекомендация: обратите внимание на задания по темам, которые вызвали у Вас затруднения, решены с ошибкой и отмечены \"0\" или к решению которых Вы не приступили (пустые ячейки)!"]
[]
[]
[]
["Центр независимой оценки качества образования и образовательного аудита \"Легион\""]
[]
["Образовательная организация",null,null,null,{"$f":"E2860","v":"Ленинская СОШ"}]
["Предмет",null,null,null,{"$f":"E2861","v":"Русский язык"}]
["Максимальный балл",null,null,null,39]
["Пороговый балл",null,null,null,15]
["Зона риска",null,null,null,{"$f":"Результаты!E15","v":15},null,null,{"$f":"Результаты!H15","v":16}]
[]
["Уровни",null,null,null,{"$f":"E2866","v":1},{"$f":"F2866","v":2},3,4,5,6,7,8,9,10,11,12,13,14,15,"ПР.ГР",{"$error":"#REF!"},{"$error":"#REF!"},{"$error":"#REF!"},{"$error":"#REF!"},{"$error":"#REF!"},{"$error":"#REF!"},{"$error":"#REF!"},{"$error":"#REF!"},{"$error":"#REF!"},{"$error":"#REF!"},{"$error":"#REF!"},{"$error":"#REF!"},{"$error":"#REF!"},{"$error":"#REF!"},{"$error":"#REF!"},{"$error":"#REF!"},{"$error":"#REF!"},{"$error":"#REF!"},{"$error":"#REF!"},"Тестовый балл","% выплнения заданий по уровням",null,null,"Оценка"]
[null,null,null,null,null,null,null,null,null,null,null,null,null,null,null,null,null,null,null,null,null,null,null,null,null,null,null,null,null,null,null,null,null,null,null,null,null,null,null,null,"Базовый","Повышенный","Высокий"]
["№","Класс","Ф.И.О.","№ задания",{"$f":"E2868","v":1},{"$f":"F2868","v":2},3,4,5,6,7,8,9,10,11,12,13,14,15,0,{"$error":"#REF!"},{"$error":"#REF!"},{"$error":"#REF!"},{"$error":"#REF!"},{"$error":"#REF!"},{"$error":"#REF!"},{"$error":"#REF!"},{"$error":"#REF!"},{"$error":"#REF!"},{"$error":"#REF!"},{"$error":"#REF!"},{"$error":"#REF!"},{"$error":"#REF!"},{"$error":"#REF!"},{"$error":"#REF!"},{"$error":"#REF!"},{"$error":"#REF!"},{"$error":"#REF!"},{"$error":"#REF!"}]
["Максимальный балл",null,null,null,{"$f":"E2869","v":7},{"$f":"F2869","v":1},1,1,1,1,1,1,1,1,1,1,1,1,9,10,{"$error":"#REF!"},{"$error":"#REF!"},{"$error":"#REF!"},{"$error":"#REF!"},{"$error":"#REF!"},{"$error":"#REF!"},{"$error":"#REF!"},{"$error":"#REF!"},{"$error":"#REF!"},{"$error":"#REF!"},{"$error":"#REF!"},{"$error":"#REF!"},{"$error":"#REF!"},{"$error":"#REF!"},{"$error":"#REF!"},{"$error":"#REF!"},{"$error":"#REF!"},{"$error":"#REF!"},{"$error":"#REF!"},39,76.92307692307692,{"$error":"#REF!"},23.076923076923077,0]
[null,null,null,"вариант"]
[{"$f":"Результаты!#REF!","v":{"$error":"#REF!"}},{"$f":"Результаты!#REF!","v":{"$error":"#REF!"}},{"$f":"Результаты!#REF!","v":{"$error":"#REF!"}},{"$f":"Результаты!#REF!","v":{"$error":"#REF!"}},{"$f":"Результаты!#REF!","v":{"$error":"#REF!"}},{"$f":"Результаты!#REF!","v":{"$error":"#REF!"}},{"$f":"Результаты!#REF!","v":{"$error":"#REF!"}},{"$f":"Результаты!#REF!","v":{"$error":"#REF!"}},{"$f":"Результаты!#REF!","v":{"$error":"#REF!"}},{"$f":"Результаты!#REF!","v":{"$error":"#REF!"}},{"$f":"Результаты!#REF!","v":{"$error":"#REF!"}},{"$f":"Результаты!#REF!","v":{"$error":"#REF!"}},{"$f":"Результаты!#REF!","v":{"$error":"#REF!"}},{"$f":"Результаты!#REF!","v":{"$error":"#REF!"}},{"$f":"Результаты!#REF!","v":{"$error":"#REF!"}},{"$f":"Результаты!#REF!","v":{"$error":"#REF!"}},{"$f":"Результаты!#REF!","v":{"$error":"#REF!"}},{"$f":"Результаты!#REF!","v":{"$error":"#REF!"}},{"$f":"Результаты!#REF!","v":{"$error":"#REF!"}},{"$f":"Результаты!#REF!","v":{"$error":"#REF!"}},{"$f":"Результаты!#REF!","v":{"$error":"#REF!"}},{"$f":"Результаты!#REF!","v":{"$error":"#REF!"}},{"$f":"Результаты!#REF!","v":{"$error":"#REF!"}},{"$f":"Результаты!#REF!","v":{"$error":"#REF!"}},{"$f":"Результаты!#REF!","v":{"$error":"#REF!"}},{"$f":"Результаты!#REF!","v":{"$error":"#REF!"}},{"$f":"Результаты!#REF!","v":{"$error":"#REF!"}},{"$f":"Результаты!#REF!","v":{"$error":"#REF!"}},{"$f":"Результаты!#REF!","v":{"$error":"#REF!"}},{"$f":"Результаты!#REF!","v":{"$error":"#REF!"}},{"$f":"Результаты!#REF!","v":{"$error":"#REF!"}},{"$f":"Результаты!#REF!","v":{"$error":"#REF!"}},{"$f":"Результаты!#REF!","v":{"$error":"#REF!"}},{"$f":"Результаты!#REF!","v":{"$error":"#REF!"}},{"$f":"Результаты!#REF!","v":{"$error":"#REF!"}},{"$f":"Результаты!#REF!","v":{"$error":"#REF!"}},{"$f":"Результаты!#REF!","v":{"$error":"#REF!"}},{"$f":"Результаты!#REF!","v":{"$error":"#REF!"}},{"$f":"Результаты!#REF!","v":{"$error":"#REF!"}},{"$f":"Результаты!#REF!","v":{"$error":"#REF!"}},{"$f":"Результаты!#REF!","v":{"$error":"#REF!"}},{"$f":"Результаты!#REF!","v":{"$error":"#REF!"}},{"$f":"Результаты!#REF!","v":{"$error":"#REF!"}},{"$f":"Результаты!#REF!","v":{"$error":"#REF!"}}]
[]
[]
[null,{"$f":"B2874","v":1},"Информационная обработка текстов различных стилей и жанров. Текст как речевое произведение. Смысловая и композиционная целостность текста. Отбор языковых средств в тексте в зависимости от темы, цели, адресата и ситуации общения. Создание текстов различных стилей и функционально-смысловых типов речи. Грамматические нормы (морфологические нормы). Грамматические  нормы  (синтаксические нормы). Лексические нормы. Пунктуация в простом и сложном предложениях. Орфограмма"]
[null,{"$f":"B2875","v":2},"Текст как речевое произведение. Смысловая и композиционная целостность текста. Анализ текста"]
[null,{"$f":"B2876","v":3},"Выразительные средства лексики и фразеологии. Анализ средств выразительности"]
[null,{"$f":"B2877","v":4},"Правописание приставок. Слитное, дефисное, раздельное написание"]
[null,{"$f":"B2878","v":5},"Правописание суффиксов различных частей речи (кроме -Н-/-НН-). Правописание -Н- и -НН- в различных частях речи. Правописание личных окончаний глаголов и суффиксов причастий настоящего времени"]
[null,{"$f":"B2879","v":6},"Лексика и фразеология. Синонимы. Фразеологические обороты. Группы слов по происхождению и употреблению"]
[null,{"$f":"B2880","v":7},"Словосочетание"]
[null,{"$f":"B2881","v":8},"Предложение. Грамматическая (предикативная) основа предложения. Подлежащее и сказуемое как главные члены предложения "]
[null,{"$f":"B2882","v":9},"Осложнённое простое предложение"]
[null,{"$f":"B2883","v":10},"Пунктуационный анализ. Знаки препинания в предложениях со словами и конструкциями, грамматически не связанными с членами предложения"]
[null,{"$f":"B2884","v":11},"Синтаксический анализ сложного предложения"]
[null,{"$f":"B2885","v":12},"Пунктуационный анализ. Знаки препинания в сложносочинённом и сложноподчинённом предложениях"]
[null,{"$f":"B2886","v":13},"Синтаксический анализ сложного предложения"]
[null,{"$f":"B2887","v":14},"Сложные предложения с разными видами связи между частями"]
[null,{"$f":"B2888","v":15},"Текст как речевое произведение. Смысловая и композиционная целостность текста. Создание текстов различных стилей и функционально-смысловых типов речи. Информационная обработка текстов различных стилей и жанров. Грамматические нормы (морфологические нормы). Грамматические нормы (синтаксические нормы). Лексические нормы"]
[null,{"$f":"B2889","v":16},0]
[null,{"$f":"B2890","v":17},0]
[null,{"$f":"B2891","v":18},0]
[null,{"$f":"B2892","v":19},0]
[null,{"$f":"B2893","v":20},0]
[null,{"$f":"B2894","v":21},0]
[null,{"$f":"B2895","v":22},0]
[null,{"$f":"B2896","v":23},0]
[null,{"$f":"B2897","v":24},0]
[null,{"$f":"B2898","v":25},0]
[null,{"$f":"B2899","v":26},0]
[null,{"$f":"B2900","v":27},0]
[null,{"$f":"B2901","v":28},0]
[null,{"$f":"B2902","v":29},0]
[null,{"$f":"B2903","v":30},0]
[null,{"$f":"B2904","v":31},0]
[null,{"$f":"B2905","v":32},0]
[null,{"$f":"B2906","v":33},0]
[null,{"$f":"B2907","v":34},0]
[null,{"$f":"B2908","v":35},0]
[]
["Рекомендация: обратите внимание на задания по темам, которые вызвали у Вас затруднения, решены с ошибкой и отмечены \"0\" или к решению которых Вы не приступили (пустые ячейки)!"]
[]
[]
[]
["Центр независимой оценки качества образования и образовательного аудита \"Легион\""]
[]
["Образовательная организация",null,null,null,{"$f":"E2916","v":"Ленинская СОШ"}]
["Предмет",null,null,null,{"$f":"E2917","v":"Русский язык"}]
["Максимальный балл",null,null,null,39]
["Пороговый балл",null,null,null,15]
["Зона риска",null,null,null,{"$f":"Результаты!E15","v":15},null,null,{"$f":"Результаты!H15","v":16}]
[]
["Уровни",null,null,null,{"$f":"E2922","v":1},{"$f":"F2922","v":2},3,4,5,6,7,8,9,10,11,12,13,14,15,"ПР.ГР",{"$error":"#REF!"},{"$error":"#REF!"},{"$error":"#REF!"},{"$error":"#REF!"},{"$error":"#REF!"},{"$error":"#REF!"},{"$error":"#REF!"},{"$error":"#REF!"},{"$error":"#REF!"},{"$error":"#REF!"},{"$error":"#REF!"},{"$error":"#REF!"},{"$error":"#REF!"},{"$error":"#REF!"},{"$error":"#REF!"},{"$error":"#REF!"},{"$error":"#REF!"},{"$error":"#REF!"},{"$error":"#REF!"},"Тестовый балл","% выплнения заданий по уровням",null,null,"Оценка"]
[null,null,null,null,null,null,null,null,null,null,null,null,null,null,null,null,null,null,null,null,null,null,null,null,null,null,null,null,null,null,null,null,null,null,null,null,null,null,null,null,"Базовый","Повышенный","Высокий"]
["№","Класс","Ф.И.О.","№ задания",{"$f":"E2924","v":1},{"$f":"F2924","v":2},3,4,5,6,7,8,9,10,11,12,13,14,15,0,{"$error":"#REF!"},{"$error":"#REF!"},{"$error":"#REF!"},{"$error":"#REF!"},{"$error":"#REF!"},{"$error":"#REF!"},{"$error":"#REF!"},{"$error":"#REF!"},{"$error":"#REF!"},{"$error":"#REF!"},{"$error":"#REF!"},{"$error":"#REF!"},{"$error":"#REF!"},{"$error":"#REF!"},{"$error":"#REF!"},{"$error":"#REF!"},{"$error":"#REF!"},{"$error":"#REF!"},{"$error":"#REF!"}]
["Максимальный балл",null,null,null,{"$f":"E2925","v":7},{"$f":"F2925","v":1},1,1,1,1,1,1,1,1,1,1,1,1,9,10,{"$error":"#REF!"},{"$error":"#REF!"},{"$error":"#REF!"},{"$error":"#REF!"},{"$error":"#REF!"},{"$error":"#REF!"},{"$error":"#REF!"},{"$error":"#REF!"},{"$error":"#REF!"},{"$error":"#REF!"},{"$error":"#REF!"},{"$error":"#REF!"},{"$error":"#REF!"},{"$error":"#REF!"},{"$error":"#REF!"},{"$error":"#REF!"},{"$error":"#REF!"},{"$error":"#REF!"},{"$error":"#REF!"},39,76.92307692307692,{"$error":"#REF!"},23.076923076923077,0]
[null,null,null,"вариант"]
[{"$f":"Результаты!#REF!","v":{"$error":"#REF!"}},{"$f":"Результаты!#REF!","v":{"$error":"#REF!"}},{"$f":"Результаты!#REF!","v":{"$error":"#REF!"}},{"$f":"Результаты!#REF!","v":{"$error":"#REF!"}},{"$f":"Результаты!#REF!","v":{"$error":"#REF!"}},{"$f":"Результаты!#REF!","v":{"$error":"#REF!"}},{"$f":"Результаты!#REF!","v":{"$error":"#REF!"}},{"$f":"Результаты!#REF!","v":{"$error":"#REF!"}},{"$f":"Результаты!#REF!","v":{"$error":"#REF!"}},{"$f":"Результаты!#REF!","v":{"$error":"#REF!"}},{"$f":"Результаты!#REF!","v":{"$error":"#REF!"}},{"$f":"Результаты!#REF!","v":{"$error":"#REF!"}},{"$f":"Результаты!#REF!","v":{"$error":"#REF!"}},{"$f":"Результаты!#REF!","v":{"$error":"#REF!"}},{"$f":"Результаты!#REF!","v":{"$error":"#REF!"}},{"$f":"Результаты!#REF!","v":{"$error":"#REF!"}},{"$f":"Результаты!#REF!","v":{"$error":"#REF!"}},{"$f":"Результаты!#REF!","v":{"$error":"#REF!"}},{"$f":"Результаты!#REF!","v":{"$error":"#REF!"}},{"$f":"Результаты!#REF!","v":{"$error":"#REF!"}},{"$f":"Результаты!#REF!","v":{"$error":"#REF!"}},{"$f":"Результаты!#REF!","v":{"$error":"#REF!"}},{"$f":"Результаты!#REF!","v":{"$error":"#REF!"}},{"$f":"Результаты!#REF!","v":{"$error":"#REF!"}},{"$f":"Результаты!#REF!","v":{"$error":"#REF!"}},{"$f":"Результаты!#REF!","v":{"$error":"#REF!"}},{"$f":"Результаты!#REF!","v":{"$error":"#REF!"}},{"$f":"Результаты!#REF!","v":{"$error":"#REF!"}},{"$f":"Результаты!#REF!","v":{"$error":"#REF!"}},{"$f":"Результаты!#REF!","v":{"$error":"#REF!"}},{"$f":"Результаты!#REF!","v":{"$error":"#REF!"}},{"$f":"Результаты!#REF!","v":{"$error":"#REF!"}},{"$f":"Результаты!#REF!","v":{"$error":"#REF!"}},{"$f":"Результаты!#REF!","v":{"$error":"#REF!"}},{"$f":"Результаты!#REF!","v":{"$error":"#REF!"}},{"$f":"Результаты!#REF!","v":{"$error":"#REF!"}},{"$f":"Результаты!#REF!","v":{"$error":"#REF!"}},{"$f":"Результаты!#REF!","v":{"$error":"#REF!"}},{"$f":"Результаты!#REF!","v":{"$error":"#REF!"}},{"$f":"Результаты!#REF!","v":{"$error":"#REF!"}},{"$f":"Результаты!#REF!","v":{"$error":"#REF!"}},{"$f":"Результаты!#REF!","v":{"$error":"#REF!"}},{"$f":"Результаты!#REF!","v":{"$error":"#REF!"}},{"$f":"Результаты!#REF!","v":{"$error":"#REF!"}}]
[]
[]
[null,{"$f":"B2930","v":1},"Информационная обработка текстов различных стилей и жанров. Текст как речевое произведение. Смысловая и композиционная целостность текста. Отбор языковых средств в тексте в зависимости от темы, цели, адресата и ситуации общения. Создание текстов различных стилей и функционально-смысловых типов речи. Грамматические нормы (морфологические нормы). Грамматические  нормы  (синтаксические нормы). Лексические нормы. Пунктуация в простом и сложном предложениях. Орфограмма"]
[null,{"$f":"B2931","v":2},"Текст как речевое произведение. Смысловая и композиционная целостность текста. Анализ текста"]
[null,{"$f":"B2932","v":3},"Выразительные средства лексики и фразеологии. Анализ средств выразительности"]
[null,{"$f":"B2933","v":4},"Правописание приставок. Слитное, дефисное, раздельное написание"]
[null,{"$f":"B2934","v":5},"Правописание суффиксов различных частей речи (кроме -Н-/-НН-). Правописание -Н- и -НН- в различных частях речи. Правописание личных окончаний глаголов и суффиксов причастий настоящего времени"]
[null,{"$f":"B2935","v":6},"Лексика и фразеология. Синонимы. Фразеологические обороты. Группы слов по происхождению и употреблению"]
[null,{"$f":"B2936","v":7},"Словосочетание"]
[null,{"$f":"B2937","v":8},"Предложение. Грамматическая (предикативная) основа предложения. Подлежащее и сказуемое как главные члены предложения "]
[null,{"$f":"B2938","v":9},"Осложнённое простое предложение"]
[null,{"$f":"B2939","v":10},"Пунктуационный анализ. Знаки препинания в предложениях со словами и конструкциями, грамматически не связанными с членами предложения"]
[null,{"$f":"B2940","v":11},"Синтаксический анализ сложного предложения"]
[null,{"$f":"B2941","v":12},"Пунктуационный анализ. Знаки препинания в сложносочинённом и сложноподчинённом предложениях"]
[null,{"$f":"B2942","v":13},"Синтаксический анализ сложного предложения"]
[null,{"$f":"B2943","v":14},"Сложные предложения с разными видами связи между частями"]
[null,{"$f":"B2944","v":15},"Текст как речевое произведение. Смысловая и композиционная целостность текста. Создание текстов различных стилей и функционально-смысловых типов речи. Информационная обработка текстов различных стилей и жанров. Грамматические нормы (морфологические нормы). Грамматические нормы (синтаксические нормы). Лексические нормы"]
[null,{"$f":"B2945","v":16},0]
[null,{"$f":"B2946","v":17},0]
[null,{"$f":"B2947","v":18},0]
[null,{"$f":"B2948","v":19},0]
[null,{"$f":"B2949","v":20},0]
[null,{"$f":"B2950","v":21},0]
[null,{"$f":"B2951","v":22},0]
[null,{"$f":"B2952","v":23},0]
[null,{"$f":"B2953","v":24},0]
[null,{"$f":"B2954","v":25},0]
[null,{"$f":"B2955","v":26},0]
[null,{"$f":"B2956","v":27},0]
[null,{"$f":"B2957","v":28},0]
[null,{"$f":"B2958","v":29},0]
[null,{"$f":"B2959","v":30},0]
[null,{"$f":"B2960","v":31},0]
[null,{"$f":"B2961","v":32},0]
[null,{"$f":"B2962","v":33},0]
[null,{"$f":"B2963","v":34},0]
[null,{"$f":"B2964","v":35},0]
[]
[]
["Рекомендация: обратите внимание на задания по темам, которые вызвали у Вас затруднения, решены с ошибкой и отмечены \"0\" или к решению которых Вы не приступили (пустые ячейки)!"]
[]
[]
["Центр независимой оценки качества образования и образовательного аудита \"Легион\""]
[]
["Образовательная организация",null,null,null,{"$f":"E2972","v":"Ленинская СОШ"}]
["Предмет",null,null,null,{"$f":"E2973","v":"Русский язык"}]
["Максимальный балл",null,null,null,39]
["Пороговый балл",null,null,null,15]
["Зона риска",null,null,null,{"$f":"Результаты!E15","v":15},null,null,{"$f":"Результаты!H15","v":16}]
[]
["Уровни",null,null,null,{"$f":"E2978","v":1},{"$f":"F2978","v":2},3,4,5,6,7,8,9,10,11,12,13,14,15,"ПР.ГР",{"$error":"#REF!"},{"$error":"#REF!"},{"$error":"#REF!"},{"$error":"#REF!"},{"$error":"#REF!"},{"$error":"#REF!"},{"$error":"#REF!"},{"$error":"#REF!"},{"$error":"#REF!"},{"$error":"#REF!"},{"$error":"#REF!"},{"$error":"#REF!"},{"$error":"#REF!"},{"$error":"#REF!"},{"$error":"#REF!"},{"$error":"#REF!"},{"$error":"#REF!"},{"$error":"#REF!"},{"$error":"#REF!"},"Тестовый балл","% выплнения заданий по уровням",null,null,"Оценка"]
[null,null,null,null,null,null,null,null,null,null,null,null,null,null,null,null,null,null,null,null,null,null,null,null,null,null,null,null,null,null,null,null,null,null,null,null,null,null,null,null,"Базовый","Повышенный","Высокий"]
["№","Класс","Ф.И.О.","№ задания",{"$f":"E2980","v":1},{"$f":"F2980","v":2},3,4,5,6,7,8,9,10,11,12,13,14,15,0,{"$error":"#REF!"},{"$error":"#REF!"},{"$error":"#REF!"},{"$error":"#REF!"},{"$error":"#REF!"},{"$error":"#REF!"},{"$error":"#REF!"},{"$error":"#REF!"},{"$error":"#REF!"},{"$error":"#REF!"},{"$error":"#REF!"},{"$error":"#REF!"},{"$error":"#REF!"},{"$error":"#REF!"},{"$error":"#REF!"},{"$error":"#REF!"},{"$error":"#REF!"},{"$error":"#REF!"},{"$error":"#REF!"}]
["Максимальный балл",null,null,null,{"$f":"E2981","v":7},{"$f":"F2981","v":1},1,1,1,1,1,1,1,1,1,1,1,1,9,10,{"$error":"#REF!"},{"$error":"#REF!"},{"$error":"#REF!"},{"$error":"#REF!"},{"$error":"#REF!"},{"$error":"#REF!"},{"$error":"#REF!"},{"$error":"#REF!"},{"$error":"#REF!"},{"$error":"#REF!"},{"$error":"#REF!"},{"$error":"#REF!"},{"$error":"#REF!"},{"$error":"#REF!"},{"$error":"#REF!"},{"$error":"#REF!"},{"$error":"#REF!"},{"$error":"#REF!"},{"$error":"#REF!"},39,76.92307692307692,{"$error":"#REF!"},23.076923076923077,0]
[null,null,null,"вариант"]
[{"$f":"Результаты!#REF!","v":{"$error":"#REF!"}},{"$f":"Результаты!#REF!","v":{"$error":"#REF!"}},{"$f":"Результаты!#REF!","v":{"$error":"#REF!"}},{"$f":"Результаты!#REF!","v":{"$error":"#REF!"}},{"$f":"Результаты!#REF!","v":{"$error":"#REF!"}},{"$f":"Результаты!#REF!","v":{"$error":"#REF!"}},{"$f":"Результаты!#REF!","v":{"$error":"#REF!"}},{"$f":"Результаты!#REF!","v":{"$error":"#REF!"}},{"$f":"Результаты!#REF!","v":{"$error":"#REF!"}},{"$f":"Результаты!#REF!","v":{"$error":"#REF!"}},{"$f":"Результаты!#REF!","v":{"$error":"#REF!"}},{"$f":"Результаты!#REF!","v":{"$error":"#REF!"}},{"$f":"Результаты!#REF!","v":{"$error":"#REF!"}},{"$f":"Результаты!#REF!","v":{"$error":"#REF!"}},{"$f":"Результаты!#REF!","v":{"$error":"#REF!"}},{"$f":"Результаты!#REF!","v":{"$error":"#REF!"}},{"$f":"Результаты!#REF!","v":{"$error":"#REF!"}},{"$f":"Результаты!#REF!","v":{"$error":"#REF!"}},{"$f":"Результаты!#REF!","v":{"$error":"#REF!"}},{"$f":"Результаты!#REF!","v":{"$error":"#REF!"}},{"$f":"Результаты!#REF!","v":{"$error":"#REF!"}},{"$f":"Результаты!#REF!","v":{"$error":"#REF!"}},{"$f":"Результаты!#REF!","v":{"$error":"#REF!"}},{"$f":"Результаты!#REF!","v":{"$error":"#REF!"}},{"$f":"Результаты!#REF!","v":{"$error":"#REF!"}},{"$f":"Результаты!#REF!","v":{"$error":"#REF!"}},{"$f":"Результаты!#REF!","v":{"$error":"#REF!"}},{"$f":"Результаты!#REF!","v":{"$error":"#REF!"}},{"$f":"Результаты!#REF!","v":{"$error":"#REF!"}},{"$f":"Результаты!#REF!","v":{"$error":"#REF!"}},{"$f":"Результаты!#REF!","v":{"$error":"#REF!"}},{"$f":"Результаты!#REF!","v":{"$error":"#REF!"}},{"$f":"Результаты!#REF!","v":{"$error":"#REF!"}},{"$f":"Результаты!#REF!","v":{"$error":"#REF!"}},{"$f":"Результаты!#REF!","v":{"$error":"#REF!"}},{"$f":"Результаты!#REF!","v":{"$error":"#REF!"}},{"$f":"Результаты!#REF!","v":{"$error":"#REF!"}},{"$f":"Результаты!#REF!","v":{"$error":"#REF!"}},{"$f":"Результаты!#REF!","v":{"$error":"#REF!"}},{"$f":"Результаты!#REF!","v":{"$error":"#REF!"}},{"$f":"Результаты!#REF!","v":{"$error":"#REF!"}},{"$f":"Результаты!#REF!","v":{"$error":"#REF!"}},{"$f":"Результаты!#REF!","v":{"$error":"#REF!"}},{"$f":"Результаты!#REF!","v":{"$error":"#REF!"}}]
[]
[]
[null,{"$f":"B2986","v":1},{"$f":"C2986","v":"Информационная обработка текстов различных стилей и жанров. Текст как речевое произведение. Смысловая и композиционная целостность текста. Отбор языковых средств в тексте в зависимости от темы, цели, адресата и ситуации общения. Создание текстов различных стилей и функционально-смысловых типов речи. Грамматические нормы (морфологические нормы). Грамматические  нормы  (синтаксические нормы). Лексические нормы. Пунктуация в простом и сложном предложениях. Орфограмма"}]
[null,{"$f":"B2987","v":2},"Текст как речевое произведение. Смысловая и композиционная целостность текста. Анализ текста"]
[null,{"$f":"B2988","v":3},"Выразительные средства лексики и фразеологии. Анализ средств выразительности"]
[null,{"$f":"B2989","v":4},"Правописание приставок. Слитное, дефисное, раздельное написание"]
[null,{"$f":"B2990","v":5},"Правописание суффиксов различных частей речи (кроме -Н-/-НН-). Правописание -Н- и -НН- в различных частях речи. Правописание личных окончаний глаголов и суффиксов причастий настоящего времени"]
[null,{"$f":"B2991","v":6},"Лексика и фразеология. Синонимы. Фразеологические обороты. Группы слов по происхождению и употреблению"]
[null,{"$f":"B2992","v":7},"Словосочетание"]
[null,{"$f":"B2993","v":8},"Предложение. Грамматическая (предикативная) основа предложения. Подлежащее и сказуемое как главные члены предложения "]
[null,{"$f":"B2994","v":9},"Осложнённое простое предложение"]
[null,{"$f":"B2995","v":10},"Пунктуационный анализ. Знаки препинания в предложениях со словами и конструкциями, грамматически не связанными с членами предложения"]
[null,{"$f":"B2996","v":11},"Синтаксический анализ сложного предложения"]
[null,{"$f":"B2997","v":12},"Пунктуационный анализ. Знаки препинания в сложносочинённом и сложноподчинённом предложениях"]
[null,{"$f":"B2998","v":13},"Синтаксический анализ сложного предложения"]
[null,{"$f":"B2999","v":14},"Сложные предложения с разными видами связи между частями"]
[null,{"$f":"B3000","v":15},"Текст как речевое произведение. Смысловая и композиционная целостность текста. Создание текстов различных стилей и функционально-смысловых типов речи. Информационная обработка текстов различных стилей и жанров. Грамматические нормы (морфологические нормы). Грамматические нормы (синтаксические нормы). Лексические нормы"]
[null,{"$f":"B3001","v":16},0]
[null,{"$f":"B3002","v":17},0]
[null,{"$f":"B3003","v":18},0]
[null,{"$f":"B3004","v":19},0]
[null,{"$f":"B3005","v":20},0]
[null,{"$f":"B3006","v":21},0]
[null,{"$f":"B3007","v":22},0]
[null,{"$f":"B3008","v":23},0]
[null,{"$f":"B3009","v":24},0]
[null,{"$f":"B3010","v":25},0]
[null,{"$f":"B3011","v":26},0]
[null,{"$f":"B3012","v":27},0]
[null,{"$f":"B3013","v":28},0]
[null,{"$f":"B3014","v":29},0]
[null,{"$f":"B3015","v":30},0]
[null,{"$f":"B3016","v":31},0]
[null,{"$f":"B3017","v":32},0]
[null,{"$f":"B3018","v":33},0]
[null,{"$f":"B3019","v":34},0]
[null,{"$f":"B3020","v":35},0]
[]
["Рекомендация: обратите внимание на задания по темам, которые вызвали у Вас затруднения, решены с ошибкой и отмечены \"0\" или к решению которых Вы не приступили (пустые ячейки)!"]
[]
[]
[]
["Центр независимой оценки качества образования и образовательного аудита \"Легион\""]
[]
["Образовательная организация",null,null,null,{"$f":"E3028","v":"Ленинская СОШ"}]
["Предмет",null,null,null,{"$f":"E3029","v":"Русский язык"}]
["Максимальный балл",null,null,null,39]
["Пороговый балл",null,null,null,15]
["Зона риска",null,null,null,{"$f":"Результаты!E15","v":15},null,null,{"$f":"Результаты!H15","v":16}]
[]
["Уровни",null,null,null,{"$f":"E3034","v":1},{"$f":"F3034","v":2},3,4,5,6,7,8,9,10,11,12,13,14,15,"ПР.ГР",{"$error":"#REF!"},{"$error":"#REF!"},{"$error":"#REF!"},{"$error":"#REF!"},{"$error":"#REF!"},{"$error":"#REF!"},{"$error":"#REF!"},{"$error":"#REF!"},{"$error":"#REF!"},{"$error":"#REF!"},{"$error":"#REF!"},{"$error":"#REF!"},{"$error":"#REF!"},{"$error":"#REF!"},{"$error":"#REF!"},{"$error":"#REF!"},{"$error":"#REF!"},{"$error":"#REF!"},{"$error":"#REF!"},"Тестовый балл","% выплнения заданий по уровням",null,null,"Оценка"]
[null,null,null,null,null,null,null,null,null,null,null,null,null,null,null,null,null,null,null,null,null,null,null,null,null,null,null,null,null,null,null,null,null,null,null,null,null,null,null,null,"Базовый","Повышенный","Высокий"]
["№","Класс","Ф.И.О.","№ задания",{"$f":"E3036","v":1},{"$f":"F3036","v":2},3,4,5,6,7,8,9,10,11,12,13,14,15,0,{"$error":"#REF!"},{"$error":"#REF!"},{"$error":"#REF!"},{"$error":"#REF!"},{"$error":"#REF!"},{"$error":"#REF!"},{"$error":"#REF!"},{"$error":"#REF!"},{"$error":"#REF!"},{"$error":"#REF!"},{"$error":"#REF!"},{"$error":"#REF!"},{"$error":"#REF!"},{"$error":"#REF!"},{"$error":"#REF!"},{"$error":"#REF!"},{"$error":"#REF!"},{"$error":"#REF!"},{"$error":"#REF!"}]
["Максимальный балл",null,null,null,{"$f":"E3037","v":7},{"$f":"F3037","v":1},1,1,1,1,1,1,1,1,1,1,1,1,9,10,{"$error":"#REF!"},{"$error":"#REF!"},{"$error":"#REF!"},{"$error":"#REF!"},{"$error":"#REF!"},{"$error":"#REF!"},{"$error":"#REF!"},{"$error":"#REF!"},{"$error":"#REF!"},{"$error":"#REF!"},{"$error":"#REF!"},{"$error":"#REF!"},{"$error":"#REF!"},{"$error":"#REF!"},{"$error":"#REF!"},{"$error":"#REF!"},{"$error":"#REF!"},{"$error":"#REF!"},{"$error":"#REF!"},39,76.92307692307692,{"$error":"#REF!"},23.076923076923077,0]
[null,null,null,"вариант"]
[{"$f":"Результаты!#REF!","v":{"$error":"#REF!"}},{"$f":"Результаты!#REF!","v":{"$error":"#REF!"}},{"$f":"Результаты!#REF!","v":{"$error":"#REF!"}},{"$f":"Результаты!#REF!","v":{"$error":"#REF!"}},{"$f":"Результаты!#REF!","v":{"$error":"#REF!"}},{"$f":"Результаты!#REF!","v":{"$error":"#REF!"}},{"$f":"Результаты!#REF!","v":{"$error":"#REF!"}},{"$f":"Результаты!#REF!","v":{"$error":"#REF!"}},{"$f":"Результаты!#REF!","v":{"$error":"#REF!"}},{"$f":"Результаты!#REF!","v":{"$error":"#REF!"}},{"$f":"Результаты!#REF!","v":{"$error":"#REF!"}},{"$f":"Результаты!#REF!","v":{"$error":"#REF!"}},{"$f":"Результаты!#REF!","v":{"$error":"#REF!"}},{"$f":"Результаты!#REF!","v":{"$error":"#REF!"}},{"$f":"Результаты!#REF!","v":{"$error":"#REF!"}},{"$f":"Результаты!#REF!","v":{"$error":"#REF!"}},{"$f":"Результаты!#REF!","v":{"$error":"#REF!"}},{"$f":"Результаты!#REF!","v":{"$error":"#REF!"}},{"$f":"Результаты!#REF!","v":{"$error":"#REF!"}},{"$f":"Результаты!#REF!","v":{"$error":"#REF!"}},{"$f":"Результаты!#REF!","v":{"$error":"#REF!"}},{"$f":"Результаты!#REF!","v":{"$error":"#REF!"}},{"$f":"Результаты!#REF!","v":{"$error":"#REF!"}},{"$f":"Результаты!#REF!","v":{"$error":"#REF!"}},{"$f":"Результаты!#REF!","v":{"$error":"#REF!"}},{"$f":"Результаты!#REF!","v":{"$error":"#REF!"}},{"$f":"Результаты!#REF!","v":{"$error":"#REF!"}},{"$f":"Результаты!#REF!","v":{"$error":"#REF!"}},{"$f":"Результаты!#REF!","v":{"$error":"#REF!"}},{"$f":"Результаты!#REF!","v":{"$error":"#REF!"}},{"$f":"Результаты!#REF!","v":{"$error":"#REF!"}},{"$f":"Результаты!#REF!","v":{"$error":"#REF!"}},{"$f":"Результаты!#REF!","v":{"$error":"#REF!"}},{"$f":"Результаты!#REF!","v":{"$error":"#REF!"}},{"$f":"Результаты!#REF!","v":{"$error":"#REF!"}},{"$f":"Результаты!#REF!","v":{"$error":"#REF!"}},{"$f":"Результаты!#REF!","v":{"$error":"#REF!"}},{"$f":"Результаты!#REF!","v":{"$error":"#REF!"}},{"$f":"Результаты!#REF!","v":{"$error":"#REF!"}},{"$f":"Результаты!#REF!","v":{"$error":"#REF!"}},{"$f":"Результаты!#REF!","v":{"$error":"#REF!"}},{"$f":"Результаты!#REF!","v":{"$error":"#REF!"}},{"$f":"Результаты!#REF!","v":{"$error":"#REF!"}},{"$f":"Результаты!#REF!","v":{"$error":"#REF!"}}]
[]
[]
[null,{"$f":"B3042","v":1},"Информационная обработка текстов различных стилей и жанров. Текст как речевое произведение. Смысловая и композиционная целостность текста. Отбор языковых средств в тексте в зависимости от темы, цели, адресата и ситуации общения. Создание текстов различных стилей и функционально-смысловых типов речи. Грамматические нормы (морфологические нормы). Грамматические  нормы  (синтаксические нормы). Лексические нормы. Пунктуация в простом и сложном предложениях. Орфограмма"]
[null,{"$f":"B3043","v":2},"Текст как речевое произведение. Смысловая и композиционная целостность текста. Анализ текста"]
[null,{"$f":"B3044","v":3},"Выразительные средства лексики и фразеологии. Анализ средств выразительности"]
[null,{"$f":"B3045","v":4},"Правописание приставок. Слитное, дефисное, раздельное написание"]
[null,{"$f":"B3046","v":5},"Правописание суффиксов различных частей речи (кроме -Н-/-НН-). Правописание -Н- и -НН- в различных частях речи. Правописание личных окончаний глаголов и суффиксов причастий настоящего времени"]
[null,{"$f":"B3047","v":6},"Лексика и фразеология. Синонимы. Фразеологические обороты. Группы слов по происхождению и употреблению"]
[null,{"$f":"B3048","v":7},"Словосочетание"]
[null,{"$f":"B3049","v":8},"Предложение. Грамматическая (предикативная) основа предложения. Подлежащее и сказуемое как главные члены предложения "]
[null,{"$f":"B3050","v":9},"Осложнённое простое предложение"]
[null,{"$f":"B3051","v":10},"Пунктуационный анализ. Знаки препинания в предложениях со словами и конструкциями, грамматически не связанными с членами предложения"]
[null,{"$f":"B3052","v":11},"Синтаксический анализ сложного предложения"]
[null,{"$f":"B3053","v":12},"Пунктуационный анализ. Знаки препинания в сложносочинённом и сложноподчинённом предложениях"]
[null,{"$f":"B3054","v":13},"Синтаксический анализ сложного предложения"]
[null,{"$f":"B3055","v":14},"Сложные предложения с разными видами связи между частями"]
[null,{"$f":"B3056","v":15},"Текст как речевое произведение. Смысловая и композиционная целостность текста. Создание текстов различных стилей и функционально-смысловых типов речи. Информационная обработка текстов различных стилей и жанров. Грамматические нормы (морфологические нормы). Грамматические нормы (синтаксические нормы). Лексические нормы"]
[null,{"$f":"B3057","v":16},0]
[null,{"$f":"B3058","v":17},0]
[null,{"$f":"B3059","v":18},0]
[null,{"$f":"B3060","v":19},0]
[null,{"$f":"B3061","v":20},0]
[null,{"$f":"B3062","v":21},0]
[null,{"$f":"B3063","v":22},0]
[null,{"$f":"B3064","v":23},0]
[null,{"$f":"B3065","v":24},0]
[null,{"$f":"B3066","v":25},0]
[null,{"$f":"B3067","v":26},0]
[null,{"$f":"B3068","v":27},0]
[null,{"$f":"B3069","v":28},0]
[null,{"$f":"B3070","v":29},0]
[null,{"$f":"B3071","v":30},0]
[null,{"$f":"B3072","v":31},0]
[null,{"$f":"B3073","v":32},0]
[null,{"$f":"B3074","v":33},0]
[null,{"$f":"B3075","v":34},0]
[null,{"$f":"B3076","v":35},0]
[]
[]
["Рекомендация: обратите внимание на задания по темам, которые вызвали у Вас затруднения, решены с ошибкой и отмечены \"0\" или к решению которых Вы не приступили (пустые ячейки)!"]
[]
[]
["Центр независимой оценки качества образования и образовательного аудита \"Легион\""]
[]
["Образовательная организация",null,null,null,{"$f":"E3084","v":"Ленинская СОШ"}]
["Предмет",null,null,null,{"$f":"E3085","v":"Русский язык"}]
["Максимальный балл",null,null,null,39]
["Пороговый балл",null,null,null,15]
["Зона риска",null,null,null,{"$f":"Результаты!E15","v":15},null,null,{"$f":"Результаты!H15","v":16}]
[]
["Уровни",null,null,null,{"$f":"E3090","v":1},{"$f":"F3090","v":2},3,4,5,6,7,8,9,10,11,12,13,14,15,"ПР.ГР",{"$error":"#REF!"},{"$error":"#REF!"},{"$error":"#REF!"},{"$error":"#REF!"},{"$error":"#REF!"},{"$error":"#REF!"},{"$error":"#REF!"},{"$error":"#REF!"},{"$error":"#REF!"},{"$error":"#REF!"},{"$error":"#REF!"},{"$error":"#REF!"},{"$error":"#REF!"},{"$error":"#REF!"},{"$error":"#REF!"},{"$error":"#REF!"},{"$error":"#REF!"},{"$error":"#REF!"},{"$error":"#REF!"},"Тестовый балл","% выплнения заданий по уровням",null,null,"Оценка"]
[null,null,null,null,null,null,null,null,null,null,null,null,null,null,null,null,null,null,null,null,null,null,null,null,null,null,null,null,null,null,null,null,null,null,null,null,null,null,null,null,"Базовый","Повышенный","Высокий"]
["№","Класс","Ф.И.О.","№ задания",{"$f":"E3092","v":1},{"$f":"F3092","v":2},3,4,5,6,7,8,9,10,11,12,13,14,15,0,{"$error":"#REF!"},{"$error":"#REF!"},{"$error":"#REF!"},{"$error":"#REF!"},{"$error":"#REF!"},{"$error":"#REF!"},{"$error":"#REF!"},{"$error":"#REF!"},{"$error":"#REF!"},{"$error":"#REF!"},{"$error":"#REF!"},{"$error":"#REF!"},{"$error":"#REF!"},{"$error":"#REF!"},{"$error":"#REF!"},{"$error":"#REF!"},{"$error":"#REF!"},{"$error":"#REF!"},{"$error":"#REF!"}]
["Максимальный балл",null,null,null,{"$f":"E3093","v":7},{"$f":"F3093","v":1},1,1,1,1,1,1,1,1,1,1,1,1,9,10,{"$error":"#REF!"},{"$error":"#REF!"},{"$error":"#REF!"},{"$error":"#REF!"},{"$error":"#REF!"},{"$error":"#REF!"},{"$error":"#REF!"},{"$error":"#REF!"},{"$error":"#REF!"},{"$error":"#REF!"},{"$error":"#REF!"},{"$error":"#REF!"},{"$error":"#REF!"},{"$error":"#REF!"},{"$error":"#REF!"},{"$error":"#REF!"},{"$error":"#REF!"},{"$error":"#REF!"},{"$error":"#REF!"},39,76.92307692307692,{"$error":"#REF!"},23.076923076923077,0]
[null,null,null,"вариант"]
[{"$f":"Результаты!#REF!","v":{"$error":"#REF!"}},{"$f":"Результаты!#REF!","v":{"$error":"#REF!"}},{"$f":"Результаты!#REF!","v":{"$error":"#REF!"}},{"$f":"Результаты!#REF!","v":{"$error":"#REF!"}},{"$f":"Результаты!#REF!","v":{"$error":"#REF!"}},{"$f":"Результаты!#REF!","v":{"$error":"#REF!"}},{"$f":"Результаты!#REF!","v":{"$error":"#REF!"}},{"$f":"Результаты!#REF!","v":{"$error":"#REF!"}},{"$f":"Результаты!#REF!","v":{"$error":"#REF!"}},{"$f":"Результаты!#REF!","v":{"$error":"#REF!"}},{"$f":"Результаты!#REF!","v":{"$error":"#REF!"}},{"$f":"Результаты!#REF!","v":{"$error":"#REF!"}},{"$f":"Результаты!#REF!","v":{"$error":"#REF!"}},{"$f":"Результаты!#REF!","v":{"$error":"#REF!"}},{"$f":"Результаты!#REF!","v":{"$error":"#REF!"}},{"$f":"Результаты!#REF!","v":{"$error":"#REF!"}},{"$f":"Результаты!#REF!","v":{"$error":"#REF!"}},{"$f":"Результаты!#REF!","v":{"$error":"#REF!"}},{"$f":"Результаты!#REF!","v":{"$error":"#REF!"}},{"$f":"Результаты!#REF!","v":{"$error":"#REF!"}},{"$f":"Результаты!#REF!","v":{"$error":"#REF!"}},{"$f":"Результаты!#REF!","v":{"$error":"#REF!"}},{"$f":"Результаты!#REF!","v":{"$error":"#REF!"}},{"$f":"Результаты!#REF!","v":{"$error":"#REF!"}},{"$f":"Результаты!#REF!","v":{"$error":"#REF!"}},{"$f":"Результаты!#REF!","v":{"$error":"#REF!"}},{"$f":"Результаты!#REF!","v":{"$error":"#REF!"}},{"$f":"Результаты!#REF!","v":{"$error":"#REF!"}},{"$f":"Результаты!#REF!","v":{"$error":"#REF!"}},{"$f":"Результаты!#REF!","v":{"$error":"#REF!"}},{"$f":"Результаты!#REF!","v":{"$error":"#REF!"}},{"$f":"Результаты!#REF!","v":{"$error":"#REF!"}},{"$f":"Результаты!#REF!","v":{"$error":"#REF!"}},{"$f":"Результаты!#REF!","v":{"$error":"#REF!"}},{"$f":"Результаты!#REF!","v":{"$error":"#REF!"}},{"$f":"Результаты!#REF!","v":{"$error":"#REF!"}},{"$f":"Результаты!#REF!","v":{"$error":"#REF!"}},{"$f":"Результаты!#REF!","v":{"$error":"#REF!"}},{"$f":"Результаты!#REF!","v":{"$error":"#REF!"}},{"$f":"Результаты!#REF!","v":{"$error":"#REF!"}},{"$f":"Результаты!#REF!","v":{"$error":"#REF!"}},{"$f":"Результаты!#REF!","v":{"$error":"#REF!"}},{"$f":"Результаты!#REF!","v":{"$error":"#REF!"}},{"$f":"Результаты!#REF!","v":{"$error":"#REF!"}}]
[]
[]
[null,{"$f":"B3098","v":1},"Информационная обработка текстов различных стилей и жанров. Текст как речевое произведение. Смысловая и композиционная целостность текста. Отбор языковых средств в тексте в зависимости от темы, цели, адресата и ситуации общения. Создание текстов различных стилей и функционально-смысловых типов речи. Грамматические нормы (морфологические нормы). Грамматические  нормы  (синтаксические нормы). Лексические нормы. Пунктуация в простом и сложном предложениях. Орфограмма"]
[null,{"$f":"B3099","v":2},"Текст как речевое произведение. Смысловая и композиционная целостность текста. Анализ текста"]
[null,{"$f":"B3100","v":3},"Выразительные средства лексики и фразеологии. Анализ средств выразительности"]
[null,{"$f":"B3101","v":4},"Правописание приставок. Слитное, дефисное, раздельное написание"]
[null,{"$f":"B3102","v":5},"Правописание суффиксов различных частей речи (кроме -Н-/-НН-). Правописание -Н- и -НН- в различных частях речи. Правописание личных окончаний глаголов и суффиксов причастий настоящего времени"]
[null,{"$f":"B3103","v":6},"Лексика и фразеология. Синонимы. Фразеологические обороты. Группы слов по происхождению и употреблению"]
[null,{"$f":"B3104","v":7},"Словосочетание"]
[null,{"$f":"B3105","v":8},"Предложение. Грамматическая (предикативная) основа предложения. Подлежащее и сказуемое как главные члены предложения "]
[null,{"$f":"B3106","v":9},"Осложнённое простое предложение"]
[null,{"$f":"B3107","v":10},"Пунктуационный анализ. Знаки препинания в предложениях со словами и конструкциями, грамматически не связанными с членами предложения"]
[null,{"$f":"B3108","v":11},"Синтаксический анализ сложного предложения"]
[null,{"$f":"B3109","v":12},"Пунктуационный анализ. Знаки препинания в сложносочинённом и сложноподчинённом предложениях"]
[null,{"$f":"B3110","v":13},"Синтаксический анализ сложного предложения"]
[null,{"$f":"B3111","v":14},"Сложные предложения с разными видами связи между частями"]
[null,{"$f":"B3112","v":15},"Текст как речевое произведение. Смысловая и композиционная целостность текста. Создание текстов различных стилей и функционально-смысловых типов речи. Информационная обработка текстов различных стилей и жанров. Грамматические нормы (морфологические нормы). Грамматические нормы (синтаксические нормы). Лексические нормы"]
[null,{"$f":"B3113","v":16},0]
[null,{"$f":"B3114","v":17},0]
[null,{"$f":"B3115","v":18},0]
[null,{"$f":"B3116","v":19},0]
[null,{"$f":"B3117","v":20},0]
[null,{"$f":"B3118","v":21},0]
[null,{"$f":"B3119","v":22},0]
[null,{"$f":"B3120","v":23},0]
[null,{"$f":"B3121","v":24},0]
[null,{"$f":"B3122","v":25},0]
[null,{"$f":"B3123","v":26},0]
[null,{"$f":"B3124","v":27},0]
[null,{"$f":"B3125","v":28},0]
[null,{"$f":"B3126","v":29},0]
[null,{"$f":"B3127","v":30},0]
[null,{"$f":"B3128","v":31},0]
[null,{"$f":"B3129","v":32},0]
[null,{"$f":"B3130","v":33},0]
[null,{"$f":"B3131","v":34},0]
[null,{"$f":"B3132","v":35},0]
[]
[]
["Рекомендация: обратите внимание на задания по темам, которые вызвали у Вас затруднения, решены с ошибкой и отмечены \"0\" или к решению которых Вы не приступили (пустые ячейки)!"]
[]
[]
["Центр независимой оценки качества образования и образовательного аудита \"Легион\""]
[]
["Образовательная организация",null,null,null,{"$f":"E3140","v":"Ленинская СОШ"}]
["Предмет",null,null,null,{"$f":"E3141","v":"Русский язык"}]
["Максимальный балл",null,null,null,39]
["Пороговый балл",null,null,null,15]
["Зона риска",null,null,null,{"$f":"Результаты!E15","v":15},null,null,{"$f":"Результаты!H15","v":16}]
[]
["Уровни",null,null,null,{"$f":"E3146","v":1},{"$f":"F3146","v":2},3,4,5,6,7,8,9,10,11,12,13,14,15,"ПР.ГР",{"$error":"#REF!"},{"$error":"#REF!"},{"$error":"#REF!"},{"$error":"#REF!"},{"$error":"#REF!"},{"$error":"#REF!"},{"$error":"#REF!"},{"$error":"#REF!"},{"$error":"#REF!"},{"$error":"#REF!"},{"$error":"#REF!"},{"$error":"#REF!"},{"$error":"#REF!"},{"$error":"#REF!"},{"$error":"#REF!"},{"$error":"#REF!"},{"$error":"#REF!"},{"$error":"#REF!"},{"$error":"#REF!"},"Тестовый балл","% выплнения заданий по уровням",null,null,"Оценка"]
[null,null,null,null,null,null,null,null,null,null,null,null,null,null,null,null,null,null,null,null,null,null,null,null,null,null,null,null,null,null,null,null,null,null,null,null,null,null,null,null,"Базовый","Повышенный","Высокий"]
["№","Класс","Ф.И.О.","№ задания",{"$f":"E3148","v":1},{"$f":"F3148","v":2},3,4,5,6,7,8,9,10,11,12,13,14,15,0,{"$error":"#REF!"},{"$error":"#REF!"},{"$error":"#REF!"},{"$error":"#REF!"},{"$error":"#REF!"},{"$error":"#REF!"},{"$error":"#REF!"},{"$error":"#REF!"},{"$error":"#REF!"},{"$error":"#REF!"},{"$error":"#REF!"},{"$error":"#REF!"},{"$error":"#REF!"},{"$error":"#REF!"},{"$error":"#REF!"},{"$error":"#REF!"},{"$error":"#REF!"},{"$error":"#REF!"},{"$error":"#REF!"}]
["Максимальный балл",null,null,null,{"$f":"E3149","v":7},{"$f":"F3149","v":1},1,1,1,1,1,1,1,1,1,1,1,1,9,10,{"$error":"#REF!"},{"$error":"#REF!"},{"$error":"#REF!"},{"$error":"#REF!"},{"$error":"#REF!"},{"$error":"#REF!"},{"$error":"#REF!"},{"$error":"#REF!"},{"$error":"#REF!"},{"$error":"#REF!"},{"$error":"#REF!"},{"$error":"#REF!"},{"$error":"#REF!"},{"$error":"#REF!"},{"$error":"#REF!"},{"$error":"#REF!"},{"$error":"#REF!"},{"$error":"#REF!"},{"$error":"#REF!"},39,76.92307692307692,{"$error":"#REF!"},23.076923076923077,0]
[null,null,null,"вариант"]
[{"$f":"Результаты!#REF!","v":{"$error":"#REF!"}},{"$f":"Результаты!#REF!","v":{"$error":"#REF!"}},{"$f":"Результаты!#REF!","v":{"$error":"#REF!"}},{"$f":"Результаты!#REF!","v":{"$error":"#REF!"}},{"$f":"Результаты!#REF!","v":{"$error":"#REF!"}},{"$f":"Результаты!#REF!","v":{"$error":"#REF!"}},{"$f":"Результаты!#REF!","v":{"$error":"#REF!"}},{"$f":"Результаты!#REF!","v":{"$error":"#REF!"}},{"$f":"Результаты!#REF!","v":{"$error":"#REF!"}},{"$f":"Результаты!#REF!","v":{"$error":"#REF!"}},{"$f":"Результаты!#REF!","v":{"$error":"#REF!"}},{"$f":"Результаты!#REF!","v":{"$error":"#REF!"}},{"$f":"Результаты!#REF!","v":{"$error":"#REF!"}},{"$f":"Результаты!#REF!","v":{"$error":"#REF!"}},{"$f":"Результаты!#REF!","v":{"$error":"#REF!"}},{"$f":"Результаты!#REF!","v":{"$error":"#REF!"}},{"$f":"Результаты!#REF!","v":{"$error":"#REF!"}},{"$f":"Результаты!#REF!","v":{"$error":"#REF!"}},{"$f":"Результаты!#REF!","v":{"$error":"#REF!"}},{"$f":"Результаты!#REF!","v":{"$error":"#REF!"}},{"$f":"Результаты!#REF!","v":{"$error":"#REF!"}},{"$f":"Результаты!#REF!","v":{"$error":"#REF!"}},{"$f":"Результаты!#REF!","v":{"$error":"#REF!"}},{"$f":"Результаты!#REF!","v":{"$error":"#REF!"}},{"$f":"Результаты!#REF!","v":{"$error":"#REF!"}},{"$f":"Результаты!#REF!","v":{"$error":"#REF!"}},{"$f":"Результаты!#REF!","v":{"$error":"#REF!"}},{"$f":"Результаты!#REF!","v":{"$error":"#REF!"}},{"$f":"Результаты!#REF!","v":{"$error":"#REF!"}},{"$f":"Результаты!#REF!","v":{"$error":"#REF!"}},{"$f":"Результаты!#REF!","v":{"$error":"#REF!"}},{"$f":"Результаты!#REF!","v":{"$error":"#REF!"}},{"$f":"Результаты!#REF!","v":{"$error":"#REF!"}},{"$f":"Результаты!#REF!","v":{"$error":"#REF!"}},{"$f":"Результаты!#REF!","v":{"$error":"#REF!"}},{"$f":"Результаты!#REF!","v":{"$error":"#REF!"}},{"$f":"Результаты!#REF!","v":{"$error":"#REF!"}},{"$f":"Результаты!#REF!","v":{"$error":"#REF!"}},{"$f":"Результаты!#REF!","v":{"$error":"#REF!"}},{"$f":"Результаты!#REF!","v":{"$error":"#REF!"}},{"$f":"Результаты!#REF!","v":{"$error":"#REF!"}},{"$f":"Результаты!#REF!","v":{"$error":"#REF!"}},{"$f":"Результаты!#REF!","v":{"$error":"#REF!"}},{"$f":"Результаты!#REF!","v":{"$error":"#REF!"}}]
[]
[]
[null,{"$f":"B3154","v":1},"Информационная обработка текстов различных стилей и жанров. Текст как речевое произведение. Смысловая и композиционная целостность текста. Отбор языковых средств в тексте в зависимости от темы, цели, адресата и ситуации общения. Создание текстов различных стилей и функционально-смысловых типов речи. Грамматические нормы (морфологические нормы). Грамматические  нормы  (синтаксические нормы). Лексические нормы. Пунктуация в простом и сложном предложениях. Орфограмма"]
[null,{"$f":"B3155","v":2},"Текст как речевое произведение. Смысловая и композиционная целостность текста. Анализ текста"]
[null,{"$f":"B3156","v":3},"Выразительные средства лексики и фразеологии. Анализ средств выразительности"]
[null,{"$f":"B3157","v":4},"Правописание приставок. Слитное, дефисное, раздельное написание"]
[null,{"$f":"B3158","v":5},"Правописание суффиксов различных частей речи (кроме -Н-/-НН-). Правописание -Н- и -НН- в различных частях речи. Правописание личных окончаний глаголов и суффиксов причастий настоящего времени"]
[null,{"$f":"B3159","v":6},"Лексика и фразеология. Синонимы. Фразеологические обороты. Группы слов по происхождению и употреблению"]
[null,{"$f":"B3160","v":7},"Словосочетание"]
[null,{"$f":"B3161","v":8},"Предложение. Грамматическая (предикативная) основа предложения. Подлежащее и сказуемое как главные члены предложения "]
[null,{"$f":"B3162","v":9},"Осложнённое простое предложение"]
[null,{"$f":"B3163","v":10},"Пунктуационный анализ. Знаки препинания в предложениях со словами и конструкциями, грамматически не связанными с членами предложения"]
[null,{"$f":"B3164","v":11},"Синтаксический анализ сложного предложения"]
[null,{"$f":"B3165","v":12},"Пунктуационный анализ. Знаки препинания в сложносочинённом и сложноподчинённом предложениях"]
[null,{"$f":"B3166","v":13},"Синтаксический анализ сложного предложения"]
[null,{"$f":"B3167","v":14},"Сложные предложения с разными видами связи между частями"]
[null,{"$f":"B3168","v":15},"Текст как речевое произведение. Смысловая и композиционная целостность текста. Создание текстов различных стилей и функционально-смысловых типов речи. Информационная обработка текстов различных стилей и жанров. Грамматические нормы (морфологические нормы). Грамматические нормы (синтаксические нормы). Лексические нормы"]
[null,{"$f":"B3169","v":16},0]
[null,{"$f":"B3170","v":17},0]
[null,{"$f":"B3171","v":18},0]
[null,{"$f":"B3172","v":19},0]
[null,{"$f":"B3173","v":20},0]
[null,{"$f":"B3174","v":21},0]
[null,{"$f":"B3175","v":22},0]
[null,{"$f":"B3176","v":23},0]
[null,{"$f":"B3177","v":24},0]
[null,{"$f":"B3178","v":25},0]
[null,{"$f":"B3179","v":26},0]
[null,{"$f":"B3180","v":27},0]
[null,{"$f":"B3181","v":28},0]
[null,{"$f":"B3182","v":29},0]
[null,{"$f":"B3183","v":30},0]
[null,{"$f":"B3184","v":31},0]
[null,{"$f":"B3185","v":32},0]
[null,{"$f":"B3186","v":33},0]
[null,{"$f":"B3187","v":34},0]
[null,{"$f":"B3188","v":35},0]
[]
[]
["Рекомендация: обратите внимание на задания по темам, которые вызвали у Вас затруднения, решены с ошибкой и отмечены \"0\" или к решению которых Вы не приступили (пустые ячейки)!"]
[]
[]
["Центр независимой оценки качества образования и образовательного аудита \"Легион\""]
[]
["Образовательная организация",null,null,null,{"$f":"E3196","v":"Ленинская СОШ"}]
["Предмет",null,null,null,{"$f":"E3197","v":"Русский язык"}]
["Максимальный балл",null,null,null,39]
["Пороговый балл",null,null,null,15]
["Зона риска",null,null,null,{"$f":"Результаты!E15","v":15},null,null,{"$f":"Результаты!H15","v":16}]
[]
["Уровни",null,null,null,{"$f":"E3202","v":1},{"$f":"F3202","v":2},3,4,5,6,7,8,9,10,11,12,13,14,15,"ПР.ГР",{"$error":"#REF!"},{"$error":"#REF!"},{"$error":"#REF!"},{"$error":"#REF!"},{"$error":"#REF!"},{"$error":"#REF!"},{"$error":"#REF!"},{"$error":"#REF!"},{"$error":"#REF!"},{"$error":"#REF!"},{"$error":"#REF!"},{"$error":"#REF!"},{"$error":"#REF!"},{"$error":"#REF!"},{"$error":"#REF!"},{"$error":"#REF!"},{"$error":"#REF!"},{"$error":"#REF!"},{"$error":"#REF!"},"Тестовый балл","% выплнения заданий по уровням",null,null,"Оценка"]
[null,null,null,null,null,null,null,null,null,null,null,null,null,null,null,null,null,null,null,null,null,null,null,null,null,null,null,null,null,null,null,null,null,null,null,null,null,null,null,null,"Базовый","Повышенный","Высокий"]
["№","Класс","Ф.И.О.","№ задания",{"$f":"E3204","v":1},{"$f":"F3204","v":2},3,4,5,6,7,8,9,10,11,12,13,14,15,0,{"$error":"#REF!"},{"$error":"#REF!"},{"$error":"#REF!"},{"$error":"#REF!"},{"$error":"#REF!"},{"$error":"#REF!"},{"$error":"#REF!"},{"$error":"#REF!"},{"$error":"#REF!"},{"$error":"#REF!"},{"$error":"#REF!"},{"$error":"#REF!"},{"$error":"#REF!"},{"$error":"#REF!"},{"$error":"#REF!"},{"$error":"#REF!"},{"$error":"#REF!"},{"$error":"#REF!"},{"$error":"#REF!"}]
["Максимальный балл",null,null,null,{"$f":"E3205","v":7},{"$f":"F3205","v":1},1,1,1,1,1,1,1,1,1,1,1,1,9,10,{"$error":"#REF!"},{"$error":"#REF!"},{"$error":"#REF!"},{"$error":"#REF!"},{"$error":"#REF!"},{"$error":"#REF!"},{"$error":"#REF!"},{"$error":"#REF!"},{"$error":"#REF!"},{"$error":"#REF!"},{"$error":"#REF!"},{"$error":"#REF!"},{"$error":"#REF!"},{"$error":"#REF!"},{"$error":"#REF!"},{"$error":"#REF!"},{"$error":"#REF!"},{"$error":"#REF!"},{"$error":"#REF!"},39,76.92307692307692,{"$error":"#REF!"},23.076923076923077,0]
[null,null,null,"вариант"]
[{"$f":"Результаты!#REF!","v":{"$error":"#REF!"}},{"$f":"Результаты!#REF!","v":{"$error":"#REF!"}},{"$f":"Результаты!#REF!","v":{"$error":"#REF!"}},{"$f":"Результаты!#REF!","v":{"$error":"#REF!"}},{"$f":"Результаты!#REF!","v":{"$error":"#REF!"}},{"$f":"Результаты!#REF!","v":{"$error":"#REF!"}},{"$f":"Результаты!#REF!","v":{"$error":"#REF!"}},{"$f":"Результаты!#REF!","v":{"$error":"#REF!"}},{"$f":"Результаты!#REF!","v":{"$error":"#REF!"}},{"$f":"Результаты!#REF!","v":{"$error":"#REF!"}},{"$f":"Результаты!#REF!","v":{"$error":"#REF!"}},{"$f":"Результаты!#REF!","v":{"$error":"#REF!"}},{"$f":"Результаты!#REF!","v":{"$error":"#REF!"}},{"$f":"Результаты!#REF!","v":{"$error":"#REF!"}},{"$f":"Результаты!#REF!","v":{"$error":"#REF!"}},{"$f":"Результаты!#REF!","v":{"$error":"#REF!"}},{"$f":"Результаты!#REF!","v":{"$error":"#REF!"}},{"$f":"Результаты!#REF!","v":{"$error":"#REF!"}},{"$f":"Результаты!#REF!","v":{"$error":"#REF!"}},{"$f":"Результаты!#REF!","v":{"$error":"#REF!"}},{"$f":"Результаты!#REF!","v":{"$error":"#REF!"}},{"$f":"Результаты!#REF!","v":{"$error":"#REF!"}},{"$f":"Результаты!#REF!","v":{"$error":"#REF!"}},{"$f":"Результаты!#REF!","v":{"$error":"#REF!"}},{"$f":"Результаты!#REF!","v":{"$error":"#REF!"}},{"$f":"Результаты!#REF!","v":{"$error":"#REF!"}},{"$f":"Результаты!#REF!","v":{"$error":"#REF!"}},{"$f":"Результаты!#REF!","v":{"$error":"#REF!"}},{"$f":"Результаты!#REF!","v":{"$error":"#REF!"}},{"$f":"Результаты!#REF!","v":{"$error":"#REF!"}},{"$f":"Результаты!#REF!","v":{"$error":"#REF!"}},{"$f":"Результаты!#REF!","v":{"$error":"#REF!"}},{"$f":"Результаты!#REF!","v":{"$error":"#REF!"}},{"$f":"Результаты!#REF!","v":{"$error":"#REF!"}},{"$f":"Результаты!#REF!","v":{"$error":"#REF!"}},{"$f":"Результаты!#REF!","v":{"$error":"#REF!"}},{"$f":"Результаты!#REF!","v":{"$error":"#REF!"}},{"$f":"Результаты!#REF!","v":{"$error":"#REF!"}},{"$f":"Результаты!#REF!","v":{"$error":"#REF!"}},{"$f":"Результаты!#REF!","v":{"$error":"#REF!"}},{"$f":"Результаты!#REF!","v":{"$error":"#REF!"}},{"$f":"Результаты!#REF!","v":{"$error":"#REF!"}},{"$f":"Результаты!#REF!","v":{"$error":"#REF!"}},{"$f":"Результаты!#REF!","v":{"$error":"#REF!"}}]
[]
[]
[null,{"$f":"B3210","v":1},"Информационная обработка текстов различных стилей и жанров. Текст как речевое произведение. Смысловая и композиционная целостность текста. Отбор языковых средств в тексте в зависимости от темы, цели, адресата и ситуации общения. Создание текстов различных стилей и функционально-смысловых типов речи. Грамматические нормы (морфологические нормы). Грамматические  нормы  (синтаксические нормы). Лексические нормы. Пунктуация в простом и сложном предложениях. Орфограмма"]
[null,{"$f":"B3211","v":2},"Текст как речевое произведение. Смысловая и композиционная целостность текста. Анализ текста"]
[null,{"$f":"B3212","v":3},"Выразительные средства лексики и фразеологии. Анализ средств выразительности"]
[null,{"$f":"B3213","v":4},"Правописание приставок. Слитное, дефисное, раздельное написание"]
[null,{"$f":"B3214","v":5},"Правописание суффиксов различных частей речи (кроме -Н-/-НН-). Правописание -Н- и -НН- в различных частях речи. Правописание личных окончаний глаголов и суффиксов причастий настоящего времени"]
[null,{"$f":"B3215","v":6},"Лексика и фразеология. Синонимы. Фразеологические обороты. Группы слов по происхождению и употреблению"]
[null,{"$f":"B3216","v":7},"Словосочетание"]
[null,{"$f":"B3217","v":8},"Предложение. Грамматическая (предикативная) основа предложения. Подлежащее и сказуемое как главные члены предложения "]
[null,{"$f":"B3218","v":9},"Осложнённое простое предложение"]
[null,{"$f":"B3219","v":10},"Пунктуационный анализ. Знаки препинания в предложениях со словами и конструкциями, грамматически не связанными с членами предложения"]
[null,{"$f":"B3220","v":11},"Синтаксический анализ сложного предложения"]
[null,{"$f":"B3221","v":12},"Пунктуационный анализ. Знаки препинания в сложносочинённом и сложноподчинённом предложениях"]
[null,{"$f":"B3222","v":13},"Синтаксический анализ сложного предложения"]
[null,{"$f":"B3223","v":14},"Сложные предложения с разными видами связи между частями"]
[null,{"$f":"B3224","v":15},"Текст как речевое произведение. Смысловая и композиционная целостность текста. Создание текстов различных стилей и функционально-смысловых типов речи. Информационная обработка текстов различных стилей и жанров. Грамматические нормы (морфологические нормы). Грамматические нормы (синтаксические нормы). Лексические нормы"]
[null,{"$f":"B3225","v":16},0]
[null,{"$f":"B3226","v":17},0]
[null,{"$f":"B3227","v":18},0]
[null,{"$f":"B3228","v":19},0]
[null,{"$f":"B3229","v":20},0]
[null,{"$f":"B3230","v":21},0]
[null,{"$f":"B3231","v":22},0]
[null,{"$f":"B3232","v":23},0]
[null,{"$f":"B3233","v":24},0]
[null,{"$f":"B3234","v":25},0]
[null,{"$f":"B3235","v":26},0]
[null,{"$f":"B3236","v":27},0]
[null,{"$f":"B3237","v":28},0]
[null,{"$f":"B3238","v":29},0]
[null,{"$f":"B3239","v":30},0]
[null,{"$f":"B3240","v":31},0]
[null,{"$f":"B3241","v":32},0]
[null,{"$f":"B3242","v":33},0]
[null,{"$f":"B3243","v":34},0]
[null,{"$f":"B3244","v":35},0]
[]
[]
["Рекомендация: обратите внимание на задания по темам, которые вызвали у Вас затруднения, решены с ошибкой и отмечены \"0\" или к решению которых Вы не приступили (пустые ячейки)!"]
[]
[]
["Центр независимой оценки качества образования и образовательного аудита \"Легион\""]
[]
["Образовательная организация",null,null,null,{"$f":"E3252","v":"Ленинская СОШ"}]
["Предмет",null,null,null,{"$f":"E3253","v":"Русский язык"}]
["Максимальный балл",null,null,null,39]
["Пороговый балл",null,null,null,15]
["Зона риска",null,null,null,{"$f":"Результаты!E15","v":15},null,null,{"$f":"Результаты!H15","v":16}]
[]
["Уровни",null,null,null,{"$f":"E3258","v":1},{"$f":"F3258","v":2},3,4,5,6,7,8,9,10,11,12,13,14,15,"ПР.ГР",{"$error":"#REF!"},{"$error":"#REF!"},{"$error":"#REF!"},{"$error":"#REF!"},{"$error":"#REF!"},{"$error":"#REF!"},{"$error":"#REF!"},{"$error":"#REF!"},{"$error":"#REF!"},{"$error":"#REF!"},{"$error":"#REF!"},{"$error":"#REF!"},{"$error":"#REF!"},{"$error":"#REF!"},{"$error":"#REF!"},{"$error":"#REF!"},{"$error":"#REF!"},{"$error":"#REF!"},{"$error":"#REF!"},"Тестовый балл","% выплнения заданий по уровням",null,null,"Оценка"]
[null,null,null,null,null,null,null,null,null,null,null,null,null,null,null,null,null,null,null,null,null,null,null,null,null,null,null,null,null,null,null,null,null,null,null,null,null,null,null,null,"Базовый","Повышенный","Высокий"]
["№","Класс","Ф.И.О.","№ задания",{"$f":"E3260","v":1},{"$f":"F3260","v":2},3,4,5,6,7,8,9,10,11,12,13,14,15,0,{"$error":"#REF!"},{"$error":"#REF!"},{"$error":"#REF!"},{"$error":"#REF!"},{"$error":"#REF!"},{"$error":"#REF!"},{"$error":"#REF!"},{"$error":"#REF!"},{"$error":"#REF!"},{"$error":"#REF!"},{"$error":"#REF!"},{"$error":"#REF!"},{"$error":"#REF!"},{"$error":"#REF!"},{"$error":"#REF!"},{"$error":"#REF!"},{"$error":"#REF!"},{"$error":"#REF!"},{"$error":"#REF!"}]
["Максимальный балл",null,null,null,{"$f":"E3261","v":7},{"$f":"F3261","v":1},1,1,1,1,1,1,1,1,1,1,1,1,9,10,{"$error":"#REF!"},{"$error":"#REF!"},{"$error":"#REF!"},{"$error":"#REF!"},{"$error":"#REF!"},{"$error":"#REF!"},{"$error":"#REF!"},{"$error":"#REF!"},{"$error":"#REF!"},{"$error":"#REF!"},{"$error":"#REF!"},{"$error":"#REF!"},{"$error":"#REF!"},{"$error":"#REF!"},{"$error":"#REF!"},{"$error":"#REF!"},{"$error":"#REF!"},{"$error":"#REF!"},{"$error":"#REF!"},39,76.92307692307692,{"$error":"#REF!"},23.076923076923077,0]
[null,null,null,"вариант"]
[{"$f":"Результаты!#REF!","v":{"$error":"#REF!"}},{"$f":"Результаты!#REF!","v":{"$error":"#REF!"}},{"$f":"Результаты!#REF!","v":{"$error":"#REF!"}},{"$f":"Результаты!#REF!","v":{"$error":"#REF!"}},{"$f":"Результаты!#REF!","v":{"$error":"#REF!"}},{"$f":"Результаты!#REF!","v":{"$error":"#REF!"}},{"$f":"Результаты!#REF!","v":{"$error":"#REF!"}},{"$f":"Результаты!#REF!","v":{"$error":"#REF!"}},{"$f":"Результаты!#REF!","v":{"$error":"#REF!"}},{"$f":"Результаты!#REF!","v":{"$error":"#REF!"}},{"$f":"Результаты!#REF!","v":{"$error":"#REF!"}},{"$f":"Результаты!#REF!","v":{"$error":"#REF!"}},{"$f":"Результаты!#REF!","v":{"$error":"#REF!"}},{"$f":"Результаты!#REF!","v":{"$error":"#REF!"}},{"$f":"Результаты!#REF!","v":{"$error":"#REF!"}},{"$f":"Результаты!#REF!","v":{"$error":"#REF!"}},{"$f":"Результаты!#REF!","v":{"$error":"#REF!"}},{"$f":"Результаты!#REF!","v":{"$error":"#REF!"}},{"$f":"Результаты!#REF!","v":{"$error":"#REF!"}},{"$f":"Результаты!#REF!","v":{"$error":"#REF!"}},{"$f":"Результаты!#REF!","v":{"$error":"#REF!"}},{"$f":"Результаты!#REF!","v":{"$error":"#REF!"}},{"$f":"Результаты!#REF!","v":{"$error":"#REF!"}},{"$f":"Результаты!#REF!","v":{"$error":"#REF!"}},{"$f":"Результаты!#REF!","v":{"$error":"#REF!"}},{"$f":"Результаты!#REF!","v":{"$error":"#REF!"}},{"$f":"Результаты!#REF!","v":{"$error":"#REF!"}},{"$f":"Результаты!#REF!","v":{"$error":"#REF!"}},{"$f":"Результаты!#REF!","v":{"$error":"#REF!"}},{"$f":"Результаты!#REF!","v":{"$error":"#REF!"}},{"$f":"Результаты!#REF!","v":{"$error":"#REF!"}},{"$f":"Результаты!#REF!","v":{"$error":"#REF!"}},{"$f":"Результаты!#REF!","v":{"$error":"#REF!"}},{"$f":"Результаты!#REF!","v":{"$error":"#REF!"}},{"$f":"Результаты!#REF!","v":{"$error":"#REF!"}},{"$f":"Результаты!#REF!","v":{"$error":"#REF!"}},{"$f":"Результаты!#REF!","v":{"$error":"#REF!"}},{"$f":"Результаты!#REF!","v":{"$error":"#REF!"}},{"$f":"Результаты!#REF!","v":{"$error":"#REF!"}},{"$f":"Результаты!#REF!","v":{"$error":"#REF!"}},{"$f":"Результаты!#REF!","v":{"$error":"#REF!"}},{"$f":"Результаты!#REF!","v":{"$error":"#REF!"}},{"$f":"Результаты!#REF!","v":{"$error":"#REF!"}},{"$f":"Результаты!#REF!","v":{"$error":"#REF!"}}]
[]
[]
[null,{"$f":"B3266","v":1},"Информационная обработка текстов различных стилей и жанров. Текст как речевое произведение. Смысловая и композиционная целостность текста. Отбор языковых средств в тексте в зависимости от темы, цели, адресата и ситуации общения. Создание текстов различных стилей и функционально-смысловых типов речи. Грамматические нормы (морфологические нормы). Грамматические  нормы  (синтаксические нормы). Лексические нормы. Пунктуация в простом и сложном предложениях. Орфограмма"]
[null,{"$f":"B3267","v":2},"Текст как речевое произведение. Смысловая и композиционная целостность текста. Анализ текста"]
[null,{"$f":"B3268","v":3},"Выразительные средства лексики и фразеологии. Анализ средств выразительности"]
[null,{"$f":"B3269","v":4},"Правописание приставок. Слитное, дефисное, раздельное написание"]
[null,{"$f":"B3270","v":5},"Правописание суффиксов различных частей речи (кроме -Н-/-НН-). Правописание -Н- и -НН- в различных частях речи. Правописание личных окончаний глаголов и суффиксов причастий настоящего времени"]
[null,{"$f":"B3271","v":6},"Лексика и фразеология. Синонимы. Фразеологические обороты. Группы слов по происхождению и употреблению"]
[null,{"$f":"B3272","v":7},"Словосочетание"]
[null,{"$f":"B3273","v":8},"Предложение. Грамматическая (предикативная) основа предложения. Подлежащее и сказуемое как главные члены предложения "]
[null,{"$f":"B3274","v":9},"Осложнённое простое предложение"]
[null,{"$f":"B3275","v":10},"Пунктуационный анализ. Знаки препинания в предложениях со словами и конструкциями, грамматически не связанными с членами предложения"]
[null,{"$f":"B3276","v":11},"Синтаксический анализ сложного предложения"]
[null,{"$f":"B3277","v":12},"Пунктуационный анализ. Знаки препинания в сложносочинённом и сложноподчинённом предложениях"]
[null,{"$f":"B3278","v":13},"Синтаксический анализ сложного предложения"]
[null,{"$f":"B3279","v":14},"Сложные предложения с разными видами связи между частями"]
[null,{"$f":"B3280","v":15},"Текст как речевое произведение. Смысловая и композиционная целостность текста. Создание текстов различных стилей и функционально-смысловых типов речи. Информационная обработка текстов различных стилей и жанров. Грамматические нормы (морфологические нормы). Грамматические нормы (синтаксические нормы). Лексические нормы"]
[null,{"$f":"B3281","v":16},0]
[null,{"$f":"B3282","v":17},0]
[null,{"$f":"B3283","v":18},0]
[null,{"$f":"B3284","v":19},0]
[null,{"$f":"B3285","v":20},0]
[null,{"$f":"B3286","v":21},0]
[null,{"$f":"B3287","v":22},0]
[null,{"$f":"B3288","v":23},0]
[null,{"$f":"B3289","v":24},0]
[null,{"$f":"B3290","v":25},0]
[null,{"$f":"B3291","v":26},0]
[null,{"$f":"B3292","v":27},0]
[null,{"$f":"B3293","v":28},0]
[null,{"$f":"B3294","v":29},0]
[null,{"$f":"B3295","v":30},0]
[null,{"$f":"B3296","v":31},0]
[null,{"$f":"B3297","v":32},0]
[null,{"$f":"B3298","v":33},0]
[null,{"$f":"B3299","v":34},0]
[null,{"$f":"B3300","v":35},0]
[]
[]
["Рекомендация: обратите внимание на задания по темам, которые вызвали у Вас затруднения, решены с ошибкой и отмечены \"0\" или к решению которых Вы не приступили (пустые ячейки)!"]
[]
[]
["Центр независимой оценки качества образования и образовательного аудита \"Легион\""]
[]
["Образовательная организация",null,null,null,{"$f":"E3308","v":"Ленинская СОШ"}]
["Предмет",null,null,null,{"$f":"E3309","v":"Русский язык"}]
["Максимальный балл",null,null,null,39]
["Пороговый балл",null,null,null,15]
["Зона риска",null,null,null,{"$f":"Результаты!E15","v":15},null,null,{"$f":"Результаты!H15","v":16}]
[]
["Уровни",null,null,null,{"$f":"E3314","v":1},{"$f":"F3314","v":2},3,4,5,6,7,8,9,10,11,12,13,14,15,"ПР.ГР",{"$error":"#REF!"},{"$error":"#REF!"},{"$error":"#REF!"},{"$error":"#REF!"},{"$error":"#REF!"},{"$error":"#REF!"},{"$error":"#REF!"},{"$error":"#REF!"},{"$error":"#REF!"},{"$error":"#REF!"},{"$error":"#REF!"},{"$error":"#REF!"},{"$error":"#REF!"},{"$error":"#REF!"},{"$error":"#REF!"},{"$error":"#REF!"},{"$error":"#REF!"},{"$error":"#REF!"},{"$error":"#REF!"},"Тестовый балл","% выплнения заданий по уровням",null,null,"Оценка"]
[null,null,null,null,null,null,null,null,null,null,null,null,null,null,null,null,null,null,null,null,null,null,null,null,null,null,null,null,null,null,null,null,null,null,null,null,null,null,null,null,"Базовый","Повышенный","Высокий"]
["№","Класс","Ф.И.О.","№ задания",{"$f":"E3316","v":1},{"$f":"F3316","v":2},3,4,5,6,7,8,9,10,11,12,13,14,15,0,{"$error":"#REF!"},{"$error":"#REF!"},{"$error":"#REF!"},{"$error":"#REF!"},{"$error":"#REF!"},{"$error":"#REF!"},{"$error":"#REF!"},{"$error":"#REF!"},{"$error":"#REF!"},{"$error":"#REF!"},{"$error":"#REF!"},{"$error":"#REF!"},{"$error":"#REF!"},{"$error":"#REF!"},{"$error":"#REF!"},{"$error":"#REF!"},{"$error":"#REF!"},{"$error":"#REF!"},{"$error":"#REF!"}]
["Максимальный балл",null,null,null,{"$f":"E3317","v":7},{"$f":"F3317","v":1},1,1,1,1,1,1,1,1,1,1,1,1,9,10,{"$error":"#REF!"},{"$error":"#REF!"},{"$error":"#REF!"},{"$error":"#REF!"},{"$error":"#REF!"},{"$error":"#REF!"},{"$error":"#REF!"},{"$error":"#REF!"},{"$error":"#REF!"},{"$error":"#REF!"},{"$error":"#REF!"},{"$error":"#REF!"},{"$error":"#REF!"},{"$error":"#REF!"},{"$error":"#REF!"},{"$error":"#REF!"},{"$error":"#REF!"},{"$error":"#REF!"},{"$error":"#REF!"},39,76.92307692307692,{"$error":"#REF!"},23.076923076923077,0]
[null,null,null,"вариант"]
[{"$f":"Результаты!#REF!","v":{"$error":"#REF!"}},{"$f":"Результаты!#REF!","v":{"$error":"#REF!"}},{"$f":"Результаты!#REF!","v":{"$error":"#REF!"}},{"$f":"Результаты!#REF!","v":{"$error":"#REF!"}},{"$f":"Результаты!#REF!","v":{"$error":"#REF!"}},{"$f":"Результаты!#REF!","v":{"$error":"#REF!"}},{"$f":"Результаты!#REF!","v":{"$error":"#REF!"}},{"$f":"Результаты!#REF!","v":{"$error":"#REF!"}},{"$f":"Результаты!#REF!","v":{"$error":"#REF!"}},{"$f":"Результаты!#REF!","v":{"$error":"#REF!"}},{"$f":"Результаты!#REF!","v":{"$error":"#REF!"}},{"$f":"Результаты!#REF!","v":{"$error":"#REF!"}},{"$f":"Результаты!#REF!","v":{"$error":"#REF!"}},{"$f":"Результаты!#REF!","v":{"$error":"#REF!"}},{"$f":"Результаты!#REF!","v":{"$error":"#REF!"}},{"$f":"Результаты!#REF!","v":{"$error":"#REF!"}},{"$f":"Результаты!#REF!","v":{"$error":"#REF!"}},{"$f":"Результаты!#REF!","v":{"$error":"#REF!"}},{"$f":"Результаты!#REF!","v":{"$error":"#REF!"}},{"$f":"Результаты!#REF!","v":{"$error":"#REF!"}},{"$f":"Результаты!#REF!","v":{"$error":"#REF!"}},{"$f":"Результаты!#REF!","v":{"$error":"#REF!"}},{"$f":"Результаты!#REF!","v":{"$error":"#REF!"}},{"$f":"Результаты!#REF!","v":{"$error":"#REF!"}},{"$f":"Результаты!#REF!","v":{"$error":"#REF!"}},{"$f":"Результаты!#REF!","v":{"$error":"#REF!"}},{"$f":"Результаты!#REF!","v":{"$error":"#REF!"}},{"$f":"Результаты!#REF!","v":{"$error":"#REF!"}},{"$f":"Результаты!#REF!","v":{"$error":"#REF!"}},{"$f":"Результаты!#REF!","v":{"$error":"#REF!"}},{"$f":"Результаты!#REF!","v":{"$error":"#REF!"}},{"$f":"Результаты!#REF!","v":{"$error":"#REF!"}},{"$f":"Результаты!#REF!","v":{"$error":"#REF!"}},{"$f":"Результаты!#REF!","v":{"$error":"#REF!"}},{"$f":"Результаты!#REF!","v":{"$error":"#REF!"}},{"$f":"Результаты!#REF!","v":{"$error":"#REF!"}},{"$f":"Результаты!#REF!","v":{"$error":"#REF!"}},{"$f":"Результаты!#REF!","v":{"$error":"#REF!"}},{"$f":"Результаты!#REF!","v":{"$error":"#REF!"}},{"$f":"Результаты!#REF!","v":{"$error":"#REF!"}},{"$f":"Результаты!#REF!","v":{"$error":"#REF!"}},{"$f":"Результаты!#REF!","v":{"$error":"#REF!"}},{"$f":"Результаты!#REF!","v":{"$error":"#REF!"}},{"$f":"Результаты!#REF!","v":{"$error":"#REF!"}}]
[]
[]
[null,{"$f":"B3322","v":1},"Информационная обработка текстов различных стилей и жанров. Текст как речевое произведение. Смысловая и композиционная целостность текста. Отбор языковых средств в тексте в зависимости от темы, цели, адресата и ситуации общения. Создание текстов различных стилей и функционально-смысловых типов речи. Грамматические нормы (морфологические нормы). Грамматические  нормы  (синтаксические нормы). Лексические нормы. Пунктуация в простом и сложном предложениях. Орфограмма"]
[null,{"$f":"B3323","v":2},"Текст как речевое произведение. Смысловая и композиционная целостность текста. Анализ текста"]
[null,{"$f":"B3324","v":3},"Выразительные средства лексики и фразеологии. Анализ средств выразительности"]
[null,{"$f":"B3325","v":4},"Правописание приставок. Слитное, дефисное, раздельное написание"]
[null,{"$f":"B3326","v":5},"Правописание суффиксов различных частей речи (кроме -Н-/-НН-). Правописание -Н- и -НН- в различных частях речи. Правописание личных окончаний глаголов и суффиксов причастий настоящего времени"]
[null,{"$f":"B3327","v":6},"Лексика и фразеология. Синонимы. Фразеологические обороты. Группы слов по происхождению и употреблению"]
[null,{"$f":"B3328","v":7},"Словосочетание"]
[null,{"$f":"B3329","v":8},"Предложение. Грамматическая (предикативная) основа предложения. Подлежащее и сказуемое как главные члены предложения "]
[null,{"$f":"B3330","v":9},"Осложнённое простое предложение"]
[null,{"$f":"B3331","v":10},"Пунктуационный анализ. Знаки препинания в предложениях со словами и конструкциями, грамматически не связанными с членами предложения"]
[null,{"$f":"B3332","v":11},"Синтаксический анализ сложного предложения"]
[null,{"$f":"B3333","v":12},"Пунктуационный анализ. Знаки препинания в сложносочинённом и сложноподчинённом предложениях"]
[null,{"$f":"B3334","v":13},"Синтаксический анализ сложного предложения"]
[null,{"$f":"B3335","v":14},"Сложные предложения с разными видами связи между частями"]
[null,{"$f":"B3336","v":15},"Текст как речевое произведение. Смысловая и композиционная целостность текста. Создание текстов различных стилей и функционально-смысловых типов речи. Информационная обработка текстов различных стилей и жанров. Грамматические нормы (морфологические нормы). Грамматические нормы (синтаксические нормы). Лексические нормы"]
[null,{"$f":"B3337","v":16},0]
[null,{"$f":"B3338","v":17},0]
[null,{"$f":"B3339","v":18},0]
[null,{"$f":"B3340","v":19},0]
[null,{"$f":"B3341","v":20},0]
[null,{"$f":"B3342","v":21},0]
[null,{"$f":"B3343","v":22},0]
[null,{"$f":"B3344","v":23},0]
[null,{"$f":"B3345","v":24},0]
[null,{"$f":"B3346","v":25},0]
[null,{"$f":"B3347","v":26},0]
[null,{"$f":"B3348","v":27},0]
[null,{"$f":"B3349","v":28},0]
[null,{"$f":"B3350","v":29},0]
[null,{"$f":"B3351","v":30},0]
[null,{"$f":"B3352","v":31},0]
[null,{"$f":"B3353","v":32},0]
[null,{"$f":"B3354","v":33},0]
[null,{"$f":"B3355","v":34},0]
[null,{"$f":"B3356","v":35},0]
[]
[]
["Рекомендация: обратите внимание на задания по темам, которые вызвали у Вас затруднения, решены с ошибкой и отмечены \"0\" или к решению которых Вы не приступили (пустые ячейки)!"]
[]
[]
["Центр независимой оценки качества образования и образовательного аудита \"Легион\""]
[]
["Образовательная организация",null,null,null,{"$f":"E3364","v":"Ленинская СОШ"}]
["Предмет",null,null,null,{"$f":"E3365","v":"Русский язык"}]
["Максимальный балл",null,null,null,39]
["Пороговый балл",null,null,null,15]
["Зона риска",null,null,null,{"$f":"Результаты!E15","v":15},null,null,{"$f":"Результаты!H15","v":16}]
[]
["Уровни",null,null,null,{"$f":"E3370","v":1},{"$f":"F3370","v":2},3,4,5,6,7,8,9,10,11,12,13,14,15,"ПР.ГР",{"$error":"#REF!"},{"$error":"#REF!"},{"$error":"#REF!"},{"$error":"#REF!"},{"$error":"#REF!"},{"$error":"#REF!"},{"$error":"#REF!"},{"$error":"#REF!"},{"$error":"#REF!"},{"$error":"#REF!"},{"$error":"#REF!"},{"$error":"#REF!"},{"$error":"#REF!"},{"$error":"#REF!"},{"$error":"#REF!"},{"$error":"#REF!"},{"$error":"#REF!"},{"$error":"#REF!"},{"$error":"#REF!"},"Тестовый балл","% выплнения заданий по уровням",null,null,"Оценка"]
[null,null,null,null,null,null,null,null,null,null,null,null,null,null,null,null,null,null,null,null,null,null,null,null,null,null,null,null,null,null,null,null,null,null,null,null,null,null,null,null,"Базовый","Повышенный","Высокий"]
["№","Класс","Ф.И.О.","№ задания",{"$f":"E3372","v":1},{"$f":"F3372","v":2},3,4,5,6,7,8,9,10,11,12,13,14,15,0,{"$error":"#REF!"},{"$error":"#REF!"},{"$error":"#REF!"},{"$error":"#REF!"},{"$error":"#REF!"},{"$error":"#REF!"},{"$error":"#REF!"},{"$error":"#REF!"},{"$error":"#REF!"},{"$error":"#REF!"},{"$error":"#REF!"},{"$error":"#REF!"},{"$error":"#REF!"},{"$error":"#REF!"},{"$error":"#REF!"},{"$error":"#REF!"},{"$error":"#REF!"},{"$error":"#REF!"},{"$error":"#REF!"}]
["Максимальный балл",null,null,null,{"$f":"E3373","v":7},{"$f":"F3373","v":1},1,1,1,1,1,1,1,1,1,1,1,1,9,10,{"$error":"#REF!"},{"$error":"#REF!"},{"$error":"#REF!"},{"$error":"#REF!"},{"$error":"#REF!"},{"$error":"#REF!"},{"$error":"#REF!"},{"$error":"#REF!"},{"$error":"#REF!"},{"$error":"#REF!"},{"$error":"#REF!"},{"$error":"#REF!"},{"$error":"#REF!"},{"$error":"#REF!"},{"$error":"#REF!"},{"$error":"#REF!"},{"$error":"#REF!"},{"$error":"#REF!"},{"$error":"#REF!"},39,76.92307692307692,{"$error":"#REF!"},23.076923076923077,0]
[null,null,null,"вариант"]
[{"$f":"Результаты!#REF!","v":{"$error":"#REF!"}},{"$f":"Результаты!#REF!","v":{"$error":"#REF!"}},{"$f":"Результаты!#REF!","v":{"$error":"#REF!"}},{"$f":"Результаты!#REF!","v":{"$error":"#REF!"}},{"$f":"Результаты!#REF!","v":{"$error":"#REF!"}},{"$f":"Результаты!#REF!","v":{"$error":"#REF!"}},{"$f":"Результаты!#REF!","v":{"$error":"#REF!"}},{"$f":"Результаты!#REF!","v":{"$error":"#REF!"}},{"$f":"Результаты!#REF!","v":{"$error":"#REF!"}},{"$f":"Результаты!#REF!","v":{"$error":"#REF!"}},{"$f":"Результаты!#REF!","v":{"$error":"#REF!"}},{"$f":"Результаты!#REF!","v":{"$error":"#REF!"}},{"$f":"Результаты!#REF!","v":{"$error":"#REF!"}},{"$f":"Результаты!#REF!","v":{"$error":"#REF!"}},{"$f":"Результаты!#REF!","v":{"$error":"#REF!"}},{"$f":"Результаты!#REF!","v":{"$error":"#REF!"}},{"$f":"Результаты!#REF!","v":{"$error":"#REF!"}},{"$f":"Результаты!#REF!","v":{"$error":"#REF!"}},{"$f":"Результаты!#REF!","v":{"$error":"#REF!"}},{"$f":"Результаты!#REF!","v":{"$error":"#REF!"}},{"$f":"Результаты!#REF!","v":{"$error":"#REF!"}},{"$f":"Результаты!#REF!","v":{"$error":"#REF!"}},{"$f":"Результаты!#REF!","v":{"$error":"#REF!"}},{"$f":"Результаты!#REF!","v":{"$error":"#REF!"}},{"$f":"Результаты!#REF!","v":{"$error":"#REF!"}},{"$f":"Результаты!#REF!","v":{"$error":"#REF!"}},{"$f":"Результаты!#REF!","v":{"$error":"#REF!"}},{"$f":"Результаты!#REF!","v":{"$error":"#REF!"}},{"$f":"Результаты!#REF!","v":{"$error":"#REF!"}},{"$f":"Результаты!#REF!","v":{"$error":"#REF!"}},{"$f":"Результаты!#REF!","v":{"$error":"#REF!"}},{"$f":"Результаты!#REF!","v":{"$error":"#REF!"}},{"$f":"Результаты!#REF!","v":{"$error":"#REF!"}},{"$f":"Результаты!#REF!","v":{"$error":"#REF!"}},{"$f":"Результаты!#REF!","v":{"$error":"#REF!"}},{"$f":"Результаты!#REF!","v":{"$error":"#REF!"}},{"$f":"Результаты!#REF!","v":{"$error":"#REF!"}},{"$f":"Результаты!#REF!","v":{"$error":"#REF!"}},{"$f":"Результаты!#REF!","v":{"$error":"#REF!"}},{"$f":"Результаты!#REF!","v":{"$error":"#REF!"}},{"$f":"Результаты!#REF!","v":{"$error":"#REF!"}},{"$f":"Результаты!#REF!","v":{"$error":"#REF!"}},{"$f":"Результаты!#REF!","v":{"$error":"#REF!"}},{"$f":"Результаты!#REF!","v":{"$error":"#REF!"}}]
[]
[]
[null,{"$f":"B3378","v":1},"Информационная обработка текстов различных стилей и жанров. Текст как речевое произведение. Смысловая и композиционная целостность текста. Отбор языковых средств в тексте в зависимости от темы, цели, адресата и ситуации общения. Создание текстов различных стилей и функционально-смысловых типов речи. Грамматические нормы (морфологические нормы). Грамматические  нормы  (синтаксические нормы). Лексические нормы. Пунктуация в простом и сложном предложениях. Орфограмма"]
[null,{"$f":"B3379","v":2},"Текст как речевое произведение. Смысловая и композиционная целостность текста. Анализ текста"]
[null,{"$f":"B3380","v":3},"Выразительные средства лексики и фразеологии. Анализ средств выразительности"]
[null,{"$f":"B3381","v":4},"Правописание приставок. Слитное, дефисное, раздельное написание"]
[null,{"$f":"B3382","v":5},"Правописание суффиксов различных частей речи (кроме -Н-/-НН-). Правописание -Н- и -НН- в различных частях речи. Правописание личных окончаний глаголов и суффиксов причастий настоящего времени"]
[null,{"$f":"B3383","v":6},"Лексика и фразеология. Синонимы. Фразеологические обороты. Группы слов по происхождению и употреблению"]
[null,{"$f":"B3384","v":7},"Словосочетание"]
[null,{"$f":"B3385","v":8},"Предложение. Грамматическая (предикативная) основа предложения. Подлежащее и сказуемое как главные члены предложения "]
[null,{"$f":"B3386","v":9},"Осложнённое простое предложение"]
[null,{"$f":"B3387","v":10},"Пунктуационный анализ. Знаки препинания в предложениях со словами и конструкциями, грамматически не связанными с членами предложения"]
[null,{"$f":"B3388","v":11},"Синтаксический анализ сложного предложения"]
[null,{"$f":"B3389","v":12},"Пунктуационный анализ. Знаки препинания в сложносочинённом и сложноподчинённом предложениях"]
[null,{"$f":"B3390","v":13},"Синтаксический анализ сложного предложения"]
[null,{"$f":"B3391","v":14},"Сложные предложения с разными видами связи между частями"]
[null,{"$f":"B3392","v":15},"Текст как речевое произведение. Смысловая и композиционная целостность текста. Создание текстов различных стилей и функционально-смысловых типов речи. Информационная обработка текстов различных стилей и жанров. Грамматические нормы (морфологические нормы). Грамматические нормы (синтаксические нормы). Лексические нормы"]
[null,{"$f":"B3393","v":16},0]
[null,{"$f":"B3394","v":17},0]
[null,{"$f":"B3395","v":18},0]
[null,{"$f":"B3396","v":19},0]
[null,{"$f":"B3397","v":20},0]
[null,{"$f":"B3398","v":21},0]
[null,{"$f":"B3399","v":22},0]
[null,{"$f":"B3400","v":23},0]
[null,{"$f":"B3401","v":24},0]
[null,{"$f":"B3402","v":25},0]
[null,{"$f":"B3403","v":26},0]
[null,{"$f":"B3404","v":27},0]
[null,{"$f":"B3405","v":28},0]
[null,{"$f":"B3406","v":29},0]
[null,{"$f":"B3407","v":30},0]
[null,{"$f":"B3408","v":31},0]
[null,{"$f":"B3409","v":32},0]
[null,{"$f":"B3410","v":33},0]
[null,{"$f":"B3411","v":34},0]
[null,{"$f":"B3412","v":35},0]
[]
[]
["Рекомендация: обратите внимание на задания по темам, которые вызвали у Вас затруднения, решены с ошибкой и отмечены \"0\" или к решению которых Вы не приступили (пустые ячейки)!"]
[]
[]
["Центр независимой оценки качества образования и образовательного аудита \"Легион\""]
[]
["Образовательная организация",null,null,null,{"$f":"E3420","v":"Ленинская СОШ"}]
["Предмет",null,null,null,{"$f":"E3421","v":"Русский язык"}]
["Максимальный балл",null,null,null,39]
["Пороговый балл",null,null,null,15]
["Зона риска",null,null,null,{"$f":"Результаты!E15","v":15},null,null,{"$f":"Результаты!H15","v":16}]
[]
["Уровни",null,null,null,{"$f":"E3426","v":1},{"$f":"F3426","v":2},3,4,5,6,7,8,9,10,11,12,13,14,15,"ПР.ГР",{"$error":"#REF!"},{"$error":"#REF!"},{"$error":"#REF!"},{"$error":"#REF!"},{"$error":"#REF!"},{"$error":"#REF!"},{"$error":"#REF!"},{"$error":"#REF!"},{"$error":"#REF!"},{"$error":"#REF!"},{"$error":"#REF!"},{"$error":"#REF!"},{"$error":"#REF!"},{"$error":"#REF!"},{"$error":"#REF!"},{"$error":"#REF!"},{"$error":"#REF!"},{"$error":"#REF!"},{"$error":"#REF!"},"Тестовый балл","% выплнения заданий по уровням",null,null,"Оценка"]
[null,null,null,null,null,null,null,null,null,null,null,null,null,null,null,null,null,null,null,null,null,null,null,null,null,null,null,null,null,null,null,null,null,null,null,null,null,null,null,null,"Базовый","Повышенный","Высокий"]
["№","Класс","Ф.И.О.","№ задания",{"$f":"E3428","v":1},{"$f":"F3428","v":2},3,4,5,6,7,8,9,10,11,12,13,14,15,0,{"$error":"#REF!"},{"$error":"#REF!"},{"$error":"#REF!"},{"$error":"#REF!"},{"$error":"#REF!"},{"$error":"#REF!"},{"$error":"#REF!"},{"$error":"#REF!"},{"$error":"#REF!"},{"$error":"#REF!"},{"$error":"#REF!"},{"$error":"#REF!"},{"$error":"#REF!"},{"$error":"#REF!"},{"$error":"#REF!"},{"$error":"#REF!"},{"$error":"#REF!"},{"$error":"#REF!"},{"$error":"#REF!"}]
["Максимальный балл",null,null,null,{"$f":"E3429","v":7},{"$f":"F3429","v":1},1,1,1,1,1,1,1,1,1,1,1,1,9,10,{"$error":"#REF!"},{"$error":"#REF!"},{"$error":"#REF!"},{"$error":"#REF!"},{"$error":"#REF!"},{"$error":"#REF!"},{"$error":"#REF!"},{"$error":"#REF!"},{"$error":"#REF!"},{"$error":"#REF!"},{"$error":"#REF!"},{"$error":"#REF!"},{"$error":"#REF!"},{"$error":"#REF!"},{"$error":"#REF!"},{"$error":"#REF!"},{"$error":"#REF!"},{"$error":"#REF!"},{"$error":"#REF!"},39,76.92307692307692,{"$error":"#REF!"},23.076923076923077,0]
[null,null,null,"вариант"]
[{"$f":"Результаты!#REF!","v":{"$error":"#REF!"}},{"$f":"Результаты!#REF!","v":{"$error":"#REF!"}},{"$f":"Результаты!#REF!","v":{"$error":"#REF!"}},{"$f":"Результаты!#REF!","v":{"$error":"#REF!"}},{"$f":"Результаты!#REF!","v":{"$error":"#REF!"}},{"$f":"Результаты!#REF!","v":{"$error":"#REF!"}},{"$f":"Результаты!#REF!","v":{"$error":"#REF!"}},{"$f":"Результаты!#REF!","v":{"$error":"#REF!"}},{"$f":"Результаты!#REF!","v":{"$error":"#REF!"}},{"$f":"Результаты!#REF!","v":{"$error":"#REF!"}},{"$f":"Результаты!#REF!","v":{"$error":"#REF!"}},{"$f":"Результаты!#REF!","v":{"$error":"#REF!"}},{"$f":"Результаты!#REF!","v":{"$error":"#REF!"}},{"$f":"Результаты!#REF!","v":{"$error":"#REF!"}},{"$f":"Результаты!#REF!","v":{"$error":"#REF!"}},{"$f":"Результаты!#REF!","v":{"$error":"#REF!"}},{"$f":"Результаты!#REF!","v":{"$error":"#REF!"}},{"$f":"Результаты!#REF!","v":{"$error":"#REF!"}},{"$f":"Результаты!#REF!","v":{"$error":"#REF!"}},{"$f":"Результаты!#REF!","v":{"$error":"#REF!"}},{"$f":"Результаты!#REF!","v":{"$error":"#REF!"}},{"$f":"Результаты!#REF!","v":{"$error":"#REF!"}},{"$f":"Результаты!#REF!","v":{"$error":"#REF!"}},{"$f":"Результаты!#REF!","v":{"$error":"#REF!"}},{"$f":"Результаты!#REF!","v":{"$error":"#REF!"}},{"$f":"Результаты!#REF!","v":{"$error":"#REF!"}},{"$f":"Результаты!#REF!","v":{"$error":"#REF!"}},{"$f":"Результаты!#REF!","v":{"$error":"#REF!"}},{"$f":"Результаты!#REF!","v":{"$error":"#REF!"}},{"$f":"Результаты!#REF!","v":{"$error":"#REF!"}},{"$f":"Результаты!#REF!","v":{"$error":"#REF!"}},{"$f":"Результаты!#REF!","v":{"$error":"#REF!"}},{"$f":"Результаты!#REF!","v":{"$error":"#REF!"}},{"$f":"Результаты!#REF!","v":{"$error":"#REF!"}},{"$f":"Результаты!#REF!","v":{"$error":"#REF!"}},{"$f":"Результаты!#REF!","v":{"$error":"#REF!"}},{"$f":"Результаты!#REF!","v":{"$error":"#REF!"}},{"$f":"Результаты!#REF!","v":{"$error":"#REF!"}},{"$f":"Результаты!#REF!","v":{"$error":"#REF!"}},{"$f":"Результаты!#REF!","v":{"$error":"#REF!"}},{"$f":"Результаты!#REF!","v":{"$error":"#REF!"}},{"$f":"Результаты!#REF!","v":{"$error":"#REF!"}},{"$f":"Результаты!#REF!","v":{"$error":"#REF!"}},{"$f":"Результаты!#REF!","v":{"$error":"#REF!"}}]
[]
[]
[null,{"$f":"B3434","v":1},"Информационная обработка текстов различных стилей и жанров. Текст как речевое произведение. Смысловая и композиционная целостность текста. Отбор языковых средств в тексте в зависимости от темы, цели, адресата и ситуации общения. Создание текстов различных стилей и функционально-смысловых типов речи. Грамматические нормы (морфологические нормы). Грамматические  нормы  (синтаксические нормы). Лексические нормы. Пунктуация в простом и сложном предложениях. Орфограмма"]
[null,{"$f":"B3435","v":2},"Текст как речевое произведение. Смысловая и композиционная целостность текста. Анализ текста"]
[null,{"$f":"B3436","v":3},"Выразительные средства лексики и фразеологии. Анализ средств выразительности"]
[null,{"$f":"B3437","v":4},"Правописание приставок. Слитное, дефисное, раздельное написание"]
[null,{"$f":"B3438","v":5},"Правописание суффиксов различных частей речи (кроме -Н-/-НН-). Правописание -Н- и -НН- в различных частях речи. Правописание личных окончаний глаголов и суффиксов причастий настоящего времени"]
[null,{"$f":"B3439","v":6},"Лексика и фразеология. Синонимы. Фразеологические обороты. Группы слов по происхождению и употреблению"]
[null,{"$f":"B3440","v":7},"Словосочетание"]
[null,{"$f":"B3441","v":8},"Предложение. Грамматическая (предикативная) основа предложения. Подлежащее и сказуемое как главные члены предложения "]
[null,{"$f":"B3442","v":9},"Осложнённое простое предложение"]
[null,{"$f":"B3443","v":10},"Пунктуационный анализ. Знаки препинания в предложениях со словами и конструкциями, грамматически не связанными с членами предложения"]
[null,{"$f":"B3444","v":11},"Синтаксический анализ сложного предложения"]
[null,{"$f":"B3445","v":12},"Пунктуационный анализ. Знаки препинания в сложносочинённом и сложноподчинённом предложениях"]
[null,{"$f":"B3446","v":13},"Синтаксический анализ сложного предложения"]
[null,{"$f":"B3447","v":14},"Сложные предложения с разными видами связи между частями"]
[null,{"$f":"B3448","v":15},"Текст как речевое произведение. Смысловая и композиционная целостность текста. Создание текстов различных стилей и функционально-смысловых типов речи. Информационная обработка текстов различных стилей и жанров. Грамматические нормы (морфологические нормы). Грамматические нормы (синтаксические нормы). Лексические нормы"]
[null,{"$f":"B3449","v":16},0]
[null,{"$f":"B3450","v":17},0]
[null,{"$f":"B3451","v":18},0]
[null,{"$f":"B3452","v":19},0]
[null,{"$f":"B3453","v":20},0]
[null,{"$f":"B3454","v":21},0]
[null,{"$f":"B3455","v":22},0]
[null,{"$f":"B3456","v":23},0]
[null,{"$f":"B3457","v":24},0]
[null,{"$f":"B3458","v":25},0]
[null,{"$f":"B3459","v":26},0]
[null,{"$f":"B3460","v":27},0]
[null,{"$f":"B3461","v":28},0]
[null,{"$f":"B3462","v":29},0]
[null,{"$f":"B3463","v":30},0]
[null,{"$f":"B3464","v":31},0]
[null,{"$f":"B3465","v":32},0]
[null,{"$f":"B3466","v":33},0]
[null,{"$f":"B3467","v":34},0]
[null,{"$f":"B3468","v":35},0]
[]
[]
["Рекомендация: обратите внимание на задания по темам, которые вызвали у Вас затруднения, решены с ошибкой и отмечены \"0\" или к решению которых Вы не приступили (пустые ячейки)!"]
[]
[]
["Центр независимой оценки качества образования и образовательного аудита \"Легион\""]
[]
["Образовательная организация",null,null,null,{"$f":"E3476","v":"Ленинская СОШ"}]
["Предмет",null,null,null,{"$f":"E3477","v":"Русский язык"}]
["Максимальный балл",null,null,null,39]
["Пороговый балл",null,null,null,15]
["Зона риска",null,null,null,{"$f":"Результаты!E15","v":15},null,null,{"$f":"Результаты!H15","v":16}]
[]
["Уровни",null,null,null,{"$f":"E3482","v":1},{"$f":"F3482","v":2},3,4,5,6,7,8,9,10,11,12,13,14,15,"ПР.ГР",{"$error":"#REF!"},{"$error":"#REF!"},{"$error":"#REF!"},{"$error":"#REF!"},{"$error":"#REF!"},{"$error":"#REF!"},{"$error":"#REF!"},{"$error":"#REF!"},{"$error":"#REF!"},{"$error":"#REF!"},{"$error":"#REF!"},{"$error":"#REF!"},{"$error":"#REF!"},{"$error":"#REF!"},{"$error":"#REF!"},{"$error":"#REF!"},{"$error":"#REF!"},{"$error":"#REF!"},{"$error":"#REF!"},"Тестовый балл","% выплнения заданий по уровням",null,null,"Оценка"]
[null,null,null,null,null,null,null,null,null,null,null,null,null,null,null,null,null,null,null,null,null,null,null,null,null,null,null,null,null,null,null,null,null,null,null,null,null,null,null,null,"Базовый","Повышенный","Высокий"]
["№","Класс","Ф.И.О.","№ задания",{"$f":"E3484","v":1},{"$f":"F3484","v":2},3,4,5,6,7,8,9,10,11,12,13,14,15,0,{"$error":"#REF!"},{"$error":"#REF!"},{"$error":"#REF!"},{"$error":"#REF!"},{"$error":"#REF!"},{"$error":"#REF!"},{"$error":"#REF!"},{"$error":"#REF!"},{"$error":"#REF!"},{"$error":"#REF!"},{"$error":"#REF!"},{"$error":"#REF!"},{"$error":"#REF!"},{"$error":"#REF!"},{"$error":"#REF!"},{"$error":"#REF!"},{"$error":"#REF!"},{"$error":"#REF!"},{"$error":"#REF!"}]
["Максимальный балл",null,null,null,{"$f":"E3485","v":7},{"$f":"F3485","v":1},1,1,1,1,1,1,1,1,1,1,1,1,9,10,{"$error":"#REF!"},{"$error":"#REF!"},{"$error":"#REF!"},{"$error":"#REF!"},{"$error":"#REF!"},{"$error":"#REF!"},{"$error":"#REF!"},{"$error":"#REF!"},{"$error":"#REF!"},{"$error":"#REF!"},{"$error":"#REF!"},{"$error":"#REF!"},{"$error":"#REF!"},{"$error":"#REF!"},{"$error":"#REF!"},{"$error":"#REF!"},{"$error":"#REF!"},{"$error":"#REF!"},{"$error":"#REF!"},39,76.92307692307692,{"$error":"#REF!"},23.076923076923077,0]
[null,null,null,"вариант"]
[{"$f":"Результаты!#REF!","v":{"$error":"#REF!"}},{"$f":"Результаты!#REF!","v":{"$error":"#REF!"}},{"$f":"Результаты!#REF!","v":{"$error":"#REF!"}},{"$f":"Результаты!#REF!","v":{"$error":"#REF!"}},{"$f":"Результаты!#REF!","v":{"$error":"#REF!"}},{"$f":"Результаты!#REF!","v":{"$error":"#REF!"}},{"$f":"Результаты!#REF!","v":{"$error":"#REF!"}},{"$f":"Результаты!#REF!","v":{"$error":"#REF!"}},{"$f":"Результаты!#REF!","v":{"$error":"#REF!"}},{"$f":"Результаты!#REF!","v":{"$error":"#REF!"}},{"$f":"Результаты!#REF!","v":{"$error":"#REF!"}},{"$f":"Результаты!#REF!","v":{"$error":"#REF!"}},{"$f":"Результаты!#REF!","v":{"$error":"#REF!"}},{"$f":"Результаты!#REF!","v":{"$error":"#REF!"}},{"$f":"Результаты!#REF!","v":{"$error":"#REF!"}},{"$f":"Результаты!#REF!","v":{"$error":"#REF!"}},{"$f":"Результаты!#REF!","v":{"$error":"#REF!"}},{"$f":"Результаты!#REF!","v":{"$error":"#REF!"}},{"$f":"Результаты!#REF!","v":{"$error":"#REF!"}},{"$f":"Результаты!#REF!","v":{"$error":"#REF!"}},{"$f":"Результаты!#REF!","v":{"$error":"#REF!"}},{"$f":"Результаты!#REF!","v":{"$error":"#REF!"}},{"$f":"Результаты!#REF!","v":{"$error":"#REF!"}},{"$f":"Результаты!#REF!","v":{"$error":"#REF!"}},{"$f":"Результаты!#REF!","v":{"$error":"#REF!"}},{"$f":"Результаты!#REF!","v":{"$error":"#REF!"}},{"$f":"Результаты!#REF!","v":{"$error":"#REF!"}},{"$f":"Результаты!#REF!","v":{"$error":"#REF!"}},{"$f":"Результаты!#REF!","v":{"$error":"#REF!"}},{"$f":"Результаты!#REF!","v":{"$error":"#REF!"}},{"$f":"Результаты!#REF!","v":{"$error":"#REF!"}},{"$f":"Результаты!#REF!","v":{"$error":"#REF!"}},{"$f":"Результаты!#REF!","v":{"$error":"#REF!"}},{"$f":"Результаты!#REF!","v":{"$error":"#REF!"}},{"$f":"Результаты!#REF!","v":{"$error":"#REF!"}},{"$f":"Результаты!#REF!","v":{"$error":"#REF!"}},{"$f":"Результаты!#REF!","v":{"$error":"#REF!"}},{"$f":"Результаты!#REF!","v":{"$error":"#REF!"}},{"$f":"Результаты!#REF!","v":{"$error":"#REF!"}},{"$f":"Результаты!#REF!","v":{"$error":"#REF!"}},{"$f":"Результаты!#REF!","v":{"$error":"#REF!"}},{"$f":"Результаты!#REF!","v":{"$error":"#REF!"}},{"$f":"Результаты!#REF!","v":{"$error":"#REF!"}},{"$f":"Результаты!#REF!","v":{"$error":"#REF!"}}]
[]
[]
[null,{"$f":"B3490","v":1},"Информационная обработка текстов различных стилей и жанров. Текст как речевое произведение. Смысловая и композиционная целостность текста. Отбор языковых средств в тексте в зависимости от темы, цели, адресата и ситуации общения. Создание текстов различных стилей и функционально-смысловых типов речи. Грамматические нормы (морфологические нормы). Грамматические  нормы  (синтаксические нормы). Лексические нормы. Пунктуация в простом и сложном предложениях. Орфограмма"]
[null,{"$f":"B3491","v":2},"Текст как речевое произведение. Смысловая и композиционная целостность текста. Анализ текста"]
[null,{"$f":"B3492","v":3},"Выразительные средства лексики и фразеологии. Анализ средств выразительности"]
[null,{"$f":"B3493","v":4},"Правописание приставок. Слитное, дефисное, раздельное написание"]
[null,{"$f":"B3494","v":5},"Правописание суффиксов различных частей речи (кроме -Н-/-НН-). Правописание -Н- и -НН- в различных частях речи. Правописание личных окончаний глаголов и суффиксов причастий настоящего времени"]
[null,{"$f":"B3495","v":6},"Лексика и фразеология. Синонимы. Фразеологические обороты. Группы слов по происхождению и употреблению"]
[null,{"$f":"B3496","v":7},"Словосочетание"]
[null,{"$f":"B3497","v":8},"Предложение. Грамматическая (предикативная) основа предложения. Подлежащее и сказуемое как главные члены предложения "]
[null,{"$f":"B3498","v":9},"Осложнённое простое предложение"]
[null,{"$f":"B3499","v":10},"Пунктуационный анализ. Знаки препинания в предложениях со словами и конструкциями, грамматически не связанными с членами предложения"]
[null,{"$f":"B3500","v":11},"Синтаксический анализ сложного предложения"]
[null,{"$f":"B3501","v":12},"Пунктуационный анализ. Знаки препинания в сложносочинённом и сложноподчинённом предложениях"]
[null,{"$f":"B3502","v":13},"Синтаксический анализ сложного предложения"]
[null,{"$f":"B3503","v":14},"Сложные предложения с разными видами связи между частями"]
[null,{"$f":"B3504","v":15},"Текст как речевое произведение. Смысловая и композиционная целостность текста. Создание текстов различных стилей и функционально-смысловых типов речи. Информационная обработка текстов различных стилей и жанров. Грамматические нормы (морфологические нормы). Грамматические нормы (синтаксические нормы). Лексические нормы"]
[null,{"$f":"B3505","v":16},0]
[null,{"$f":"B3506","v":17},0]
[null,{"$f":"B3507","v":18},0]
[null,{"$f":"B3508","v":19},0]
[null,{"$f":"B3509","v":20},0]
[null,{"$f":"B3510","v":21},0]
[null,{"$f":"B3511","v":22},0]
[null,{"$f":"B3512","v":23},0]
[null,{"$f":"B3513","v":24},0]
[null,{"$f":"B3514","v":25},0]
[null,{"$f":"B3515","v":26},0]
[null,{"$f":"B3516","v":27},0]
[null,{"$f":"B3517","v":28},0]
[null,{"$f":"B3518","v":29},0]
[null,{"$f":"B3519","v":30},0]
[null,{"$f":"B3520","v":31},0]
[null,{"$f":"B3521","v":32},0]
[null,{"$f":"B3522","v":33},0]
[null,{"$f":"B3523","v":34},0]
[null,{"$f":"B3524","v":35},0]
[]
[]
["Рекомендация: обратите внимание на задания по темам, которые вызвали у Вас затруднения, решены с ошибкой и отмечены \"0\" или к решению которых Вы не приступили (пустые ячейки)!"]
[]
[]
["Центр независимой оценки качества образования и образовательного аудита \"Легион\""]
[]
["Образовательная организация",null,null,null,{"$f":"E3532","v":"Ленинская СОШ"}]
["Предмет",null,null,null,{"$f":"E3533","v":"Русский язык"}]
["Максимальный балл",null,null,null,39]
["Пороговый балл",null,null,null,15]
["Зона риска",null,null,null,{"$f":"Результаты!E15","v":15},null,null,{"$f":"Результаты!H15","v":16}]
[]
["Уровни",null,null,null,{"$f":"E3538","v":1},{"$f":"F3538","v":2},3,4,5,6,7,8,9,10,11,12,13,14,15,"ПР.ГР",{"$error":"#REF!"},{"$error":"#REF!"},{"$error":"#REF!"},{"$error":"#REF!"},{"$error":"#REF!"},{"$error":"#REF!"},{"$error":"#REF!"},{"$error":"#REF!"},{"$error":"#REF!"},{"$error":"#REF!"},{"$error":"#REF!"},{"$error":"#REF!"},{"$error":"#REF!"},{"$error":"#REF!"},{"$error":"#REF!"},{"$error":"#REF!"},{"$error":"#REF!"},{"$error":"#REF!"},{"$error":"#REF!"},"Тестовый балл","% выплнения заданий по уровням",null,null,"Оценка"]
[null,null,null,null,null,null,null,null,null,null,null,null,null,null,null,null,null,null,null,null,null,null,null,null,null,null,null,null,null,null,null,null,null,null,null,null,null,null,null,null,"Базовый","Повышенный","Высокий"]
["№","Класс","Ф.И.О.","№ задания",{"$f":"E3540","v":1},{"$f":"F3540","v":2},3,4,5,6,7,8,9,10,11,12,13,14,15,0,{"$error":"#REF!"},{"$error":"#REF!"},{"$error":"#REF!"},{"$error":"#REF!"},{"$error":"#REF!"},{"$error":"#REF!"},{"$error":"#REF!"},{"$error":"#REF!"},{"$error":"#REF!"},{"$error":"#REF!"},{"$error":"#REF!"},{"$error":"#REF!"},{"$error":"#REF!"},{"$error":"#REF!"},{"$error":"#REF!"},{"$error":"#REF!"},{"$error":"#REF!"},{"$error":"#REF!"},{"$error":"#REF!"}]
["Максимальный балл",null,null,null,{"$f":"E3541","v":7},{"$f":"F3541","v":1},1,1,1,1,1,1,1,1,1,1,1,1,9,10,{"$error":"#REF!"},{"$error":"#REF!"},{"$error":"#REF!"},{"$error":"#REF!"},{"$error":"#REF!"},{"$error":"#REF!"},{"$error":"#REF!"},{"$error":"#REF!"},{"$error":"#REF!"},{"$error":"#REF!"},{"$error":"#REF!"},{"$error":"#REF!"},{"$error":"#REF!"},{"$error":"#REF!"},{"$error":"#REF!"},{"$error":"#REF!"},{"$error":"#REF!"},{"$error":"#REF!"},{"$error":"#REF!"},39,76.92307692307692,{"$error":"#REF!"},23.076923076923077,0]
[null,null,null,"вариант"]
[{"$f":"Результаты!#REF!","v":{"$error":"#REF!"}},{"$f":"Результаты!#REF!","v":{"$error":"#REF!"}},{"$f":"Результаты!#REF!","v":{"$error":"#REF!"}},{"$f":"Результаты!#REF!","v":{"$error":"#REF!"}},{"$f":"Результаты!#REF!","v":{"$error":"#REF!"}},{"$f":"Результаты!#REF!","v":{"$error":"#REF!"}},{"$f":"Результаты!#REF!","v":{"$error":"#REF!"}},{"$f":"Результаты!#REF!","v":{"$error":"#REF!"}},{"$f":"Результаты!#REF!","v":{"$error":"#REF!"}},{"$f":"Результаты!#REF!","v":{"$error":"#REF!"}},{"$f":"Результаты!#REF!","v":{"$error":"#REF!"}},{"$f":"Результаты!#REF!","v":{"$error":"#REF!"}},{"$f":"Результаты!#REF!","v":{"$error":"#REF!"}},{"$f":"Результаты!#REF!","v":{"$error":"#REF!"}},{"$f":"Результаты!#REF!","v":{"$error":"#REF!"}},{"$f":"Результаты!#REF!","v":{"$error":"#REF!"}},{"$f":"Результаты!#REF!","v":{"$error":"#REF!"}},{"$f":"Результаты!#REF!","v":{"$error":"#REF!"}},{"$f":"Результаты!#REF!","v":{"$error":"#REF!"}},{"$f":"Результаты!#REF!","v":{"$error":"#REF!"}},{"$f":"Результаты!#REF!","v":{"$error":"#REF!"}},{"$f":"Результаты!#REF!","v":{"$error":"#REF!"}},{"$f":"Результаты!#REF!","v":{"$error":"#REF!"}},{"$f":"Результаты!#REF!","v":{"$error":"#REF!"}},{"$f":"Результаты!#REF!","v":{"$error":"#REF!"}},{"$f":"Результаты!#REF!","v":{"$error":"#REF!"}},{"$f":"Результаты!#REF!","v":{"$error":"#REF!"}},{"$f":"Результаты!#REF!","v":{"$error":"#REF!"}},{"$f":"Результаты!#REF!","v":{"$error":"#REF!"}},{"$f":"Результаты!#REF!","v":{"$error":"#REF!"}},{"$f":"Результаты!#REF!","v":{"$error":"#REF!"}},{"$f":"Результаты!#REF!","v":{"$error":"#REF!"}},{"$f":"Результаты!#REF!","v":{"$error":"#REF!"}},{"$f":"Результаты!#REF!","v":{"$error":"#REF!"}},{"$f":"Результаты!#REF!","v":{"$error":"#REF!"}},{"$f":"Результаты!#REF!","v":{"$error":"#REF!"}},{"$f":"Результаты!#REF!","v":{"$error":"#REF!"}},{"$f":"Результаты!#REF!","v":{"$error":"#REF!"}},{"$f":"Результаты!#REF!","v":{"$error":"#REF!"}},{"$f":"Результаты!#REF!","v":{"$error":"#REF!"}},{"$f":"Результаты!#REF!","v":{"$error":"#REF!"}},{"$f":"Результаты!#REF!","v":{"$error":"#REF!"}},{"$f":"Результаты!#REF!","v":{"$error":"#REF!"}},{"$f":"Результаты!#REF!","v":{"$error":"#REF!"}}]
[]
[]
[null,{"$f":"B3546","v":1},{"$f":"C3546","v":"Информационная обработка текстов различных стилей и жанров. Текст как речевое произведение. Смысловая и композиционная целостность текста. Отбор языковых средств в тексте в зависимости от темы, цели, адресата и ситуации общения. Создание текстов различных стилей и функционально-смысловых типов речи. Грамматические нормы (морфологические нормы). Грамматические  нормы  (синтаксические нормы). Лексические нормы. Пунктуация в простом и сложном предложениях. Орфограмма"}]
[null,{"$f":"B3547","v":2},"Текст как речевое произведение. Смысловая и композиционная целостность текста. Анализ текста"]
[null,{"$f":"B3548","v":3},"Выразительные средства лексики и фразеологии. Анализ средств выразительности"]
[null,{"$f":"B3549","v":4},"Правописание приставок. Слитное, дефисное, раздельное написание"]
[null,{"$f":"B3550","v":5},"Правописание суффиксов различных частей речи (кроме -Н-/-НН-). Правописание -Н- и -НН- в различных частях речи. Правописание личных окончаний глаголов и суффиксов причастий настоящего времени"]
[null,{"$f":"B3551","v":6},"Лексика и фразеология. Синонимы. Фразеологические обороты. Группы слов по происхождению и употреблению"]
[null,{"$f":"B3552","v":7},"Словосочетание"]
[null,{"$f":"B3553","v":8},"Предложение. Грамматическая (предикативная) основа предложения. Подлежащее и сказуемое как главные члены предложения "]
[null,{"$f":"B3554","v":9},"Осложнённое простое предложение"]
[null,{"$f":"B3555","v":10},"Пунктуационный анализ. Знаки препинания в предложениях со словами и конструкциями, грамматически не связанными с членами предложения"]
[null,{"$f":"B3556","v":11},"Синтаксический анализ сложного предложения"]
[null,{"$f":"B3557","v":12},"Пунктуационный анализ. Знаки препинания в сложносочинённом и сложноподчинённом предложениях"]
[null,{"$f":"B3558","v":13},"Синтаксический анализ сложного предложения"]
[null,{"$f":"B3559","v":14},"Сложные предложения с разными видами связи между частями"]
[null,{"$f":"B3560","v":15},"Текст как речевое произведение. Смысловая и композиционная целостность текста. Создание текстов различных стилей и функционально-смысловых типов речи. Информационная обработка текстов различных стилей и жанров. Грамматические нормы (морфологические нормы). Грамматические нормы (синтаксические нормы). Лексические нормы"]
[null,{"$f":"B3561","v":16},0]
[null,{"$f":"B3562","v":17},0]
[null,{"$f":"B3563","v":18},0]
[null,{"$f":"B3564","v":19},0]
[null,{"$f":"B3565","v":20},0]
[null,{"$f":"B3566","v":21},0]
[null,{"$f":"B3567","v":22},0]
[null,{"$f":"B3568","v":23},0]
[null,{"$f":"B3569","v":24},0]
[null,{"$f":"B3570","v":25},0]
[null,{"$f":"B3571","v":26},0]
[null,{"$f":"B3572","v":27},0]
[null,{"$f":"B3573","v":28},0]
[null,{"$f":"B3574","v":29},0]
[null,{"$f":"B3575","v":30},0]
[null,{"$f":"B3576","v":31},0]
[null,{"$f":"B3577","v":32},0]
[null,{"$f":"B3578","v":33},0]
[null,{"$f":"B3579","v":34},0]
[null,{"$f":"B3580","v":35},0]
[]
["Рекомендация: обратите внимание на задания по темам, которые вызвали у Вас затруднения, решены с ошибкой и отмечены \"0\" или к решению которых Вы не приступили (пустые ячейки)!"]
[]
[]
[]
["Центр независимой оценки качества образования и образовательного аудита \"Легион\""]
[]
["Образовательная организация",null,null,null,{"$f":"E3588","v":"Ленинская СОШ"}]
["Предмет",null,null,null,{"$f":"E3589","v":"Русский язык"}]
["Максимальный балл",null,null,null,39]
["Пороговый балл",null,null,null,15]
["Зона риска",null,null,null,{"$f":"Результаты!E15","v":15},null,null,{"$f":"Результаты!H15","v":16}]
[]
["Уровни",null,null,null,{"$f":"E3594","v":1},{"$f":"F3594","v":2},3,4,5,6,7,8,9,10,11,12,13,14,15,"ПР.ГР",{"$error":"#REF!"},{"$error":"#REF!"},{"$error":"#REF!"},{"$error":"#REF!"},{"$error":"#REF!"},{"$error":"#REF!"},{"$error":"#REF!"},{"$error":"#REF!"},{"$error":"#REF!"},{"$error":"#REF!"},{"$error":"#REF!"},{"$error":"#REF!"},{"$error":"#REF!"},{"$error":"#REF!"},{"$error":"#REF!"},{"$error":"#REF!"},{"$error":"#REF!"},{"$error":"#REF!"},{"$error":"#REF!"},"Тестовый балл","% выплнения заданий по уровням",null,null,"Оценка"]
[null,null,null,null,null,null,null,null,null,null,null,null,null,null,null,null,null,null,null,null,null,null,null,null,null,null,null,null,null,null,null,null,null,null,null,null,null,null,null,null,"Базовый","Повышенный","Высокий"]
["№","Класс","Ф.И.О.","№ задания",{"$f":"E3596","v":1},{"$f":"F3596","v":2},3,4,5,6,7,8,9,10,11,12,13,14,15,0,{"$error":"#REF!"},{"$error":"#REF!"},{"$error":"#REF!"},{"$error":"#REF!"},{"$error":"#REF!"},{"$error":"#REF!"},{"$error":"#REF!"},{"$error":"#REF!"},{"$error":"#REF!"},{"$error":"#REF!"},{"$error":"#REF!"},{"$error":"#REF!"},{"$error":"#REF!"},{"$error":"#REF!"},{"$error":"#REF!"},{"$error":"#REF!"},{"$error":"#REF!"},{"$error":"#REF!"},{"$error":"#REF!"}]
["Максимальный балл",null,null,null,{"$f":"E3597","v":7},{"$f":"F3597","v":1},1,1,1,1,1,1,1,1,1,1,1,1,9,10,{"$error":"#REF!"},{"$error":"#REF!"},{"$error":"#REF!"},{"$error":"#REF!"},{"$error":"#REF!"},{"$error":"#REF!"},{"$error":"#REF!"},{"$error":"#REF!"},{"$error":"#REF!"},{"$error":"#REF!"},{"$error":"#REF!"},{"$error":"#REF!"},{"$error":"#REF!"},{"$error":"#REF!"},{"$error":"#REF!"},{"$error":"#REF!"},{"$error":"#REF!"},{"$error":"#REF!"},{"$error":"#REF!"},39,76.92307692307692,{"$error":"#REF!"},23.076923076923077,0]
[null,null,null,"вариант"]
[{"$f":"Результаты!#REF!","v":{"$error":"#REF!"}},{"$f":"Результаты!#REF!","v":{"$error":"#REF!"}},{"$f":"Результаты!#REF!","v":{"$error":"#REF!"}},{"$f":"Результаты!#REF!","v":{"$error":"#REF!"}},{"$f":"Результаты!#REF!","v":{"$error":"#REF!"}},{"$f":"Результаты!#REF!","v":{"$error":"#REF!"}},{"$f":"Результаты!#REF!","v":{"$error":"#REF!"}},{"$f":"Результаты!#REF!","v":{"$error":"#REF!"}},{"$f":"Результаты!#REF!","v":{"$error":"#REF!"}},{"$f":"Результаты!#REF!","v":{"$error":"#REF!"}},{"$f":"Результаты!#REF!","v":{"$error":"#REF!"}},{"$f":"Результаты!#REF!","v":{"$error":"#REF!"}},{"$f":"Результаты!#REF!","v":{"$error":"#REF!"}},{"$f":"Результаты!#REF!","v":{"$error":"#REF!"}},{"$f":"Результаты!#REF!","v":{"$error":"#REF!"}},{"$f":"Результаты!#REF!","v":{"$error":"#REF!"}},{"$f":"Результаты!#REF!","v":{"$error":"#REF!"}},{"$f":"Результаты!#REF!","v":{"$error":"#REF!"}},{"$f":"Результаты!#REF!","v":{"$error":"#REF!"}},{"$f":"Результаты!#REF!","v":{"$error":"#REF!"}},{"$f":"Результаты!#REF!","v":{"$error":"#REF!"}},{"$f":"Результаты!#REF!","v":{"$error":"#REF!"}},{"$f":"Результаты!#REF!","v":{"$error":"#REF!"}},{"$f":"Результаты!#REF!","v":{"$error":"#REF!"}},{"$f":"Результаты!#REF!","v":{"$error":"#REF!"}},{"$f":"Результаты!#REF!","v":{"$error":"#REF!"}},{"$f":"Результаты!#REF!","v":{"$error":"#REF!"}},{"$f":"Результаты!#REF!","v":{"$error":"#REF!"}},{"$f":"Результаты!#REF!","v":{"$error":"#REF!"}},{"$f":"Результаты!#REF!","v":{"$error":"#REF!"}},{"$f":"Результаты!#REF!","v":{"$error":"#REF!"}},{"$f":"Результаты!#REF!","v":{"$error":"#REF!"}},{"$f":"Результаты!#REF!","v":{"$error":"#REF!"}},{"$f":"Результаты!#REF!","v":{"$error":"#REF!"}},{"$f":"Результаты!#REF!","v":{"$error":"#REF!"}},{"$f":"Результаты!#REF!","v":{"$error":"#REF!"}},{"$f":"Результаты!#REF!","v":{"$error":"#REF!"}},{"$f":"Результаты!#REF!","v":{"$error":"#REF!"}},{"$f":"Результаты!#REF!","v":{"$error":"#REF!"}},{"$f":"Результаты!#REF!","v":{"$error":"#REF!"}},{"$f":"Результаты!#REF!","v":{"$error":"#REF!"}},{"$f":"Результаты!#REF!","v":{"$error":"#REF!"}},{"$f":"Результаты!#REF!","v":{"$error":"#REF!"}},{"$f":"Результаты!#REF!","v":{"$error":"#REF!"}}]
[]
[]
[null,{"$f":"B3602","v":1},{"$f":"C3602","v":"Информационная обработка текстов различных стилей и жанров. Текст как речевое произведение. Смысловая и композиционная целостность текста. Отбор языковых средств в тексте в зависимости от темы, цели, адресата и ситуации общения. Создание текстов различных стилей и функционально-смысловых типов речи. Грамматические нормы (морфологические нормы). Грамматические  нормы  (синтаксические нормы). Лексические нормы. Пунктуация в простом и сложном предложениях. Орфограмма"}]
[null,{"$f":"B3603","v":2},"Текст как речевое произведение. Смысловая и композиционная целостность текста. Анализ текста"]
[null,{"$f":"B3604","v":3},"Выразительные средства лексики и фразеологии. Анализ средств выразительности"]
[null,{"$f":"B3605","v":4},"Правописание приставок. Слитное, дефисное, раздельное написание"]
[null,{"$f":"B3606","v":5},"Правописание суффиксов различных частей речи (кроме -Н-/-НН-). Правописание -Н- и -НН- в различных частях речи. Правописание личных окончаний глаголов и суффиксов причастий настоящего времени"]
[null,{"$f":"B3607","v":6},"Лексика и фразеология. Синонимы. Фразеологические обороты. Группы слов по происхождению и употреблению"]
[null,{"$f":"B3608","v":7},"Словосочетание"]
[null,{"$f":"B3609","v":8},"Предложение. Грамматическая (предикативная) основа предложения. Подлежащее и сказуемое как главные члены предложения "]
[null,{"$f":"B3610","v":9},"Осложнённое простое предложение"]
[null,{"$f":"B3611","v":10},"Пунктуационный анализ. Знаки препинания в предложениях со словами и конструкциями, грамматически не связанными с членами предложения"]
[null,{"$f":"B3612","v":11},"Синтаксический анализ сложного предложения"]
[null,{"$f":"B3613","v":12},"Пунктуационный анализ. Знаки препинания в сложносочинённом и сложноподчинённом предложениях"]
[null,{"$f":"B3614","v":13},"Синтаксический анализ сложного предложения"]
[null,{"$f":"B3615","v":14},"Сложные предложения с разными видами связи между частями"]
[null,{"$f":"B3616","v":15},"Текст как речевое произведение. Смысловая и композиционная целостность текста. Создание текстов различных стилей и функционально-смысловых типов речи. Информационная обработка текстов различных стилей и жанров. Грамматические нормы (морфологические нормы). Грамматические нормы (синтаксические нормы). Лексические нормы"]
[null,{"$f":"B3617","v":16},0]
[null,{"$f":"B3618","v":17},0]
[null,{"$f":"B3619","v":18},0]
[null,{"$f":"B3620","v":19},0]
[null,{"$f":"B3621","v":20},0]
[null,{"$f":"B3622","v":21},0]
[null,{"$f":"B3623","v":22},0]
[null,{"$f":"B3624","v":23},0]
[null,{"$f":"B3625","v":24},0]
[null,{"$f":"B3626","v":25},0]
[null,{"$f":"B3627","v":26},0]
[null,{"$f":"B3628","v":27},0]
[null,{"$f":"B3629","v":28},0]
[null,{"$f":"B3630","v":29},0]
[null,{"$f":"B3631","v":30},0]
[null,{"$f":"B3632","v":31},0]
[null,{"$f":"B3633","v":32},0]
[null,{"$f":"B3634","v":33},0]
[null,{"$f":"B3635","v":34},0]
[null,{"$f":"B3636","v":35},0]
[]
[]
["Рекомендация: обратите внимание на задания по темам, которые вызвали у Вас затруднения, решены с ошибкой и отмечены \"0\" или к решению которых Вы не приступили (пустые ячейки)!"]
[]
[]
["Центр независимой оценки качества образования и образовательного аудита \"Легион\""]
[]
["Образовательная организация",null,null,null,{"$f":"E3644","v":"Ленинская СОШ"}]
["Предмет",null,null,null,{"$f":"E3645","v":"Русский язык"}]
["Максимальный балл",null,null,null,39]
["Пороговый балл",null,null,null,15]
["Зона риска",null,null,null,{"$f":"Результаты!E15","v":15},null,null,{"$f":"Результаты!H15","v":16}]
[]
["Уровни",null,null,null,{"$f":"E3650","v":1},{"$f":"F3650","v":2},3,4,5,6,7,8,9,10,11,12,13,14,15,"ПР.ГР",{"$error":"#REF!"},{"$error":"#REF!"},{"$error":"#REF!"},{"$error":"#REF!"},{"$error":"#REF!"},{"$error":"#REF!"},{"$error":"#REF!"},{"$error":"#REF!"},{"$error":"#REF!"},{"$error":"#REF!"},{"$error":"#REF!"},{"$error":"#REF!"},{"$error":"#REF!"},{"$error":"#REF!"},{"$error":"#REF!"},{"$error":"#REF!"},{"$error":"#REF!"},{"$error":"#REF!"},{"$error":"#REF!"},"Тестовый балл","% выплнения заданий по уровням",null,null,"Оценка"]
[null,null,null,null,null,null,null,null,null,null,null,null,null,null,null,null,null,null,null,null,null,null,null,null,null,null,null,null,null,null,null,null,null,null,null,null,null,null,null,null,"Базовый","Повышенный","Высокий"]
["№","Класс","Ф.И.О.","№ задания",{"$f":"E3652","v":1},{"$f":"F3652","v":2},3,4,5,6,7,8,9,10,11,12,13,14,15,0,{"$error":"#REF!"},{"$error":"#REF!"},{"$error":"#REF!"},{"$error":"#REF!"},{"$error":"#REF!"},{"$error":"#REF!"},{"$error":"#REF!"},{"$error":"#REF!"},{"$error":"#REF!"},{"$error":"#REF!"},{"$error":"#REF!"},{"$error":"#REF!"},{"$error":"#REF!"},{"$error":"#REF!"},{"$error":"#REF!"},{"$error":"#REF!"},{"$error":"#REF!"},{"$error":"#REF!"},{"$error":"#REF!"}]
["Максимальный балл",null,null,null,{"$f":"E3653","v":7},{"$f":"F3653","v":1},1,1,1,1,1,1,1,1,1,1,1,1,9,10,{"$error":"#REF!"},{"$error":"#REF!"},{"$error":"#REF!"},{"$error":"#REF!"},{"$error":"#REF!"},{"$error":"#REF!"},{"$error":"#REF!"},{"$error":"#REF!"},{"$error":"#REF!"},{"$error":"#REF!"},{"$error":"#REF!"},{"$error":"#REF!"},{"$error":"#REF!"},{"$error":"#REF!"},{"$error":"#REF!"},{"$error":"#REF!"},{"$error":"#REF!"},{"$error":"#REF!"},{"$error":"#REF!"},39,76.92307692307692,{"$error":"#REF!"},23.076923076923077,0]
[null,null,null,"вариант"]
[{"$f":"Результаты!#REF!","v":{"$error":"#REF!"}},{"$f":"Результаты!#REF!","v":{"$error":"#REF!"}},{"$f":"Результаты!#REF!","v":{"$error":"#REF!"}},{"$f":"Результаты!#REF!","v":{"$error":"#REF!"}},{"$f":"Результаты!#REF!","v":{"$error":"#REF!"}},{"$f":"Результаты!#REF!","v":{"$error":"#REF!"}},{"$f":"Результаты!#REF!","v":{"$error":"#REF!"}},{"$f":"Результаты!#REF!","v":{"$error":"#REF!"}},{"$f":"Результаты!#REF!","v":{"$error":"#REF!"}},{"$f":"Результаты!#REF!","v":{"$error":"#REF!"}},{"$f":"Результаты!#REF!","v":{"$error":"#REF!"}},{"$f":"Результаты!#REF!","v":{"$error":"#REF!"}},{"$f":"Результаты!#REF!","v":{"$error":"#REF!"}},{"$f":"Результаты!#REF!","v":{"$error":"#REF!"}},{"$f":"Результаты!#REF!","v":{"$error":"#REF!"}},{"$f":"Результаты!#REF!","v":{"$error":"#REF!"}},{"$f":"Результаты!#REF!","v":{"$error":"#REF!"}},{"$f":"Результаты!#REF!","v":{"$error":"#REF!"}},{"$f":"Результаты!#REF!","v":{"$error":"#REF!"}},{"$f":"Результаты!#REF!","v":{"$error":"#REF!"}},{"$f":"Результаты!#REF!","v":{"$error":"#REF!"}},{"$f":"Результаты!#REF!","v":{"$error":"#REF!"}},{"$f":"Результаты!#REF!","v":{"$error":"#REF!"}},{"$f":"Результаты!#REF!","v":{"$error":"#REF!"}},{"$f":"Результаты!#REF!","v":{"$error":"#REF!"}},{"$f":"Результаты!#REF!","v":{"$error":"#REF!"}},{"$f":"Результаты!#REF!","v":{"$error":"#REF!"}},{"$f":"Результаты!#REF!","v":{"$error":"#REF!"}},{"$f":"Результаты!#REF!","v":{"$error":"#REF!"}},{"$f":"Результаты!#REF!","v":{"$error":"#REF!"}},{"$f":"Результаты!#REF!","v":{"$error":"#REF!"}},{"$f":"Результаты!#REF!","v":{"$error":"#REF!"}},{"$f":"Результаты!#REF!","v":{"$error":"#REF!"}},{"$f":"Результаты!#REF!","v":{"$error":"#REF!"}},{"$f":"Результаты!#REF!","v":{"$error":"#REF!"}},{"$f":"Результаты!#REF!","v":{"$error":"#REF!"}},{"$f":"Результаты!#REF!","v":{"$error":"#REF!"}},{"$f":"Результаты!#REF!","v":{"$error":"#REF!"}},{"$f":"Результаты!#REF!","v":{"$error":"#REF!"}},{"$f":"Результаты!#REF!","v":{"$error":"#REF!"}},{"$f":"Результаты!#REF!","v":{"$error":"#REF!"}},{"$f":"Результаты!#REF!","v":{"$error":"#REF!"}},{"$f":"Результаты!#REF!","v":{"$error":"#REF!"}},{"$f":"Результаты!#REF!","v":{"$error":"#REF!"}}]
[]
[]
[null,{"$f":"B3658","v":1},"Информационная обработка текстов различных стилей и жанров. Текст как речевое произведение. Смысловая и композиционная целостность текста. Отбор языковых средств в тексте в зависимости от темы, цели, адресата и ситуации общения. Создание текстов различных стилей и функционально-смысловых типов речи. Грамматические нормы (морфологические нормы). Грамматические  нормы  (синтаксические нормы). Лексические нормы. Пунктуация в простом и сложном предложениях. Орфограмма"]
[null,{"$f":"B3659","v":2},"Текст как речевое произведение. Смысловая и композиционная целостность текста. Анализ текста"]
[null,{"$f":"B3660","v":3},"Выразительные средства лексики и фразеологии. Анализ средств выразительности"]
[null,{"$f":"B3661","v":4},"Правописание приставок. Слитное, дефисное, раздельное написание"]
[null,{"$f":"B3662","v":5},"Правописание суффиксов различных частей речи (кроме -Н-/-НН-). Правописание -Н- и -НН- в различных частях речи. Правописание личных окончаний глаголов и суффиксов причастий настоящего времени"]
[null,{"$f":"B3663","v":6},"Лексика и фразеология. Синонимы. Фразеологические обороты. Группы слов по происхождению и употреблению"]
[null,{"$f":"B3664","v":7},"Словосочетание"]
[null,{"$f":"B3665","v":8},"Предложение. Грамматическая (предикативная) основа предложения. Подлежащее и сказуемое как главные члены предложения "]
[null,{"$f":"B3666","v":9},"Осложнённое простое предложение"]
[null,{"$f":"B3667","v":10},"Пунктуационный анализ. Знаки препинания в предложениях со словами и конструкциями, грамматически не связанными с членами предложения"]
[null,{"$f":"B3668","v":11},"Синтаксический анализ сложного предложения"]
[null,{"$f":"B3669","v":12},"Пунктуационный анализ. Знаки препинания в сложносочинённом и сложноподчинённом предложениях"]
[null,{"$f":"B3670","v":13},"Синтаксический анализ сложного предложения"]
[null,{"$f":"B3671","v":14},"Сложные предложения с разными видами связи между частями"]
[null,{"$f":"B3672","v":15},"Текст как речевое произведение. Смысловая и композиционная целостность текста. Создание текстов различных стилей и функционально-смысловых типов речи. Информационная обработка текстов различных стилей и жанров. Грамматические нормы (морфологические нормы). Грамматические нормы (синтаксические нормы). Лексические нормы"]
[null,{"$f":"B3673","v":16},0]
[null,{"$f":"B3674","v":17},0]
[null,{"$f":"B3675","v":18},0]
[null,{"$f":"B3676","v":19},0]
[null,{"$f":"B3677","v":20},0]
[null,{"$f":"B3678","v":21},0]
[null,{"$f":"B3679","v":22},0]
[null,{"$f":"B3680","v":23},0]
[null,{"$f":"B3681","v":24},0]
[null,{"$f":"B3682","v":25},0]
[null,{"$f":"B3683","v":26},0]
[null,{"$f":"B3684","v":27},0]
[null,{"$f":"B3685","v":28},0]
[null,{"$f":"B3686","v":29},0]
[null,{"$f":"B3687","v":30},0]
[null,{"$f":"B3688","v":31},0]
[null,{"$f":"B3689","v":32},0]
[null,{"$f":"B3690","v":33},0]
[null,{"$f":"B3691","v":34},0]
[null,{"$f":"B3692","v":35},0]
[]
[]
["Рекомендация: обратите внимание на задания по темам, которые вызвали у Вас затруднения, решены с ошибкой и отмечены \"0\" или к решению которых Вы не приступили (пустые ячейки)!"]
[]
[]
["Центр независимой оценки качества образования и образовательного аудита \"Легион\""]
[]
["Образовательная организация",null,null,null,{"$f":"E3700","v":"Ленинская СОШ"}]
["Предмет",null,null,null,{"$f":"E3701","v":"Русский язык"}]
["Максимальный балл",null,null,null,39]
["Пороговый балл",null,null,null,15]
["Зона риска",null,null,null,{"$f":"Результаты!E15","v":15},null,null,{"$f":"Результаты!H15","v":16}]
[]
["Уровни",null,null,null,{"$f":"E3706","v":1},{"$f":"F3706","v":2},3,4,5,6,7,8,9,10,11,12,13,14,15,"ПР.ГР",{"$error":"#REF!"},{"$error":"#REF!"},{"$error":"#REF!"},{"$error":"#REF!"},{"$error":"#REF!"},{"$error":"#REF!"},{"$error":"#REF!"},{"$error":"#REF!"},{"$error":"#REF!"},{"$error":"#REF!"},{"$error":"#REF!"},{"$error":"#REF!"},{"$error":"#REF!"},{"$error":"#REF!"},{"$error":"#REF!"},{"$error":"#REF!"},{"$error":"#REF!"},{"$error":"#REF!"},{"$error":"#REF!"},"Тестовый балл","% выплнения заданий по уровням",null,null,"Оценка"]
[null,null,null,null,null,null,null,null,null,null,null,null,null,null,null,null,null,null,null,null,null,null,null,null,null,null,null,null,null,null,null,null,null,null,null,null,null,null,null,null,"Базовый","Повышенный","Высокий"]
["№","Класс","Ф.И.О.","№ задания",{"$f":"E3708","v":1},{"$f":"F3708","v":2},3,4,5,6,7,8,9,10,11,12,13,14,15,0,{"$error":"#REF!"},{"$error":"#REF!"},{"$error":"#REF!"},{"$error":"#REF!"},{"$error":"#REF!"},{"$error":"#REF!"},{"$error":"#REF!"},{"$error":"#REF!"},{"$error":"#REF!"},{"$error":"#REF!"},{"$error":"#REF!"},{"$error":"#REF!"},{"$error":"#REF!"},{"$error":"#REF!"},{"$error":"#REF!"},{"$error":"#REF!"},{"$error":"#REF!"},{"$error":"#REF!"},{"$error":"#REF!"}]
["Максимальный балл",null,null,null,{"$f":"E3709","v":7},{"$f":"F3709","v":1},1,1,1,1,1,1,1,1,1,1,1,1,9,10,{"$error":"#REF!"},{"$error":"#REF!"},{"$error":"#REF!"},{"$error":"#REF!"},{"$error":"#REF!"},{"$error":"#REF!"},{"$error":"#REF!"},{"$error":"#REF!"},{"$error":"#REF!"},{"$error":"#REF!"},{"$error":"#REF!"},{"$error":"#REF!"},{"$error":"#REF!"},{"$error":"#REF!"},{"$error":"#REF!"},{"$error":"#REF!"},{"$error":"#REF!"},{"$error":"#REF!"},{"$error":"#REF!"},39,76.92307692307692,{"$error":"#REF!"},23.076923076923077,0]
[null,null,null,"вариант"]
[{"$f":"Результаты!#REF!","v":{"$error":"#REF!"}},{"$f":"Результаты!#REF!","v":{"$error":"#REF!"}},{"$f":"Результаты!#REF!","v":{"$error":"#REF!"}},{"$f":"Результаты!#REF!","v":{"$error":"#REF!"}},{"$f":"Результаты!#REF!","v":{"$error":"#REF!"}},{"$f":"Результаты!#REF!","v":{"$error":"#REF!"}},{"$f":"Результаты!#REF!","v":{"$error":"#REF!"}},{"$f":"Результаты!#REF!","v":{"$error":"#REF!"}},{"$f":"Результаты!#REF!","v":{"$error":"#REF!"}},{"$f":"Результаты!#REF!","v":{"$error":"#REF!"}},{"$f":"Результаты!#REF!","v":{"$error":"#REF!"}},{"$f":"Результаты!#REF!","v":{"$error":"#REF!"}},{"$f":"Результаты!#REF!","v":{"$error":"#REF!"}},{"$f":"Результаты!#REF!","v":{"$error":"#REF!"}},{"$f":"Результаты!#REF!","v":{"$error":"#REF!"}},{"$f":"Результаты!#REF!","v":{"$error":"#REF!"}},{"$f":"Результаты!#REF!","v":{"$error":"#REF!"}},{"$f":"Результаты!#REF!","v":{"$error":"#REF!"}},{"$f":"Результаты!#REF!","v":{"$error":"#REF!"}},{"$f":"Результаты!#REF!","v":{"$error":"#REF!"}},{"$f":"Результаты!#REF!","v":{"$error":"#REF!"}},{"$f":"Результаты!#REF!","v":{"$error":"#REF!"}},{"$f":"Результаты!#REF!","v":{"$error":"#REF!"}},{"$f":"Результаты!#REF!","v":{"$error":"#REF!"}},{"$f":"Результаты!#REF!","v":{"$error":"#REF!"}},{"$f":"Результаты!#REF!","v":{"$error":"#REF!"}},{"$f":"Результаты!#REF!","v":{"$error":"#REF!"}},{"$f":"Результаты!#REF!","v":{"$error":"#REF!"}},{"$f":"Результаты!#REF!","v":{"$error":"#REF!"}},{"$f":"Результаты!#REF!","v":{"$error":"#REF!"}},{"$f":"Результаты!#REF!","v":{"$error":"#REF!"}},{"$f":"Результаты!#REF!","v":{"$error":"#REF!"}},{"$f":"Результаты!#REF!","v":{"$error":"#REF!"}},{"$f":"Результаты!#REF!","v":{"$error":"#REF!"}},{"$f":"Результаты!#REF!","v":{"$error":"#REF!"}},{"$f":"Результаты!#REF!","v":{"$error":"#REF!"}},{"$f":"Результаты!#REF!","v":{"$error":"#REF!"}},{"$f":"Результаты!#REF!","v":{"$error":"#REF!"}},{"$f":"Результаты!#REF!","v":{"$error":"#REF!"}},{"$f":"Результаты!#REF!","v":{"$error":"#REF!"}},{"$f":"Результаты!#REF!","v":{"$error":"#REF!"}},{"$f":"Результаты!#REF!","v":{"$error":"#REF!"}},{"$f":"Результаты!#REF!","v":{"$error":"#REF!"}},{"$f":"Результаты!#REF!","v":{"$error":"#REF!"}}]
[]
[]
[null,{"$f":"B3714","v":1},"Информационная обработка текстов различных стилей и жанров. Текст как речевое произведение. Смысловая и композиционная целостность текста. Отбор языковых средств в тексте в зависимости от темы, цели, адресата и ситуации общения. Создание текстов различных стилей и функционально-смысловых типов речи. Грамматические нормы (морфологические нормы). Грамматические  нормы  (синтаксические нормы). Лексические нормы. Пунктуация в простом и сложном предложениях. Орфограмма"]
[null,2,"Текст как речевое произведение. Смысловая и композиционная целостность текста. Анализ текста"]
[null,3,"Выразительные средства лексики и фразеологии. Анализ средств выразительности"]
[null,4,"Правописание приставок. Слитное, дефисное, раздельное написание"]
[null,5,"Правописание суффиксов различных частей речи (кроме -Н-/-НН-). Правописание -Н- и -НН- в различных частях речи. Правописание личных окончаний глаголов и суффиксов причастий настоящего времени"]
[null,6,"Лексика и фразеология. Синонимы. Фразеологические обороты. Группы слов по происхождению и употреблению"]
[null,7,"Словосочетание"]
[null,8,"Предложение. Грамматическая (предикативная) основа предложения. Подлежащее и сказуемое как главные члены предложения "]
[null,9,"Осложнённое простое предложение"]
[null,10,"Пунктуационный анализ. Знаки препинания в предложениях со словами и конструкциями, грамматически не связанными с членами предложения"]
[null,11,"Синтаксический анализ сложного предложения"]
[null,12,"Пунктуационный анализ. Знаки препинания в сложносочинённом и сложноподчинённом предложениях"]
[null,13,"Синтаксический анализ сложного предложения"]
[null,14,"Сложные предложения с разными видами связи между частями"]
[null,15,"Текст как речевое произведение. Смысловая и композиционная целостность текста. Создание текстов различных стилей и функционально-смысловых типов речи. Информационная обработка текстов различных стилей и жанров. Грамматические нормы (морфологические нормы). Грамматические нормы (синтаксические нормы). Лексические нормы"]
[null,16,0]
[null,17,0]
[null,18,0]
[null,19,0]
[null,20,0]
[null,{"$f":"B3734","v":21},0]
[null,22,0]
[null,23,0]
[null,24,0]
[null,25,0]
[null,26,0]
[null,27,0]
[null,28,0]
[null,29,0]
[null,30,0]
[null,31,0]
[null,32,0]
[null,33,0]
[null,34,0]
[null,35,0]
[]
["Рекомендация: обратите внимание на задания по темам, которые вызвали у Вас затруднения, решены с ошибкой и отмечены \"0\" или к решению которых Вы не приступили (пустые ячейки)!"]
[]
[]
[]
["Центр независимой оценки качества образования и образовательного аудита \"Легион\""]
[]
["Образовательная организация",null,null,null,{"$f":"E3756","v":"Ленинская СОШ"}]
["Предмет",null,null,null,{"$f":"E3757","v":"Русский язык"}]
["Максимальный балл",null,null,null,39]
["Пороговый балл",null,null,null,15]
["Зона риска",null,null,null,{"$f":"Результаты!E15","v":15},null,null,{"$f":"Результаты!H15","v":16}]
[]
["Уровни",null,null,null,{"$f":"E3762","v":1},{"$f":"F3762","v":2},3,4,5,6,7,8,9,10,11,12,13,14,15,"ПР.ГР",{"$error":"#REF!"},{"$error":"#REF!"},{"$error":"#REF!"},{"$error":"#REF!"},{"$error":"#REF!"},{"$error":"#REF!"},{"$error":"#REF!"},{"$error":"#REF!"},{"$error":"#REF!"},{"$error":"#REF!"},{"$error":"#REF!"},{"$error":"#REF!"},{"$error":"#REF!"},{"$error":"#REF!"},{"$error":"#REF!"},{"$error":"#REF!"},{"$error":"#REF!"},{"$error":"#REF!"},{"$error":"#REF!"},"Тестовый балл","% выплнения заданий по уровням",null,null,"Оценка"]
[null,null,null,null,null,null,null,null,null,null,null,null,null,null,null,null,null,null,null,null,null,null,null,null,null,null,null,null,null,null,null,null,null,null,null,null,null,null,null,null,"Базовый","Повышенный","Высокий"]
["№","Класс","Ф.И.О.","№ задания",{"$f":"E3764","v":1},{"$f":"F3764","v":2},3,4,5,6,7,8,9,10,11,12,13,14,15,0,{"$error":"#REF!"},{"$error":"#REF!"},{"$error":"#REF!"},{"$error":"#REF!"},{"$error":"#REF!"},{"$error":"#REF!"},{"$error":"#REF!"},{"$error":"#REF!"},{"$error":"#REF!"},{"$error":"#REF!"},{"$error":"#REF!"},{"$error":"#REF!"},{"$error":"#REF!"},{"$error":"#REF!"},{"$error":"#REF!"},{"$error":"#REF!"},{"$error":"#REF!"},{"$error":"#REF!"},{"$error":"#REF!"}]
["Максимальный балл",null,null,null,{"$f":"E3765","v":7},{"$f":"F3765","v":1},1,1,1,1,1,1,1,1,1,1,1,1,9,10,{"$error":"#REF!"},{"$error":"#REF!"},{"$error":"#REF!"},{"$error":"#REF!"},{"$error":"#REF!"},{"$error":"#REF!"},{"$error":"#REF!"},{"$error":"#REF!"},{"$error":"#REF!"},{"$error":"#REF!"},{"$error":"#REF!"},{"$error":"#REF!"},{"$error":"#REF!"},{"$error":"#REF!"},{"$error":"#REF!"},{"$error":"#REF!"},{"$error":"#REF!"},{"$error":"#REF!"},{"$error":"#REF!"},39,76.92307692307692,{"$error":"#REF!"},23.076923076923077,0]
[null,null,null,"вариант"]
[{"$f":"Результаты!#REF!","v":{"$error":"#REF!"}},{"$f":"Результаты!#REF!","v":{"$error":"#REF!"}},{"$f":"Результаты!#REF!","v":{"$error":"#REF!"}},{"$f":"Результаты!#REF!","v":{"$error":"#REF!"}},{"$f":"Результаты!#REF!","v":{"$error":"#REF!"}},{"$f":"Результаты!#REF!","v":{"$error":"#REF!"}},{"$f":"Результаты!#REF!","v":{"$error":"#REF!"}},{"$f":"Результаты!#REF!","v":{"$error":"#REF!"}},{"$f":"Результаты!#REF!","v":{"$error":"#REF!"}},{"$f":"Результаты!#REF!","v":{"$error":"#REF!"}},{"$f":"Результаты!#REF!","v":{"$error":"#REF!"}},{"$f":"Результаты!#REF!","v":{"$error":"#REF!"}},{"$f":"Результаты!#REF!","v":{"$error":"#REF!"}},{"$f":"Результаты!#REF!","v":{"$error":"#REF!"}},{"$f":"Результаты!#REF!","v":{"$error":"#REF!"}},{"$f":"Результаты!#REF!","v":{"$error":"#REF!"}},{"$f":"Результаты!#REF!","v":{"$error":"#REF!"}},{"$f":"Результаты!#REF!","v":{"$error":"#REF!"}},{"$f":"Результаты!#REF!","v":{"$error":"#REF!"}},{"$f":"Результаты!#REF!","v":{"$error":"#REF!"}},{"$f":"Результаты!#REF!","v":{"$error":"#REF!"}},{"$f":"Результаты!#REF!","v":{"$error":"#REF!"}},{"$f":"Результаты!#REF!","v":{"$error":"#REF!"}},{"$f":"Результаты!#REF!","v":{"$error":"#REF!"}},{"$f":"Результаты!#REF!","v":{"$error":"#REF!"}},{"$f":"Результаты!#REF!","v":{"$error":"#REF!"}},{"$f":"Результаты!#REF!","v":{"$error":"#REF!"}},{"$f":"Результаты!#REF!","v":{"$error":"#REF!"}},{"$f":"Результаты!#REF!","v":{"$error":"#REF!"}},{"$f":"Результаты!#REF!","v":{"$error":"#REF!"}},{"$f":"Результаты!#REF!","v":{"$error":"#REF!"}},{"$f":"Результаты!#REF!","v":{"$error":"#REF!"}},{"$f":"Результаты!#REF!","v":{"$error":"#REF!"}},{"$f":"Результаты!#REF!","v":{"$error":"#REF!"}},{"$f":"Результаты!#REF!","v":{"$error":"#REF!"}},{"$f":"Результаты!#REF!","v":{"$error":"#REF!"}},{"$f":"Результаты!#REF!","v":{"$error":"#REF!"}},{"$f":"Результаты!#REF!","v":{"$error":"#REF!"}},{"$f":"Результаты!#REF!","v":{"$error":"#REF!"}},{"$f":"Результаты!#REF!","v":{"$error":"#REF!"}},{"$f":"Результаты!#REF!","v":{"$error":"#REF!"}},{"$f":"Результаты!#REF!","v":{"$error":"#REF!"}},{"$f":"Результаты!#REF!","v":{"$error":"#REF!"}},{"$f":"Результаты!#REF!","v":{"$error":"#REF!"}}]
[]
[]
[null,{"$f":"B3770","v":1},{"$f":"C3770","v":"Информационная обработка текстов различных стилей и жанров. Текст как речевое произведение. Смысловая и композиционная целостность текста. Отбор языковых средств в тексте в зависимости от темы, цели, адресата и ситуации общения. Создание текстов различных стилей и функционально-смысловых типов речи. Грамматические нормы (морфологические нормы). Грамматические  нормы  (синтаксические нормы). Лексические нормы. Пунктуация в простом и сложном предложениях. Орфограмма"}]
[null,{"$f":"B3771","v":2},"Текст как речевое произведение. Смысловая и композиционная целостность текста. Анализ текста"]
[null,{"$f":"B3772","v":3},"Выразительные средства лексики и фразеологии. Анализ средств выразительности"]
[null,{"$f":"B3773","v":4},"Правописание приставок. Слитное, дефисное, раздельное написание"]
[null,{"$f":"B3774","v":5},"Правописание суффиксов различных частей речи (кроме -Н-/-НН-). Правописание -Н- и -НН- в различных частях речи. Правописание личных окончаний глаголов и суффиксов причастий настоящего времени"]
[null,{"$f":"B3775","v":6},"Лексика и фразеология. Синонимы. Фразеологические обороты. Группы слов по происхождению и употреблению"]
[null,{"$f":"B3776","v":7},"Словосочетание"]
[null,{"$f":"B3777","v":8},"Предложение. Грамматическая (предикативная) основа предложения. Подлежащее и сказуемое как главные члены предложения "]
[null,{"$f":"B3778","v":9},"Осложнённое простое предложение"]
[null,{"$f":"B3779","v":10},"Пунктуационный анализ. Знаки препинания в предложениях со словами и конструкциями, грамматически не связанными с членами предложения"]
[null,{"$f":"B3780","v":11},"Синтаксический анализ сложного предложения"]
[null,{"$f":"B3781","v":12},"Пунктуационный анализ. Знаки препинания в сложносочинённом и сложноподчинённом предложениях"]
[null,{"$f":"B3782","v":13},"Синтаксический анализ сложного предложения"]
[null,{"$f":"B3783","v":14},"Сложные предложения с разными видами связи между частями"]
[null,{"$f":"B3784","v":15},"Текст как речевое произведение. Смысловая и композиционная целостность текста. Создание текстов различных стилей и функционально-смысловых типов речи. Информационная обработка текстов различных стилей и жанров. Грамматические нормы (морфологические нормы). Грамматические нормы (синтаксические нормы). Лексические нормы"]
[null,{"$f":"B3785","v":16},0]
[null,{"$f":"B3786","v":17},0]
[null,{"$f":"B3787","v":18},0]
[null,{"$f":"B3788","v":19},0]
[null,{"$f":"B3789","v":20},0]
[null,{"$f":"B3790","v":21},0]
[null,{"$f":"B3791","v":22},0]
[null,{"$f":"B3792","v":23},0]
[null,{"$f":"B3793","v":24},0]
[null,{"$f":"B3794","v":25},0]
[null,{"$f":"B3795","v":26},0]
[null,{"$f":"B3796","v":27},0]
[null,{"$f":"B3797","v":28},0]
[null,{"$f":"B3798","v":29},0]
[null,{"$f":"B3799","v":30},0]
[null,{"$f":"B3800","v":31},0]
[null,{"$f":"B3801","v":32},0]
[null,{"$f":"B3802","v":33},0]
[null,{"$f":"B3803","v":34},0]
[null,{"$f":"B3804","v":35},0]
[]
["Рекомендация: обратите внимание на задания по темам, которые вызвали у Вас затруднения, решены с ошибкой и отмечены \"0\" или к решению которых Вы не приступили (пустые ячейки)!"]
[]
[]
[]
["Центр независимой оценки качества образования и образовательного аудита \"Легион\""]
[]
["Образовательная организация",null,null,null,{"$f":"E3812","v":"Ленинская СОШ"}]
["Предмет",null,null,null,{"$f":"E3813","v":"Русский язык"}]
["Максимальный балл",null,null,null,39]
["Пороговый балл",null,null,null,15]
["Зона риска",null,null,null,{"$f":"Результаты!E15","v":15},null,null,{"$f":"Результаты!H15","v":16}]
[]
["Уровни",null,null,null,{"$f":"E3818","v":1},{"$f":"F3818","v":2},3,4,5,6,7,8,9,10,11,12,13,14,15,"ПР.ГР",{"$error":"#REF!"},{"$error":"#REF!"},{"$error":"#REF!"},{"$error":"#REF!"},{"$error":"#REF!"},{"$error":"#REF!"},{"$error":"#REF!"},{"$error":"#REF!"},{"$error":"#REF!"},{"$error":"#REF!"},{"$error":"#REF!"},{"$error":"#REF!"},{"$error":"#REF!"},{"$error":"#REF!"},{"$error":"#REF!"},{"$error":"#REF!"},{"$error":"#REF!"},{"$error":"#REF!"},{"$error":"#REF!"},"Тестовый балл","% выплнения заданий по уровням",null,null,"Оценка"]
[null,null,null,null,null,null,null,null,null,null,null,null,null,null,null,null,null,null,null,null,null,null,null,null,null,null,null,null,null,null,null,null,null,null,null,null,null,null,null,null,"Базовый","Повышенный","Высокий"]
["№","Класс","Ф.И.О.","№ задания",{"$f":"E3820","v":1},{"$f":"F3820","v":2},3,4,5,6,7,8,9,10,11,12,13,14,15,0,{"$error":"#REF!"},{"$error":"#REF!"},{"$error":"#REF!"},{"$error":"#REF!"},{"$error":"#REF!"},{"$error":"#REF!"},{"$error":"#REF!"},{"$error":"#REF!"},{"$error":"#REF!"},{"$error":"#REF!"},{"$error":"#REF!"},{"$error":"#REF!"},{"$error":"#REF!"},{"$error":"#REF!"},{"$error":"#REF!"},{"$error":"#REF!"},{"$error":"#REF!"},{"$error":"#REF!"},{"$error":"#REF!"}]
["Максимальный балл",null,null,null,{"$f":"E3821","v":7},{"$f":"F3821","v":1},1,1,1,1,1,1,1,1,1,1,1,1,9,10,{"$error":"#REF!"},{"$error":"#REF!"},{"$error":"#REF!"},{"$error":"#REF!"},{"$error":"#REF!"},{"$error":"#REF!"},{"$error":"#REF!"},{"$error":"#REF!"},{"$error":"#REF!"},{"$error":"#REF!"},{"$error":"#REF!"},{"$error":"#REF!"},{"$error":"#REF!"},{"$error":"#REF!"},{"$error":"#REF!"},{"$error":"#REF!"},{"$error":"#REF!"},{"$error":"#REF!"},{"$error":"#REF!"},39,76.92307692307692,{"$error":"#REF!"},23.076923076923077,0]
[null,null,null,"вариант"]
[{"$f":"Результаты!#REF!","v":{"$error":"#REF!"}},{"$f":"Результаты!#REF!","v":{"$error":"#REF!"}},{"$f":"Результаты!#REF!","v":{"$error":"#REF!"}},{"$f":"Результаты!#REF!","v":{"$error":"#REF!"}},{"$f":"Результаты!#REF!","v":{"$error":"#REF!"}},{"$f":"Результаты!#REF!","v":{"$error":"#REF!"}},{"$f":"Результаты!#REF!","v":{"$error":"#REF!"}},{"$f":"Результаты!#REF!","v":{"$error":"#REF!"}},{"$f":"Результаты!#REF!","v":{"$error":"#REF!"}},{"$f":"Результаты!#REF!","v":{"$error":"#REF!"}},{"$f":"Результаты!#REF!","v":{"$error":"#REF!"}},{"$f":"Результаты!#REF!","v":{"$error":"#REF!"}},{"$f":"Результаты!#REF!","v":{"$error":"#REF!"}},{"$f":"Результаты!#REF!","v":{"$error":"#REF!"}},{"$f":"Результаты!#REF!","v":{"$error":"#REF!"}},{"$f":"Результаты!#REF!","v":{"$error":"#REF!"}},{"$f":"Результаты!#REF!","v":{"$error":"#REF!"}},{"$f":"Результаты!#REF!","v":{"$error":"#REF!"}},{"$f":"Результаты!#REF!","v":{"$error":"#REF!"}},{"$f":"Результаты!#REF!","v":{"$error":"#REF!"}},{"$f":"Результаты!#REF!","v":{"$error":"#REF!"}},{"$f":"Результаты!#REF!","v":{"$error":"#REF!"}},{"$f":"Результаты!#REF!","v":{"$error":"#REF!"}},{"$f":"Результаты!#REF!","v":{"$error":"#REF!"}},{"$f":"Результаты!#REF!","v":{"$error":"#REF!"}},{"$f":"Результаты!#REF!","v":{"$error":"#REF!"}},{"$f":"Результаты!#REF!","v":{"$error":"#REF!"}},{"$f":"Результаты!#REF!","v":{"$error":"#REF!"}},{"$f":"Результаты!#REF!","v":{"$error":"#REF!"}},{"$f":"Результаты!#REF!","v":{"$error":"#REF!"}},{"$f":"Результаты!#REF!","v":{"$error":"#REF!"}},{"$f":"Результаты!#REF!","v":{"$error":"#REF!"}},{"$f":"Результаты!#REF!","v":{"$error":"#REF!"}},{"$f":"Результаты!#REF!","v":{"$error":"#REF!"}},{"$f":"Результаты!#REF!","v":{"$error":"#REF!"}},{"$f":"Результаты!#REF!","v":{"$error":"#REF!"}},{"$f":"Результаты!#REF!","v":{"$error":"#REF!"}},{"$f":"Результаты!#REF!","v":{"$error":"#REF!"}},{"$f":"Результаты!#REF!","v":{"$error":"#REF!"}},{"$f":"Результаты!#REF!","v":{"$error":"#REF!"}},{"$f":"Результаты!#REF!","v":{"$error":"#REF!"}},{"$f":"Результаты!#REF!","v":{"$error":"#REF!"}},{"$f":"Результаты!#REF!","v":{"$error":"#REF!"}},{"$f":"Результаты!#REF!","v":{"$error":"#REF!"}}]
[]
[]
[null,{"$f":"B3826","v":1},"Информационная обработка текстов различных стилей и жанров. Текст как речевое произведение. Смысловая и композиционная целостность текста. Отбор языковых средств в тексте в зависимости от темы, цели, адресата и ситуации общения. Создание текстов различных стилей и функционально-смысловых типов речи. Грамматические нормы (морфологические нормы). Грамматические  нормы  (синтаксические нормы). Лексические нормы. Пунктуация в простом и сложном предложениях. Орфограмма"]
[null,{"$f":"B3827","v":2},"Текст как речевое произведение. Смысловая и композиционная целостность текста. Анализ текста"]
[null,{"$f":"B3828","v":3},"Выразительные средства лексики и фразеологии. Анализ средств выразительности"]
[null,{"$f":"B3829","v":4},"Правописание приставок. Слитное, дефисное, раздельное написание"]
[null,{"$f":"B3830","v":5},"Правописание суффиксов различных частей речи (кроме -Н-/-НН-). Правописание -Н- и -НН- в различных частях речи. Правописание личных окончаний глаголов и суффиксов причастий настоящего времени"]
[null,{"$f":"B3831","v":6},"Лексика и фразеология. Синонимы. Фразеологические обороты. Группы слов по происхождению и употреблению"]
[null,{"$f":"B3832","v":7},"Словосочетание"]
[null,{"$f":"B3833","v":8},"Предложение. Грамматическая (предикативная) основа предложения. Подлежащее и сказуемое как главные члены предложения "]
[null,{"$f":"B3834","v":9},"Осложнённое простое предложение"]
[null,{"$f":"B3835","v":10},"Пунктуационный анализ. Знаки препинания в предложениях со словами и конструкциями, грамматически не связанными с членами предложения"]
[null,{"$f":"B3836","v":11},"Синтаксический анализ сложного предложения"]
[null,{"$f":"B3837","v":12},"Пунктуационный анализ. Знаки препинания в сложносочинённом и сложноподчинённом предложениях"]
[null,{"$f":"B3838","v":13},"Синтаксический анализ сложного предложения"]
[null,{"$f":"B3839","v":14},"Сложные предложения с разными видами связи между частями"]
[null,{"$f":"B3840","v":15},"Текст как речевое произведение. Смысловая и композиционная целостность текста. Создание текстов различных стилей и функционально-смысловых типов речи. Информационная обработка текстов различных стилей и жанров. Грамматические нормы (морфологические нормы). Грамматические нормы (синтаксические нормы). Лексические нормы"]
[null,{"$f":"B3841","v":16},0]
[null,{"$f":"B3842","v":17},0]
[null,{"$f":"B3843","v":18},0]
[null,{"$f":"B3844","v":19},0]
[null,{"$f":"B3845","v":20},0]
[null,{"$f":"B3846","v":21},0]
[null,{"$f":"B3847","v":22},0]
[null,{"$f":"B3848","v":23},0]
[null,{"$f":"B3849","v":24},0]
[null,{"$f":"B3850","v":25},0]
[null,{"$f":"B3851","v":26},0]
[null,{"$f":"B3852","v":27},0]
[null,{"$f":"B3853","v":28},0]
[null,{"$f":"B3854","v":29},0]
[null,{"$f":"B3855","v":30},0]
[null,{"$f":"B3856","v":31},0]
[null,{"$f":"B3857","v":32},0]
[null,{"$f":"B3858","v":33},0]
[null,{"$f":"B3859","v":34},0]
[null,{"$f":"B3860","v":35},0]
[]
["Рекомендация: обратите внимание на задания по темам, которые вызвали у Вас затруднения, решены с ошибкой и отмечены \"0\" или к решению которых Вы не приступили (пустые ячейки)!"]
[]
[]
[]
["Центр независимой оценки качества образования и образовательного аудита \"Легион\""]
[]
["Образовательная организация",null,null,null,{"$f":"E3868","v":"Ленинская СОШ"}]
["Предмет",null,null,null,{"$f":"E3869","v":"Русский язык"}]
["Максимальный балл",null,null,null,39]
["Пороговый балл",null,null,null,15]
["Зона риска",null,null,null,{"$f":"Результаты!E15","v":15},null,null,{"$f":"Результаты!H15","v":16}]
[]
["Уровни",null,null,null,{"$f":"E3874","v":1},{"$f":"F3874","v":2},3,4,5,6,7,8,9,10,11,12,13,14,15,"ПР.ГР",{"$error":"#REF!"},{"$error":"#REF!"},{"$error":"#REF!"},{"$error":"#REF!"},{"$error":"#REF!"},{"$error":"#REF!"},{"$error":"#REF!"},{"$error":"#REF!"},{"$error":"#REF!"},{"$error":"#REF!"},{"$error":"#REF!"},{"$error":"#REF!"},{"$error":"#REF!"},{"$error":"#REF!"},{"$error":"#REF!"},{"$error":"#REF!"},{"$error":"#REF!"},{"$error":"#REF!"},{"$error":"#REF!"},"Тестовый балл","% выплнения заданий по уровням",null,null,"Оценка"]
[null,null,null,null,null,null,null,null,null,null,null,null,null,null,null,null,null,null,null,null,null,null,null,null,null,null,null,null,null,null,null,null,null,null,null,null,null,null,null,null,"Базовый","Повышенный","Высокий"]
["№","Класс","Ф.И.О.","№ задания",{"$f":"E3876","v":1},{"$f":"F3876","v":2},3,4,5,6,7,8,9,10,11,12,13,14,15,0,{"$error":"#REF!"},{"$error":"#REF!"},{"$error":"#REF!"},{"$error":"#REF!"},{"$error":"#REF!"},{"$error":"#REF!"},{"$error":"#REF!"},{"$error":"#REF!"},{"$error":"#REF!"},{"$error":"#REF!"},{"$error":"#REF!"},{"$error":"#REF!"},{"$error":"#REF!"},{"$error":"#REF!"},{"$error":"#REF!"},{"$error":"#REF!"},{"$error":"#REF!"},{"$error":"#REF!"},{"$error":"#REF!"}]
["Максимальный балл",null,null,null,{"$f":"E3877","v":7},{"$f":"F3877","v":1},1,1,1,1,1,1,1,1,1,1,1,1,9,10,{"$error":"#REF!"},{"$error":"#REF!"},{"$error":"#REF!"},{"$error":"#REF!"},{"$error":"#REF!"},{"$error":"#REF!"},{"$error":"#REF!"},{"$error":"#REF!"},{"$error":"#REF!"},{"$error":"#REF!"},{"$error":"#REF!"},{"$error":"#REF!"},{"$error":"#REF!"},{"$error":"#REF!"},{"$error":"#REF!"},{"$error":"#REF!"},{"$error":"#REF!"},{"$error":"#REF!"},{"$error":"#REF!"},39,76.92307692307692,{"$error":"#REF!"},23.076923076923077,0]
[null,null,null,"вариант"]
[{"$f":"Результаты!#REF!","v":{"$error":"#REF!"}},{"$f":"Результаты!#REF!","v":{"$error":"#REF!"}},{"$f":"Результаты!#REF!","v":{"$error":"#REF!"}},{"$f":"Результаты!#REF!","v":{"$error":"#REF!"}},{"$f":"Результаты!#REF!","v":{"$error":"#REF!"}},{"$f":"Результаты!#REF!","v":{"$error":"#REF!"}},{"$f":"Результаты!#REF!","v":{"$error":"#REF!"}},{"$f":"Результаты!#REF!","v":{"$error":"#REF!"}},{"$f":"Результаты!#REF!","v":{"$error":"#REF!"}},{"$f":"Результаты!#REF!","v":{"$error":"#REF!"}},{"$f":"Результаты!#REF!","v":{"$error":"#REF!"}},{"$f":"Результаты!#REF!","v":{"$error":"#REF!"}},{"$f":"Результаты!#REF!","v":{"$error":"#REF!"}},{"$f":"Результаты!#REF!","v":{"$error":"#REF!"}},{"$f":"Результаты!#REF!","v":{"$error":"#REF!"}},{"$f":"Результаты!#REF!","v":{"$error":"#REF!"}},{"$f":"Результаты!#REF!","v":{"$error":"#REF!"}},{"$f":"Результаты!#REF!","v":{"$error":"#REF!"}},{"$f":"Результаты!#REF!","v":{"$error":"#REF!"}},{"$f":"Результаты!#REF!","v":{"$error":"#REF!"}},{"$f":"Результаты!#REF!","v":{"$error":"#REF!"}},{"$f":"Результаты!#REF!","v":{"$error":"#REF!"}},{"$f":"Результаты!#REF!","v":{"$error":"#REF!"}},{"$f":"Результаты!#REF!","v":{"$error":"#REF!"}},{"$f":"Результаты!#REF!","v":{"$error":"#REF!"}},{"$f":"Результаты!#REF!","v":{"$error":"#REF!"}},{"$f":"Результаты!#REF!","v":{"$error":"#REF!"}},{"$f":"Результаты!#REF!","v":{"$error":"#REF!"}},{"$f":"Результаты!#REF!","v":{"$error":"#REF!"}},{"$f":"Результаты!#REF!","v":{"$error":"#REF!"}},{"$f":"Результаты!#REF!","v":{"$error":"#REF!"}},{"$f":"Результаты!#REF!","v":{"$error":"#REF!"}},{"$f":"Результаты!#REF!","v":{"$error":"#REF!"}},{"$f":"Результаты!#REF!","v":{"$error":"#REF!"}},{"$f":"Результаты!#REF!","v":{"$error":"#REF!"}},{"$f":"Результаты!#REF!","v":{"$error":"#REF!"}},{"$f":"Результаты!#REF!","v":{"$error":"#REF!"}},{"$f":"Результаты!#REF!","v":{"$error":"#REF!"}},{"$f":"Результаты!#REF!","v":{"$error":"#REF!"}},{"$f":"Результаты!#REF!","v":{"$error":"#REF!"}},{"$f":"Результаты!#REF!","v":{"$error":"#REF!"}},{"$f":"Результаты!#REF!","v":{"$error":"#REF!"}},{"$f":"Результаты!#REF!","v":{"$error":"#REF!"}},{"$f":"Результаты!#REF!","v":{"$error":"#REF!"}}]
[]
[]
[null,{"$f":"B3882","v":1},{"$f":"C3882","v":"Информационная обработка текстов различных стилей и жанров. Текст как речевое произведение. Смысловая и композиционная целостность текста. Отбор языковых средств в тексте в зависимости от темы, цели, адресата и ситуации общения. Создание текстов различных стилей и функционально-смысловых типов речи. Грамматические нормы (морфологические нормы). Грамматические  нормы  (синтаксические нормы). Лексические нормы. Пунктуация в простом и сложном предложениях. Орфограмма"}]
[null,{"$f":"B3883","v":2},"Текст как речевое произведение. Смысловая и композиционная целостность текста. Анализ текста"]
[null,{"$f":"B3884","v":3},"Выразительные средства лексики и фразеологии. Анализ средств выразительности"]
[null,{"$f":"B3885","v":4},"Правописание приставок. Слитное, дефисное, раздельное написание"]
[null,{"$f":"B3886","v":5},"Правописание суффиксов различных частей речи (кроме -Н-/-НН-). Правописание -Н- и -НН- в различных частях речи. Правописание личных окончаний глаголов и суффиксов причастий настоящего времени"]
[null,{"$f":"B3887","v":6},"Лексика и фразеология. Синонимы. Фразеологические обороты. Группы слов по происхождению и употреблению"]
[null,{"$f":"B3888","v":7},"Словосочетание"]
[null,{"$f":"B3889","v":8},"Предложение. Грамматическая (предикативная) основа предложения. Подлежащее и сказуемое как главные члены предложения "]
[null,{"$f":"B3890","v":9},"Осложнённое простое предложение"]
[null,{"$f":"B3891","v":10},"Пунктуационный анализ. Знаки препинания в предложениях со словами и конструкциями, грамматически не связанными с членами предложения"]
[null,{"$f":"B3892","v":11},"Синтаксический анализ сложного предложения"]
[null,{"$f":"B3893","v":12},"Пунктуационный анализ. Знаки препинания в сложносочинённом и сложноподчинённом предложениях"]
[null,{"$f":"B3894","v":13},"Синтаксический анализ сложного предложения"]
[null,{"$f":"B3895","v":14},"Сложные предложения с разными видами связи между частями"]
[null,{"$f":"B3896","v":15},"Текст как речевое произведение. Смысловая и композиционная целостность текста. Создание текстов различных стилей и функционально-смысловых типов речи. Информационная обработка текстов различных стилей и жанров. Грамматические нормы (морфологические нормы). Грамматические нормы (синтаксические нормы). Лексические нормы"]
[null,{"$f":"B3897","v":16},0]
[null,{"$f":"B3898","v":17},0]
[null,{"$f":"B3899","v":18},0]
[null,{"$f":"B3900","v":19},0]
[null,{"$f":"B3901","v":20},0]
[null,{"$f":"B3902","v":21},0]
[null,{"$f":"B3903","v":22},0]
[null,{"$f":"B3904","v":23},0]
[null,{"$f":"B3905","v":24},0]
[null,{"$f":"B3906","v":25},0]
[null,{"$f":"B3907","v":26},0]
[null,{"$f":"B3908","v":27},0]
[null,{"$f":"B3909","v":28},0]
[null,{"$f":"B3910","v":29},0]
[null,{"$f":"B3911","v":30},0]
[null,{"$f":"B3912","v":31},0]
[null,{"$f":"B3913","v":32},0]
[null,{"$f":"B3914","v":33},0]
[null,{"$f":"B3915","v":34},0]
[null,{"$f":"B3916","v":35},0]
[]
["Рекомендация: обратите внимание на задания по темам, которые вызвали у Вас затруднения, решены с ошибкой и отмечены \"0\" или к решению которых Вы не приступили (пустые ячейки)!"]
[]
[]
[]
["Центр независимой оценки качества образования и образовательного аудита \"Легион\""]
[]
["Образовательная организация",null,null,null,{"$f":"E3868","v":"Ленинская СОШ"}]
["Предмет",null,null,null,{"$f":"E3869","v":"Русский язык"}]
["Максимальный балл",null,null,null,39]
["Пороговый балл",null,null,null,15]
["Зона риска",null,null,null,{"$f":"Результаты!E15","v":15},null,null,{"$f":"Результаты!H15","v":16}]
[]
["Уровни",null,null,null,{"$f":"E3930","v":1},{"$f":"F3930","v":2},3,4,5,6,7,8,9,10,11,12,13,14,15,"ПР.ГР",{"$error":"#REF!"},{"$error":"#REF!"},{"$error":"#REF!"},{"$error":"#REF!"},{"$error":"#REF!"},{"$error":"#REF!"},{"$error":"#REF!"},{"$error":"#REF!"},{"$error":"#REF!"},{"$error":"#REF!"},{"$error":"#REF!"},{"$error":"#REF!"},{"$error":"#REF!"},{"$error":"#REF!"},{"$error":"#REF!"},{"$error":"#REF!"},{"$error":"#REF!"},{"$error":"#REF!"},{"$error":"#REF!"},"Тестовый балл","% выплнения заданий по уровням",null,null,"Оценка"]
[null,null,null,null,null,null,null,null,null,null,null,null,null,null,null,null,null,null,null,null,null,null,null,null,null,null,null,null,null,null,null,null,null,null,null,null,null,null,null,null,"Базовый","Повышенный","Высокий"]
["№","Класс","Ф.И.О.","№ задания",{"$f":"E3932","v":1},{"$f":"F3932","v":2},3,4,5,6,7,8,9,10,11,12,13,14,15,0,{"$error":"#REF!"},{"$error":"#REF!"},{"$error":"#REF!"},{"$error":"#REF!"},{"$error":"#REF!"},{"$error":"#REF!"},{"$error":"#REF!"},{"$error":"#REF!"},{"$error":"#REF!"},{"$error":"#REF!"},{"$error":"#REF!"},{"$error":"#REF!"},{"$error":"#REF!"},{"$error":"#REF!"},{"$error":"#REF!"},{"$error":"#REF!"},{"$error":"#REF!"},{"$error":"#REF!"},{"$error":"#REF!"}]
["Максимальный балл",null,null,null,{"$f":"E3933","v":7},{"$f":"F3933","v":1},1,1,1,1,1,1,1,1,1,1,1,1,9,10,{"$error":"#REF!"},{"$error":"#REF!"},{"$error":"#REF!"},{"$error":"#REF!"},{"$error":"#REF!"},{"$error":"#REF!"},{"$error":"#REF!"},{"$error":"#REF!"},{"$error":"#REF!"},{"$error":"#REF!"},{"$error":"#REF!"},{"$error":"#REF!"},{"$error":"#REF!"},{"$error":"#REF!"},{"$error":"#REF!"},{"$error":"#REF!"},{"$error":"#REF!"},{"$error":"#REF!"},{"$error":"#REF!"},39,76.92307692307692,{"$error":"#REF!"},23.076923076923077,0]
[null,null,null,"вариант"]
[{"$f":"Результаты!#REF!","v":{"$error":"#REF!"}},{"$f":"Результаты!#REF!","v":{"$error":"#REF!"}},{"$f":"Результаты!#REF!","v":{"$error":"#REF!"}},{"$f":"Результаты!#REF!","v":{"$error":"#REF!"}},{"$f":"Результаты!#REF!","v":{"$error":"#REF!"}},{"$f":"Результаты!#REF!","v":{"$error":"#REF!"}},{"$f":"Результаты!#REF!","v":{"$error":"#REF!"}},{"$f":"Результаты!#REF!","v":{"$error":"#REF!"}},{"$f":"Результаты!#REF!","v":{"$error":"#REF!"}},{"$f":"Результаты!#REF!","v":{"$error":"#REF!"}},{"$f":"Результаты!#REF!","v":{"$error":"#REF!"}},{"$f":"Результаты!#REF!","v":{"$error":"#REF!"}},{"$f":"Результаты!#REF!","v":{"$error":"#REF!"}},{"$f":"Результаты!#REF!","v":{"$error":"#REF!"}},{"$f":"Результаты!#REF!","v":{"$error":"#REF!"}},{"$f":"Результаты!#REF!","v":{"$error":"#REF!"}},{"$f":"Результаты!#REF!","v":{"$error":"#REF!"}},{"$f":"Результаты!#REF!","v":{"$error":"#REF!"}},{"$f":"Результаты!#REF!","v":{"$error":"#REF!"}},{"$f":"Результаты!#REF!","v":{"$error":"#REF!"}},{"$f":"Результаты!#REF!","v":{"$error":"#REF!"}},{"$f":"Результаты!#REF!","v":{"$error":"#REF!"}},{"$f":"Результаты!#REF!","v":{"$error":"#REF!"}},{"$f":"Результаты!#REF!","v":{"$error":"#REF!"}},{"$f":"Результаты!#REF!","v":{"$error":"#REF!"}},{"$f":"Результаты!#REF!","v":{"$error":"#REF!"}},{"$f":"Результаты!#REF!","v":{"$error":"#REF!"}},{"$f":"Результаты!#REF!","v":{"$error":"#REF!"}},{"$f":"Результаты!#REF!","v":{"$error":"#REF!"}},{"$f":"Результаты!#REF!","v":{"$error":"#REF!"}},{"$f":"Результаты!#REF!","v":{"$error":"#REF!"}},{"$f":"Результаты!#REF!","v":{"$error":"#REF!"}},{"$f":"Результаты!#REF!","v":{"$error":"#REF!"}},{"$f":"Результаты!#REF!","v":{"$error":"#REF!"}},{"$f":"Результаты!#REF!","v":{"$error":"#REF!"}},{"$f":"Результаты!#REF!","v":{"$error":"#REF!"}},{"$f":"Результаты!#REF!","v":{"$error":"#REF!"}},{"$f":"Результаты!#REF!","v":{"$error":"#REF!"}},{"$f":"Результаты!#REF!","v":{"$error":"#REF!"}},{"$f":"Результаты!#REF!","v":{"$error":"#REF!"}},{"$f":"Результаты!#REF!","v":{"$error":"#REF!"}},{"$f":"Результаты!#REF!","v":{"$error":"#REF!"}},{"$f":"Результаты!#REF!","v":{"$error":"#REF!"}},{"$f":"Результаты!#REF!","v":{"$error":"#REF!"}}]
[]
[]
[null,{"$f":"B3938","v":1},{"$f":"C3938","v":"Информационная обработка текстов различных стилей и жанров. Текст как речевое произведение. Смысловая и композиционная целостность текста. Отбор языковых средств в тексте в зависимости от темы, цели, адресата и ситуации общения. Создание текстов различных стилей и функционально-смысловых типов речи. Грамматические нормы (морфологические нормы). Грамматические  нормы  (синтаксические нормы). Лексические нормы. Пунктуация в простом и сложном предложениях. Орфограмма"}]
[null,{"$f":"B3939","v":2},"Текст как речевое произведение. Смысловая и композиционная целостность текста. Анализ текста"]
[null,{"$f":"B3940","v":3},"Выразительные средства лексики и фразеологии. Анализ средств выразительности"]
[null,{"$f":"B3941","v":4},"Правописание приставок. Слитное, дефисное, раздельное написание"]
[null,{"$f":"B3942","v":5},"Правописание суффиксов различных частей речи (кроме -Н-/-НН-). Правописание -Н- и -НН- в различных частях речи. Правописание личных окончаний глаголов и суффиксов причастий настоящего времени"]
[null,{"$f":"B3943","v":6},"Лексика и фразеология. Синонимы. Фразеологические обороты. Группы слов по происхождению и употреблению"]
[null,{"$f":"B3944","v":7},"Словосочетание"]
[null,{"$f":"B3945","v":8},"Предложение. Грамматическая (предикативная) основа предложения. Подлежащее и сказуемое как главные члены предложения "]
[null,{"$f":"B3946","v":9},"Осложнённое простое предложение"]
[null,{"$f":"B3947","v":10},"Пунктуационный анализ. Знаки препинания в предложениях со словами и конструкциями, грамматически не связанными с членами предложения"]
[null,{"$f":"B3948","v":11},"Синтаксический анализ сложного предложения"]
[null,{"$f":"B3949","v":12},"Пунктуационный анализ. Знаки препинания в сложносочинённом и сложноподчинённом предложениях"]
[null,{"$f":"B3950","v":13},"Синтаксический анализ сложного предложения"]
[null,{"$f":"B3951","v":14},"Сложные предложения с разными видами связи между частями"]
[null,{"$f":"B3952","v":15},"Текст как речевое произведение. Смысловая и композиционная целостность текста. Создание текстов различных стилей и функционально-смысловых типов речи. Информационная обработка текстов различных стилей и жанров. Грамматические нормы (морфологические нормы). Грамматические нормы (синтаксические нормы). Лексические нормы"]
[null,{"$f":"B3953","v":16},0]
[null,{"$f":"B3954","v":17},0]
[null,{"$f":"B3955","v":18},0]
[null,{"$f":"B3956","v":19},0]
[null,{"$f":"B3957","v":20},0]
[null,{"$f":"B3958","v":21},0]
[null,{"$f":"B3959","v":22},0]
[null,{"$f":"B3960","v":23},0]
[null,{"$f":"B3961","v":24},0]
[null,{"$f":"B3962","v":25},0]
[null,{"$f":"B3963","v":26},0]
[null,{"$f":"B3964","v":27},0]
[null,{"$f":"B3965","v":28},0]
[null,{"$f":"B3966","v":29},0]
[null,{"$f":"B3967","v":30},0]
[null,{"$f":"B3968","v":31},0]
[null,{"$f":"B3969","v":32},0]
[null,{"$f":"B3970","v":33},0]
[null,{"$f":"B3971","v":34},{"$f":"C3971","v":0}]
[null,{"$f":"B3972","v":35},{"$f":"C3972","v":0}]
[]
["Рекомендация: обратите внимание на задания по темам, которые вызвали у Вас затруднения, решены с ошибкой и отмечены \"0\" или к решению которых Вы не приступили (пустые ячейки)!"]
[]
[]
[]
["Центр независимой оценки качества образования и образовательного аудита \"Легион\""]
[]
["Образовательная организация",null,null,null,{"$f":"E3980","v":"Ленинская СОШ"}]
["Предмет",null,null,null,{"$f":"E3981","v":"Русский язык"}]
["Максимальный балл",null,null,null,39]
["Пороговый балл",null,null,null,15]
["Зона риска",null,null,null,{"$f":"Результаты!E15","v":15},null,null,{"$f":"Результаты!H15","v":16}]
[]
["Уровни",null,null,null,{"$f":"E3986","v":1},{"$f":"F3986","v":2},3,4,5,6,7,8,9,10,11,12,13,14,15,"ПР.ГР",{"$error":"#REF!"},{"$error":"#REF!"},{"$error":"#REF!"},{"$error":"#REF!"},{"$error":"#REF!"},{"$error":"#REF!"},{"$error":"#REF!"},{"$error":"#REF!"},{"$error":"#REF!"},{"$error":"#REF!"},{"$error":"#REF!"},{"$error":"#REF!"},{"$error":"#REF!"},{"$error":"#REF!"},{"$error":"#REF!"},{"$error":"#REF!"},{"$error":"#REF!"},{"$error":"#REF!"},{"$error":"#REF!"},"Тестовый балл","% выплнения заданий по уровням",null,null,"Оценка"]
[null,null,null,null,null,null,null,null,null,null,null,null,null,null,null,null,null,null,null,null,null,null,null,null,null,null,null,null,null,null,null,null,null,null,null,null,null,null,null,null,"Базовый","Повышенный","Высокий"]
["№","Класс","Ф.И.О.","№ задания",{"$f":"E3988","v":1},{"$f":"F3988","v":2},3,4,5,6,7,8,9,10,11,12,13,14,15,0,{"$error":"#REF!"},{"$error":"#REF!"},{"$error":"#REF!"},{"$error":"#REF!"},{"$error":"#REF!"},{"$error":"#REF!"},{"$error":"#REF!"},{"$error":"#REF!"},{"$error":"#REF!"},{"$error":"#REF!"},{"$error":"#REF!"},{"$error":"#REF!"},{"$error":"#REF!"},{"$error":"#REF!"},{"$error":"#REF!"},{"$error":"#REF!"},{"$error":"#REF!"},{"$error":"#REF!"},{"$error":"#REF!"}]
["Максимальный балл",null,null,null,{"$f":"E3989","v":7},{"$f":"F3989","v":1},1,1,1,1,1,1,1,1,1,1,1,1,9,10,{"$error":"#REF!"},{"$error":"#REF!"},{"$error":"#REF!"},{"$error":"#REF!"},{"$error":"#REF!"},{"$error":"#REF!"},{"$error":"#REF!"},{"$error":"#REF!"},{"$error":"#REF!"},{"$error":"#REF!"},{"$error":"#REF!"},{"$error":"#REF!"},{"$error":"#REF!"},{"$error":"#REF!"},{"$error":"#REF!"},{"$error":"#REF!"},{"$error":"#REF!"},{"$error":"#REF!"},{"$error":"#REF!"},39,76.92307692307692,{"$error":"#REF!"},23.076923076923077,0]
[null,null,null,"вариант"]
[{"$f":"Результаты!#REF!","v":{"$error":"#REF!"}},{"$f":"Результаты!#REF!","v":{"$error":"#REF!"}},{"$f":"Результаты!#REF!","v":{"$error":"#REF!"}},{"$f":"Результаты!#REF!","v":{"$error":"#REF!"}},{"$f":"Результаты!#REF!","v":{"$error":"#REF!"}},{"$f":"Результаты!#REF!","v":{"$error":"#REF!"}},{"$f":"Результаты!#REF!","v":{"$error":"#REF!"}},{"$f":"Результаты!#REF!","v":{"$error":"#REF!"}},{"$f":"Результаты!#REF!","v":{"$error":"#REF!"}},{"$f":"Результаты!#REF!","v":{"$error":"#REF!"}},{"$f":"Результаты!#REF!","v":{"$error":"#REF!"}},{"$f":"Результаты!#REF!","v":{"$error":"#REF!"}},{"$f":"Результаты!#REF!","v":{"$error":"#REF!"}},{"$f":"Результаты!#REF!","v":{"$error":"#REF!"}},{"$f":"Результаты!#REF!","v":{"$error":"#REF!"}},{"$f":"Результаты!#REF!","v":{"$error":"#REF!"}},{"$f":"Результаты!#REF!","v":{"$error":"#REF!"}},{"$f":"Результаты!#REF!","v":{"$error":"#REF!"}},{"$f":"Результаты!#REF!","v":{"$error":"#REF!"}},{"$f":"Результаты!#REF!","v":{"$error":"#REF!"}},{"$f":"Результаты!#REF!","v":{"$error":"#REF!"}},{"$f":"Результаты!#REF!","v":{"$error":"#REF!"}},{"$f":"Результаты!#REF!","v":{"$error":"#REF!"}},{"$f":"Результаты!#REF!","v":{"$error":"#REF!"}},{"$f":"Результаты!#REF!","v":{"$error":"#REF!"}},{"$f":"Результаты!#REF!","v":{"$error":"#REF!"}},{"$f":"Результаты!#REF!","v":{"$error":"#REF!"}},{"$f":"Результаты!#REF!","v":{"$error":"#REF!"}},{"$f":"Результаты!#REF!","v":{"$error":"#REF!"}},{"$f":"Результаты!#REF!","v":{"$error":"#REF!"}},{"$f":"Результаты!#REF!","v":{"$error":"#REF!"}},{"$f":"Результаты!#REF!","v":{"$error":"#REF!"}},{"$f":"Результаты!#REF!","v":{"$error":"#REF!"}},{"$f":"Результаты!#REF!","v":{"$error":"#REF!"}},{"$f":"Результаты!#REF!","v":{"$error":"#REF!"}},{"$f":"Результаты!#REF!","v":{"$error":"#REF!"}},{"$f":"Результаты!#REF!","v":{"$error":"#REF!"}},{"$f":"Результаты!#REF!","v":{"$error":"#REF!"}},{"$f":"Результаты!#REF!","v":{"$error":"#REF!"}},{"$f":"Результаты!#REF!","v":{"$error":"#REF!"}},{"$f":"Результаты!#REF!","v":{"$error":"#REF!"}},{"$f":"Результаты!#REF!","v":{"$error":"#REF!"}},{"$f":"Результаты!#REF!","v":{"$error":"#REF!"}},{"$f":"Результаты!#REF!","v":{"$error":"#REF!"}}]
[]
[]
[null,{"$f":"B3994","v":1},{"$f":"C3994","v":"Информационная обработка текстов различных стилей и жанров. Текст как речевое произведение. Смысловая и композиционная целостность текста. Отбор языковых средств в тексте в зависимости от темы, цели, адресата и ситуации общения. Создание текстов различных стилей и функционально-смысловых типов речи. Грамматические нормы (морфологические нормы). Грамматические  нормы  (синтаксические нормы). Лексические нормы. Пунктуация в простом и сложном предложениях. Орфограмма"}]
[null,{"$f":"B3995","v":2},"Текст как речевое произведение. Смысловая и композиционная целостность текста. Анализ текста"]
[null,{"$f":"B3996","v":3},"Выразительные средства лексики и фразеологии. Анализ средств выразительности"]
[null,{"$f":"B3997","v":4},"Правописание приставок. Слитное, дефисное, раздельное написание"]
[null,{"$f":"B3998","v":5},"Правописание суффиксов различных частей речи (кроме -Н-/-НН-). Правописание -Н- и -НН- в различных частях речи. Правописание личных окончаний глаголов и суффиксов причастий настоящего времени"]
[null,{"$f":"B3999","v":6},"Лексика и фразеология. Синонимы. Фразеологические обороты. Группы слов по происхождению и употреблению"]
[null,{"$f":"B4000","v":7},"Словосочетание"]
[null,{"$f":"B4001","v":8},"Предложение. Грамматическая (предикативная) основа предложения. Подлежащее и сказуемое как главные члены предложения "]
[null,{"$f":"B4002","v":9},"Осложнённое простое предложение"]
[null,{"$f":"B4003","v":10},"Пунктуационный анализ. Знаки препинания в предложениях со словами и конструкциями, грамматически не связанными с членами предложения"]
[null,{"$f":"B4004","v":11},"Синтаксический анализ сложного предложения"]
[null,{"$f":"B4005","v":12},"Пунктуационный анализ. Знаки препинания в сложносочинённом и сложноподчинённом предложениях"]
[null,{"$f":"B4006","v":13},"Синтаксический анализ сложного предложения"]
[null,{"$f":"B4007","v":14},"Сложные предложения с разными видами связи между частями"]
[null,{"$f":"B4008","v":15},"Текст как речевое произведение. Смысловая и композиционная целостность текста. Создание текстов различных стилей и функционально-смысловых типов речи. Информационная обработка текстов различных стилей и жанров. Грамматические нормы (морфологические нормы). Грамматические нормы (синтаксические нормы). Лексические нормы"]
[null,{"$f":"B4009","v":16},0]
[null,{"$f":"B4010","v":17},0]
[null,{"$f":"B4011","v":18},0]
[null,{"$f":"B4012","v":19},0]
[null,{"$f":"B4013","v":20},0]
[null,{"$f":"B4014","v":21},0]
[null,{"$f":"B4015","v":22},0]
[null,{"$f":"B4016","v":23},0]
[null,{"$f":"B4017","v":24},0]
[null,{"$f":"B4018","v":25},0]
[null,{"$f":"B4019","v":26},0]
[null,{"$f":"B4020","v":27},0]
[null,{"$f":"B4021","v":28},0]
[null,{"$f":"B4022","v":29},0]
[null,{"$f":"B4023","v":30},0]
[null,{"$f":"B4024","v":31},0]
[null,{"$f":"B4025","v":32},0]
[null,{"$f":"B4026","v":33},0]
[null,{"$f":"B4027","v":34},0]
[null,{"$f":"B4028","v":35},0]
[]
["Рекомендация: обратите внимание на задания по темам, которые вызвали у Вас затруднения, решены с ошибкой и отмечены \"0\" или к решению которых Вы не приступили (пустые ячейки)!"]
[]
[]
[]
["Центр независимой оценки качества образования и образовательного аудита \"Легион\""]
[]
["Образовательная организация",null,null,null,{"$f":"E4036","v":"Ленинская СОШ"}]
["Предмет",null,null,null,{"$f":"E4037","v":"Русский язык"}]
["Максимальный балл",null,null,null,39]
["Пороговый балл",null,null,null,15]
["Зона риска",null,null,null,{"$f":"Результаты!E15","v":15},null,null,{"$f":"Результаты!H15","v":16}]
[]
["Уровни",null,null,null,{"$f":"E4042","v":1},{"$f":"F4042","v":2},3,4,5,6,7,8,9,10,11,12,13,14,15,"ПР.ГР",{"$error":"#REF!"},{"$error":"#REF!"},{"$error":"#REF!"},{"$error":"#REF!"},{"$error":"#REF!"},{"$error":"#REF!"},{"$error":"#REF!"},{"$error":"#REF!"},{"$error":"#REF!"},{"$error":"#REF!"},{"$error":"#REF!"},{"$error":"#REF!"},{"$error":"#REF!"},{"$error":"#REF!"},{"$error":"#REF!"},{"$error":"#REF!"},{"$error":"#REF!"},{"$error":"#REF!"},{"$error":"#REF!"},"Тестовый балл","% выплнения заданий по уровням",null,null,"Оценка"]
[null,null,null,null,null,null,null,null,null,null,null,null,null,null,null,null,null,null,null,null,null,null,null,null,null,null,null,null,null,null,null,null,null,null,null,null,null,null,null,null,"Базовый","Повышенный","Высокий"]
["№","Класс","Ф.И.О.","№ задания",{"$f":"E4044","v":1},{"$f":"F4044","v":2},3,4,5,6,7,8,9,10,11,12,13,14,15,0,{"$error":"#REF!"},{"$error":"#REF!"},{"$error":"#REF!"},{"$error":"#REF!"},{"$error":"#REF!"},{"$error":"#REF!"},{"$error":"#REF!"},{"$error":"#REF!"},{"$error":"#REF!"},{"$error":"#REF!"},{"$error":"#REF!"},{"$error":"#REF!"},{"$error":"#REF!"},{"$error":"#REF!"},{"$error":"#REF!"},{"$error":"#REF!"},{"$error":"#REF!"},{"$error":"#REF!"},{"$error":"#REF!"}]
["Максимальный балл",null,null,null,{"$f":"E4045","v":7},{"$f":"F4045","v":1},1,1,1,1,1,1,1,1,1,1,1,1,9,10,{"$error":"#REF!"},{"$error":"#REF!"},{"$error":"#REF!"},{"$error":"#REF!"},{"$error":"#REF!"},{"$error":"#REF!"},{"$error":"#REF!"},{"$error":"#REF!"},{"$error":"#REF!"},{"$error":"#REF!"},{"$error":"#REF!"},{"$error":"#REF!"},{"$error":"#REF!"},{"$error":"#REF!"},{"$error":"#REF!"},{"$error":"#REF!"},{"$error":"#REF!"},{"$error":"#REF!"},{"$error":"#REF!"},39,76.92307692307692,{"$error":"#REF!"},23.076923076923077,0]
[null,null,null,"вариант"]
[{"$f":"Результаты!#REF!","v":{"$error":"#REF!"}},{"$f":"Результаты!#REF!","v":{"$error":"#REF!"}},{"$f":"Результаты!#REF!","v":{"$error":"#REF!"}},{"$f":"Результаты!#REF!","v":{"$error":"#REF!"}},{"$f":"Результаты!#REF!","v":{"$error":"#REF!"}},{"$f":"Результаты!#REF!","v":{"$error":"#REF!"}},{"$f":"Результаты!#REF!","v":{"$error":"#REF!"}},{"$f":"Результаты!#REF!","v":{"$error":"#REF!"}},{"$f":"Результаты!#REF!","v":{"$error":"#REF!"}},{"$f":"Результаты!#REF!","v":{"$error":"#REF!"}},{"$f":"Результаты!#REF!","v":{"$error":"#REF!"}},{"$f":"Результаты!#REF!","v":{"$error":"#REF!"}},{"$f":"Результаты!#REF!","v":{"$error":"#REF!"}},{"$f":"Результаты!#REF!","v":{"$error":"#REF!"}},{"$f":"Результаты!#REF!","v":{"$error":"#REF!"}},{"$f":"Результаты!#REF!","v":{"$error":"#REF!"}},{"$f":"Результаты!#REF!","v":{"$error":"#REF!"}},{"$f":"Результаты!#REF!","v":{"$error":"#REF!"}},{"$f":"Результаты!#REF!","v":{"$error":"#REF!"}},{"$f":"Результаты!#REF!","v":{"$error":"#REF!"}},{"$f":"Результаты!#REF!","v":{"$error":"#REF!"}},{"$f":"Результаты!#REF!","v":{"$error":"#REF!"}},{"$f":"Результаты!#REF!","v":{"$error":"#REF!"}},{"$f":"Результаты!#REF!","v":{"$error":"#REF!"}},{"$f":"Результаты!#REF!","v":{"$error":"#REF!"}},{"$f":"Результаты!#REF!","v":{"$error":"#REF!"}},{"$f":"Результаты!#REF!","v":{"$error":"#REF!"}},{"$f":"Результаты!#REF!","v":{"$error":"#REF!"}},{"$f":"Результаты!#REF!","v":{"$error":"#REF!"}},{"$f":"Результаты!#REF!","v":{"$error":"#REF!"}},{"$f":"Результаты!#REF!","v":{"$error":"#REF!"}},{"$f":"Результаты!#REF!","v":{"$error":"#REF!"}},{"$f":"Результаты!#REF!","v":{"$error":"#REF!"}},{"$f":"Результаты!#REF!","v":{"$error":"#REF!"}},{"$f":"Результаты!#REF!","v":{"$error":"#REF!"}},{"$f":"Результаты!#REF!","v":{"$error":"#REF!"}},{"$f":"Результаты!#REF!","v":{"$error":"#REF!"}},{"$f":"Результаты!#REF!","v":{"$error":"#REF!"}},{"$f":"Результаты!#REF!","v":{"$error":"#REF!"}},{"$f":"Результаты!#REF!","v":{"$error":"#REF!"}},{"$f":"Результаты!#REF!","v":{"$error":"#REF!"}},{"$f":"Результаты!#REF!","v":{"$error":"#REF!"}},{"$f":"Результаты!#REF!","v":{"$error":"#REF!"}},{"$f":"Результаты!#REF!","v":{"$error":"#REF!"}}]
[]
[]
[null,{"$f":"B4050","v":1},"Информационная обработка текстов различных стилей и жанров. Текст как речевое произведение. Смысловая и композиционная целостность текста. Отбор языковых средств в тексте в зависимости от темы, цели, адресата и ситуации общения. Создание текстов различных стилей и функционально-смысловых типов речи. Грамматические нормы (морфологические нормы). Грамматические  нормы  (синтаксические нормы). Лексические нормы. Пунктуация в простом и сложном предложениях. Орфограмма"]
[null,{"$f":"B4051","v":2},"Текст как речевое произведение. Смысловая и композиционная целостность текста. Анализ текста"]
[null,{"$f":"B4052","v":3},"Выразительные средства лексики и фразеологии. Анализ средств выразительности"]
[null,{"$f":"B4053","v":4},"Правописание приставок. Слитное, дефисное, раздельное написание"]
[null,{"$f":"B4054","v":5},"Правописание суффиксов различных частей речи (кроме -Н-/-НН-). Правописание -Н- и -НН- в различных частях речи. Правописание личных окончаний глаголов и суффиксов причастий настоящего времени"]
[null,{"$f":"B4055","v":6},"Лексика и фразеология. Синонимы. Фразеологические обороты. Группы слов по происхождению и употреблению"]
[null,{"$f":"B4056","v":7},"Словосочетание"]
[null,{"$f":"B4057","v":8},"Предложение. Грамматическая (предикативная) основа предложения. Подлежащее и сказуемое как главные члены предложения "]
[null,{"$f":"B4058","v":9},"Осложнённое простое предложение"]
[null,{"$f":"B4059","v":10},"Пунктуационный анализ. Знаки препинания в предложениях со словами и конструкциями, грамматически не связанными с членами предложения"]
[null,{"$f":"B4060","v":11},"Синтаксический анализ сложного предложения"]
[null,{"$f":"B4061","v":12},"Пунктуационный анализ. Знаки препинания в сложносочинённом и сложноподчинённом предложениях"]
[null,{"$f":"B4062","v":13},"Синтаксический анализ сложного предложения"]
[null,{"$f":"B4063","v":14},"Сложные предложения с разными видами связи между частями"]
[null,{"$f":"B4064","v":15},"Текст как речевое произведение. Смысловая и композиционная целостность текста. Создание текстов различных стилей и функционально-смысловых типов речи. Информационная обработка текстов различных стилей и жанров. Грамматические нормы (морфологические нормы). Грамматические нормы (синтаксические нормы). Лексические нормы"]
[null,{"$f":"B4065","v":16},0]
[null,{"$f":"B4066","v":17},0]
[null,{"$f":"B4067","v":18},0]
[null,{"$f":"B4068","v":19},0]
[null,{"$f":"B4069","v":20},0]
[null,{"$f":"B4070","v":21},0]
[null,{"$f":"B4071","v":22},0]
[null,{"$f":"B4072","v":23},0]
[null,{"$f":"B4073","v":24},0]
[null,{"$f":"B4074","v":25},0]
[null,{"$f":"B4075","v":26},0]
[null,{"$f":"B4076","v":27},0]
[null,{"$f":"B4077","v":28},0]
[null,{"$f":"B4078","v":29},0]
[null,{"$f":"B4079","v":30},0]
[null,{"$f":"B4080","v":31},0]
[null,{"$f":"B4081","v":32},0]
[null,{"$f":"B4082","v":33},0]
[null,{"$f":"B4083","v":34},0]
[null,{"$f":"B4084","v":35},0]
[]
[]
["Рекомендация: обратите внимание на задания по темам, которые вызвали у Вас затруднения, решены с ошибкой и отмечены \"0\" или к решению которых Вы не приступили (пустые ячейки)!"]
[]
[]
["Центр независимой оценки качества образования и образовательного аудита \"Легион\""]
[]
["Образовательная организация",null,null,null,{"$f":"E4092","v":"Ленинская СОШ"}]
["Предмет",null,null,null,{"$f":"E4093","v":"Русский язык"}]
["Максимальный балл",null,null,null,39]
["Пороговый балл",null,null,null,15]
["Зона риска",null,null,null,{"$f":"Результаты!E15","v":15},null,null,{"$f":"Результаты!H15","v":16}]
[]
["Уровни",null,null,null,{"$f":"E4098","v":1},{"$f":"F4098","v":2},3,4,5,6,7,8,9,10,11,12,13,14,15,"ПР.ГР",{"$error":"#REF!"},{"$error":"#REF!"},{"$error":"#REF!"},{"$error":"#REF!"},{"$error":"#REF!"},{"$error":"#REF!"},{"$error":"#REF!"},{"$error":"#REF!"},{"$error":"#REF!"},{"$error":"#REF!"},{"$error":"#REF!"},{"$error":"#REF!"},{"$error":"#REF!"},{"$error":"#REF!"},{"$error":"#REF!"},{"$error":"#REF!"},{"$error":"#REF!"},{"$error":"#REF!"},{"$error":"#REF!"},"Тестовый балл","% выплнения заданий по уровням",null,null,"Оценка"]
[null,null,null,null,null,null,null,null,null,null,null,null,null,null,null,null,null,null,null,null,null,null,null,null,null,null,null,null,null,null,null,null,null,null,null,null,null,null,null,null,"Базовый","Повышенный","Высокий"]
["№","Класс","Ф.И.О.","№ задания",{"$f":"E4100","v":1},{"$f":"F4100","v":2},3,4,5,6,7,8,9,10,11,12,13,14,15,0,{"$error":"#REF!"},{"$error":"#REF!"},{"$error":"#REF!"},{"$error":"#REF!"},{"$error":"#REF!"},{"$error":"#REF!"},{"$error":"#REF!"},{"$error":"#REF!"},{"$error":"#REF!"},{"$error":"#REF!"},{"$error":"#REF!"},{"$error":"#REF!"},{"$error":"#REF!"},{"$error":"#REF!"},{"$error":"#REF!"},{"$error":"#REF!"},{"$error":"#REF!"},{"$error":"#REF!"},{"$error":"#REF!"}]
["Максимальный балл",null,null,null,{"$f":"E4101","v":7},{"$f":"F4101","v":1},1,1,1,1,1,1,1,1,1,1,1,1,9,10,{"$error":"#REF!"},{"$error":"#REF!"},{"$error":"#REF!"},{"$error":"#REF!"},{"$error":"#REF!"},{"$error":"#REF!"},{"$error":"#REF!"},{"$error":"#REF!"},{"$error":"#REF!"},{"$error":"#REF!"},{"$error":"#REF!"},{"$error":"#REF!"},{"$error":"#REF!"},{"$error":"#REF!"},{"$error":"#REF!"},{"$error":"#REF!"},{"$error":"#REF!"},{"$error":"#REF!"},{"$error":"#REF!"},39,76.92307692307692,{"$error":"#REF!"},23.076923076923077,0]
[null,null,null,"вариант"]
[{"$f":"Результаты!#REF!","v":{"$error":"#REF!"}},{"$f":"Результаты!#REF!","v":{"$error":"#REF!"}},{"$f":"Результаты!#REF!","v":{"$error":"#REF!"}},{"$f":"Результаты!#REF!","v":{"$error":"#REF!"}},{"$f":"Результаты!#REF!","v":{"$error":"#REF!"}},{"$f":"Результаты!#REF!","v":{"$error":"#REF!"}},{"$f":"Результаты!#REF!","v":{"$error":"#REF!"}},{"$f":"Результаты!#REF!","v":{"$error":"#REF!"}},{"$f":"Результаты!#REF!","v":{"$error":"#REF!"}},{"$f":"Результаты!#REF!","v":{"$error":"#REF!"}},{"$f":"Результаты!#REF!","v":{"$error":"#REF!"}},{"$f":"Результаты!#REF!","v":{"$error":"#REF!"}},{"$f":"Результаты!#REF!","v":{"$error":"#REF!"}},{"$f":"Результаты!#REF!","v":{"$error":"#REF!"}},{"$f":"Результаты!#REF!","v":{"$error":"#REF!"}},{"$f":"Результаты!#REF!","v":{"$error":"#REF!"}},{"$f":"Результаты!#REF!","v":{"$error":"#REF!"}},{"$f":"Результаты!#REF!","v":{"$error":"#REF!"}},{"$f":"Результаты!#REF!","v":{"$error":"#REF!"}},{"$f":"Результаты!#REF!","v":{"$error":"#REF!"}},{"$f":"Результаты!#REF!","v":{"$error":"#REF!"}},{"$f":"Результаты!#REF!","v":{"$error":"#REF!"}},{"$f":"Результаты!#REF!","v":{"$error":"#REF!"}},{"$f":"Результаты!#REF!","v":{"$error":"#REF!"}},{"$f":"Результаты!#REF!","v":{"$error":"#REF!"}},{"$f":"Результаты!#REF!","v":{"$error":"#REF!"}},{"$f":"Результаты!#REF!","v":{"$error":"#REF!"}},{"$f":"Результаты!#REF!","v":{"$error":"#REF!"}},{"$f":"Результаты!#REF!","v":{"$error":"#REF!"}},{"$f":"Результаты!#REF!","v":{"$error":"#REF!"}},{"$f":"Результаты!#REF!","v":{"$error":"#REF!"}},{"$f":"Результаты!#REF!","v":{"$error":"#REF!"}},{"$f":"Результаты!#REF!","v":{"$error":"#REF!"}},{"$f":"Результаты!#REF!","v":{"$error":"#REF!"}},{"$f":"Результаты!#REF!","v":{"$error":"#REF!"}},{"$f":"Результаты!#REF!","v":{"$error":"#REF!"}},{"$f":"Результаты!#REF!","v":{"$error":"#REF!"}},{"$f":"Результаты!#REF!","v":{"$error":"#REF!"}},{"$f":"Результаты!#REF!","v":{"$error":"#REF!"}},{"$f":"Результаты!#REF!","v":{"$error":"#REF!"}},{"$f":"Результаты!#REF!","v":{"$error":"#REF!"}},{"$f":"Результаты!#REF!","v":{"$error":"#REF!"}},{"$f":"Результаты!#REF!","v":{"$error":"#REF!"}},{"$f":"Результаты!#REF!","v":{"$error":"#REF!"}}]
[]
[]
[null,{"$f":"B4106","v":1},{"$f":"C4106","v":"Информационная обработка текстов различных стилей и жанров. Текст как речевое произведение. Смысловая и композиционная целостность текста. Отбор языковых средств в тексте в зависимости от темы, цели, адресата и ситуации общения. Создание текстов различных стилей и функционально-смысловых типов речи. Грамматические нормы (морфологические нормы). Грамматические  нормы  (синтаксические нормы). Лексические нормы. Пунктуация в простом и сложном предложениях. Орфограмма"}]
[null,{"$f":"B4107","v":2},"Текст как речевое произведение. Смысловая и композиционная целостность текста. Анализ текста"]
[null,{"$f":"B4108","v":3},"Выразительные средства лексики и фразеологии. Анализ средств выразительности"]
[null,{"$f":"B4109","v":4},"Правописание приставок. Слитное, дефисное, раздельное написание"]
[null,{"$f":"B4110","v":5},"Правописание суффиксов различных частей речи (кроме -Н-/-НН-). Правописание -Н- и -НН- в различных частях речи. Правописание личных окончаний глаголов и суффиксов причастий настоящего времени"]
[null,{"$f":"B4111","v":6},"Лексика и фразеология. Синонимы. Фразеологические обороты. Группы слов по происхождению и употреблению"]
[null,{"$f":"B4112","v":7},"Словосочетание"]
[null,{"$f":"B4113","v":8},"Предложение. Грамматическая (предикативная) основа предложения. Подлежащее и сказуемое как главные члены предложения "]
[null,{"$f":"B4114","v":9},"Осложнённое простое предложение"]
[null,{"$f":"B4115","v":10},"Пунктуационный анализ. Знаки препинания в предложениях со словами и конструкциями, грамматически не связанными с членами предложения"]
[null,{"$f":"B4116","v":11},"Синтаксический анализ сложного предложения"]
[null,{"$f":"B4117","v":12},"Пунктуационный анализ. Знаки препинания в сложносочинённом и сложноподчинённом предложениях"]
[null,{"$f":"B4118","v":13},"Синтаксический анализ сложного предложения"]
[null,{"$f":"B4119","v":14},"Сложные предложения с разными видами связи между частями"]
[null,{"$f":"B4120","v":15},"Текст как речевое произведение. Смысловая и композиционная целостность текста. Создание текстов различных стилей и функционально-смысловых типов речи. Информационная обработка текстов различных стилей и жанров. Грамматические нормы (морфологические нормы). Грамматические нормы (синтаксические нормы). Лексические нормы"]
[null,{"$f":"B4121","v":16},0]
[null,{"$f":"B4122","v":17},0]
[null,{"$f":"B4123","v":18},0]
[null,{"$f":"B4124","v":19},0]
[null,{"$f":"B4125","v":20},0]
[null,{"$f":"B4126","v":21},0]
[null,{"$f":"B4127","v":22},0]
[null,{"$f":"B4128","v":23},0]
[null,{"$f":"B4129","v":24},0]
[null,{"$f":"B4130","v":25},0]
[null,{"$f":"B4131","v":26},0]
[null,{"$f":"B4132","v":27},0]
[null,{"$f":"B4133","v":28},0]
[null,{"$f":"B4134","v":29},0]
[null,{"$f":"B4135","v":30},0]
[null,{"$f":"B4136","v":31},0]
[null,{"$f":"B4137","v":32},0]
[null,{"$f":"B4138","v":33},0]
[null,{"$f":"B4139","v":34},0]
[null,{"$f":"B4140","v":35},0]
[]
["Рекомендация: обратите внимание на задания по темам, которые вызвали у Вас затруднения, решены с ошибкой и отмечены \"0\" или к решению которых Вы не приступили (пустые ячейки)!"]
[]
[]
[]
["Центр независимой оценки качества образования и образовательного аудита \"Легион\""]
[]
["Образовательная организация",null,null,null,{"$f":"E4148","v":"Ленинская СОШ"}]
["Предмет",null,null,null,{"$f":"E4149","v":"Русский язык"}]
["Максимальный балл",null,null,null,39]
["Пороговый балл",null,null,null,15]
["Зона риска",null,null,null,{"$f":"Результаты!E15","v":15},null,null,{"$f":"Результаты!H15","v":16}]
[]
["Уровни",null,null,null,{"$f":"E4154","v":1},{"$f":"F4154","v":2},3,4,5,6,7,8,9,10,11,12,13,14,15,"ПР.ГР",{"$error":"#REF!"},{"$error":"#REF!"},{"$error":"#REF!"},{"$error":"#REF!"},{"$error":"#REF!"},{"$error":"#REF!"},{"$error":"#REF!"},{"$error":"#REF!"},{"$error":"#REF!"},{"$error":"#REF!"},{"$error":"#REF!"},{"$error":"#REF!"},{"$error":"#REF!"},{"$error":"#REF!"},{"$error":"#REF!"},{"$error":"#REF!"},{"$error":"#REF!"},{"$error":"#REF!"},{"$error":"#REF!"},"Тестовый балл","% выплнения заданий по уровням",null,null,"Оценка"]
[null,null,null,null,null,null,null,null,null,null,null,null,null,null,null,null,null,null,null,null,null,null,null,null,null,null,null,null,null,null,null,null,null,null,null,null,null,null,null,null,"Базовый","Повышенный","Высокий"]
["№","Класс","Ф.И.О.","№ задания",{"$f":"E4156","v":1},{"$f":"F4156","v":2},3,4,5,6,7,8,9,10,11,12,13,14,15,0,{"$error":"#REF!"},{"$error":"#REF!"},{"$error":"#REF!"},{"$error":"#REF!"},{"$error":"#REF!"},{"$error":"#REF!"},{"$error":"#REF!"},{"$error":"#REF!"},{"$error":"#REF!"},{"$error":"#REF!"},{"$error":"#REF!"},{"$error":"#REF!"},{"$error":"#REF!"},{"$error":"#REF!"},{"$error":"#REF!"},{"$error":"#REF!"},{"$error":"#REF!"},{"$error":"#REF!"},{"$error":"#REF!"}]
["Максимальный балл",null,null,null,{"$f":"E4157","v":7},{"$f":"F4157","v":1},1,1,1,1,1,1,1,1,1,1,1,1,9,10,{"$error":"#REF!"},{"$error":"#REF!"},{"$error":"#REF!"},{"$error":"#REF!"},{"$error":"#REF!"},{"$error":"#REF!"},{"$error":"#REF!"},{"$error":"#REF!"},{"$error":"#REF!"},{"$error":"#REF!"},{"$error":"#REF!"},{"$error":"#REF!"},{"$error":"#REF!"},{"$error":"#REF!"},{"$error":"#REF!"},{"$error":"#REF!"},{"$error":"#REF!"},{"$error":"#REF!"},{"$error":"#REF!"},39,76.92307692307692,{"$error":"#REF!"},23.076923076923077,0]
[null,null,null,"вариант"]
[{"$f":"Результаты!#REF!","v":{"$error":"#REF!"}},{"$f":"Результаты!#REF!","v":{"$error":"#REF!"}},{"$f":"Результаты!#REF!","v":{"$error":"#REF!"}},{"$f":"Результаты!#REF!","v":{"$error":"#REF!"}},{"$f":"Результаты!#REF!","v":{"$error":"#REF!"}},{"$f":"Результаты!#REF!","v":{"$error":"#REF!"}},{"$f":"Результаты!#REF!","v":{"$error":"#REF!"}},{"$f":"Результаты!#REF!","v":{"$error":"#REF!"}},{"$f":"Результаты!#REF!","v":{"$error":"#REF!"}},{"$f":"Результаты!#REF!","v":{"$error":"#REF!"}},{"$f":"Результаты!#REF!","v":{"$error":"#REF!"}},{"$f":"Результаты!#REF!","v":{"$error":"#REF!"}},{"$f":"Результаты!#REF!","v":{"$error":"#REF!"}},{"$f":"Результаты!#REF!","v":{"$error":"#REF!"}},{"$f":"Результаты!#REF!","v":{"$error":"#REF!"}},{"$f":"Результаты!#REF!","v":{"$error":"#REF!"}},{"$f":"Результаты!#REF!","v":{"$error":"#REF!"}},{"$f":"Результаты!#REF!","v":{"$error":"#REF!"}},{"$f":"Результаты!#REF!","v":{"$error":"#REF!"}},{"$f":"Результаты!#REF!","v":{"$error":"#REF!"}},{"$f":"Результаты!#REF!","v":{"$error":"#REF!"}},{"$f":"Результаты!#REF!","v":{"$error":"#REF!"}},{"$f":"Результаты!#REF!","v":{"$error":"#REF!"}},{"$f":"Результаты!#REF!","v":{"$error":"#REF!"}},{"$f":"Результаты!#REF!","v":{"$error":"#REF!"}},{"$f":"Результаты!#REF!","v":{"$error":"#REF!"}},{"$f":"Результаты!#REF!","v":{"$error":"#REF!"}},{"$f":"Результаты!#REF!","v":{"$error":"#REF!"}},{"$f":"Результаты!#REF!","v":{"$error":"#REF!"}},{"$f":"Результаты!#REF!","v":{"$error":"#REF!"}},{"$f":"Результаты!#REF!","v":{"$error":"#REF!"}},{"$f":"Результаты!#REF!","v":{"$error":"#REF!"}},{"$f":"Результаты!#REF!","v":{"$error":"#REF!"}},{"$f":"Результаты!#REF!","v":{"$error":"#REF!"}},{"$f":"Результаты!#REF!","v":{"$error":"#REF!"}},{"$f":"Результаты!#REF!","v":{"$error":"#REF!"}},{"$f":"Результаты!#REF!","v":{"$error":"#REF!"}},{"$f":"Результаты!#REF!","v":{"$error":"#REF!"}},{"$f":"Результаты!#REF!","v":{"$error":"#REF!"}},{"$f":"Результаты!#REF!","v":{"$error":"#REF!"}},{"$f":"Результаты!#REF!","v":{"$error":"#REF!"}},{"$f":"Результаты!#REF!","v":{"$error":"#REF!"}},{"$f":"Результаты!#REF!","v":{"$error":"#REF!"}},{"$f":"Результаты!#REF!","v":{"$error":"#REF!"}}]
[]
[]
[null,{"$f":"B4162","v":1},{"$f":"C4162","v":"Информационная обработка текстов различных стилей и жанров. Текст как речевое произведение. Смысловая и композиционная целостность текста. Отбор языковых средств в тексте в зависимости от темы, цели, адресата и ситуации общения. Создание текстов различных стилей и функционально-смысловых типов речи. Грамматические нормы (морфологические нормы). Грамматические  нормы  (синтаксические нормы). Лексические нормы. Пунктуация в простом и сложном предложениях. Орфограмма"}]
[null,{"$f":"B4163","v":2},"Текст как речевое произведение. Смысловая и композиционная целостность текста. Анализ текста"]
[null,{"$f":"B4164","v":3},"Выразительные средства лексики и фразеологии. Анализ средств выразительности"]
[null,{"$f":"B4165","v":4},"Правописание приставок. Слитное, дефисное, раздельное написание"]
[null,{"$f":"B4166","v":5},"Правописание суффиксов различных частей речи (кроме -Н-/-НН-). Правописание -Н- и -НН- в различных частях речи. Правописание личных окончаний глаголов и суффиксов причастий настоящего времени"]
[null,{"$f":"B4167","v":6},"Лексика и фразеология. Синонимы. Фразеологические обороты. Группы слов по происхождению и употреблению"]
[null,{"$f":"B4168","v":7},"Словосочетание"]
[null,{"$f":"B4169","v":8},"Предложение. Грамматическая (предикативная) основа предложения. Подлежащее и сказуемое как главные члены предложения "]
[null,{"$f":"B4170","v":9},"Осложнённое простое предложение"]
[null,{"$f":"B4171","v":10},"Пунктуационный анализ. Знаки препинания в предложениях со словами и конструкциями, грамматически не связанными с членами предложения"]
[null,{"$f":"B4172","v":11},"Синтаксический анализ сложного предложения"]
[null,{"$f":"B4173","v":12},"Пунктуационный анализ. Знаки препинания в сложносочинённом и сложноподчинённом предложениях"]
[null,{"$f":"B4174","v":13},"Синтаксический анализ сложного предложения"]
[null,{"$f":"B4175","v":14},"Сложные предложения с разными видами связи между частями"]
[null,{"$f":"B4176","v":15},"Текст как речевое произведение. Смысловая и композиционная целостность текста. Создание текстов различных стилей и функционально-смысловых типов речи. Информационная обработка текстов различных стилей и жанров. Грамматические нормы (морфологические нормы). Грамматические нормы (синтаксические нормы). Лексические нормы"]
[null,{"$f":"B4177","v":16},0]
[null,{"$f":"B4178","v":17},0]
[null,{"$f":"B4179","v":18},0]
[null,{"$f":"B4180","v":19},0]
[null,{"$f":"B4181","v":20},0]
[null,{"$f":"B4182","v":21},0]
[null,{"$f":"B4183","v":22},0]
[null,{"$f":"B4184","v":23},0]
[null,{"$f":"B4185","v":24},0]
[null,{"$f":"B4186","v":25},0]
[null,{"$f":"B4187","v":26},0]
[null,{"$f":"B4188","v":27},0]
[null,{"$f":"B4189","v":28},0]
[null,{"$f":"B4190","v":29},0]
[null,{"$f":"B4191","v":30},0]
[null,{"$f":"B4192","v":31},0]
[null,{"$f":"B4193","v":32},0]
[null,{"$f":"B4194","v":33},0]
[null,{"$f":"B4195","v":34},0]
[null,{"$f":"B4196","v":35},0]
[]
["Рекомендация: обратите внимание на задания по темам, которые вызвали у Вас затруднения, решены с ошибкой и отмечены \"0\" или к решению которых Вы не приступили (пустые ячейки)!"]
[]
[]
[]
["Центр независимой оценки качества образования и образовательного аудита \"Легион\""]
[]
["Образовательная организация",null,null,null,{"$f":"E4204","v":"Ленинская СОШ"}]
["Предмет",null,null,null,{"$f":"E4205","v":"Русский язык"}]
["Максимальный балл",null,null,null,39]
["Пороговый балл",null,null,null,15]
["Зона риска",null,null,null,{"$f":"Результаты!E15","v":15},null,null,{"$f":"Результаты!H15","v":16}]
[]
["Уровни",null,null,null,{"$f":"E4210","v":1},{"$f":"F4210","v":2},3,4,5,6,7,8,9,10,11,12,13,14,15,"ПР.ГР",{"$error":"#REF!"},{"$error":"#REF!"},{"$error":"#REF!"},{"$error":"#REF!"},{"$error":"#REF!"},{"$error":"#REF!"},{"$error":"#REF!"},{"$error":"#REF!"},{"$error":"#REF!"},{"$error":"#REF!"},{"$error":"#REF!"},{"$error":"#REF!"},{"$error":"#REF!"},{"$error":"#REF!"},{"$error":"#REF!"},{"$error":"#REF!"},{"$error":"#REF!"},{"$error":"#REF!"},{"$error":"#REF!"},"Тестовый балл","% выплнения заданий по уровням",null,null,"Оценка"]
[null,null,null,null,null,null,null,null,null,null,null,null,null,null,null,null,null,null,null,null,null,null,null,null,null,null,null,null,null,null,null,null,null,null,null,null,null,null,null,null,"Базовый","Повышенный","Высокий"]
["№","Класс","Ф.И.О.","№ задания",{"$f":"E4212","v":1},{"$f":"F4212","v":2},3,4,5,6,7,8,9,10,11,12,13,14,15,0,{"$error":"#REF!"},{"$error":"#REF!"},{"$error":"#REF!"},{"$error":"#REF!"},{"$error":"#REF!"},{"$error":"#REF!"},{"$error":"#REF!"},{"$error":"#REF!"},{"$error":"#REF!"},{"$error":"#REF!"},{"$error":"#REF!"},{"$error":"#REF!"},{"$error":"#REF!"},{"$error":"#REF!"},{"$error":"#REF!"},{"$error":"#REF!"},{"$error":"#REF!"},{"$error":"#REF!"},{"$error":"#REF!"}]
["Максимальный балл",null,null,null,{"$f":"E4213","v":7},{"$f":"F4213","v":1},1,1,1,1,1,1,1,1,1,1,1,1,9,10,{"$error":"#REF!"},{"$error":"#REF!"},{"$error":"#REF!"},{"$error":"#REF!"},{"$error":"#REF!"},{"$error":"#REF!"},{"$error":"#REF!"},{"$error":"#REF!"},{"$error":"#REF!"},{"$error":"#REF!"},{"$error":"#REF!"},{"$error":"#REF!"},{"$error":"#REF!"},{"$error":"#REF!"},{"$error":"#REF!"},{"$error":"#REF!"},{"$error":"#REF!"},{"$error":"#REF!"},{"$error":"#REF!"},39,76.92307692307692,{"$error":"#REF!"},23.076923076923077,0]
[null,null,null,"вариант"]
[{"$f":"Результаты!#REF!","v":{"$error":"#REF!"}},{"$f":"Результаты!#REF!","v":{"$error":"#REF!"}},{"$f":"Результаты!#REF!","v":{"$error":"#REF!"}},{"$f":"Результаты!#REF!","v":{"$error":"#REF!"}},{"$f":"Результаты!#REF!","v":{"$error":"#REF!"}},{"$f":"Результаты!#REF!","v":{"$error":"#REF!"}},{"$f":"Результаты!#REF!","v":{"$error":"#REF!"}},{"$f":"Результаты!#REF!","v":{"$error":"#REF!"}},{"$f":"Результаты!#REF!","v":{"$error":"#REF!"}},{"$f":"Результаты!#REF!","v":{"$error":"#REF!"}},{"$f":"Результаты!#REF!","v":{"$error":"#REF!"}},{"$f":"Результаты!#REF!","v":{"$error":"#REF!"}},{"$f":"Результаты!#REF!","v":{"$error":"#REF!"}},{"$f":"Результаты!#REF!","v":{"$error":"#REF!"}},{"$f":"Результаты!#REF!","v":{"$error":"#REF!"}},{"$f":"Результаты!#REF!","v":{"$error":"#REF!"}},{"$f":"Результаты!#REF!","v":{"$error":"#REF!"}},{"$f":"Результаты!#REF!","v":{"$error":"#REF!"}},{"$f":"Результаты!#REF!","v":{"$error":"#REF!"}},{"$f":"Результаты!#REF!","v":{"$error":"#REF!"}},{"$f":"Результаты!#REF!","v":{"$error":"#REF!"}},{"$f":"Результаты!#REF!","v":{"$error":"#REF!"}},{"$f":"Результаты!#REF!","v":{"$error":"#REF!"}},{"$f":"Результаты!#REF!","v":{"$error":"#REF!"}},{"$f":"Результаты!#REF!","v":{"$error":"#REF!"}},{"$f":"Результаты!#REF!","v":{"$error":"#REF!"}},{"$f":"Результаты!#REF!","v":{"$error":"#REF!"}},{"$f":"Результаты!#REF!","v":{"$error":"#REF!"}},{"$f":"Результаты!#REF!","v":{"$error":"#REF!"}},{"$f":"Результаты!#REF!","v":{"$error":"#REF!"}},{"$f":"Результаты!#REF!","v":{"$error":"#REF!"}},{"$f":"Результаты!#REF!","v":{"$error":"#REF!"}},{"$f":"Результаты!#REF!","v":{"$error":"#REF!"}},{"$f":"Результаты!#REF!","v":{"$error":"#REF!"}},{"$f":"Результаты!#REF!","v":{"$error":"#REF!"}},{"$f":"Результаты!#REF!","v":{"$error":"#REF!"}},{"$f":"Результаты!#REF!","v":{"$error":"#REF!"}},{"$f":"Результаты!#REF!","v":{"$error":"#REF!"}},{"$f":"Результаты!#REF!","v":{"$error":"#REF!"}},{"$f":"Результаты!#REF!","v":{"$error":"#REF!"}},{"$f":"Результаты!#REF!","v":{"$error":"#REF!"}},{"$f":"Результаты!#REF!","v":{"$error":"#REF!"}},{"$f":"Результаты!#REF!","v":{"$error":"#REF!"}},{"$f":"Результаты!#REF!","v":{"$error":"#REF!"}}]
[]
[]
[null,{"$f":"B4218","v":1},{"$f":"C4218","v":"Информационная обработка текстов различных стилей и жанров. Текст как речевое произведение. Смысловая и композиционная целостность текста. Отбор языковых средств в тексте в зависимости от темы, цели, адресата и ситуации общения. Создание текстов различных стилей и функционально-смысловых типов речи. Грамматические нормы (морфологические нормы). Грамматические  нормы  (синтаксические нормы). Лексические нормы. Пунктуация в простом и сложном предложениях. Орфограмма"}]
[null,{"$f":"B4219","v":2},"Текст как речевое произведение. Смысловая и композиционная целостность текста. Анализ текста"]
[null,{"$f":"B4220","v":3},"Выразительные средства лексики и фразеологии. Анализ средств выразительности"]
[null,{"$f":"B4221","v":4},"Правописание приставок. Слитное, дефисное, раздельное написание"]
[null,{"$f":"B4222","v":5},"Правописание суффиксов различных частей речи (кроме -Н-/-НН-). Правописание -Н- и -НН- в различных частях речи. Правописание личных окончаний глаголов и суффиксов причастий настоящего времени"]
[null,{"$f":"B4223","v":6},"Лексика и фразеология. Синонимы. Фразеологические обороты. Группы слов по происхождению и употреблению"]
[null,{"$f":"B4224","v":7},"Словосочетание"]
[null,{"$f":"B4225","v":8},"Предложение. Грамматическая (предикативная) основа предложения. Подлежащее и сказуемое как главные члены предложения "]
[null,{"$f":"B4226","v":9},"Осложнённое простое предложение"]
[null,{"$f":"B4227","v":10},"Пунктуационный анализ. Знаки препинания в предложениях со словами и конструкциями, грамматически не связанными с членами предложения"]
[null,{"$f":"B4228","v":11},"Синтаксический анализ сложного предложения"]
[null,{"$f":"B4229","v":12},"Пунктуационный анализ. Знаки препинания в сложносочинённом и сложноподчинённом предложениях"]
[null,{"$f":"B4230","v":13},"Синтаксический анализ сложного предложения"]
[null,{"$f":"B4231","v":14},"Сложные предложения с разными видами связи между частями"]
[null,{"$f":"B4232","v":15},"Текст как речевое произведение. Смысловая и композиционная целостность текста. Создание текстов различных стилей и функционально-смысловых типов речи. Информационная обработка текстов различных стилей и жанров. Грамматические нормы (морфологические нормы). Грамматические нормы (синтаксические нормы). Лексические нормы"]
[null,{"$f":"B4233","v":16},0]
[null,{"$f":"B4234","v":17},0]
[null,{"$f":"B4235","v":18},0]
[null,{"$f":"B4236","v":19},0]
[null,{"$f":"B4237","v":20},0]
[null,{"$f":"B4238","v":21},0]
[null,{"$f":"B4239","v":22},0]
[null,{"$f":"B4240","v":23},0]
[null,{"$f":"B4241","v":24},0]
[null,{"$f":"B4242","v":25},0]
[null,{"$f":"B4243","v":26},0]
[null,{"$f":"B4244","v":27},0]
[null,{"$f":"B4245","v":28},0]
[null,{"$f":"B4246","v":29},0]
[null,{"$f":"B4247","v":30},0]
[null,{"$f":"B4248","v":31},0]
[null,{"$f":"B4249","v":32},0]
[null,{"$f":"B4250","v":33},0]
[null,{"$f":"B4251","v":34},0]
[null,{"$f":"B4252","v":35},0]
[]
["Рекомендация: обратите внимание на задания по темам, которые вызвали у Вас затруднения, решены с ошибкой и отмечены \"0\" или к решению которых Вы не приступили (пустые ячейки)!"]
[]
[]
[]
["Центр независимой оценки качества образования и образовательного аудита \"Легион\""]
[]
["Образовательная организация",null,null,null,{"$f":"E4204","v":"Ленинская СОШ"}]
["Предмет",null,null,null,{"$f":"E4205","v":"Русский язык"}]
["Максимальный балл",null,null,null,39]
["Пороговый балл",null,null,null,15]
["Зона риска",null,null,null,{"$f":"Результаты!E15","v":15},null,null,{"$f":"Результаты!H15","v":16}]
[]
["Уровни",null,null,null,{"$f":"E4266","v":1},{"$f":"F4266","v":2},3,4,5,6,7,8,9,10,11,12,13,14,15,"ПР.ГР",{"$error":"#REF!"},{"$error":"#REF!"},{"$error":"#REF!"},{"$error":"#REF!"},{"$error":"#REF!"},{"$error":"#REF!"},{"$error":"#REF!"},{"$error":"#REF!"},{"$error":"#REF!"},{"$error":"#REF!"},{"$error":"#REF!"},{"$error":"#REF!"},{"$error":"#REF!"},{"$error":"#REF!"},{"$error":"#REF!"},{"$error":"#REF!"},{"$error":"#REF!"},{"$error":"#REF!"},{"$error":"#REF!"},"Тестовый балл","% выплнения заданий по уровням",null,null,"Оценка"]
[null,null,null,null,null,null,null,null,null,null,null,null,null,null,null,null,null,null,null,null,null,null,null,null,null,null,null,null,null,null,null,null,null,null,null,null,null,null,null,null,"Базовый","Повышенный","Высокий"]
["№","Класс","Ф.И.О.","№ задания",{"$f":"E4268","v":1},{"$f":"F4268","v":2},3,4,5,6,7,8,9,10,11,12,13,14,15,0,{"$error":"#REF!"},{"$error":"#REF!"},{"$error":"#REF!"},{"$error":"#REF!"},{"$error":"#REF!"},{"$error":"#REF!"},{"$error":"#REF!"},{"$error":"#REF!"},{"$error":"#REF!"},{"$error":"#REF!"},{"$error":"#REF!"},{"$error":"#REF!"},{"$error":"#REF!"},{"$error":"#REF!"},{"$error":"#REF!"},{"$error":"#REF!"},{"$error":"#REF!"},{"$error":"#REF!"},{"$error":"#REF!"}]
["Максимальный балл",null,null,null,{"$f":"E4269","v":7},{"$f":"F4269","v":1},1,1,1,1,1,1,1,1,1,1,1,1,9,10,{"$error":"#REF!"},{"$error":"#REF!"},{"$error":"#REF!"},{"$error":"#REF!"},{"$error":"#REF!"},{"$error":"#REF!"},{"$error":"#REF!"},{"$error":"#REF!"},{"$error":"#REF!"},{"$error":"#REF!"},{"$error":"#REF!"},{"$error":"#REF!"},{"$error":"#REF!"},{"$error":"#REF!"},{"$error":"#REF!"},{"$error":"#REF!"},{"$error":"#REF!"},{"$error":"#REF!"},{"$error":"#REF!"},39,76.92307692307692,{"$error":"#REF!"},23.076923076923077,0]
[null,null,null,"вариант"]
[{"$f":"Результаты!#REF!","v":{"$error":"#REF!"}},{"$f":"Результаты!#REF!","v":{"$error":"#REF!"}},{"$f":"Результаты!#REF!","v":{"$error":"#REF!"}},{"$f":"Результаты!#REF!","v":{"$error":"#REF!"}},{"$f":"Результаты!#REF!","v":{"$error":"#REF!"}},{"$f":"Результаты!#REF!","v":{"$error":"#REF!"}},{"$f":"Результаты!#REF!","v":{"$error":"#REF!"}},{"$f":"Результаты!#REF!","v":{"$error":"#REF!"}},{"$f":"Результаты!#REF!","v":{"$error":"#REF!"}},{"$f":"Результаты!#REF!","v":{"$error":"#REF!"}},{"$f":"Результаты!#REF!","v":{"$error":"#REF!"}},{"$f":"Результаты!#REF!","v":{"$error":"#REF!"}},{"$f":"Результаты!#REF!","v":{"$error":"#REF!"}},{"$f":"Результаты!#REF!","v":{"$error":"#REF!"}},{"$f":"Результаты!#REF!","v":{"$error":"#REF!"}},{"$f":"Результаты!#REF!","v":{"$error":"#REF!"}},{"$f":"Результаты!#REF!","v":{"$error":"#REF!"}},{"$f":"Результаты!#REF!","v":{"$error":"#REF!"}},{"$f":"Результаты!#REF!","v":{"$error":"#REF!"}},{"$f":"Результаты!#REF!","v":{"$error":"#REF!"}},{"$f":"Результаты!#REF!","v":{"$error":"#REF!"}},{"$f":"Результаты!#REF!","v":{"$error":"#REF!"}},{"$f":"Результаты!#REF!","v":{"$error":"#REF!"}},{"$f":"Результаты!#REF!","v":{"$error":"#REF!"}},{"$f":"Результаты!#REF!","v":{"$error":"#REF!"}},{"$f":"Результаты!#REF!","v":{"$error":"#REF!"}},{"$f":"Результаты!#REF!","v":{"$error":"#REF!"}},{"$f":"Результаты!#REF!","v":{"$error":"#REF!"}},{"$f":"Результаты!#REF!","v":{"$error":"#REF!"}},{"$f":"Результаты!#REF!","v":{"$error":"#REF!"}},{"$f":"Результаты!#REF!","v":{"$error":"#REF!"}},{"$f":"Результаты!#REF!","v":{"$error":"#REF!"}},{"$f":"Результаты!#REF!","v":{"$error":"#REF!"}},{"$f":"Результаты!#REF!","v":{"$error":"#REF!"}},{"$f":"Результаты!#REF!","v":{"$error":"#REF!"}},{"$f":"Результаты!#REF!","v":{"$error":"#REF!"}},{"$f":"Результаты!#REF!","v":{"$error":"#REF!"}},{"$f":"Результаты!#REF!","v":{"$error":"#REF!"}},{"$f":"Результаты!#REF!","v":{"$error":"#REF!"}},{"$f":"Результаты!#REF!","v":{"$error":"#REF!"}},{"$f":"Результаты!#REF!","v":{"$error":"#REF!"}},{"$f":"Результаты!#REF!","v":{"$error":"#REF!"}},{"$f":"Результаты!#REF!","v":{"$error":"#REF!"}},{"$f":"Результаты!#REF!","v":{"$error":"#REF!"}}]
[]
[]
[null,{"$f":"B4274","v":1},{"$f":"C4274","v":"Информационная обработка текстов различных стилей и жанров. Текст как речевое произведение. Смысловая и композиционная целостность текста. Отбор языковых средств в тексте в зависимости от темы, цели, адресата и ситуации общения. Создание текстов различных стилей и функционально-смысловых типов речи. Грамматические нормы (морфологические нормы). Грамматические  нормы  (синтаксические нормы). Лексические нормы. Пунктуация в простом и сложном предложениях. Орфограмма"}]
[null,{"$f":"B4275","v":2},"Текст как речевое произведение. Смысловая и композиционная целостность текста. Анализ текста"]
[null,{"$f":"B4276","v":3},"Выразительные средства лексики и фразеологии. Анализ средств выразительности"]
[null,{"$f":"B4277","v":4},"Правописание приставок. Слитное, дефисное, раздельное написание"]
[null,{"$f":"B4278","v":5},"Правописание суффиксов различных частей речи (кроме -Н-/-НН-). Правописание -Н- и -НН- в различных частях речи. Правописание личных окончаний глаголов и суффиксов причастий настоящего времени"]
[null,{"$f":"B4279","v":6},"Лексика и фразеология. Синонимы. Фразеологические обороты. Группы слов по происхождению и употреблению"]
[null,{"$f":"B4280","v":7},"Словосочетание"]
[null,{"$f":"B4281","v":8},"Предложение. Грамматическая (предикативная) основа предложения. Подлежащее и сказуемое как главные члены предложения "]
[null,{"$f":"B4282","v":9},"Осложнённое простое предложение"]
[null,{"$f":"B4283","v":10},"Пунктуационный анализ. Знаки препинания в предложениях со словами и конструкциями, грамматически не связанными с членами предложения"]
[null,{"$f":"B4284","v":11},"Синтаксический анализ сложного предложения"]
[null,{"$f":"B4285","v":12},"Пунктуационный анализ. Знаки препинания в сложносочинённом и сложноподчинённом предложениях"]
[null,{"$f":"B4286","v":13},"Синтаксический анализ сложного предложения"]
[null,{"$f":"B4287","v":14},"Сложные предложения с разными видами связи между частями"]
[null,{"$f":"B4288","v":15},"Текст как речевое произведение. Смысловая и композиционная целостность текста. Создание текстов различных стилей и функционально-смысловых типов речи. Информационная обработка текстов различных стилей и жанров. Грамматические нормы (морфологические нормы). Грамматические нормы (синтаксические нормы). Лексические нормы"]
[null,{"$f":"B4289","v":16},0]
[null,{"$f":"B4290","v":17},0]
[null,{"$f":"B4291","v":18},0]
[null,{"$f":"B4292","v":19},0]
[null,{"$f":"B4293","v":20},0]
[null,{"$f":"B4294","v":21},0]
[null,{"$f":"B4295","v":22},0]
[null,{"$f":"B4296","v":23},0]
[null,{"$f":"B4297","v":24},0]
[null,{"$f":"B4298","v":25},0]
[null,{"$f":"B4299","v":26},0]
[null,{"$f":"B4300","v":27},0]
[null,{"$f":"B4301","v":28},0]
[null,{"$f":"B4302","v":29},0]
[null,{"$f":"B4303","v":30},0]
[null,{"$f":"B4304","v":31},0]
[null,{"$f":"B4305","v":32},0]
[null,{"$f":"B4306","v":33},0]
[null,{"$f":"B4307","v":34},{"$f":"C4307","v":0}]
[null,{"$f":"B4308","v":35},{"$f":"C4308","v":0}]
[]
["Рекомендация: обратите внимание на задания по темам, которые вызвали у Вас затруднения, решены с ошибкой и отмечены \"0\" или к решению которых Вы не приступили (пустые ячейки)!"]
[]
[]
[]
["Центр независимой оценки качества образования и образовательного аудита \"Легион\""]
[]
["Образовательная организация",null,null,null,{"$f":"E4316","v":"Ленинская СОШ"}]
["Предмет",null,null,null,{"$f":"E4317","v":"Русский язык"}]
["Максимальный балл",null,null,null,39]
["Пороговый балл",null,null,null,15]
["Зона риска",null,null,null,{"$f":"Результаты!E15","v":15},null,null,{"$f":"Результаты!H15","v":16}]
[]
["Уровни",null,null,null,{"$f":"E4322","v":1},{"$f":"F4322","v":2},3,4,5,6,7,8,9,10,11,12,13,14,15,"ПР.ГР",{"$error":"#REF!"},{"$error":"#REF!"},{"$error":"#REF!"},{"$error":"#REF!"},{"$error":"#REF!"},{"$error":"#REF!"},{"$error":"#REF!"},{"$error":"#REF!"},{"$error":"#REF!"},{"$error":"#REF!"},{"$error":"#REF!"},{"$error":"#REF!"},{"$error":"#REF!"},{"$error":"#REF!"},{"$error":"#REF!"},{"$error":"#REF!"},{"$error":"#REF!"},{"$error":"#REF!"},{"$error":"#REF!"},"Тестовый балл","% выплнения заданий по уровням",null,null,"Оценка"]
[null,null,null,null,null,null,null,null,null,null,null,null,null,null,null,null,null,null,null,null,null,null,null,null,null,null,null,null,null,null,null,null,null,null,null,null,null,null,null,null,"Базовый","Повышенный","Высокий"]
["№","Класс","Ф.И.О.","№ задания",{"$f":"E4324","v":1},{"$f":"F4324","v":2},3,4,5,6,7,8,9,10,11,12,13,14,15,0,{"$error":"#REF!"},{"$error":"#REF!"},{"$error":"#REF!"},{"$error":"#REF!"},{"$error":"#REF!"},{"$error":"#REF!"},{"$error":"#REF!"},{"$error":"#REF!"},{"$error":"#REF!"},{"$error":"#REF!"},{"$error":"#REF!"},{"$error":"#REF!"},{"$error":"#REF!"},{"$error":"#REF!"},{"$error":"#REF!"},{"$error":"#REF!"},{"$error":"#REF!"},{"$error":"#REF!"},{"$error":"#REF!"}]
["Максимальный балл",null,null,null,{"$f":"E4325","v":7},{"$f":"F4325","v":1},1,1,1,1,1,1,1,1,1,1,1,1,9,10,{"$error":"#REF!"},{"$error":"#REF!"},{"$error":"#REF!"},{"$error":"#REF!"},{"$error":"#REF!"},{"$error":"#REF!"},{"$error":"#REF!"},{"$error":"#REF!"},{"$error":"#REF!"},{"$error":"#REF!"},{"$error":"#REF!"},{"$error":"#REF!"},{"$error":"#REF!"},{"$error":"#REF!"},{"$error":"#REF!"},{"$error":"#REF!"},{"$error":"#REF!"},{"$error":"#REF!"},{"$error":"#REF!"},39,76.92307692307692,{"$error":"#REF!"},23.076923076923077,0]
[null,null,null,"вариант"]
[{"$f":"Результаты!#REF!","v":{"$error":"#REF!"}},{"$f":"Результаты!#REF!","v":{"$error":"#REF!"}},{"$f":"Результаты!#REF!","v":{"$error":"#REF!"}},{"$f":"Результаты!#REF!","v":{"$error":"#REF!"}},{"$f":"Результаты!#REF!","v":{"$error":"#REF!"}},{"$f":"Результаты!#REF!","v":{"$error":"#REF!"}},{"$f":"Результаты!#REF!","v":{"$error":"#REF!"}},{"$f":"Результаты!#REF!","v":{"$error":"#REF!"}},{"$f":"Результаты!#REF!","v":{"$error":"#REF!"}},{"$f":"Результаты!#REF!","v":{"$error":"#REF!"}},{"$f":"Результаты!#REF!","v":{"$error":"#REF!"}},{"$f":"Результаты!#REF!","v":{"$error":"#REF!"}},{"$f":"Результаты!#REF!","v":{"$error":"#REF!"}},{"$f":"Результаты!#REF!","v":{"$error":"#REF!"}},{"$f":"Результаты!#REF!","v":{"$error":"#REF!"}},{"$f":"Результаты!#REF!","v":{"$error":"#REF!"}},{"$f":"Результаты!#REF!","v":{"$error":"#REF!"}},{"$f":"Результаты!#REF!","v":{"$error":"#REF!"}},{"$f":"Результаты!#REF!","v":{"$error":"#REF!"}},{"$f":"Результаты!#REF!","v":{"$error":"#REF!"}},{"$f":"Результаты!#REF!","v":{"$error":"#REF!"}},{"$f":"Результаты!#REF!","v":{"$error":"#REF!"}},{"$f":"Результаты!#REF!","v":{"$error":"#REF!"}},{"$f":"Результаты!#REF!","v":{"$error":"#REF!"}},{"$f":"Результаты!#REF!","v":{"$error":"#REF!"}},{"$f":"Результаты!#REF!","v":{"$error":"#REF!"}},{"$f":"Результаты!#REF!","v":{"$error":"#REF!"}},{"$f":"Результаты!#REF!","v":{"$error":"#REF!"}},{"$f":"Результаты!#REF!","v":{"$error":"#REF!"}},{"$f":"Результаты!#REF!","v":{"$error":"#REF!"}},{"$f":"Результаты!#REF!","v":{"$error":"#REF!"}},{"$f":"Результаты!#REF!","v":{"$error":"#REF!"}},{"$f":"Результаты!#REF!","v":{"$error":"#REF!"}},{"$f":"Результаты!#REF!","v":{"$error":"#REF!"}},{"$f":"Результаты!#REF!","v":{"$error":"#REF!"}},{"$f":"Результаты!#REF!","v":{"$error":"#REF!"}},{"$f":"Результаты!#REF!","v":{"$error":"#REF!"}},{"$f":"Результаты!#REF!","v":{"$error":"#REF!"}},{"$f":"Результаты!#REF!","v":{"$error":"#REF!"}},{"$f":"Результаты!#REF!","v":{"$error":"#REF!"}},{"$f":"Результаты!#REF!","v":{"$error":"#REF!"}},{"$f":"Результаты!#REF!","v":{"$error":"#REF!"}},{"$f":"Результаты!#REF!","v":{"$error":"#REF!"}},{"$f":"Результаты!#REF!","v":{"$error":"#REF!"}}]
[]
[]
[null,{"$f":"B4330","v":1},{"$f":"C4330","v":"Информационная обработка текстов различных стилей и жанров. Текст как речевое произведение. Смысловая и композиционная целостность текста. Отбор языковых средств в тексте в зависимости от темы, цели, адресата и ситуации общения. Создание текстов различных стилей и функционально-смысловых типов речи. Грамматические нормы (морфологические нормы). Грамматические  нормы  (синтаксические нормы). Лексические нормы. Пунктуация в простом и сложном предложениях. Орфограмма"}]
[null,{"$f":"B4331","v":2},"Текст как речевое произведение. Смысловая и композиционная целостность текста. Анализ текста"]
[null,{"$f":"B4332","v":3},"Выразительные средства лексики и фразеологии. Анализ средств выразительности"]
[null,{"$f":"B4333","v":4},"Правописание приставок. Слитное, дефисное, раздельное написание"]
[null,{"$f":"B4334","v":5},"Правописание суффиксов различных частей речи (кроме -Н-/-НН-). Правописание -Н- и -НН- в различных частях речи. Правописание личных окончаний глаголов и суффиксов причастий настоящего времени"]
[null,{"$f":"B4335","v":6},"Лексика и фразеология. Синонимы. Фразеологические обороты. Группы слов по происхождению и употреблению"]
[null,{"$f":"B4336","v":7},"Словосочетание"]
[null,{"$f":"B4337","v":8},"Предложение. Грамматическая (предикативная) основа предложения. Подлежащее и сказуемое как главные члены предложения "]
[null,{"$f":"B4338","v":9},"Осложнённое простое предложение"]
[null,{"$f":"B4339","v":10},"Пунктуационный анализ. Знаки препинания в предложениях со словами и конструкциями, грамматически не связанными с членами предложения"]
[null,{"$f":"B4340","v":11},"Синтаксический анализ сложного предложения"]
[null,{"$f":"B4341","v":12},"Пунктуационный анализ. Знаки препинания в сложносочинённом и сложноподчинённом предложениях"]
[null,{"$f":"B4342","v":13},"Синтаксический анализ сложного предложения"]
[null,{"$f":"B4343","v":14},"Сложные предложения с разными видами связи между частями"]
[null,{"$f":"B4344","v":15},"Текст как речевое произведение. Смысловая и композиционная целостность текста. Создание текстов различных стилей и функционально-смысловых типов речи. Информационная обработка текстов различных стилей и жанров. Грамматические нормы (морфологические нормы). Грамматические нормы (синтаксические нормы). Лексические нормы"]
[null,{"$f":"B4345","v":16},0]
[null,{"$f":"B4346","v":17},0]
[null,{"$f":"B4347","v":18},0]
[null,{"$f":"B4348","v":19},0]
[null,{"$f":"B4349","v":20},0]
[null,{"$f":"B4350","v":21},0]
[null,{"$f":"B4351","v":22},0]
[null,{"$f":"B4352","v":23},0]
[null,{"$f":"B4353","v":24},0]
[null,{"$f":"B4354","v":25},0]
[null,{"$f":"B4355","v":26},0]
[null,{"$f":"B4356","v":27},0]
[null,{"$f":"B4357","v":28},0]
[null,{"$f":"B4358","v":29},0]
[null,{"$f":"B4359","v":30},0]
[null,{"$f":"B4360","v":31},0]
[null,{"$f":"B4361","v":32},0]
[null,{"$f":"B4362","v":33},0]
[null,{"$f":"B4363","v":34},0]
[null,{"$f":"B4364","v":35},0]
[]
["Рекомендация: обратите внимание на задания по темам, которые вызвали у Вас затруднения, решены с ошибкой и отмечены \"0\" или к решению которых Вы не приступили (пустые ячейки)!"]
[]
[]
[]
["Центр независимой оценки качества образования и образовательного аудита \"Легион\""]
[]
["Образовательная организация",null,null,null,{"$f":"E4372","v":"Ленинская СОШ"}]
["Предмет",null,null,null,{"$f":"E4373","v":"Русский язык"}]
["Максимальный балл",null,null,null,39]
["Пороговый балл",null,null,null,15]
["Зона риска",null,null,null,{"$f":"Результаты!E15","v":15},null,null,{"$f":"Результаты!H15","v":16}]
[]
["Уровни",null,null,null,{"$f":"E4378","v":1},{"$f":"F4378","v":2},3,4,5,6,7,8,9,10,11,12,13,14,15,"ПР.ГР",{"$error":"#REF!"},{"$error":"#REF!"},{"$error":"#REF!"},{"$error":"#REF!"},{"$error":"#REF!"},{"$error":"#REF!"},{"$error":"#REF!"},{"$error":"#REF!"},{"$error":"#REF!"},{"$error":"#REF!"},{"$error":"#REF!"},{"$error":"#REF!"},{"$error":"#REF!"},{"$error":"#REF!"},{"$error":"#REF!"},{"$error":"#REF!"},{"$error":"#REF!"},{"$error":"#REF!"},{"$error":"#REF!"},"Тестовый балл","% выплнения заданий по уровням",null,null,"Оценка"]
[null,null,null,null,null,null,null,null,null,null,null,null,null,null,null,null,null,null,null,null,null,null,null,null,null,null,null,null,null,null,null,null,null,null,null,null,null,null,null,null,"Базовый","Повышенный","Высокий"]
["№","Класс","Ф.И.О.","№ задания",{"$f":"E4380","v":1},{"$f":"F4380","v":2},3,4,5,6,7,8,9,10,11,12,13,14,15,0,{"$error":"#REF!"},{"$error":"#REF!"},{"$error":"#REF!"},{"$error":"#REF!"},{"$error":"#REF!"},{"$error":"#REF!"},{"$error":"#REF!"},{"$error":"#REF!"},{"$error":"#REF!"},{"$error":"#REF!"},{"$error":"#REF!"},{"$error":"#REF!"},{"$error":"#REF!"},{"$error":"#REF!"},{"$error":"#REF!"},{"$error":"#REF!"},{"$error":"#REF!"},{"$error":"#REF!"},{"$error":"#REF!"}]
["Максимальный балл",null,null,null,{"$f":"E4381","v":7},{"$f":"F4381","v":1},1,1,1,1,1,1,1,1,1,1,1,1,9,10,{"$error":"#REF!"},{"$error":"#REF!"},{"$error":"#REF!"},{"$error":"#REF!"},{"$error":"#REF!"},{"$error":"#REF!"},{"$error":"#REF!"},{"$error":"#REF!"},{"$error":"#REF!"},{"$error":"#REF!"},{"$error":"#REF!"},{"$error":"#REF!"},{"$error":"#REF!"},{"$error":"#REF!"},{"$error":"#REF!"},{"$error":"#REF!"},{"$error":"#REF!"},{"$error":"#REF!"},{"$error":"#REF!"},39,76.92307692307692,{"$error":"#REF!"},23.076923076923077,0]
[null,null,null,"вариант"]
[{"$f":"Результаты!#REF!","v":{"$error":"#REF!"}},{"$f":"Результаты!#REF!","v":{"$error":"#REF!"}},{"$f":"Результаты!#REF!","v":{"$error":"#REF!"}},{"$f":"Результаты!#REF!","v":{"$error":"#REF!"}},{"$f":"Результаты!#REF!","v":{"$error":"#REF!"}},{"$f":"Результаты!#REF!","v":{"$error":"#REF!"}},{"$f":"Результаты!#REF!","v":{"$error":"#REF!"}},{"$f":"Результаты!#REF!","v":{"$error":"#REF!"}},{"$f":"Результаты!#REF!","v":{"$error":"#REF!"}},{"$f":"Результаты!#REF!","v":{"$error":"#REF!"}},{"$f":"Результаты!#REF!","v":{"$error":"#REF!"}},{"$f":"Результаты!#REF!","v":{"$error":"#REF!"}},{"$f":"Результаты!#REF!","v":{"$error":"#REF!"}},{"$f":"Результаты!#REF!","v":{"$error":"#REF!"}},{"$f":"Результаты!#REF!","v":{"$error":"#REF!"}},{"$f":"Результаты!#REF!","v":{"$error":"#REF!"}},{"$f":"Результаты!#REF!","v":{"$error":"#REF!"}},{"$f":"Результаты!#REF!","v":{"$error":"#REF!"}},{"$f":"Результаты!#REF!","v":{"$error":"#REF!"}},{"$f":"Результаты!#REF!","v":{"$error":"#REF!"}},{"$f":"Результаты!#REF!","v":{"$error":"#REF!"}},{"$f":"Результаты!#REF!","v":{"$error":"#REF!"}},{"$f":"Результаты!#REF!","v":{"$error":"#REF!"}},{"$f":"Результаты!#REF!","v":{"$error":"#REF!"}},{"$f":"Результаты!#REF!","v":{"$error":"#REF!"}},{"$f":"Результаты!#REF!","v":{"$error":"#REF!"}},{"$f":"Результаты!#REF!","v":{"$error":"#REF!"}},{"$f":"Результаты!#REF!","v":{"$error":"#REF!"}},{"$f":"Результаты!#REF!","v":{"$error":"#REF!"}},{"$f":"Результаты!#REF!","v":{"$error":"#REF!"}},{"$f":"Результаты!#REF!","v":{"$error":"#REF!"}},{"$f":"Результаты!#REF!","v":{"$error":"#REF!"}},{"$f":"Результаты!#REF!","v":{"$error":"#REF!"}},{"$f":"Результаты!#REF!","v":{"$error":"#REF!"}},{"$f":"Результаты!#REF!","v":{"$error":"#REF!"}},{"$f":"Результаты!#REF!","v":{"$error":"#REF!"}},{"$f":"Результаты!#REF!","v":{"$error":"#REF!"}},{"$f":"Результаты!#REF!","v":{"$error":"#REF!"}},{"$f":"Результаты!#REF!","v":{"$error":"#REF!"}},{"$f":"Результаты!#REF!","v":{"$error":"#REF!"}},{"$f":"Результаты!#REF!","v":{"$error":"#REF!"}},{"$f":"Результаты!#REF!","v":{"$error":"#REF!"}},{"$f":"Результаты!#REF!","v":{"$error":"#REF!"}},{"$f":"Результаты!#REF!","v":{"$error":"#REF!"}}]
[]
[]
[null,{"$f":"B4386","v":1},"Информационная обработка текстов различных стилей и жанров. Текст как речевое произведение. Смысловая и композиционная целостность текста. Отбор языковых средств в тексте в зависимости от темы, цели, адресата и ситуации общения. Создание текстов различных стилей и функционально-смысловых типов речи. Грамматические нормы (морфологические нормы). Грамматические  нормы  (синтаксические нормы). Лексические нормы. Пунктуация в простом и сложном предложениях. Орфограмма"]
[null,{"$f":"B4387","v":2},"Текст как речевое произведение. Смысловая и композиционная целостность текста. Анализ текста"]
[null,{"$f":"B4388","v":3},"Выразительные средства лексики и фразеологии. Анализ средств выразительности"]
[null,{"$f":"B4389","v":4},"Правописание приставок. Слитное, дефисное, раздельное написание"]
[null,{"$f":"B4390","v":5},"Правописание суффиксов различных частей речи (кроме -Н-/-НН-). Правописание -Н- и -НН- в различных частях речи. Правописание личных окончаний глаголов и суффиксов причастий настоящего времени"]
[null,{"$f":"B4391","v":6},"Лексика и фразеология. Синонимы. Фразеологические обороты. Группы слов по происхождению и употреблению"]
[null,{"$f":"B4392","v":7},"Словосочетание"]
[null,{"$f":"B4393","v":8},"Предложение. Грамматическая (предикативная) основа предложения. Подлежащее и сказуемое как главные члены предложения "]
[null,{"$f":"B4394","v":9},"Осложнённое простое предложение"]
[null,{"$f":"B4395","v":10},"Пунктуационный анализ. Знаки препинания в предложениях со словами и конструкциями, грамматически не связанными с членами предложения"]
[null,{"$f":"B4396","v":11},"Синтаксический анализ сложного предложения"]
[null,{"$f":"B4397","v":12},"Пунктуационный анализ. Знаки препинания в сложносочинённом и сложноподчинённом предложениях"]
[null,{"$f":"B4398","v":13},"Синтаксический анализ сложного предложения"]
[null,{"$f":"B4399","v":14},"Сложные предложения с разными видами связи между частями"]
[null,{"$f":"B4400","v":15},"Текст как речевое произведение. Смысловая и композиционная целостность текста. Создание текстов различных стилей и функционально-смысловых типов речи. Информационная обработка текстов различных стилей и жанров. Грамматические нормы (морфологические нормы). Грамматические нормы (синтаксические нормы). Лексические нормы"]
[null,{"$f":"B4401","v":16},0]
[null,{"$f":"B4402","v":17},0]
[null,{"$f":"B4403","v":18},0]
[null,{"$f":"B4404","v":19},0]
[null,{"$f":"B4405","v":20},0]
[null,{"$f":"B4406","v":21},0]
[null,{"$f":"B4407","v":22},0]
[null,{"$f":"B4408","v":23},0]
[null,{"$f":"B4409","v":24},0]
[null,{"$f":"B4410","v":25},0]
[null,{"$f":"B4411","v":26},0]
[null,{"$f":"B4412","v":27},0]
[null,{"$f":"B4413","v":28},0]
[null,{"$f":"B4414","v":29},0]
[null,{"$f":"B4415","v":30},0]
[null,{"$f":"B4416","v":31},0]
[null,{"$f":"B4417","v":32},0]
[null,{"$f":"B4418","v":33},0]
[null,{"$f":"B4419","v":34},0]
[null,{"$f":"B4420","v":35},0]
[]
["Рекомендация: обратите внимание на задания по темам, которые вызвали у Вас затруднения, решены с ошибкой и отмечены \"0\" или к решению которых Вы не приступили (пустые ячейки)!"]
[]
[]
[]
["Центр независимой оценки качества образования и образовательного аудита \"Легион\""]
[]
["Образовательная организация",null,null,null,{"$f":"E4428","v":"Ленинская СОШ"}]
["Предмет",null,null,null,{"$f":"E4429","v":"Русский язык"}]
["Максимальный балл",null,null,null,39]
["Пороговый балл",null,null,null,15]
["Зона риска",null,null,null,{"$f":"Результаты!E15","v":15},null,null,{"$f":"Результаты!H15","v":16}]
[]
["Уровни",null,null,null,{"$f":"E4434","v":1},{"$f":"F4434","v":2},3,4,5,6,7,8,9,10,11,12,13,14,15,"ПР.ГР",{"$error":"#REF!"},{"$error":"#REF!"},{"$error":"#REF!"},{"$error":"#REF!"},{"$error":"#REF!"},{"$error":"#REF!"},{"$error":"#REF!"},{"$error":"#REF!"},{"$error":"#REF!"},{"$error":"#REF!"},{"$error":"#REF!"},{"$error":"#REF!"},{"$error":"#REF!"},{"$error":"#REF!"},{"$error":"#REF!"},{"$error":"#REF!"},{"$error":"#REF!"},{"$error":"#REF!"},{"$error":"#REF!"},"Тестовый балл","% выплнения заданий по уровням",null,null,"Оценка"]
[null,null,null,null,null,null,null,null,null,null,null,null,null,null,null,null,null,null,null,null,null,null,null,null,null,null,null,null,null,null,null,null,null,null,null,null,null,null,null,null,"Базовый","Повышенный","Высокий"]
["№","Класс","Ф.И.О.","№ задания",{"$f":"E4436","v":1},{"$f":"F4436","v":2},3,4,5,6,7,8,9,10,11,12,13,14,15,0,{"$error":"#REF!"},{"$error":"#REF!"},{"$error":"#REF!"},{"$error":"#REF!"},{"$error":"#REF!"},{"$error":"#REF!"},{"$error":"#REF!"},{"$error":"#REF!"},{"$error":"#REF!"},{"$error":"#REF!"},{"$error":"#REF!"},{"$error":"#REF!"},{"$error":"#REF!"},{"$error":"#REF!"},{"$error":"#REF!"},{"$error":"#REF!"},{"$error":"#REF!"},{"$error":"#REF!"},{"$error":"#REF!"}]
["Максимальный балл",null,null,null,{"$f":"E4437","v":7},{"$f":"F4437","v":1},1,1,1,1,1,1,1,1,1,1,1,1,9,10,{"$error":"#REF!"},{"$error":"#REF!"},{"$error":"#REF!"},{"$error":"#REF!"},{"$error":"#REF!"},{"$error":"#REF!"},{"$error":"#REF!"},{"$error":"#REF!"},{"$error":"#REF!"},{"$error":"#REF!"},{"$error":"#REF!"},{"$error":"#REF!"},{"$error":"#REF!"},{"$error":"#REF!"},{"$error":"#REF!"},{"$error":"#REF!"},{"$error":"#REF!"},{"$error":"#REF!"},{"$error":"#REF!"},39,76.92307692307692,{"$error":"#REF!"},23.076923076923077,0]
[null,null,null,"вариант"]
[{"$f":"Результаты!#REF!","v":{"$error":"#REF!"}},{"$f":"Результаты!#REF!","v":{"$error":"#REF!"}},{"$f":"Результаты!#REF!","v":{"$error":"#REF!"}},{"$f":"Результаты!#REF!","v":{"$error":"#REF!"}},{"$f":"Результаты!#REF!","v":{"$error":"#REF!"}},{"$f":"Результаты!#REF!","v":{"$error":"#REF!"}},{"$f":"Результаты!#REF!","v":{"$error":"#REF!"}},{"$f":"Результаты!#REF!","v":{"$error":"#REF!"}},{"$f":"Результаты!#REF!","v":{"$error":"#REF!"}},{"$f":"Результаты!#REF!","v":{"$error":"#REF!"}},{"$f":"Результаты!#REF!","v":{"$error":"#REF!"}},{"$f":"Результаты!#REF!","v":{"$error":"#REF!"}},{"$f":"Результаты!#REF!","v":{"$error":"#REF!"}},{"$f":"Результаты!#REF!","v":{"$error":"#REF!"}},{"$f":"Результаты!#REF!","v":{"$error":"#REF!"}},{"$f":"Результаты!#REF!","v":{"$error":"#REF!"}},{"$f":"Результаты!#REF!","v":{"$error":"#REF!"}},{"$f":"Результаты!#REF!","v":{"$error":"#REF!"}},{"$f":"Результаты!#REF!","v":{"$error":"#REF!"}},{"$f":"Результаты!#REF!","v":{"$error":"#REF!"}},{"$f":"Результаты!#REF!","v":{"$error":"#REF!"}},{"$f":"Результаты!#REF!","v":{"$error":"#REF!"}},{"$f":"Результаты!#REF!","v":{"$error":"#REF!"}},{"$f":"Результаты!#REF!","v":{"$error":"#REF!"}},{"$f":"Результаты!#REF!","v":{"$error":"#REF!"}},{"$f":"Результаты!#REF!","v":{"$error":"#REF!"}},{"$f":"Результаты!#REF!","v":{"$error":"#REF!"}},{"$f":"Результаты!#REF!","v":{"$error":"#REF!"}},{"$f":"Результаты!#REF!","v":{"$error":"#REF!"}},{"$f":"Результаты!#REF!","v":{"$error":"#REF!"}},{"$f":"Результаты!#REF!","v":{"$error":"#REF!"}},{"$f":"Результаты!#REF!","v":{"$error":"#REF!"}},{"$f":"Результаты!#REF!","v":{"$error":"#REF!"}},{"$f":"Результаты!#REF!","v":{"$error":"#REF!"}},{"$f":"Результаты!#REF!","v":{"$error":"#REF!"}},{"$f":"Результаты!#REF!","v":{"$error":"#REF!"}},{"$f":"Результаты!#REF!","v":{"$error":"#REF!"}},{"$f":"Результаты!#REF!","v":{"$error":"#REF!"}},{"$f":"Результаты!#REF!","v":{"$error":"#REF!"}},{"$f":"Результаты!#REF!","v":{"$error":"#REF!"}},{"$f":"Результаты!#REF!","v":{"$error":"#REF!"}},{"$f":"Результаты!#REF!","v":{"$error":"#REF!"}},{"$f":"Результаты!#REF!","v":{"$error":"#REF!"}},{"$f":"Результаты!#REF!","v":{"$error":"#REF!"}}]
[]
[]
[null,{"$f":"B4442","v":1},"Информационная обработка текстов различных стилей и жанров. Текст как речевое произведение. Смысловая и композиционная целостность текста. Отбор языковых средств в тексте в зависимости от темы, цели, адресата и ситуации общения. Создание текстов различных стилей и функционально-смысловых типов речи. Грамматические нормы (морфологические нормы). Грамматические  нормы  (синтаксические нормы). Лексические нормы. Пунктуация в простом и сложном предложениях. Орфограмма"]
[null,{"$f":"B4443","v":2},"Текст как речевое произведение. Смысловая и композиционная целостность текста. Анализ текста"]
[null,{"$f":"B4444","v":3},"Выразительные средства лексики и фразеологии. Анализ средств выразительности"]
[null,{"$f":"B4445","v":4},"Правописание приставок. Слитное, дефисное, раздельное написание"]
[null,{"$f":"B4446","v":5},"Правописание суффиксов различных частей речи (кроме -Н-/-НН-). Правописание -Н- и -НН- в различных частях речи. Правописание личных окончаний глаголов и суффиксов причастий настоящего времени"]
[null,{"$f":"B4447","v":6},"Лексика и фразеология. Синонимы. Фразеологические обороты. Группы слов по происхождению и употреблению"]
[null,{"$f":"B4448","v":7},"Словосочетание"]
[null,{"$f":"B4449","v":8},"Предложение. Грамматическая (предикативная) основа предложения. Подлежащее и сказуемое как главные члены предложения "]
[null,{"$f":"B4450","v":9},"Осложнённое простое предложение"]
[null,{"$f":"B4451","v":10},"Пунктуационный анализ. Знаки препинания в предложениях со словами и конструкциями, грамматически не связанными с членами предложения"]
[null,{"$f":"B4452","v":11},"Синтаксический анализ сложного предложения"]
[null,{"$f":"B4453","v":12},"Пунктуационный анализ. Знаки препинания в сложносочинённом и сложноподчинённом предложениях"]
[null,{"$f":"B4454","v":13},"Синтаксический анализ сложного предложения"]
[null,{"$f":"B4455","v":14},"Сложные предложения с разными видами связи между частями"]
[null,{"$f":"B4456","v":15},"Текст как речевое произведение. Смысловая и композиционная целостность текста. Создание текстов различных стилей и функционально-смысловых типов речи. Информационная обработка текстов различных стилей и жанров. Грамматические нормы (морфологические нормы). Грамматические нормы (синтаксические нормы). Лексические нормы"]
[null,{"$f":"B4457","v":16},0]
[null,{"$f":"B4458","v":17},0]
[null,{"$f":"B4459","v":18},0]
[null,{"$f":"B4460","v":19},0]
[null,{"$f":"B4461","v":20},0]
[null,{"$f":"B4462","v":21},0]
[null,{"$f":"B4463","v":22},0]
[null,{"$f":"B4464","v":23},0]
[null,{"$f":"B4465","v":24},0]
[null,{"$f":"B4466","v":25},0]
[null,{"$f":"B4467","v":26},0]
[null,{"$f":"B4468","v":27},0]
[null,{"$f":"B4469","v":28},0]
[null,{"$f":"B4470","v":29},0]
[null,{"$f":"B4471","v":30},0]
[null,{"$f":"B4472","v":31},0]
[null,{"$f":"B4473","v":32},0]
[null,{"$f":"B4474","v":33},0]
[null,{"$f":"B4475","v":34},0]
[null,{"$f":"B4476","v":35},0]
[]
[]
["Рекомендация: обратите внимание на задания по темам, которые вызвали у Вас затруднения, решены с ошибкой и отмечены \"0\" или к решению которых Вы не приступили (пустые ячейки)!"]
[]
[]
["Центр независимой оценки качества образования и образовательного аудита \"Легион\""]
[]
["Образовательная организация",null,null,null,{"$f":"E4484","v":"Ленинская СОШ"}]
["Предмет",null,null,null,{"$f":"E4485","v":"Русский язык"}]
["Максимальный балл",null,null,null,39]
["Пороговый балл",null,null,null,15]
["Зона риска",null,null,null,{"$f":"Результаты!E15","v":15},null,null,{"$f":"Результаты!H15","v":16}]
[]
["Уровни",null,null,null,{"$f":"E4490","v":1},{"$f":"F4490","v":2},3,4,5,6,7,8,9,10,11,12,13,14,15,"ПР.ГР",{"$error":"#REF!"},{"$error":"#REF!"},{"$error":"#REF!"},{"$error":"#REF!"},{"$error":"#REF!"},{"$error":"#REF!"},{"$error":"#REF!"},{"$error":"#REF!"},{"$error":"#REF!"},{"$error":"#REF!"},{"$error":"#REF!"},{"$error":"#REF!"},{"$error":"#REF!"},{"$error":"#REF!"},{"$error":"#REF!"},{"$error":"#REF!"},{"$error":"#REF!"},{"$error":"#REF!"},{"$error":"#REF!"},"Тестовый балл","% выплнения заданий по уровням",null,null,"Оценка"]
[null,null,null,null,null,null,null,null,null,null,null,null,null,null,null,null,null,null,null,null,null,null,null,null,null,null,null,null,null,null,null,null,null,null,null,null,null,null,null,null,"Базовый","Повышенный","Высокий"]
["№","Класс","Ф.И.О.","№ задания",{"$f":"E4492","v":1},{"$f":"F4492","v":2},3,4,5,6,7,8,9,10,11,12,13,14,15,0,{"$error":"#REF!"},{"$error":"#REF!"},{"$error":"#REF!"},{"$error":"#REF!"},{"$error":"#REF!"},{"$error":"#REF!"},{"$error":"#REF!"},{"$error":"#REF!"},{"$error":"#REF!"},{"$error":"#REF!"},{"$error":"#REF!"},{"$error":"#REF!"},{"$error":"#REF!"},{"$error":"#REF!"},{"$error":"#REF!"},{"$error":"#REF!"},{"$error":"#REF!"},{"$error":"#REF!"},{"$error":"#REF!"}]
["Максимальный балл",null,null,null,{"$f":"E4493","v":7},{"$f":"F4493","v":1},1,1,1,1,1,1,1,1,1,1,1,1,9,10,{"$error":"#REF!"},{"$error":"#REF!"},{"$error":"#REF!"},{"$error":"#REF!"},{"$error":"#REF!"},{"$error":"#REF!"},{"$error":"#REF!"},{"$error":"#REF!"},{"$error":"#REF!"},{"$error":"#REF!"},{"$error":"#REF!"},{"$error":"#REF!"},{"$error":"#REF!"},{"$error":"#REF!"},{"$error":"#REF!"},{"$error":"#REF!"},{"$error":"#REF!"},{"$error":"#REF!"},{"$error":"#REF!"},39,76.92307692307692,{"$error":"#REF!"},23.076923076923077,0]
[null,null,null,"вариант"]
[{"$f":"Результаты!#REF!","v":{"$error":"#REF!"}},{"$f":"Результаты!#REF!","v":{"$error":"#REF!"}},{"$f":"Результаты!#REF!","v":{"$error":"#REF!"}},{"$f":"Результаты!#REF!","v":{"$error":"#REF!"}},{"$f":"Результаты!#REF!","v":{"$error":"#REF!"}},{"$f":"Результаты!#REF!","v":{"$error":"#REF!"}},{"$f":"Результаты!#REF!","v":{"$error":"#REF!"}},{"$f":"Результаты!#REF!","v":{"$error":"#REF!"}},{"$f":"Результаты!#REF!","v":{"$error":"#REF!"}},{"$f":"Результаты!#REF!","v":{"$error":"#REF!"}},{"$f":"Результаты!#REF!","v":{"$error":"#REF!"}},{"$f":"Результаты!#REF!","v":{"$error":"#REF!"}},{"$f":"Результаты!#REF!","v":{"$error":"#REF!"}},{"$f":"Результаты!#REF!","v":{"$error":"#REF!"}},{"$f":"Результаты!#REF!","v":{"$error":"#REF!"}},{"$f":"Результаты!#REF!","v":{"$error":"#REF!"}},{"$f":"Результаты!#REF!","v":{"$error":"#REF!"}},{"$f":"Результаты!#REF!","v":{"$error":"#REF!"}},{"$f":"Результаты!#REF!","v":{"$error":"#REF!"}},{"$f":"Результаты!#REF!","v":{"$error":"#REF!"}},{"$f":"Результаты!#REF!","v":{"$error":"#REF!"}},{"$f":"Результаты!#REF!","v":{"$error":"#REF!"}},{"$f":"Результаты!#REF!","v":{"$error":"#REF!"}},{"$f":"Результаты!#REF!","v":{"$error":"#REF!"}},{"$f":"Результаты!#REF!","v":{"$error":"#REF!"}},{"$f":"Результаты!#REF!","v":{"$error":"#REF!"}},{"$f":"Результаты!#REF!","v":{"$error":"#REF!"}},{"$f":"Результаты!#REF!","v":{"$error":"#REF!"}},{"$f":"Результаты!#REF!","v":{"$error":"#REF!"}},{"$f":"Результаты!#REF!","v":{"$error":"#REF!"}},{"$f":"Результаты!#REF!","v":{"$error":"#REF!"}},{"$f":"Результаты!#REF!","v":{"$error":"#REF!"}},{"$f":"Результаты!#REF!","v":{"$error":"#REF!"}},{"$f":"Результаты!#REF!","v":{"$error":"#REF!"}},{"$f":"Результаты!#REF!","v":{"$error":"#REF!"}},{"$f":"Результаты!#REF!","v":{"$error":"#REF!"}},{"$f":"Результаты!#REF!","v":{"$error":"#REF!"}},{"$f":"Результаты!#REF!","v":{"$error":"#REF!"}},{"$f":"Результаты!#REF!","v":{"$error":"#REF!"}},{"$f":"Результаты!#REF!","v":{"$error":"#REF!"}},{"$f":"Результаты!#REF!","v":{"$error":"#REF!"}},{"$f":"Результаты!#REF!","v":{"$error":"#REF!"}},{"$f":"Результаты!#REF!","v":{"$error":"#REF!"}},{"$f":"Результаты!#REF!","v":{"$error":"#REF!"}}]
[]
[]
[null,{"$f":"B4498","v":1},{"$f":"C4498","v":"Информационная обработка текстов различных стилей и жанров. Текст как речевое произведение. Смысловая и композиционная целостность текста. Отбор языковых средств в тексте в зависимости от темы, цели, адресата и ситуации общения. Создание текстов различных стилей и функционально-смысловых типов речи. Грамматические нормы (морфологические нормы). Грамматические  нормы  (синтаксические нормы). Лексические нормы. Пунктуация в простом и сложном предложениях. Орфограмма"}]
[null,{"$f":"B4499","v":2},"Текст как речевое произведение. Смысловая и композиционная целостность текста. Анализ текста"]
[null,{"$f":"B4500","v":3},"Выразительные средства лексики и фразеологии. Анализ средств выразительности"]
[null,{"$f":"B4501","v":4},"Правописание приставок. Слитное, дефисное, раздельное написание"]
[null,{"$f":"B4502","v":5},"Правописание суффиксов различных частей речи (кроме -Н-/-НН-). Правописание -Н- и -НН- в различных частях речи. Правописание личных окончаний глаголов и суффиксов причастий настоящего времени"]
[null,{"$f":"B4503","v":6},"Лексика и фразеология. Синонимы. Фразеологические обороты. Группы слов по происхождению и употреблению"]
[null,{"$f":"B4504","v":7},"Словосочетание"]
[null,{"$f":"B4505","v":8},"Предложение. Грамматическая (предикативная) основа предложения. Подлежащее и сказуемое как главные члены предложения "]
[null,{"$f":"B4506","v":9},"Осложнённое простое предложение"]
[null,{"$f":"B4507","v":10},"Пунктуационный анализ. Знаки препинания в предложениях со словами и конструкциями, грамматически не связанными с членами предложения"]
[null,{"$f":"B4508","v":11},"Синтаксический анализ сложного предложения"]
[null,{"$f":"B4509","v":12},"Пунктуационный анализ. Знаки препинания в сложносочинённом и сложноподчинённом предложениях"]
[null,{"$f":"B4510","v":13},"Синтаксический анализ сложного предложения"]
[null,{"$f":"B4511","v":14},"Сложные предложения с разными видами связи между частями"]
[null,{"$f":"B4512","v":15},"Текст как речевое произведение. Смысловая и композиционная целостность текста. Создание текстов различных стилей и функционально-смысловых типов речи. Информационная обработка текстов различных стилей и жанров. Грамматические нормы (морфологические нормы). Грамматические нормы (синтаксические нормы). Лексические нормы"]
[null,{"$f":"B4513","v":16},0]
[null,{"$f":"B4514","v":17},0]
[null,{"$f":"B4515","v":18},0]
[null,{"$f":"B4516","v":19},0]
[null,{"$f":"B4517","v":20},0]
[null,{"$f":"B4518","v":21},0]
[null,{"$f":"B4519","v":22},0]
[null,{"$f":"B4520","v":23},0]
[null,{"$f":"B4521","v":24},0]
[null,{"$f":"B4522","v":25},0]
[null,{"$f":"B4523","v":26},0]
[null,{"$f":"B4524","v":27},0]
[null,{"$f":"B4525","v":28},0]
[null,{"$f":"B4526","v":29},0]
[null,{"$f":"B4527","v":30},0]
[null,{"$f":"B4528","v":31},0]
[null,{"$f":"B4529","v":32},0]
[null,{"$f":"B4530","v":33},0]
[null,{"$f":"B4531","v":34},0]
[null,{"$f":"B4532","v":35},0]
[]
["Рекомендация: обратите внимание на задания по темам, которые вызвали у Вас затруднения, решены с ошибкой и отмечены \"0\" или к решению которых Вы не приступили (пустые ячейки)!"]
[]
[]
[]
["Центр независимой оценки качества образования и образовательного аудита \"Легион\""]
[]
["Образовательная организация",null,null,null,{"$f":"E4540","v":"Ленинская СОШ"}]
["Предмет",null,null,null,{"$f":"E4541","v":"Русский язык"}]
["Максимальный балл",null,null,null,39]
["Пороговый балл",null,null,null,15]
["Зона риска",null,null,null,{"$f":"Результаты!E15","v":15},null,null,{"$f":"Результаты!H15","v":16}]
[]
["Уровни",null,null,null,{"$f":"E4546","v":1},{"$f":"F4546","v":2},3,4,5,6,7,8,9,10,11,12,13,14,15,"ПР.ГР",{"$error":"#REF!"},{"$error":"#REF!"},{"$error":"#REF!"},{"$error":"#REF!"},{"$error":"#REF!"},{"$error":"#REF!"},{"$error":"#REF!"},{"$error":"#REF!"},{"$error":"#REF!"},{"$error":"#REF!"},{"$error":"#REF!"},{"$error":"#REF!"},{"$error":"#REF!"},{"$error":"#REF!"},{"$error":"#REF!"},{"$error":"#REF!"},{"$error":"#REF!"},{"$error":"#REF!"},{"$error":"#REF!"},"Тестовый балл","% выплнения заданий по уровням",null,null,"Оценка"]
[null,null,null,null,null,null,null,null,null,null,null,null,null,null,null,null,null,null,null,null,null,null,null,null,null,null,null,null,null,null,null,null,null,null,null,null,null,null,null,null,"Базовый","Повышенный","Высокий"]
["№","Класс","Ф.И.О.","№ задания",{"$f":"E4548","v":1},{"$f":"F4548","v":2},3,4,5,6,7,8,9,10,11,12,13,14,15,0,{"$error":"#REF!"},{"$error":"#REF!"},{"$error":"#REF!"},{"$error":"#REF!"},{"$error":"#REF!"},{"$error":"#REF!"},{"$error":"#REF!"},{"$error":"#REF!"},{"$error":"#REF!"},{"$error":"#REF!"},{"$error":"#REF!"},{"$error":"#REF!"},{"$error":"#REF!"},{"$error":"#REF!"},{"$error":"#REF!"},{"$error":"#REF!"},{"$error":"#REF!"},{"$error":"#REF!"},{"$error":"#REF!"}]
["Максимальный балл",null,null,null,{"$f":"E4549","v":7},{"$f":"F4549","v":1},1,1,1,1,1,1,1,1,1,1,1,1,9,10,{"$error":"#REF!"},{"$error":"#REF!"},{"$error":"#REF!"},{"$error":"#REF!"},{"$error":"#REF!"},{"$error":"#REF!"},{"$error":"#REF!"},{"$error":"#REF!"},{"$error":"#REF!"},{"$error":"#REF!"},{"$error":"#REF!"},{"$error":"#REF!"},{"$error":"#REF!"},{"$error":"#REF!"},{"$error":"#REF!"},{"$error":"#REF!"},{"$error":"#REF!"},{"$error":"#REF!"},{"$error":"#REF!"},39,76.92307692307692,{"$error":"#REF!"},23.076923076923077,0]
[null,null,null,"вариант"]
[{"$f":"Результаты!#REF!","v":{"$error":"#REF!"}},{"$f":"Результаты!#REF!","v":{"$error":"#REF!"}},{"$f":"Результаты!#REF!","v":{"$error":"#REF!"}},{"$f":"Результаты!#REF!","v":{"$error":"#REF!"}},{"$f":"Результаты!#REF!","v":{"$error":"#REF!"}},{"$f":"Результаты!#REF!","v":{"$error":"#REF!"}},{"$f":"Результаты!#REF!","v":{"$error":"#REF!"}},{"$f":"Результаты!#REF!","v":{"$error":"#REF!"}},{"$f":"Результаты!#REF!","v":{"$error":"#REF!"}},{"$f":"Результаты!#REF!","v":{"$error":"#REF!"}},{"$f":"Результаты!#REF!","v":{"$error":"#REF!"}},{"$f":"Результаты!#REF!","v":{"$error":"#REF!"}},{"$f":"Результаты!#REF!","v":{"$error":"#REF!"}},{"$f":"Результаты!#REF!","v":{"$error":"#REF!"}},{"$f":"Результаты!#REF!","v":{"$error":"#REF!"}},{"$f":"Результаты!#REF!","v":{"$error":"#REF!"}},{"$f":"Результаты!#REF!","v":{"$error":"#REF!"}},{"$f":"Результаты!#REF!","v":{"$error":"#REF!"}},{"$f":"Результаты!#REF!","v":{"$error":"#REF!"}},{"$f":"Результаты!#REF!","v":{"$error":"#REF!"}},{"$f":"Результаты!#REF!","v":{"$error":"#REF!"}},{"$f":"Результаты!#REF!","v":{"$error":"#REF!"}},{"$f":"Результаты!#REF!","v":{"$error":"#REF!"}},{"$f":"Результаты!#REF!","v":{"$error":"#REF!"}},{"$f":"Результаты!#REF!","v":{"$error":"#REF!"}},{"$f":"Результаты!#REF!","v":{"$error":"#REF!"}},{"$f":"Результаты!#REF!","v":{"$error":"#REF!"}},{"$f":"Результаты!#REF!","v":{"$error":"#REF!"}},{"$f":"Результаты!#REF!","v":{"$error":"#REF!"}},{"$f":"Результаты!#REF!","v":{"$error":"#REF!"}},{"$f":"Результаты!#REF!","v":{"$error":"#REF!"}},{"$f":"Результаты!#REF!","v":{"$error":"#REF!"}},{"$f":"Результаты!#REF!","v":{"$error":"#REF!"}},{"$f":"Результаты!#REF!","v":{"$error":"#REF!"}},{"$f":"Результаты!#REF!","v":{"$error":"#REF!"}},{"$f":"Результаты!#REF!","v":{"$error":"#REF!"}},{"$f":"Результаты!#REF!","v":{"$error":"#REF!"}},{"$f":"Результаты!#REF!","v":{"$error":"#REF!"}},{"$f":"Результаты!#REF!","v":{"$error":"#REF!"}},{"$f":"Результаты!#REF!","v":{"$error":"#REF!"}},{"$f":"Результаты!#REF!","v":{"$error":"#REF!"}},{"$f":"Результаты!#REF!","v":{"$error":"#REF!"}},{"$f":"Результаты!#REF!","v":{"$error":"#REF!"}},{"$f":"Результаты!#REF!","v":{"$error":"#REF!"}}]
[]
[]
[null,{"$f":"B4554","v":1},"Информационная обработка текстов различных стилей и жанров. Текст как речевое произведение. Смысловая и композиционная целостность текста. Отбор языковых средств в тексте в зависимости от темы, цели, адресата и ситуации общения. Создание текстов различных стилей и функционально-смысловых типов речи. Грамматические нормы (морфологические нормы). Грамматические  нормы  (синтаксические нормы). Лексические нормы. Пунктуация в простом и сложном предложениях. Орфограмма"]
[null,{"$f":"B4555","v":2},"Текст как речевое произведение. Смысловая и композиционная целостность текста. Анализ текста"]
[null,{"$f":"B4556","v":3},"Выразительные средства лексики и фразеологии. Анализ средств выразительности"]
[null,{"$f":"B4557","v":4},"Правописание приставок. Слитное, дефисное, раздельное написание"]
[null,{"$f":"B4558","v":5},"Правописание суффиксов различных частей речи (кроме -Н-/-НН-). Правописание -Н- и -НН- в различных частях речи. Правописание личных окончаний глаголов и суффиксов причастий настоящего времени"]
[null,{"$f":"B4559","v":6},"Лексика и фразеология. Синонимы. Фразеологические обороты. Группы слов по происхождению и употреблению"]
[null,{"$f":"B4560","v":7},"Словосочетание"]
[null,{"$f":"B4561","v":8},"Предложение. Грамматическая (предикативная) основа предложения. Подлежащее и сказуемое как главные члены предложения "]
[null,{"$f":"B4562","v":9},"Осложнённое простое предложение"]
[null,{"$f":"B4563","v":10},"Пунктуационный анализ. Знаки препинания в предложениях со словами и конструкциями, грамматически не связанными с членами предложения"]
[null,{"$f":"B4564","v":11},"Синтаксический анализ сложного предложения"]
[null,{"$f":"B4565","v":12},"Пунктуационный анализ. Знаки препинания в сложносочинённом и сложноподчинённом предложениях"]
[null,{"$f":"B4566","v":13},"Синтаксический анализ сложного предложения"]
[null,{"$f":"B4567","v":14},"Сложные предложения с разными видами связи между частями"]
[null,{"$f":"B4568","v":15},"Текст как речевое произведение. Смысловая и композиционная целостность текста. Создание текстов различных стилей и функционально-смысловых типов речи. Информационная обработка текстов различных стилей и жанров. Грамматические нормы (морфологические нормы). Грамматические нормы (синтаксические нормы). Лексические нормы"]
[null,{"$f":"B4569","v":16},0]
[null,{"$f":"B4570","v":17},0]
[null,{"$f":"B4571","v":18},0]
[null,{"$f":"B4572","v":19},0]
[null,{"$f":"B4573","v":20},0]
[null,{"$f":"B4574","v":21},0]
[null,{"$f":"B4575","v":22},0]
[null,{"$f":"B4576","v":23},0]
[null,{"$f":"B4577","v":24},0]
[null,{"$f":"B4578","v":25},0]
[null,{"$f":"B4579","v":26},0]
[null,{"$f":"B4580","v":27},0]
[null,{"$f":"B4581","v":28},0]
[null,{"$f":"B4582","v":29},0]
[null,{"$f":"B4583","v":30},0]
[null,{"$f":"B4584","v":31},0]
[null,{"$f":"B4585","v":32},0]
[null,{"$f":"B4586","v":33},0]
[null,{"$f":"B4587","v":34},0]
[null,{"$f":"B4588","v":35},0]
[]
[]
["Рекомендация: обратите внимание на задания по темам, которые вызвали у Вас затруднения, решены с ошибкой и отмечены \"0\" или к решению которых Вы не приступили (пустые ячейки)!"]
[]
[]
["Центр независимой оценки качества образования и образовательного аудита \"Легион\""]
[]
["Образовательная организация",null,null,null,{"$f":"E4596","v":"Ленинская СОШ"}]
["Предмет",null,null,null,{"$f":"E4597","v":"Русский язык"}]
["Максимальный балл",null,null,null,39]
["Пороговый балл",null,null,null,15]
["Зона риска",null,null,null,{"$f":"Результаты!E15","v":15},null,null,{"$f":"Результаты!H15","v":16}]
[]
["Уровни",null,null,null,{"$f":"E4602","v":1},{"$f":"F4602","v":2},3,4,5,6,7,8,9,10,11,12,13,14,15,"ПР.ГР",{"$error":"#REF!"},{"$error":"#REF!"},{"$error":"#REF!"},{"$error":"#REF!"},{"$error":"#REF!"},{"$error":"#REF!"},{"$error":"#REF!"},{"$error":"#REF!"},{"$error":"#REF!"},{"$error":"#REF!"},{"$error":"#REF!"},{"$error":"#REF!"},{"$error":"#REF!"},{"$error":"#REF!"},{"$error":"#REF!"},{"$error":"#REF!"},{"$error":"#REF!"},{"$error":"#REF!"},{"$error":"#REF!"},"Тестовый балл","% выплнения заданий по уровням",null,null,"Оценка"]
[null,null,null,null,null,null,null,null,null,null,null,null,null,null,null,null,null,null,null,null,null,null,null,null,null,null,null,null,null,null,null,null,null,null,null,null,null,null,null,null,"Базовый","Повышенный","Высокий"]
["№","Класс","Ф.И.О.","№ задания",{"$f":"E4604","v":1},{"$f":"F4604","v":2},3,4,5,6,7,8,9,10,11,12,13,14,15,0,{"$error":"#REF!"},{"$error":"#REF!"},{"$error":"#REF!"},{"$error":"#REF!"},{"$error":"#REF!"},{"$error":"#REF!"},{"$error":"#REF!"},{"$error":"#REF!"},{"$error":"#REF!"},{"$error":"#REF!"},{"$error":"#REF!"},{"$error":"#REF!"},{"$error":"#REF!"},{"$error":"#REF!"},{"$error":"#REF!"},{"$error":"#REF!"},{"$error":"#REF!"},{"$error":"#REF!"},{"$error":"#REF!"}]
["Максимальный балл",null,null,null,{"$f":"E4605","v":7},{"$f":"F4605","v":1},1,1,1,1,1,1,1,1,1,1,1,1,9,10,{"$error":"#REF!"},{"$error":"#REF!"},{"$error":"#REF!"},{"$error":"#REF!"},{"$error":"#REF!"},{"$error":"#REF!"},{"$error":"#REF!"},{"$error":"#REF!"},{"$error":"#REF!"},{"$error":"#REF!"},{"$error":"#REF!"},{"$error":"#REF!"},{"$error":"#REF!"},{"$error":"#REF!"},{"$error":"#REF!"},{"$error":"#REF!"},{"$error":"#REF!"},{"$error":"#REF!"},{"$error":"#REF!"},39,76.92307692307692,{"$error":"#REF!"},23.076923076923077,0]
[null,null,null,"вариант"]
[{"$f":"Результаты!#REF!","v":{"$error":"#REF!"}},{"$f":"Результаты!#REF!","v":{"$error":"#REF!"}},{"$f":"Результаты!#REF!","v":{"$error":"#REF!"}},{"$f":"Результаты!#REF!","v":{"$error":"#REF!"}},{"$f":"Результаты!#REF!","v":{"$error":"#REF!"}},{"$f":"Результаты!#REF!","v":{"$error":"#REF!"}},{"$f":"Результаты!#REF!","v":{"$error":"#REF!"}},{"$f":"Результаты!#REF!","v":{"$error":"#REF!"}},{"$f":"Результаты!#REF!","v":{"$error":"#REF!"}},{"$f":"Результаты!#REF!","v":{"$error":"#REF!"}},{"$f":"Результаты!#REF!","v":{"$error":"#REF!"}},{"$f":"Результаты!#REF!","v":{"$error":"#REF!"}},{"$f":"Результаты!#REF!","v":{"$error":"#REF!"}},{"$f":"Результаты!#REF!","v":{"$error":"#REF!"}},{"$f":"Результаты!#REF!","v":{"$error":"#REF!"}},{"$f":"Результаты!#REF!","v":{"$error":"#REF!"}},{"$f":"Результаты!#REF!","v":{"$error":"#REF!"}},{"$f":"Результаты!#REF!","v":{"$error":"#REF!"}},{"$f":"Результаты!#REF!","v":{"$error":"#REF!"}},{"$f":"Результаты!#REF!","v":{"$error":"#REF!"}},{"$f":"Результаты!#REF!","v":{"$error":"#REF!"}},{"$f":"Результаты!#REF!","v":{"$error":"#REF!"}},{"$f":"Результаты!#REF!","v":{"$error":"#REF!"}},{"$f":"Результаты!#REF!","v":{"$error":"#REF!"}},{"$f":"Результаты!#REF!","v":{"$error":"#REF!"}},{"$f":"Результаты!#REF!","v":{"$error":"#REF!"}},{"$f":"Результаты!#REF!","v":{"$error":"#REF!"}},{"$f":"Результаты!#REF!","v":{"$error":"#REF!"}},{"$f":"Результаты!#REF!","v":{"$error":"#REF!"}},{"$f":"Результаты!#REF!","v":{"$error":"#REF!"}},{"$f":"Результаты!#REF!","v":{"$error":"#REF!"}},{"$f":"Результаты!#REF!","v":{"$error":"#REF!"}},{"$f":"Результаты!#REF!","v":{"$error":"#REF!"}},{"$f":"Результаты!#REF!","v":{"$error":"#REF!"}},{"$f":"Результаты!#REF!","v":{"$error":"#REF!"}},{"$f":"Результаты!#REF!","v":{"$error":"#REF!"}},{"$f":"Результаты!#REF!","v":{"$error":"#REF!"}},{"$f":"Результаты!#REF!","v":{"$error":"#REF!"}},{"$f":"Результаты!#REF!","v":{"$error":"#REF!"}},{"$f":"Результаты!#REF!","v":{"$error":"#REF!"}},{"$f":"Результаты!#REF!","v":{"$error":"#REF!"}},{"$f":"Результаты!#REF!","v":{"$error":"#REF!"}},{"$f":"Результаты!#REF!","v":{"$error":"#REF!"}},{"$f":"Результаты!#REF!","v":{"$error":"#REF!"}}]
[]
[]
[null,{"$f":"B4610","v":1},"Информационная обработка текстов различных стилей и жанров. Текст как речевое произведение. Смысловая и композиционная целостность текста. Отбор языковых средств в тексте в зависимости от темы, цели, адресата и ситуации общения. Создание текстов различных стилей и функционально-смысловых типов речи. Грамматические нормы (морфологические нормы). Грамматические  нормы  (синтаксические нормы). Лексические нормы. Пунктуация в простом и сложном предложениях. Орфограмма"]
[null,{"$f":"B4611","v":2},"Текст как речевое произведение. Смысловая и композиционная целостность текста. Анализ текста"]
[null,{"$f":"B4612","v":3},"Выразительные средства лексики и фразеологии. Анализ средств выразительности"]
[null,{"$f":"B4613","v":4},"Правописание приставок. Слитное, дефисное, раздельное написание"]
[null,{"$f":"B4614","v":5},"Правописание суффиксов различных частей речи (кроме -Н-/-НН-). Правописание -Н- и -НН- в различных частях речи. Правописание личных окончаний глаголов и суффиксов причастий настоящего времени"]
[null,{"$f":"B4615","v":6},"Лексика и фразеология. Синонимы. Фразеологические обороты. Группы слов по происхождению и употреблению"]
[null,{"$f":"B4616","v":7},"Словосочетание"]
[null,{"$f":"B4617","v":8},"Предложение. Грамматическая (предикативная) основа предложения. Подлежащее и сказуемое как главные члены предложения "]
[null,{"$f":"B4618","v":9},"Осложнённое простое предложение"]
[null,{"$f":"B4619","v":10},"Пунктуационный анализ. Знаки препинания в предложениях со словами и конструкциями, грамматически не связанными с членами предложения"]
[null,{"$f":"B4620","v":11},"Синтаксический анализ сложного предложения"]
[null,{"$f":"B4621","v":12},"Пунктуационный анализ. Знаки препинания в сложносочинённом и сложноподчинённом предложениях"]
[null,{"$f":"B4622","v":13},"Синтаксический анализ сложного предложения"]
[null,{"$f":"B4623","v":14},"Сложные предложения с разными видами связи между частями"]
[null,{"$f":"B4624","v":15},"Текст как речевое произведение. Смысловая и композиционная целостность текста. Создание текстов различных стилей и функционально-смысловых типов речи. Информационная обработка текстов различных стилей и жанров. Грамматические нормы (морфологические нормы). Грамматические нормы (синтаксические нормы). Лексические нормы"]
[null,{"$f":"B4625","v":16},0]
[null,{"$f":"B4626","v":17},0]
[null,{"$f":"B4627","v":18},0]
[null,{"$f":"B4628","v":19},0]
[null,{"$f":"B4629","v":20},0]
[null,{"$f":"B4630","v":21},0]
[null,{"$f":"B4631","v":22},0]
[null,{"$f":"B4632","v":23},0]
[null,{"$f":"B4633","v":24},0]
[null,{"$f":"B4634","v":25},0]
[null,{"$f":"B4635","v":26},0]
[null,{"$f":"B4636","v":27},0]
[null,{"$f":"B4637","v":28},0]
[null,{"$f":"B4638","v":29},0]
[null,{"$f":"B4639","v":30},0]
[null,{"$f":"B4640","v":31},0]
[null,{"$f":"B4641","v":32},0]
[null,{"$f":"B4642","v":33},0]
[null,{"$f":"B4643","v":34},0]
[null,{"$f":"B4644","v":35},0]
[]
[]
["Рекомендация: обратите внимание на задания по темам, которые вызвали у Вас затруднения, решены с ошибкой и отмечены \"0\" или к решению которых Вы не приступили (пустые ячейки)!"]
[]
[]
["Центр независимой оценки качества образования и образовательного аудита \"Легион\""]
[]
["Образовательная организация",null,null,null,{"$f":"E4652","v":"Ленинская СОШ"}]
["Предмет",null,null,null,{"$f":"E4653","v":"Русский язык"}]
["Максимальный балл",null,null,null,39]
["Пороговый балл",null,null,null,15]
["Зона риска",null,null,null,{"$f":"Результаты!E15","v":15},null,null,{"$f":"Результаты!H15","v":16}]
[]
["Уровни",null,null,null,{"$f":"E4658","v":1},{"$f":"F4658","v":2},3,4,5,6,7,8,9,10,11,12,13,14,15,"ПР.ГР",{"$error":"#REF!"},{"$error":"#REF!"},{"$error":"#REF!"},{"$error":"#REF!"},{"$error":"#REF!"},{"$error":"#REF!"},{"$error":"#REF!"},{"$error":"#REF!"},{"$error":"#REF!"},{"$error":"#REF!"},{"$error":"#REF!"},{"$error":"#REF!"},{"$error":"#REF!"},{"$error":"#REF!"},{"$error":"#REF!"},{"$error":"#REF!"},{"$error":"#REF!"},{"$error":"#REF!"},{"$error":"#REF!"},"Тестовый балл","% выплнения заданий по уровням",null,null,"Оценка"]
[null,null,null,null,null,null,null,null,null,null,null,null,null,null,null,null,null,null,null,null,null,null,null,null,null,null,null,null,null,null,null,null,null,null,null,null,null,null,null,null,"Базовый","Повышенный","Высокий"]
["№","Класс","Ф.И.О.","№ задания",{"$f":"E4660","v":1},{"$f":"F4660","v":2},3,4,5,6,7,8,9,10,11,12,13,14,15,0,{"$error":"#REF!"},{"$error":"#REF!"},{"$error":"#REF!"},{"$error":"#REF!"},{"$error":"#REF!"},{"$error":"#REF!"},{"$error":"#REF!"},{"$error":"#REF!"},{"$error":"#REF!"},{"$error":"#REF!"},{"$error":"#REF!"},{"$error":"#REF!"},{"$error":"#REF!"},{"$error":"#REF!"},{"$error":"#REF!"},{"$error":"#REF!"},{"$error":"#REF!"},{"$error":"#REF!"},{"$error":"#REF!"}]
["Максимальный балл",null,null,null,{"$f":"E4661","v":7},{"$f":"F4661","v":1},1,1,1,1,1,1,1,1,1,1,1,1,9,10,{"$error":"#REF!"},{"$error":"#REF!"},{"$error":"#REF!"},{"$error":"#REF!"},{"$error":"#REF!"},{"$error":"#REF!"},{"$error":"#REF!"},{"$error":"#REF!"},{"$error":"#REF!"},{"$error":"#REF!"},{"$error":"#REF!"},{"$error":"#REF!"},{"$error":"#REF!"},{"$error":"#REF!"},{"$error":"#REF!"},{"$error":"#REF!"},{"$error":"#REF!"},{"$error":"#REF!"},{"$error":"#REF!"},39,76.92307692307692,{"$error":"#REF!"},23.076923076923077,0]
[null,null,null,"вариант"]
[{"$f":"Результаты!#REF!","v":{"$error":"#REF!"}},{"$f":"Результаты!#REF!","v":{"$error":"#REF!"}},{"$f":"Результаты!#REF!","v":{"$error":"#REF!"}},{"$f":"Результаты!#REF!","v":{"$error":"#REF!"}},{"$f":"Результаты!#REF!","v":{"$error":"#REF!"}},{"$f":"Результаты!#REF!","v":{"$error":"#REF!"}},{"$f":"Результаты!#REF!","v":{"$error":"#REF!"}},{"$f":"Результаты!#REF!","v":{"$error":"#REF!"}},{"$f":"Результаты!#REF!","v":{"$error":"#REF!"}},{"$f":"Результаты!#REF!","v":{"$error":"#REF!"}},{"$f":"Результаты!#REF!","v":{"$error":"#REF!"}},{"$f":"Результаты!#REF!","v":{"$error":"#REF!"}},{"$f":"Результаты!#REF!","v":{"$error":"#REF!"}},{"$f":"Результаты!#REF!","v":{"$error":"#REF!"}},{"$f":"Результаты!#REF!","v":{"$error":"#REF!"}},{"$f":"Результаты!#REF!","v":{"$error":"#REF!"}},{"$f":"Результаты!#REF!","v":{"$error":"#REF!"}},{"$f":"Результаты!#REF!","v":{"$error":"#REF!"}},{"$f":"Результаты!#REF!","v":{"$error":"#REF!"}},{"$f":"Результаты!#REF!","v":{"$error":"#REF!"}},{"$f":"Результаты!#REF!","v":{"$error":"#REF!"}},{"$f":"Результаты!#REF!","v":{"$error":"#REF!"}},{"$f":"Результаты!#REF!","v":{"$error":"#REF!"}},{"$f":"Результаты!#REF!","v":{"$error":"#REF!"}},{"$f":"Результаты!#REF!","v":{"$error":"#REF!"}},{"$f":"Результаты!#REF!","v":{"$error":"#REF!"}},{"$f":"Результаты!#REF!","v":{"$error":"#REF!"}},{"$f":"Результаты!#REF!","v":{"$error":"#REF!"}},{"$f":"Результаты!#REF!","v":{"$error":"#REF!"}},{"$f":"Результаты!#REF!","v":{"$error":"#REF!"}},{"$f":"Результаты!#REF!","v":{"$error":"#REF!"}},{"$f":"Результаты!#REF!","v":{"$error":"#REF!"}},{"$f":"Результаты!#REF!","v":{"$error":"#REF!"}},{"$f":"Результаты!#REF!","v":{"$error":"#REF!"}},{"$f":"Результаты!#REF!","v":{"$error":"#REF!"}},{"$f":"Результаты!#REF!","v":{"$error":"#REF!"}},{"$f":"Результаты!#REF!","v":{"$error":"#REF!"}},{"$f":"Результаты!#REF!","v":{"$error":"#REF!"}},{"$f":"Результаты!#REF!","v":{"$error":"#REF!"}},{"$f":"Результаты!#REF!","v":{"$error":"#REF!"}},{"$f":"Результаты!#REF!","v":{"$error":"#REF!"}},{"$f":"Результаты!#REF!","v":{"$error":"#REF!"}},{"$f":"Результаты!#REF!","v":{"$error":"#REF!"}},{"$f":"Результаты!#REF!","v":{"$error":"#REF!"}}]
[]
[]
[null,{"$f":"B4666","v":1},"Информационная обработка текстов различных стилей и жанров. Текст как речевое произведение. Смысловая и композиционная целостность текста. Отбор языковых средств в тексте в зависимости от темы, цели, адресата и ситуации общения. Создание текстов различных стилей и функционально-смысловых типов речи. Грамматические нормы (морфологические нормы). Грамматические  нормы  (синтаксические нормы). Лексические нормы. Пунктуация в простом и сложном предложениях. Орфограмма"]
[null,{"$f":"B4667","v":2},"Текст как речевое произведение. Смысловая и композиционная целостность текста. Анализ текста"]
[null,{"$f":"B4668","v":3},"Выразительные средства лексики и фразеологии. Анализ средств выразительности"]
[null,{"$f":"B4669","v":4},"Правописание приставок. Слитное, дефисное, раздельное написание"]
[null,{"$f":"B4670","v":5},"Правописание суффиксов различных частей речи (кроме -Н-/-НН-). Правописание -Н- и -НН- в различных частях речи. Правописание личных окончаний глаголов и суффиксов причастий настоящего времени"]
[null,{"$f":"B4671","v":6},"Лексика и фразеология. Синонимы. Фразеологические обороты. Группы слов по происхождению и употреблению"]
[null,{"$f":"B4672","v":7},"Словосочетание"]
[null,{"$f":"B4673","v":8},"Предложение. Грамматическая (предикативная) основа предложения. Подлежащее и сказуемое как главные члены предложения "]
[null,{"$f":"B4674","v":9},"Осложнённое простое предложение"]
[null,{"$f":"B4675","v":10},"Пунктуационный анализ. Знаки препинания в предложениях со словами и конструкциями, грамматически не связанными с членами предложения"]
[null,{"$f":"B4676","v":11},"Синтаксический анализ сложного предложения"]
[null,{"$f":"B4677","v":12},"Пунктуационный анализ. Знаки препинания в сложносочинённом и сложноподчинённом предложениях"]
[null,{"$f":"B4678","v":13},"Синтаксический анализ сложного предложения"]
[null,{"$f":"B4679","v":14},"Сложные предложения с разными видами связи между частями"]
[null,{"$f":"B4680","v":15},"Текст как речевое произведение. Смысловая и композиционная целостность текста. Создание текстов различных стилей и функционально-смысловых типов речи. Информационная обработка текстов различных стилей и жанров. Грамматические нормы (морфологические нормы). Грамматические нормы (синтаксические нормы). Лексические нормы"]
[null,{"$f":"B4681","v":16},0]
[null,{"$f":"B4682","v":17},0]
[null,{"$f":"B4683","v":18},0]
[null,{"$f":"B4684","v":19},0]
[null,{"$f":"B4685","v":20},0]
[null,{"$f":"B4686","v":21},0]
[null,{"$f":"B4687","v":22},0]
[null,{"$f":"B4688","v":23},0]
[null,{"$f":"B4689","v":24},0]
[null,{"$f":"B4690","v":25},0]
[null,{"$f":"B4691","v":26},0]
[null,{"$f":"B4692","v":27},0]
[null,{"$f":"B4693","v":28},0]
[null,{"$f":"B4694","v":29},0]
[null,{"$f":"B4695","v":30},0]
[null,{"$f":"B4696","v":31},0]
[null,{"$f":"B4697","v":32},0]
[null,{"$f":"B4698","v":33},0]
[null,{"$f":"B4699","v":34},0]
[null,{"$f":"B4700","v":35},0]
[]
[]
["Рекомендация: обратите внимание на задания по темам, которые вызвали у Вас затруднения, решены с ошибкой и отмечены \"0\" или к решению которых Вы не приступили (пустые ячейки)!"]
[]
[]
["Центр независимой оценки качества образования и образовательного аудита \"Легион\""]
[]
["Образовательная организация",null,null,null,{"$f":"E4708","v":"Ленинская СОШ"}]
["Предмет",null,null,null,{"$f":"E4709","v":"Русский язык"}]
["Максимальный балл",null,null,null,39]
["Пороговый балл",null,null,null,15]
["Зона риска",null,null,null,{"$f":"Результаты!E15","v":15},null,null,{"$f":"Результаты!H15","v":16}]
[]
["Уровни",null,null,null,{"$f":"E4714","v":1},{"$f":"F4714","v":2},3,4,5,6,7,8,9,10,11,12,13,14,15,"ПР.ГР",{"$error":"#REF!"},{"$error":"#REF!"},{"$error":"#REF!"},{"$error":"#REF!"},{"$error":"#REF!"},{"$error":"#REF!"},{"$error":"#REF!"},{"$error":"#REF!"},{"$error":"#REF!"},{"$error":"#REF!"},{"$error":"#REF!"},{"$error":"#REF!"},{"$error":"#REF!"},{"$error":"#REF!"},{"$error":"#REF!"},{"$error":"#REF!"},{"$error":"#REF!"},{"$error":"#REF!"},{"$error":"#REF!"},"Тестовый балл","% выплнения заданий по уровням",null,null,"Оценка"]
[null,null,null,null,null,null,null,null,null,null,null,null,null,null,null,null,null,null,null,null,null,null,null,null,null,null,null,null,null,null,null,null,null,null,null,null,null,null,null,null,"Базовый","Повышенный","Высокий"]
["№","Класс","Ф.И.О.","№ задания",{"$f":"E4716","v":1},{"$f":"F4716","v":2},3,4,5,6,7,8,9,10,11,12,13,14,15,0,{"$error":"#REF!"},{"$error":"#REF!"},{"$error":"#REF!"},{"$error":"#REF!"},{"$error":"#REF!"},{"$error":"#REF!"},{"$error":"#REF!"},{"$error":"#REF!"},{"$error":"#REF!"},{"$error":"#REF!"},{"$error":"#REF!"},{"$error":"#REF!"},{"$error":"#REF!"},{"$error":"#REF!"},{"$error":"#REF!"},{"$error":"#REF!"},{"$error":"#REF!"},{"$error":"#REF!"},{"$error":"#REF!"}]
["Максимальный балл",null,null,null,{"$f":"E4717","v":7},{"$f":"F4717","v":1},1,1,1,1,1,1,1,1,1,1,1,1,9,10,{"$error":"#REF!"},{"$error":"#REF!"},{"$error":"#REF!"},{"$error":"#REF!"},{"$error":"#REF!"},{"$error":"#REF!"},{"$error":"#REF!"},{"$error":"#REF!"},{"$error":"#REF!"},{"$error":"#REF!"},{"$error":"#REF!"},{"$error":"#REF!"},{"$error":"#REF!"},{"$error":"#REF!"},{"$error":"#REF!"},{"$error":"#REF!"},{"$error":"#REF!"},{"$error":"#REF!"},{"$error":"#REF!"},39,76.92307692307692,{"$error":"#REF!"},23.076923076923077,0]
[null,null,null,"вариант"]
[{"$f":"Результаты!#REF!","v":{"$error":"#REF!"}},{"$f":"Результаты!#REF!","v":{"$error":"#REF!"}},{"$f":"Результаты!#REF!","v":{"$error":"#REF!"}},{"$f":"Результаты!#REF!","v":{"$error":"#REF!"}},{"$f":"Результаты!#REF!","v":{"$error":"#REF!"}},{"$f":"Результаты!#REF!","v":{"$error":"#REF!"}},{"$f":"Результаты!#REF!","v":{"$error":"#REF!"}},{"$f":"Результаты!#REF!","v":{"$error":"#REF!"}},{"$f":"Результаты!#REF!","v":{"$error":"#REF!"}},{"$f":"Результаты!#REF!","v":{"$error":"#REF!"}},{"$f":"Результаты!#REF!","v":{"$error":"#REF!"}},{"$f":"Результаты!#REF!","v":{"$error":"#REF!"}},{"$f":"Результаты!#REF!","v":{"$error":"#REF!"}},{"$f":"Результаты!#REF!","v":{"$error":"#REF!"}},{"$f":"Результаты!#REF!","v":{"$error":"#REF!"}},{"$f":"Результаты!#REF!","v":{"$error":"#REF!"}},{"$f":"Результаты!#REF!","v":{"$error":"#REF!"}},{"$f":"Результаты!#REF!","v":{"$error":"#REF!"}},{"$f":"Результаты!#REF!","v":{"$error":"#REF!"}},{"$f":"Результаты!#REF!","v":{"$error":"#REF!"}},{"$f":"Результаты!#REF!","v":{"$error":"#REF!"}},{"$f":"Результаты!#REF!","v":{"$error":"#REF!"}},{"$f":"Результаты!#REF!","v":{"$error":"#REF!"}},{"$f":"Результаты!#REF!","v":{"$error":"#REF!"}},{"$f":"Результаты!#REF!","v":{"$error":"#REF!"}},{"$f":"Результаты!#REF!","v":{"$error":"#REF!"}},{"$f":"Результаты!#REF!","v":{"$error":"#REF!"}},{"$f":"Результаты!#REF!","v":{"$error":"#REF!"}},{"$f":"Результаты!#REF!","v":{"$error":"#REF!"}},{"$f":"Результаты!#REF!","v":{"$error":"#REF!"}},{"$f":"Результаты!#REF!","v":{"$error":"#REF!"}},{"$f":"Результаты!#REF!","v":{"$error":"#REF!"}},{"$f":"Результаты!#REF!","v":{"$error":"#REF!"}},{"$f":"Результаты!#REF!","v":{"$error":"#REF!"}},{"$f":"Результаты!#REF!","v":{"$error":"#REF!"}},{"$f":"Результаты!#REF!","v":{"$error":"#REF!"}},{"$f":"Результаты!#REF!","v":{"$error":"#REF!"}},{"$f":"Результаты!#REF!","v":{"$error":"#REF!"}},{"$f":"Результаты!#REF!","v":{"$error":"#REF!"}},{"$f":"Результаты!#REF!","v":{"$error":"#REF!"}},{"$f":"Результаты!#REF!","v":{"$error":"#REF!"}},{"$f":"Результаты!#REF!","v":{"$error":"#REF!"}},{"$f":"Результаты!#REF!","v":{"$error":"#REF!"}},{"$f":"Результаты!#REF!","v":{"$error":"#REF!"}}]
[]
[]
[null,{"$f":"B4722","v":1},"Информационная обработка текстов различных стилей и жанров. Текст как речевое произведение. Смысловая и композиционная целостность текста. Отбор языковых средств в тексте в зависимости от темы, цели, адресата и ситуации общения. Создание текстов различных стилей и функционально-смысловых типов речи. Грамматические нормы (морфологические нормы). Грамматические  нормы  (синтаксические нормы). Лексические нормы. Пунктуация в простом и сложном предложениях. Орфограмма"]
[null,{"$f":"B4723","v":2},"Текст как речевое произведение. Смысловая и композиционная целостность текста. Анализ текста"]
[null,{"$f":"B4724","v":3},"Выразительные средства лексики и фразеологии. Анализ средств выразительности"]
[null,{"$f":"B4725","v":4},"Правописание приставок. Слитное, дефисное, раздельное написание"]
[null,{"$f":"B4726","v":5},"Правописание суффиксов различных частей речи (кроме -Н-/-НН-). Правописание -Н- и -НН- в различных частях речи. Правописание личных окончаний глаголов и суффиксов причастий настоящего времени"]
[null,{"$f":"B4727","v":6},"Лексика и фразеология. Синонимы. Фразеологические обороты. Группы слов по происхождению и употреблению"]
[null,{"$f":"B4728","v":7},"Словосочетание"]
[null,{"$f":"B4729","v":8},"Предложение. Грамматическая (предикативная) основа предложения. Подлежащее и сказуемое как главные члены предложения "]
[null,{"$f":"B4730","v":9},"Осложнённое простое предложение"]
[null,{"$f":"B4731","v":10},"Пунктуационный анализ. Знаки препинания в предложениях со словами и конструкциями, грамматически не связанными с членами предложения"]
[null,{"$f":"B4732","v":11},"Синтаксический анализ сложного предложения"]
[null,{"$f":"B4733","v":12},"Пунктуационный анализ. Знаки препинания в сложносочинённом и сложноподчинённом предложениях"]
[null,{"$f":"B4734","v":13},"Синтаксический анализ сложного предложения"]
[null,{"$f":"B4735","v":14},"Сложные предложения с разными видами связи между частями"]
[null,{"$f":"B4736","v":15},"Текст как речевое произведение. Смысловая и композиционная целостность текста. Создание текстов различных стилей и функционально-смысловых типов речи. Информационная обработка текстов различных стилей и жанров. Грамматические нормы (морфологические нормы). Грамматические нормы (синтаксические нормы). Лексические нормы"]
[null,{"$f":"B4737","v":16},0]
[null,{"$f":"B4738","v":17},0]
[null,{"$f":"B4739","v":18},0]
[null,{"$f":"B4740","v":19},0]
[null,{"$f":"B4741","v":20},0]
[null,{"$f":"B4742","v":21},0]
[null,{"$f":"B4743","v":22},0]
[null,{"$f":"B4744","v":23},0]
[null,{"$f":"B4745","v":24},0]
[null,{"$f":"B4746","v":25},0]
[null,{"$f":"B4747","v":26},0]
[null,{"$f":"B4748","v":27},0]
[null,{"$f":"B4749","v":28},0]
[null,{"$f":"B4750","v":29},0]
[null,{"$f":"B4751","v":30},0]
[null,{"$f":"B4752","v":31},0]
[null,{"$f":"B4753","v":32},0]
[null,{"$f":"B4754","v":33},0]
[null,{"$f":"B4755","v":34},0]
[null,{"$f":"B4756","v":35},0]
[]
[]
["Рекомендация: обратите внимание на задания по темам, которые вызвали у Вас затруднения, решены с ошибкой и отмечены \"0\" или к решению которых Вы не приступили (пустые ячейки)!"]
[]
[]
["Центр независимой оценки качества образования и образовательного аудита \"Легион\""]
[]
["Образовательная организация",null,null,null,{"$f":"E4764","v":"Ленинская СОШ"}]
["Предмет",null,null,null,{"$f":"E4765","v":"Русский язык"}]
["Максимальный балл",null,null,null,39]
["Пороговый балл",null,null,null,15]
["Зона риска",null,null,null,{"$f":"Результаты!E15","v":15},null,null,{"$f":"Результаты!H15","v":16}]
[]
["Уровни",null,null,null,{"$f":"E4770","v":1},{"$f":"F4770","v":2},3,4,5,6,7,8,9,10,11,12,13,14,15,"ПР.ГР",{"$error":"#REF!"},{"$error":"#REF!"},{"$error":"#REF!"},{"$error":"#REF!"},{"$error":"#REF!"},{"$error":"#REF!"},{"$error":"#REF!"},{"$error":"#REF!"},{"$error":"#REF!"},{"$error":"#REF!"},{"$error":"#REF!"},{"$error":"#REF!"},{"$error":"#REF!"},{"$error":"#REF!"},{"$error":"#REF!"},{"$error":"#REF!"},{"$error":"#REF!"},{"$error":"#REF!"},{"$error":"#REF!"},"Тестовый балл","% выплнения заданий по уровням",null,null,"Оценка"]
[null,null,null,null,null,null,null,null,null,null,null,null,null,null,null,null,null,null,null,null,null,null,null,null,null,null,null,null,null,null,null,null,null,null,null,null,null,null,null,null,"Базовый","Повышенный","Высокий"]
["№","Класс","Ф.И.О.","№ задания",{"$f":"E4772","v":1},{"$f":"F4772","v":2},3,4,5,6,7,8,9,10,11,12,13,14,15,0,{"$error":"#REF!"},{"$error":"#REF!"},{"$error":"#REF!"},{"$error":"#REF!"},{"$error":"#REF!"},{"$error":"#REF!"},{"$error":"#REF!"},{"$error":"#REF!"},{"$error":"#REF!"},{"$error":"#REF!"},{"$error":"#REF!"},{"$error":"#REF!"},{"$error":"#REF!"},{"$error":"#REF!"},{"$error":"#REF!"},{"$error":"#REF!"},{"$error":"#REF!"},{"$error":"#REF!"},{"$error":"#REF!"}]
["Максимальный балл",null,null,null,{"$f":"E4773","v":7},{"$f":"F4773","v":1},1,1,1,1,1,1,1,1,1,1,1,1,9,10,{"$error":"#REF!"},{"$error":"#REF!"},{"$error":"#REF!"},{"$error":"#REF!"},{"$error":"#REF!"},{"$error":"#REF!"},{"$error":"#REF!"},{"$error":"#REF!"},{"$error":"#REF!"},{"$error":"#REF!"},{"$error":"#REF!"},{"$error":"#REF!"},{"$error":"#REF!"},{"$error":"#REF!"},{"$error":"#REF!"},{"$error":"#REF!"},{"$error":"#REF!"},{"$error":"#REF!"},{"$error":"#REF!"},39,76.92307692307692,{"$error":"#REF!"},23.076923076923077,0]
[null,null,null,"вариант"]
[{"$f":"Результаты!#REF!","v":{"$error":"#REF!"}},{"$f":"Результаты!#REF!","v":{"$error":"#REF!"}},{"$f":"Результаты!#REF!","v":{"$error":"#REF!"}},{"$f":"Результаты!#REF!","v":{"$error":"#REF!"}},{"$f":"Результаты!#REF!","v":{"$error":"#REF!"}},{"$f":"Результаты!#REF!","v":{"$error":"#REF!"}},{"$f":"Результаты!#REF!","v":{"$error":"#REF!"}},{"$f":"Результаты!#REF!","v":{"$error":"#REF!"}},{"$f":"Результаты!#REF!","v":{"$error":"#REF!"}},{"$f":"Результаты!#REF!","v":{"$error":"#REF!"}},{"$f":"Результаты!#REF!","v":{"$error":"#REF!"}},{"$f":"Результаты!#REF!","v":{"$error":"#REF!"}},{"$f":"Результаты!#REF!","v":{"$error":"#REF!"}},{"$f":"Результаты!#REF!","v":{"$error":"#REF!"}},{"$f":"Результаты!#REF!","v":{"$error":"#REF!"}},{"$f":"Результаты!#REF!","v":{"$error":"#REF!"}},{"$f":"Результаты!#REF!","v":{"$error":"#REF!"}},{"$f":"Результаты!#REF!","v":{"$error":"#REF!"}},{"$f":"Результаты!#REF!","v":{"$error":"#REF!"}},{"$f":"Результаты!#REF!","v":{"$error":"#REF!"}},{"$f":"Результаты!#REF!","v":{"$error":"#REF!"}},{"$f":"Результаты!#REF!","v":{"$error":"#REF!"}},{"$f":"Результаты!#REF!","v":{"$error":"#REF!"}},{"$f":"Результаты!#REF!","v":{"$error":"#REF!"}},{"$f":"Результаты!#REF!","v":{"$error":"#REF!"}},{"$f":"Результаты!#REF!","v":{"$error":"#REF!"}},{"$f":"Результаты!#REF!","v":{"$error":"#REF!"}},{"$f":"Результаты!#REF!","v":{"$error":"#REF!"}},{"$f":"Результаты!#REF!","v":{"$error":"#REF!"}},{"$f":"Результаты!#REF!","v":{"$error":"#REF!"}},{"$f":"Результаты!#REF!","v":{"$error":"#REF!"}},{"$f":"Результаты!#REF!","v":{"$error":"#REF!"}},{"$f":"Результаты!#REF!","v":{"$error":"#REF!"}},{"$f":"Результаты!#REF!","v":{"$error":"#REF!"}},{"$f":"Результаты!#REF!","v":{"$error":"#REF!"}},{"$f":"Результаты!#REF!","v":{"$error":"#REF!"}},{"$f":"Результаты!#REF!","v":{"$error":"#REF!"}},{"$f":"Результаты!#REF!","v":{"$error":"#REF!"}},{"$f":"Результаты!#REF!","v":{"$error":"#REF!"}},{"$f":"Результаты!#REF!","v":{"$error":"#REF!"}},{"$f":"Результаты!#REF!","v":{"$error":"#REF!"}},{"$f":"Результаты!#REF!","v":{"$error":"#REF!"}},{"$f":"Результаты!#REF!","v":{"$error":"#REF!"}},{"$f":"Результаты!#REF!","v":{"$error":"#REF!"}}]
[]
[]
[null,{"$f":"B4778","v":1},"Информационная обработка текстов различных стилей и жанров. Текст как речевое произведение. Смысловая и композиционная целостность текста. Отбор языковых средств в тексте в зависимости от темы, цели, адресата и ситуации общения. Создание текстов различных стилей и функционально-смысловых типов речи. Грамматические нормы (морфологические нормы). Грамматические  нормы  (синтаксические нормы). Лексические нормы. Пунктуация в простом и сложном предложениях. Орфограмма"]
[null,{"$f":"B4779","v":2},"Текст как речевое произведение. Смысловая и композиционная целостность текста. Анализ текста"]
[null,{"$f":"B4780","v":3},"Выразительные средства лексики и фразеологии. Анализ средств выразительности"]
[null,{"$f":"B4781","v":4},"Правописание приставок. Слитное, дефисное, раздельное написание"]
[null,{"$f":"B4782","v":5},"Правописание суффиксов различных частей речи (кроме -Н-/-НН-). Правописание -Н- и -НН- в различных частях речи. Правописание личных окончаний глаголов и суффиксов причастий настоящего времени"]
[null,{"$f":"B4783","v":6},"Лексика и фразеология. Синонимы. Фразеологические обороты. Группы слов по происхождению и употреблению"]
[null,{"$f":"B4784","v":7},"Словосочетание"]
[null,{"$f":"B4785","v":8},"Предложение. Грамматическая (предикативная) основа предложения. Подлежащее и сказуемое как главные члены предложения "]
[null,{"$f":"B4786","v":9},"Осложнённое простое предложение"]
[null,{"$f":"B4787","v":10},"Пунктуационный анализ. Знаки препинания в предложениях со словами и конструкциями, грамматически не связанными с членами предложения"]
[null,{"$f":"B4788","v":11},"Синтаксический анализ сложного предложения"]
[null,{"$f":"B4789","v":12},"Пунктуационный анализ. Знаки препинания в сложносочинённом и сложноподчинённом предложениях"]
[null,{"$f":"B4790","v":13},"Синтаксический анализ сложного предложения"]
[null,{"$f":"B4791","v":14},"Сложные предложения с разными видами связи между частями"]
[null,{"$f":"B4792","v":15},"Текст как речевое произведение. Смысловая и композиционная целостность текста. Создание текстов различных стилей и функционально-смысловых типов речи. Информационная обработка текстов различных стилей и жанров. Грамматические нормы (морфологические нормы). Грамматические нормы (синтаксические нормы). Лексические нормы"]
[null,{"$f":"B4793","v":16},0]
[null,{"$f":"B4794","v":17},0]
[null,{"$f":"B4795","v":18},0]
[null,{"$f":"B4796","v":19},0]
[null,{"$f":"B4797","v":20},0]
[null,{"$f":"B4798","v":21},0]
[null,{"$f":"B4799","v":22},0]
[null,{"$f":"B4800","v":23},0]
[null,{"$f":"B4801","v":24},0]
[null,{"$f":"B4802","v":25},0]
[null,{"$f":"B4803","v":26},0]
[null,{"$f":"B4804","v":27},0]
[null,{"$f":"B4805","v":28},0]
[null,{"$f":"B4806","v":29},0]
[null,{"$f":"B4807","v":30},0]
[null,{"$f":"B4808","v":31},0]
[null,{"$f":"B4809","v":32},0]
[null,{"$f":"B4810","v":33},0]
[null,{"$f":"B4811","v":34},0]
[null,{"$f":"B4812","v":35},0]
[]
[]
["Рекомендация: обратите внимание на задания по темам, которые вызвали у Вас затруднения, решены с ошибкой и отмечены \"0\" или к решению которых Вы не приступили (пустые ячейки)!"]
[]
[]
["Центр независимой оценки качества образования и образовательного аудита \"Легион\""]
[]
["Образовательная организация",null,null,null,{"$f":"E4820","v":"Ленинская СОШ"}]
["Предмет",null,null,null,{"$f":"E4821","v":"Русский язык"}]
["Максимальный балл",null,null,null,39]
["Пороговый балл",null,null,null,15]
["Зона риска",null,null,null,{"$f":"Результаты!E15","v":15},null,null,{"$f":"Результаты!H15","v":16}]
[]
["Уровни",null,null,null,{"$f":"E4826","v":1},{"$f":"F4826","v":2},3,4,5,6,7,8,9,10,11,12,13,14,15,"ПР.ГР",{"$error":"#REF!"},{"$error":"#REF!"},{"$error":"#REF!"},{"$error":"#REF!"},{"$error":"#REF!"},{"$error":"#REF!"},{"$error":"#REF!"},{"$error":"#REF!"},{"$error":"#REF!"},{"$error":"#REF!"},{"$error":"#REF!"},{"$error":"#REF!"},{"$error":"#REF!"},{"$error":"#REF!"},{"$error":"#REF!"},{"$error":"#REF!"},{"$error":"#REF!"},{"$error":"#REF!"},{"$error":"#REF!"},"Тестовый балл","% выплнения заданий по уровням",null,null,"Оценка"]
[null,null,null,null,null,null,null,null,null,null,null,null,null,null,null,null,null,null,null,null,null,null,null,null,null,null,null,null,null,null,null,null,null,null,null,null,null,null,null,null,"Базовый","Повышенный","Высокий"]
["№","Класс","Ф.И.О.","№ задания",{"$f":"E4828","v":1},{"$f":"F4828","v":2},3,4,5,6,7,8,9,10,11,12,13,14,15,0,{"$error":"#REF!"},{"$error":"#REF!"},{"$error":"#REF!"},{"$error":"#REF!"},{"$error":"#REF!"},{"$error":"#REF!"},{"$error":"#REF!"},{"$error":"#REF!"},{"$error":"#REF!"},{"$error":"#REF!"},{"$error":"#REF!"},{"$error":"#REF!"},{"$error":"#REF!"},{"$error":"#REF!"},{"$error":"#REF!"},{"$error":"#REF!"},{"$error":"#REF!"},{"$error":"#REF!"},{"$error":"#REF!"}]
["Максимальный балл",null,null,null,{"$f":"E4829","v":7},{"$f":"F4829","v":1},1,1,1,1,1,1,1,1,1,1,1,1,9,10,{"$error":"#REF!"},{"$error":"#REF!"},{"$error":"#REF!"},{"$error":"#REF!"},{"$error":"#REF!"},{"$error":"#REF!"},{"$error":"#REF!"},{"$error":"#REF!"},{"$error":"#REF!"},{"$error":"#REF!"},{"$error":"#REF!"},{"$error":"#REF!"},{"$error":"#REF!"},{"$error":"#REF!"},{"$error":"#REF!"},{"$error":"#REF!"},{"$error":"#REF!"},{"$error":"#REF!"},{"$error":"#REF!"},39,76.92307692307692,{"$error":"#REF!"},23.076923076923077,0]
[null,null,null,"вариант"]
[{"$f":"Результаты!#REF!","v":{"$error":"#REF!"}},{"$f":"Результаты!#REF!","v":{"$error":"#REF!"}},{"$f":"Результаты!#REF!","v":{"$error":"#REF!"}},{"$f":"Результаты!#REF!","v":{"$error":"#REF!"}},{"$f":"Результаты!#REF!","v":{"$error":"#REF!"}},{"$f":"Результаты!#REF!","v":{"$error":"#REF!"}},{"$f":"Результаты!#REF!","v":{"$error":"#REF!"}},{"$f":"Результаты!#REF!","v":{"$error":"#REF!"}},{"$f":"Результаты!#REF!","v":{"$error":"#REF!"}},{"$f":"Результаты!#REF!","v":{"$error":"#REF!"}},{"$f":"Результаты!#REF!","v":{"$error":"#REF!"}},{"$f":"Результаты!#REF!","v":{"$error":"#REF!"}},{"$f":"Результаты!#REF!","v":{"$error":"#REF!"}},{"$f":"Результаты!#REF!","v":{"$error":"#REF!"}},{"$f":"Результаты!#REF!","v":{"$error":"#REF!"}},{"$f":"Результаты!#REF!","v":{"$error":"#REF!"}},{"$f":"Результаты!#REF!","v":{"$error":"#REF!"}},{"$f":"Результаты!#REF!","v":{"$error":"#REF!"}},{"$f":"Результаты!#REF!","v":{"$error":"#REF!"}},{"$f":"Результаты!#REF!","v":{"$error":"#REF!"}},{"$f":"Результаты!#REF!","v":{"$error":"#REF!"}},{"$f":"Результаты!#REF!","v":{"$error":"#REF!"}},{"$f":"Результаты!#REF!","v":{"$error":"#REF!"}},{"$f":"Результаты!#REF!","v":{"$error":"#REF!"}},{"$f":"Результаты!#REF!","v":{"$error":"#REF!"}},{"$f":"Результаты!#REF!","v":{"$error":"#REF!"}},{"$f":"Результаты!#REF!","v":{"$error":"#REF!"}},{"$f":"Результаты!#REF!","v":{"$error":"#REF!"}},{"$f":"Результаты!#REF!","v":{"$error":"#REF!"}},{"$f":"Результаты!#REF!","v":{"$error":"#REF!"}},{"$f":"Результаты!#REF!","v":{"$error":"#REF!"}},{"$f":"Результаты!#REF!","v":{"$error":"#REF!"}},{"$f":"Результаты!#REF!","v":{"$error":"#REF!"}},{"$f":"Результаты!#REF!","v":{"$error":"#REF!"}},{"$f":"Результаты!#REF!","v":{"$error":"#REF!"}},{"$f":"Результаты!#REF!","v":{"$error":"#REF!"}},{"$f":"Результаты!#REF!","v":{"$error":"#REF!"}},{"$f":"Результаты!#REF!","v":{"$error":"#REF!"}},{"$f":"Результаты!#REF!","v":{"$error":"#REF!"}},{"$f":"Результаты!#REF!","v":{"$error":"#REF!"}},{"$f":"Результаты!#REF!","v":{"$error":"#REF!"}},{"$f":"Результаты!#REF!","v":{"$error":"#REF!"}},{"$f":"Результаты!#REF!","v":{"$error":"#REF!"}},{"$f":"Результаты!#REF!","v":{"$error":"#REF!"}}]
[]
[]
[null,{"$f":"B4834","v":1},"Информационная обработка текстов различных стилей и жанров. Текст как речевое произведение. Смысловая и композиционная целостность текста. Отбор языковых средств в тексте в зависимости от темы, цели, адресата и ситуации общения. Создание текстов различных стилей и функционально-смысловых типов речи. Грамматические нормы (морфологические нормы). Грамматические  нормы  (синтаксические нормы). Лексические нормы. Пунктуация в простом и сложном предложениях. Орфограмма"]
[null,{"$f":"B4835","v":2},"Текст как речевое произведение. Смысловая и композиционная целостность текста. Анализ текста"]
[null,{"$f":"B4836","v":3},"Выразительные средства лексики и фразеологии. Анализ средств выразительности"]
[null,{"$f":"B4837","v":4},"Правописание приставок. Слитное, дефисное, раздельное написание"]
[null,{"$f":"B4838","v":5},"Правописание суффиксов различных частей речи (кроме -Н-/-НН-). Правописание -Н- и -НН- в различных частях речи. Правописание личных окончаний глаголов и суффиксов причастий настоящего времени"]
[null,{"$f":"B4839","v":6},"Лексика и фразеология. Синонимы. Фразеологические обороты. Группы слов по происхождению и употреблению"]
[null,{"$f":"B4840","v":7},"Словосочетание"]
[null,{"$f":"B4841","v":8},"Предложение. Грамматическая (предикативная) основа предложения. Подлежащее и сказуемое как главные члены предложения "]
[null,{"$f":"B4842","v":9},"Осложнённое простое предложение"]
[null,{"$f":"B4843","v":10},"Пунктуационный анализ. Знаки препинания в предложениях со словами и конструкциями, грамматически не связанными с членами предложения"]
[null,{"$f":"B4844","v":11},"Синтаксический анализ сложного предложения"]
[null,{"$f":"B4845","v":12},"Пунктуационный анализ. Знаки препинания в сложносочинённом и сложноподчинённом предложениях"]
[null,{"$f":"B4846","v":13},"Синтаксический анализ сложного предложения"]
[null,{"$f":"B4847","v":14},"Сложные предложения с разными видами связи между частями"]
[null,{"$f":"B4848","v":15},"Текст как речевое произведение. Смысловая и композиционная целостность текста. Создание текстов различных стилей и функционально-смысловых типов речи. Информационная обработка текстов различных стилей и жанров. Грамматические нормы (морфологические нормы). Грамматические нормы (синтаксические нормы). Лексические нормы"]
[null,{"$f":"B4849","v":16},0]
[null,{"$f":"B4850","v":17},0]
[null,{"$f":"B4851","v":18},0]
[null,{"$f":"B4852","v":19},0]
[null,{"$f":"B4853","v":20},0]
[null,{"$f":"B4854","v":21},0]
[null,{"$f":"B4855","v":22},0]
[null,{"$f":"B4856","v":23},0]
[null,{"$f":"B4857","v":24},0]
[null,{"$f":"B4858","v":25},0]
[null,{"$f":"B4859","v":26},0]
[null,{"$f":"B4860","v":27},0]
[null,{"$f":"B4861","v":28},0]
[null,{"$f":"B4862","v":29},0]
[null,{"$f":"B4863","v":30},0]
[null,{"$f":"B4864","v":31},0]
[null,{"$f":"B4865","v":32},0]
[null,{"$f":"B4866","v":33},0]
[null,{"$f":"B4867","v":34},0]
[null,{"$f":"B4868","v":35},0]
[]
[]
["Рекомендация: обратите внимание на задания по темам, которые вызвали у Вас затруднения, решены с ошибкой и отмечены \"0\" или к решению которых Вы не приступили (пустые ячейки)!"]
[]
[]
["Центр независимой оценки качества образования и образовательного аудита \"Легион\""]
[]
["Образовательная организация",null,null,null,{"$f":"E4876","v":"Ленинская СОШ"}]
["Предмет",null,null,null,{"$f":"E4877","v":"Русский язык"}]
["Максимальный балл",null,null,null,39]
["Пороговый балл",null,null,null,15]
["Зона риска",null,null,null,{"$f":"Результаты!E15","v":15},null,null,{"$f":"Результаты!H15","v":16}]
[]
["Уровни",null,null,null,{"$f":"E4882","v":1},{"$f":"F4882","v":2},3,4,5,6,7,8,9,10,11,12,13,14,15,"ПР.ГР",{"$error":"#REF!"},{"$error":"#REF!"},{"$error":"#REF!"},{"$error":"#REF!"},{"$error":"#REF!"},{"$error":"#REF!"},{"$error":"#REF!"},{"$error":"#REF!"},{"$error":"#REF!"},{"$error":"#REF!"},{"$error":"#REF!"},{"$error":"#REF!"},{"$error":"#REF!"},{"$error":"#REF!"},{"$error":"#REF!"},{"$error":"#REF!"},{"$error":"#REF!"},{"$error":"#REF!"},{"$error":"#REF!"},"Тестовый балл","% выплнения заданий по уровням",null,null,"Оценка"]
[null,null,null,null,null,null,null,null,null,null,null,null,null,null,null,null,null,null,null,null,null,null,null,null,null,null,null,null,null,null,null,null,null,null,null,null,null,null,null,null,"Базовый","Повышенный","Высокий"]
["№","Класс","Ф.И.О.","№ задания",{"$f":"E4884","v":1},{"$f":"F4884","v":2},3,4,5,6,7,8,9,10,11,12,13,14,15,0,{"$error":"#REF!"},{"$error":"#REF!"},{"$error":"#REF!"},{"$error":"#REF!"},{"$error":"#REF!"},{"$error":"#REF!"},{"$error":"#REF!"},{"$error":"#REF!"},{"$error":"#REF!"},{"$error":"#REF!"},{"$error":"#REF!"},{"$error":"#REF!"},{"$error":"#REF!"},{"$error":"#REF!"},{"$error":"#REF!"},{"$error":"#REF!"},{"$error":"#REF!"},{"$error":"#REF!"},{"$error":"#REF!"}]
["Максимальный балл",null,null,null,{"$f":"E4885","v":7},{"$f":"F4885","v":1},1,1,1,1,1,1,1,1,1,1,1,1,9,10,{"$error":"#REF!"},{"$error":"#REF!"},{"$error":"#REF!"},{"$error":"#REF!"},{"$error":"#REF!"},{"$error":"#REF!"},{"$error":"#REF!"},{"$error":"#REF!"},{"$error":"#REF!"},{"$error":"#REF!"},{"$error":"#REF!"},{"$error":"#REF!"},{"$error":"#REF!"},{"$error":"#REF!"},{"$error":"#REF!"},{"$error":"#REF!"},{"$error":"#REF!"},{"$error":"#REF!"},{"$error":"#REF!"},39,76.92307692307692,{"$error":"#REF!"},23.076923076923077,0]
[null,null,null,"вариант"]
[{"$f":"Результаты!#REF!","v":{"$error":"#REF!"}},{"$f":"Результаты!#REF!","v":{"$error":"#REF!"}},{"$f":"Результаты!#REF!","v":{"$error":"#REF!"}},{"$f":"Результаты!#REF!","v":{"$error":"#REF!"}},{"$f":"Результаты!#REF!","v":{"$error":"#REF!"}},{"$f":"Результаты!#REF!","v":{"$error":"#REF!"}},{"$f":"Результаты!#REF!","v":{"$error":"#REF!"}},{"$f":"Результаты!#REF!","v":{"$error":"#REF!"}},{"$f":"Результаты!#REF!","v":{"$error":"#REF!"}},{"$f":"Результаты!#REF!","v":{"$error":"#REF!"}},{"$f":"Результаты!#REF!","v":{"$error":"#REF!"}},{"$f":"Результаты!#REF!","v":{"$error":"#REF!"}},{"$f":"Результаты!#REF!","v":{"$error":"#REF!"}},{"$f":"Результаты!#REF!","v":{"$error":"#REF!"}},{"$f":"Результаты!#REF!","v":{"$error":"#REF!"}},{"$f":"Результаты!#REF!","v":{"$error":"#REF!"}},{"$f":"Результаты!#REF!","v":{"$error":"#REF!"}},{"$f":"Результаты!#REF!","v":{"$error":"#REF!"}},{"$f":"Результаты!#REF!","v":{"$error":"#REF!"}},{"$f":"Результаты!#REF!","v":{"$error":"#REF!"}},{"$f":"Результаты!#REF!","v":{"$error":"#REF!"}},{"$f":"Результаты!#REF!","v":{"$error":"#REF!"}},{"$f":"Результаты!#REF!","v":{"$error":"#REF!"}},{"$f":"Результаты!#REF!","v":{"$error":"#REF!"}},{"$f":"Результаты!#REF!","v":{"$error":"#REF!"}},{"$f":"Результаты!#REF!","v":{"$error":"#REF!"}},{"$f":"Результаты!#REF!","v":{"$error":"#REF!"}},{"$f":"Результаты!#REF!","v":{"$error":"#REF!"}},{"$f":"Результаты!#REF!","v":{"$error":"#REF!"}},{"$f":"Результаты!#REF!","v":{"$error":"#REF!"}},{"$f":"Результаты!#REF!","v":{"$error":"#REF!"}},{"$f":"Результаты!#REF!","v":{"$error":"#REF!"}},{"$f":"Результаты!#REF!","v":{"$error":"#REF!"}},{"$f":"Результаты!#REF!","v":{"$error":"#REF!"}},{"$f":"Результаты!#REF!","v":{"$error":"#REF!"}},{"$f":"Результаты!#REF!","v":{"$error":"#REF!"}},{"$f":"Результаты!#REF!","v":{"$error":"#REF!"}},{"$f":"Результаты!#REF!","v":{"$error":"#REF!"}},{"$f":"Результаты!#REF!","v":{"$error":"#REF!"}},{"$f":"Результаты!#REF!","v":{"$error":"#REF!"}},{"$f":"Результаты!#REF!","v":{"$error":"#REF!"}},{"$f":"Результаты!#REF!","v":{"$error":"#REF!"}},{"$f":"Результаты!#REF!","v":{"$error":"#REF!"}},{"$f":"Результаты!#REF!","v":{"$error":"#REF!"}}]
[]
[]
[null,{"$f":"B4890","v":1},"Информационная обработка текстов различных стилей и жанров. Текст как речевое произведение. Смысловая и композиционная целостность текста. Отбор языковых средств в тексте в зависимости от темы, цели, адресата и ситуации общения. Создание текстов различных стилей и функционально-смысловых типов речи. Грамматические нормы (морфологические нормы). Грамматические  нормы  (синтаксические нормы). Лексические нормы. Пунктуация в простом и сложном предложениях. Орфограмма"]
[null,{"$f":"B4891","v":2},"Текст как речевое произведение. Смысловая и композиционная целостность текста. Анализ текста"]
[null,{"$f":"B4892","v":3},"Выразительные средства лексики и фразеологии. Анализ средств выразительности"]
[null,{"$f":"B4893","v":4},"Правописание приставок. Слитное, дефисное, раздельное написание"]
[null,{"$f":"B4894","v":5},"Правописание суффиксов различных частей речи (кроме -Н-/-НН-). Правописание -Н- и -НН- в различных частях речи. Правописание личных окончаний глаголов и суффиксов причастий настоящего времени"]
[null,{"$f":"B4895","v":6},"Лексика и фразеология. Синонимы. Фразеологические обороты. Группы слов по происхождению и употреблению"]
[null,{"$f":"B4896","v":7},"Словосочетание"]
[null,{"$f":"B4897","v":8},"Предложение. Грамматическая (предикативная) основа предложения. Подлежащее и сказуемое как главные члены предложения "]
[null,{"$f":"B4898","v":9},"Осложнённое простое предложение"]
[null,{"$f":"B4899","v":10},"Пунктуационный анализ. Знаки препинания в предложениях со словами и конструкциями, грамматически не связанными с членами предложения"]
[null,{"$f":"B4900","v":11},"Синтаксический анализ сложного предложения"]
[null,{"$f":"B4901","v":12},"Пунктуационный анализ. Знаки препинания в сложносочинённом и сложноподчинённом предложениях"]
[null,{"$f":"B4902","v":13},"Синтаксический анализ сложного предложения"]
[null,{"$f":"B4903","v":14},"Сложные предложения с разными видами связи между частями"]
[null,{"$f":"B4904","v":15},"Текст как речевое произведение. Смысловая и композиционная целостность текста. Создание текстов различных стилей и функционально-смысловых типов речи. Информационная обработка текстов различных стилей и жанров. Грамматические нормы (морфологические нормы). Грамматические нормы (синтаксические нормы). Лексические нормы"]
[null,{"$f":"B4905","v":16},0]
[null,{"$f":"B4906","v":17},0]
[null,{"$f":"B4907","v":18},0]
[null,{"$f":"B4908","v":19},0]
[null,{"$f":"B4909","v":20},0]
[null,{"$f":"B4910","v":21},0]
[null,{"$f":"B4911","v":22},0]
[null,{"$f":"B4912","v":23},0]
[null,{"$f":"B4913","v":24},0]
[null,{"$f":"B4914","v":25},0]
[null,{"$f":"B4915","v":26},0]
[null,{"$f":"B4916","v":27},0]
[null,{"$f":"B4917","v":28},0]
[null,{"$f":"B4918","v":29},0]
[null,{"$f":"B4919","v":30},0]
[null,{"$f":"B4920","v":31},0]
[null,{"$f":"B4921","v":32},0]
[null,{"$f":"B4922","v":33},0]
[null,{"$f":"B4923","v":34},0]
[null,{"$f":"B4924","v":35},0]
[]
[]
["Рекомендация: обратите внимание на задания по темам, которые вызвали у Вас затруднения, решены с ошибкой и отмечены \"0\" или к решению которых Вы не приступили (пустые ячейки)!"]
[]
[]
["Центр независимой оценки качества образования и образовательного аудита \"Легион\""]
[]
["Образовательная организация",null,null,null,{"$f":"E4932","v":"Ленинская СОШ"}]
["Предмет",null,null,null,{"$f":"E4933","v":"Русский язык"}]
["Максимальный балл",null,null,null,39]
["Пороговый балл",null,null,null,15]
["Зона риска",null,null,null,{"$f":"Результаты!E15","v":15},null,null,{"$f":"Результаты!H15","v":16}]
[]
["Уровни",null,null,null,{"$f":"E4938","v":1},{"$f":"F4938","v":2},3,4,5,6,7,8,9,10,11,12,13,14,15,"ПР.ГР",{"$error":"#REF!"},{"$error":"#REF!"},{"$error":"#REF!"},{"$error":"#REF!"},{"$error":"#REF!"},{"$error":"#REF!"},{"$error":"#REF!"},{"$error":"#REF!"},{"$error":"#REF!"},{"$error":"#REF!"},{"$error":"#REF!"},{"$error":"#REF!"},{"$error":"#REF!"},{"$error":"#REF!"},{"$error":"#REF!"},{"$error":"#REF!"},{"$error":"#REF!"},{"$error":"#REF!"},{"$error":"#REF!"},"Тестовый балл","% выплнения заданий по уровням",null,null,"Оценка"]
[null,null,null,null,null,null,null,null,null,null,null,null,null,null,null,null,null,null,null,null,null,null,null,null,null,null,null,null,null,null,null,null,null,null,null,null,null,null,null,null,"Базовый","Повышенный","Высокий"]
["№","Класс","Ф.И.О.","№ задания",{"$f":"E4940","v":1},{"$f":"F4940","v":2},3,4,5,6,7,8,9,10,11,12,13,14,15,0,{"$error":"#REF!"},{"$error":"#REF!"},{"$error":"#REF!"},{"$error":"#REF!"},{"$error":"#REF!"},{"$error":"#REF!"},{"$error":"#REF!"},{"$error":"#REF!"},{"$error":"#REF!"},{"$error":"#REF!"},{"$error":"#REF!"},{"$error":"#REF!"},{"$error":"#REF!"},{"$error":"#REF!"},{"$error":"#REF!"},{"$error":"#REF!"},{"$error":"#REF!"},{"$error":"#REF!"},{"$error":"#REF!"}]
["Максимальный балл",null,null,null,{"$f":"E4941","v":7},{"$f":"F4941","v":1},1,1,1,1,1,1,1,1,1,1,1,1,9,10,{"$error":"#REF!"},{"$error":"#REF!"},{"$error":"#REF!"},{"$error":"#REF!"},{"$error":"#REF!"},{"$error":"#REF!"},{"$error":"#REF!"},{"$error":"#REF!"},{"$error":"#REF!"},{"$error":"#REF!"},{"$error":"#REF!"},{"$error":"#REF!"},{"$error":"#REF!"},{"$error":"#REF!"},{"$error":"#REF!"},{"$error":"#REF!"},{"$error":"#REF!"},{"$error":"#REF!"},{"$error":"#REF!"},39,76.92307692307692,{"$error":"#REF!"},23.076923076923077,0]
[null,null,null,"вариант"]
[{"$f":"Результаты!#REF!","v":{"$error":"#REF!"}},{"$f":"Результаты!#REF!","v":{"$error":"#REF!"}},{"$f":"Результаты!#REF!","v":{"$error":"#REF!"}},{"$f":"Результаты!#REF!","v":{"$error":"#REF!"}},{"$f":"Результаты!#REF!","v":{"$error":"#REF!"}},{"$f":"Результаты!#REF!","v":{"$error":"#REF!"}},{"$f":"Результаты!#REF!","v":{"$error":"#REF!"}},{"$f":"Результаты!#REF!","v":{"$error":"#REF!"}},{"$f":"Результаты!#REF!","v":{"$error":"#REF!"}},{"$f":"Результаты!#REF!","v":{"$error":"#REF!"}},{"$f":"Результаты!#REF!","v":{"$error":"#REF!"}},{"$f":"Результаты!#REF!","v":{"$error":"#REF!"}},{"$f":"Результаты!#REF!","v":{"$error":"#REF!"}},{"$f":"Результаты!#REF!","v":{"$error":"#REF!"}},{"$f":"Результаты!#REF!","v":{"$error":"#REF!"}},{"$f":"Результаты!#REF!","v":{"$error":"#REF!"}},{"$f":"Результаты!#REF!","v":{"$error":"#REF!"}},{"$f":"Результаты!#REF!","v":{"$error":"#REF!"}},{"$f":"Результаты!#REF!","v":{"$error":"#REF!"}},{"$f":"Результаты!#REF!","v":{"$error":"#REF!"}},{"$f":"Результаты!#REF!","v":{"$error":"#REF!"}},{"$f":"Результаты!#REF!","v":{"$error":"#REF!"}},{"$f":"Результаты!#REF!","v":{"$error":"#REF!"}},{"$f":"Результаты!#REF!","v":{"$error":"#REF!"}},{"$f":"Результаты!#REF!","v":{"$error":"#REF!"}},{"$f":"Результаты!#REF!","v":{"$error":"#REF!"}},{"$f":"Результаты!#REF!","v":{"$error":"#REF!"}},{"$f":"Результаты!#REF!","v":{"$error":"#REF!"}},{"$f":"Результаты!#REF!","v":{"$error":"#REF!"}},{"$f":"Результаты!#REF!","v":{"$error":"#REF!"}},{"$f":"Результаты!#REF!","v":{"$error":"#REF!"}},{"$f":"Результаты!#REF!","v":{"$error":"#REF!"}},{"$f":"Результаты!#REF!","v":{"$error":"#REF!"}},{"$f":"Результаты!#REF!","v":{"$error":"#REF!"}},{"$f":"Результаты!#REF!","v":{"$error":"#REF!"}},{"$f":"Результаты!#REF!","v":{"$error":"#REF!"}},{"$f":"Результаты!#REF!","v":{"$error":"#REF!"}},{"$f":"Результаты!#REF!","v":{"$error":"#REF!"}},{"$f":"Результаты!#REF!","v":{"$error":"#REF!"}},{"$f":"Результаты!#REF!","v":{"$error":"#REF!"}},{"$f":"Результаты!#REF!","v":{"$error":"#REF!"}},{"$f":"Результаты!#REF!","v":{"$error":"#REF!"}},{"$f":"Результаты!#REF!","v":{"$error":"#REF!"}},{"$f":"Результаты!#REF!","v":{"$error":"#REF!"}}]
[]
[]
[null,{"$f":"B4946","v":1},"Информационная обработка текстов различных стилей и жанров. Текст как речевое произведение. Смысловая и композиционная целостность текста. Отбор языковых средств в тексте в зависимости от темы, цели, адресата и ситуации общения. Создание текстов различных стилей и функционально-смысловых типов речи. Грамматические нормы (морфологические нормы). Грамматические  нормы  (синтаксические нормы). Лексические нормы. Пунктуация в простом и сложном предложениях. Орфограмма"]
[null,{"$f":"B4947","v":2},"Текст как речевое произведение. Смысловая и композиционная целостность текста. Анализ текста"]
[null,{"$f":"B4948","v":3},"Выразительные средства лексики и фразеологии. Анализ средств выразительности"]
[null,{"$f":"B4949","v":4},"Правописание приставок. Слитное, дефисное, раздельное написание"]
[null,{"$f":"B4950","v":5},"Правописание суффиксов различных частей речи (кроме -Н-/-НН-). Правописание -Н- и -НН- в различных частях речи. Правописание личных окончаний глаголов и суффиксов причастий настоящего времени"]
[null,{"$f":"B4951","v":6},"Лексика и фразеология. Синонимы. Фразеологические обороты. Группы слов по происхождению и употреблению"]
[null,{"$f":"B4952","v":7},"Словосочетание"]
[null,{"$f":"B4953","v":8},"Предложение. Грамматическая (предикативная) основа предложения. Подлежащее и сказуемое как главные члены предложения "]
[null,{"$f":"B4954","v":9},"Осложнённое простое предложение"]
[null,{"$f":"B4955","v":10},"Пунктуационный анализ. Знаки препинания в предложениях со словами и конструкциями, грамматически не связанными с членами предложения"]
[null,{"$f":"B4956","v":11},"Синтаксический анализ сложного предложения"]
[null,{"$f":"B4957","v":12},"Пунктуационный анализ. Знаки препинания в сложносочинённом и сложноподчинённом предложениях"]
[null,{"$f":"B4958","v":13},"Синтаксический анализ сложного предложения"]
[null,{"$f":"B4959","v":14},"Сложные предложения с разными видами связи между частями"]
[null,{"$f":"B4960","v":15},"Текст как речевое произведение. Смысловая и композиционная целостность текста. Создание текстов различных стилей и функционально-смысловых типов речи. Информационная обработка текстов различных стилей и жанров. Грамматические нормы (морфологические нормы). Грамматические нормы (синтаксические нормы). Лексические нормы"]
[null,{"$f":"B4961","v":16},0]
[null,{"$f":"B4962","v":17},0]
[null,{"$f":"B4963","v":18},0]
[null,{"$f":"B4964","v":19},0]
[null,{"$f":"B4965","v":20},0]
[null,{"$f":"B4966","v":21},0]
[null,{"$f":"B4967","v":22},0]
[null,{"$f":"B4968","v":23},0]
[null,{"$f":"B4969","v":24},0]
[null,{"$f":"B4970","v":25},0]
[null,{"$f":"B4971","v":26},0]
[null,{"$f":"B4972","v":27},0]
[null,{"$f":"B4973","v":28},0]
[null,{"$f":"B4974","v":29},0]
[null,{"$f":"B4975","v":30},0]
[null,{"$f":"B4976","v":31},0]
[null,{"$f":"B4977","v":32},0]
[null,{"$f":"B4978","v":33},0]
[null,{"$f":"B4979","v":34},0]
[null,{"$f":"B4980","v":35},0]
[]
[]
["Рекомендация: обратите внимание на задания по темам, которые вызвали у Вас затруднения, решены с ошибкой и отмечены \"0\" или к решению которых Вы не приступили (пустые ячейки)!"]
[]
[]
["Центр независимой оценки качества образования и образовательного аудита \"Легион\""]
[]
["Образовательная организация",null,null,null,{"$f":"E4988","v":"Ленинская СОШ"}]
["Предмет",null,null,null,{"$f":"E4989","v":"Русский язык"}]
["Максимальный балл",null,null,null,39]
["Пороговый балл",null,null,null,15]
["Зона риска",null,null,null,{"$f":"Результаты!E15","v":15},null,null,{"$f":"Результаты!H15","v":16}]
[]
["Уровни",null,null,null,{"$f":"E4994","v":1},{"$f":"F4994","v":2},3,4,5,6,7,8,9,10,11,12,13,14,15,"ПР.ГР",{"$error":"#REF!"},{"$error":"#REF!"},{"$error":"#REF!"},{"$error":"#REF!"},{"$error":"#REF!"},{"$error":"#REF!"},{"$error":"#REF!"},{"$error":"#REF!"},{"$error":"#REF!"},{"$error":"#REF!"},{"$error":"#REF!"},{"$error":"#REF!"},{"$error":"#REF!"},{"$error":"#REF!"},{"$error":"#REF!"},{"$error":"#REF!"},{"$error":"#REF!"},{"$error":"#REF!"},{"$error":"#REF!"},"Тестовый балл","% выплнения заданий по уровням",null,null,"Оценка"]
[null,null,null,null,null,null,null,null,null,null,null,null,null,null,null,null,null,null,null,null,null,null,null,null,null,null,null,null,null,null,null,null,null,null,null,null,null,null,null,null,"Базовый","Повышенный","Высокий"]
["№","Класс","Ф.И.О.","№ задания",{"$f":"E4996","v":1},{"$f":"F4996","v":2},3,4,5,6,7,8,9,10,11,12,13,14,15,0,{"$error":"#REF!"},{"$error":"#REF!"},{"$error":"#REF!"},{"$error":"#REF!"},{"$error":"#REF!"},{"$error":"#REF!"},{"$error":"#REF!"},{"$error":"#REF!"},{"$error":"#REF!"},{"$error":"#REF!"},{"$error":"#REF!"},{"$error":"#REF!"},{"$error":"#REF!"},{"$error":"#REF!"},{"$error":"#REF!"},{"$error":"#REF!"},{"$error":"#REF!"},{"$error":"#REF!"},{"$error":"#REF!"}]
["Максимальный балл",null,null,null,{"$f":"E4997","v":7},{"$f":"F4997","v":1},1,1,1,1,1,1,1,1,1,1,1,1,9,10,{"$error":"#REF!"},{"$error":"#REF!"},{"$error":"#REF!"},{"$error":"#REF!"},{"$error":"#REF!"},{"$error":"#REF!"},{"$error":"#REF!"},{"$error":"#REF!"},{"$error":"#REF!"},{"$error":"#REF!"},{"$error":"#REF!"},{"$error":"#REF!"},{"$error":"#REF!"},{"$error":"#REF!"},{"$error":"#REF!"},{"$error":"#REF!"},{"$error":"#REF!"},{"$error":"#REF!"},{"$error":"#REF!"},39,76.92307692307692,{"$error":"#REF!"},23.076923076923077,0]
[null,null,null,"вариант"]
[{"$f":"Результаты!#REF!","v":{"$error":"#REF!"}},{"$f":"Результаты!#REF!","v":{"$error":"#REF!"}},{"$f":"Результаты!#REF!","v":{"$error":"#REF!"}},{"$f":"Результаты!#REF!","v":{"$error":"#REF!"}},{"$f":"Результаты!#REF!","v":{"$error":"#REF!"}},{"$f":"Результаты!#REF!","v":{"$error":"#REF!"}},{"$f":"Результаты!#REF!","v":{"$error":"#REF!"}},{"$f":"Результаты!#REF!","v":{"$error":"#REF!"}},{"$f":"Результаты!#REF!","v":{"$error":"#REF!"}},{"$f":"Результаты!#REF!","v":{"$error":"#REF!"}},{"$f":"Результаты!#REF!","v":{"$error":"#REF!"}},{"$f":"Результаты!#REF!","v":{"$error":"#REF!"}},{"$f":"Результаты!#REF!","v":{"$error":"#REF!"}},{"$f":"Результаты!#REF!","v":{"$error":"#REF!"}},{"$f":"Результаты!#REF!","v":{"$error":"#REF!"}},{"$f":"Результаты!#REF!","v":{"$error":"#REF!"}},{"$f":"Результаты!#REF!","v":{"$error":"#REF!"}},{"$f":"Результаты!#REF!","v":{"$error":"#REF!"}},{"$f":"Результаты!#REF!","v":{"$error":"#REF!"}},{"$f":"Результаты!#REF!","v":{"$error":"#REF!"}},{"$f":"Результаты!#REF!","v":{"$error":"#REF!"}},{"$f":"Результаты!#REF!","v":{"$error":"#REF!"}},{"$f":"Результаты!#REF!","v":{"$error":"#REF!"}},{"$f":"Результаты!#REF!","v":{"$error":"#REF!"}},{"$f":"Результаты!#REF!","v":{"$error":"#REF!"}},{"$f":"Результаты!#REF!","v":{"$error":"#REF!"}},{"$f":"Результаты!#REF!","v":{"$error":"#REF!"}},{"$f":"Результаты!#REF!","v":{"$error":"#REF!"}},{"$f":"Результаты!#REF!","v":{"$error":"#REF!"}},{"$f":"Результаты!#REF!","v":{"$error":"#REF!"}},{"$f":"Результаты!#REF!","v":{"$error":"#REF!"}},{"$f":"Результаты!#REF!","v":{"$error":"#REF!"}},{"$f":"Результаты!#REF!","v":{"$error":"#REF!"}},{"$f":"Результаты!#REF!","v":{"$error":"#REF!"}},{"$f":"Результаты!#REF!","v":{"$error":"#REF!"}},{"$f":"Результаты!#REF!","v":{"$error":"#REF!"}},{"$f":"Результаты!#REF!","v":{"$error":"#REF!"}},{"$f":"Результаты!#REF!","v":{"$error":"#REF!"}},{"$f":"Результаты!#REF!","v":{"$error":"#REF!"}},{"$f":"Результаты!#REF!","v":{"$error":"#REF!"}},{"$f":"Результаты!#REF!","v":{"$error":"#REF!"}},{"$f":"Результаты!#REF!","v":{"$error":"#REF!"}},{"$f":"Результаты!#REF!","v":{"$error":"#REF!"}},{"$f":"Результаты!#REF!","v":{"$error":"#REF!"}}]
[]
[]
[null,{"$f":"B5002","v":1},"Информационная обработка текстов различных стилей и жанров. Текст как речевое произведение. Смысловая и композиционная целостность текста. Отбор языковых средств в тексте в зависимости от темы, цели, адресата и ситуации общения. Создание текстов различных стилей и функционально-смысловых типов речи. Грамматические нормы (морфологические нормы). Грамматические  нормы  (синтаксические нормы). Лексические нормы. Пунктуация в простом и сложном предложениях. Орфограмма"]
[null,{"$f":"B5003","v":2},"Текст как речевое произведение. Смысловая и композиционная целостность текста. Анализ текста"]
[null,{"$f":"B5004","v":3},"Выразительные средства лексики и фразеологии. Анализ средств выразительности"]
[null,{"$f":"B5005","v":4},"Правописание приставок. Слитное, дефисное, раздельное написание"]
[null,{"$f":"B5006","v":5},"Правописание суффиксов различных частей речи (кроме -Н-/-НН-). Правописание -Н- и -НН- в различных частях речи. Правописание личных окончаний глаголов и суффиксов причастий настоящего времени"]
[null,{"$f":"B5007","v":6},"Лексика и фразеология. Синонимы. Фразеологические обороты. Группы слов по происхождению и употреблению"]
[null,{"$f":"B5008","v":7},"Словосочетание"]
[null,{"$f":"B5009","v":8},"Предложение. Грамматическая (предикативная) основа предложения. Подлежащее и сказуемое как главные члены предложения "]
[null,{"$f":"B5010","v":9},"Осложнённое простое предложение"]
[null,{"$f":"B5011","v":10},"Пунктуационный анализ. Знаки препинания в предложениях со словами и конструкциями, грамматически не связанными с членами предложения"]
[null,{"$f":"B5012","v":11},"Синтаксический анализ сложного предложения"]
[null,{"$f":"B5013","v":12},"Пунктуационный анализ. Знаки препинания в сложносочинённом и сложноподчинённом предложениях"]
[null,{"$f":"B5014","v":13},"Синтаксический анализ сложного предложения"]
[null,{"$f":"B5015","v":14},"Сложные предложения с разными видами связи между частями"]
[null,{"$f":"B5016","v":15},"Текст как речевое произведение. Смысловая и композиционная целостность текста. Создание текстов различных стилей и функционально-смысловых типов речи. Информационная обработка текстов различных стилей и жанров. Грамматические нормы (морфологические нормы). Грамматические нормы (синтаксические нормы). Лексические нормы"]
[null,{"$f":"B5017","v":16},0]
[null,{"$f":"B5018","v":17},0]
[null,{"$f":"B5019","v":18},0]
[null,{"$f":"B5020","v":19},0]
[null,{"$f":"B5021","v":20},0]
[null,{"$f":"B5022","v":21},0]
[null,{"$f":"B5023","v":22},0]
[null,{"$f":"B5024","v":23},0]
[null,{"$f":"B5025","v":24},0]
[null,{"$f":"B5026","v":25},0]
[null,{"$f":"B5027","v":26},0]
[null,{"$f":"B5028","v":27},0]
[null,{"$f":"B5029","v":28},0]
[null,{"$f":"B5030","v":29},0]
[null,{"$f":"B5031","v":30},0]
[null,{"$f":"B5032","v":31},0]
[null,{"$f":"B5033","v":32},0]
[null,{"$f":"B5034","v":33},0]
[null,{"$f":"B5035","v":34},0]
[null,{"$f":"B5036","v":35},0]
[]
["Рекомендация: обратите внимание на задания по темам, которые вызвали у Вас затруднения, решены с ошибкой и отмечены \"0\" или к решению которых Вы не приступили (пустые ячейки)!"]
[]
[]
[]
["Центр независимой оценки качества образования и образовательного аудита \"Легион\""]
[]
["Образовательная организация",null,null,null,{"$f":"E5044","v":"Ленинская СОШ"}]
["Предмет",null,null,null,{"$f":"E5045","v":"Русский язык"}]
["Максимальный балл",null,null,null,39]
["Пороговый балл",null,null,null,15]
["Зона риска",null,null,null,{"$f":"Результаты!E15","v":15},null,null,{"$f":"Результаты!H15","v":16}]
[]
["Уровни",null,null,null,{"$f":"E5050","v":1},{"$f":"F5050","v":2},3,4,5,6,7,8,9,10,11,12,13,14,15,"ПР.ГР",{"$error":"#REF!"},{"$error":"#REF!"},{"$error":"#REF!"},{"$error":"#REF!"},{"$error":"#REF!"},{"$error":"#REF!"},{"$error":"#REF!"},{"$error":"#REF!"},{"$error":"#REF!"},{"$error":"#REF!"},{"$error":"#REF!"},{"$error":"#REF!"},{"$error":"#REF!"},{"$error":"#REF!"},{"$error":"#REF!"},{"$error":"#REF!"},{"$error":"#REF!"},{"$error":"#REF!"},{"$error":"#REF!"},"Тестовый балл","% выплнения заданий по уровням",null,null,"Оценка"]
[null,null,null,null,null,null,null,null,null,null,null,null,null,null,null,null,null,null,null,null,null,null,null,null,null,null,null,null,null,null,null,null,null,null,null,null,null,null,null,null,"Базовый","Повышенный","Высокий"]
["№","Класс","Ф.И.О.","№ задания",{"$f":"E5052","v":1},{"$f":"F5052","v":2},3,4,5,6,7,8,9,10,11,12,13,14,15,0,{"$error":"#REF!"},{"$error":"#REF!"},{"$error":"#REF!"},{"$error":"#REF!"},{"$error":"#REF!"},{"$error":"#REF!"},{"$error":"#REF!"},{"$error":"#REF!"},{"$error":"#REF!"},{"$error":"#REF!"},{"$error":"#REF!"},{"$error":"#REF!"},{"$error":"#REF!"},{"$error":"#REF!"},{"$error":"#REF!"},{"$error":"#REF!"},{"$error":"#REF!"},{"$error":"#REF!"},{"$error":"#REF!"}]
["Максимальный балл",null,null,null,{"$f":"E5053","v":7},{"$f":"F5053","v":1},1,1,1,1,1,1,1,1,1,1,1,1,9,10,{"$error":"#REF!"},{"$error":"#REF!"},{"$error":"#REF!"},{"$error":"#REF!"},{"$error":"#REF!"},{"$error":"#REF!"},{"$error":"#REF!"},{"$error":"#REF!"},{"$error":"#REF!"},{"$error":"#REF!"},{"$error":"#REF!"},{"$error":"#REF!"},{"$error":"#REF!"},{"$error":"#REF!"},{"$error":"#REF!"},{"$error":"#REF!"},{"$error":"#REF!"},{"$error":"#REF!"},{"$error":"#REF!"},39,76.92307692307692,{"$error":"#REF!"},23.076923076923077,0]
[null,null,null,"вариант"]
[{"$f":"Результаты!#REF!","v":{"$error":"#REF!"}},{"$f":"Результаты!#REF!","v":{"$error":"#REF!"}},{"$f":"Результаты!#REF!","v":{"$error":"#REF!"}},{"$f":"Результаты!#REF!","v":{"$error":"#REF!"}},{"$f":"Результаты!#REF!","v":{"$error":"#REF!"}},{"$f":"Результаты!#REF!","v":{"$error":"#REF!"}},{"$f":"Результаты!#REF!","v":{"$error":"#REF!"}},{"$f":"Результаты!#REF!","v":{"$error":"#REF!"}},{"$f":"Результаты!#REF!","v":{"$error":"#REF!"}},{"$f":"Результаты!#REF!","v":{"$error":"#REF!"}},{"$f":"Результаты!#REF!","v":{"$error":"#REF!"}},{"$f":"Результаты!#REF!","v":{"$error":"#REF!"}},{"$f":"Результаты!#REF!","v":{"$error":"#REF!"}},{"$f":"Результаты!#REF!","v":{"$error":"#REF!"}},{"$f":"Результаты!#REF!","v":{"$error":"#REF!"}},{"$f":"Результаты!#REF!","v":{"$error":"#REF!"}},{"$f":"Результаты!#REF!","v":{"$error":"#REF!"}},{"$f":"Результаты!#REF!","v":{"$error":"#REF!"}},{"$f":"Результаты!#REF!","v":{"$error":"#REF!"}},{"$f":"Результаты!#REF!","v":{"$error":"#REF!"}},{"$f":"Результаты!#REF!","v":{"$error":"#REF!"}},{"$f":"Результаты!#REF!","v":{"$error":"#REF!"}},{"$f":"Результаты!#REF!","v":{"$error":"#REF!"}},{"$f":"Результаты!#REF!","v":{"$error":"#REF!"}},{"$f":"Результаты!#REF!","v":{"$error":"#REF!"}},{"$f":"Результаты!#REF!","v":{"$error":"#REF!"}},{"$f":"Результаты!#REF!","v":{"$error":"#REF!"}},{"$f":"Результаты!#REF!","v":{"$error":"#REF!"}},{"$f":"Результаты!#REF!","v":{"$error":"#REF!"}},{"$f":"Результаты!#REF!","v":{"$error":"#REF!"}},{"$f":"Результаты!#REF!","v":{"$error":"#REF!"}},{"$f":"Результаты!#REF!","v":{"$error":"#REF!"}},{"$f":"Результаты!#REF!","v":{"$error":"#REF!"}},{"$f":"Результаты!#REF!","v":{"$error":"#REF!"}},{"$f":"Результаты!#REF!","v":{"$error":"#REF!"}},{"$f":"Результаты!#REF!","v":{"$error":"#REF!"}},{"$f":"Результаты!#REF!","v":{"$error":"#REF!"}},{"$f":"Результаты!#REF!","v":{"$error":"#REF!"}},{"$f":"Результаты!#REF!","v":{"$error":"#REF!"}},{"$f":"Результаты!#REF!","v":{"$error":"#REF!"}},{"$f":"Результаты!#REF!","v":{"$error":"#REF!"}},{"$f":"Результаты!#REF!","v":{"$error":"#REF!"}},{"$f":"Результаты!#REF!","v":{"$error":"#REF!"}},{"$f":"Результаты!#REF!","v":{"$error":"#REF!"}}]
[]
[]
[null,{"$f":"B5058","v":1},{"$f":"C5058","v":"Информационная обработка текстов различных стилей и жанров. Текст как речевое произведение. Смысловая и композиционная целостность текста. Отбор языковых средств в тексте в зависимости от темы, цели, адресата и ситуации общения. Создание текстов различных стилей и функционально-смысловых типов речи. Грамматические нормы (морфологические нормы). Грамматические  нормы  (синтаксические нормы). Лексические нормы. Пунктуация в простом и сложном предложениях. Орфограмма"}]
[null,{"$f":"B5059","v":2},"Текст как речевое произведение. Смысловая и композиционная целостность текста. Анализ текста"]
[null,{"$f":"B5060","v":3},"Выразительные средства лексики и фразеологии. Анализ средств выразительности"]
[null,{"$f":"B5061","v":4},"Правописание приставок. Слитное, дефисное, раздельное написание"]
[null,{"$f":"B5062","v":5},"Правописание суффиксов различных частей речи (кроме -Н-/-НН-). Правописание -Н- и -НН- в различных частях речи. Правописание личных окончаний глаголов и суффиксов причастий настоящего времени"]
[null,{"$f":"B5063","v":6},"Лексика и фразеология. Синонимы. Фразеологические обороты. Группы слов по происхождению и употреблению"]
[null,{"$f":"B5064","v":7},"Словосочетание"]
[null,{"$f":"B5065","v":8},"Предложение. Грамматическая (предикативная) основа предложения. Подлежащее и сказуемое как главные члены предложения "]
[null,{"$f":"B5066","v":9},"Осложнённое простое предложение"]
[null,{"$f":"B5067","v":10},"Пунктуационный анализ. Знаки препинания в предложениях со словами и конструкциями, грамматически не связанными с членами предложения"]
[null,{"$f":"B5068","v":11},"Синтаксический анализ сложного предложения"]
[null,{"$f":"B5069","v":12},"Пунктуационный анализ. Знаки препинания в сложносочинённом и сложноподчинённом предложениях"]
[null,{"$f":"B5070","v":13},"Синтаксический анализ сложного предложения"]
[null,{"$f":"B5071","v":14},"Сложные предложения с разными видами связи между частями"]
[null,{"$f":"B5072","v":15},"Текст как речевое произведение. Смысловая и композиционная целостность текста. Создание текстов различных стилей и функционально-смысловых типов речи. Информационная обработка текстов различных стилей и жанров. Грамматические нормы (морфологические нормы). Грамматические нормы (синтаксические нормы). Лексические нормы"]
[null,{"$f":"B5073","v":16},0]
[null,{"$f":"B5074","v":17},0]
[null,{"$f":"B5075","v":18},0]
[null,{"$f":"B5076","v":19},0]
[null,{"$f":"B5077","v":20},0]
[null,{"$f":"B5078","v":21},0]
[null,{"$f":"B5079","v":22},0]
[null,{"$f":"B5080","v":23},0]
[null,{"$f":"B5081","v":24},0]
[null,{"$f":"B5082","v":25},0]
[null,{"$f":"B5083","v":26},0]
[null,{"$f":"B5084","v":27},0]
[null,{"$f":"B5085","v":28},0]
[null,{"$f":"B5086","v":29},0]
[null,{"$f":"B5087","v":30},0]
[null,{"$f":"B5088","v":31},0]
[null,{"$f":"B5089","v":32},0]
[null,{"$f":"B5090","v":33},0]
[null,{"$f":"B5091","v":34},0]
[null,{"$f":"B5092","v":35},0]
[]
["Рекомендация: обратите внимание на задания по темам, которые вызвали у Вас затруднения, решены с ошибкой и отмечены \"0\" или к решению которых Вы не приступили (пустые ячейки)!"]
[]
[]
[]
["Центр независимой оценки качества образования и образовательного аудита \"Легион\""]
[]
["Образовательная организация",null,null,null,{"$f":"E5100","v":"Ленинская СОШ"}]
["Предмет",null,null,null,{"$f":"E5101","v":"Русский язык"}]
["Максимальный балл",null,null,null,39]
["Пороговый балл",null,null,null,15]
["Зона риска",null,null,null,{"$f":"Результаты!E15","v":15},null,null,{"$f":"Результаты!H15","v":16}]
[]
["Уровни",null,null,null,{"$f":"E5106","v":1},{"$f":"F5106","v":2},3,4,5,6,7,8,9,10,11,12,13,14,15,"ПР.ГР",{"$error":"#REF!"},{"$error":"#REF!"},{"$error":"#REF!"},{"$error":"#REF!"},{"$error":"#REF!"},{"$error":"#REF!"},{"$error":"#REF!"},{"$error":"#REF!"},{"$error":"#REF!"},{"$error":"#REF!"},{"$error":"#REF!"},{"$error":"#REF!"},{"$error":"#REF!"},{"$error":"#REF!"},{"$error":"#REF!"},{"$error":"#REF!"},{"$error":"#REF!"},{"$error":"#REF!"},{"$error":"#REF!"},"Тестовый балл","% выплнения заданий по уровням",null,null,"Оценка"]
[null,null,null,null,null,null,null,null,null,null,null,null,null,null,null,null,null,null,null,null,null,null,null,null,null,null,null,null,null,null,null,null,null,null,null,null,null,null,null,null,"Базовый","Повышенный","Высокий"]
["№","Класс","Ф.И.О.","№ задания",{"$f":"E5108","v":1},{"$f":"F5108","v":2},3,4,5,6,7,8,9,10,11,12,13,14,15,0,{"$error":"#REF!"},{"$error":"#REF!"},{"$error":"#REF!"},{"$error":"#REF!"},{"$error":"#REF!"},{"$error":"#REF!"},{"$error":"#REF!"},{"$error":"#REF!"},{"$error":"#REF!"},{"$error":"#REF!"},{"$error":"#REF!"},{"$error":"#REF!"},{"$error":"#REF!"},{"$error":"#REF!"},{"$error":"#REF!"},{"$error":"#REF!"},{"$error":"#REF!"},{"$error":"#REF!"},{"$error":"#REF!"}]
["Максимальный балл",null,null,null,{"$f":"E5109","v":7},{"$f":"F5109","v":1},1,1,1,1,1,1,1,1,1,1,1,1,9,10,{"$error":"#REF!"},{"$error":"#REF!"},{"$error":"#REF!"},{"$error":"#REF!"},{"$error":"#REF!"},{"$error":"#REF!"},{"$error":"#REF!"},{"$error":"#REF!"},{"$error":"#REF!"},{"$error":"#REF!"},{"$error":"#REF!"},{"$error":"#REF!"},{"$error":"#REF!"},{"$error":"#REF!"},{"$error":"#REF!"},{"$error":"#REF!"},{"$error":"#REF!"},{"$error":"#REF!"},{"$error":"#REF!"},39,76.92307692307692,{"$error":"#REF!"},23.076923076923077,0]
[null,null,null,"вариант"]
[{"$f":"Результаты!#REF!","v":{"$error":"#REF!"}},{"$f":"Результаты!#REF!","v":{"$error":"#REF!"}},{"$f":"Результаты!#REF!","v":{"$error":"#REF!"}},{"$f":"Результаты!#REF!","v":{"$error":"#REF!"}},{"$f":"Результаты!#REF!","v":{"$error":"#REF!"}},{"$f":"Результаты!#REF!","v":{"$error":"#REF!"}},{"$f":"Результаты!#REF!","v":{"$error":"#REF!"}},{"$f":"Результаты!#REF!","v":{"$error":"#REF!"}},{"$f":"Результаты!#REF!","v":{"$error":"#REF!"}},{"$f":"Результаты!#REF!","v":{"$error":"#REF!"}},{"$f":"Результаты!#REF!","v":{"$error":"#REF!"}},{"$f":"Результаты!#REF!","v":{"$error":"#REF!"}},{"$f":"Результаты!#REF!","v":{"$error":"#REF!"}},{"$f":"Результаты!#REF!","v":{"$error":"#REF!"}},{"$f":"Результаты!#REF!","v":{"$error":"#REF!"}},{"$f":"Результаты!#REF!","v":{"$error":"#REF!"}},{"$f":"Результаты!#REF!","v":{"$error":"#REF!"}},{"$f":"Результаты!#REF!","v":{"$error":"#REF!"}},{"$f":"Результаты!#REF!","v":{"$error":"#REF!"}},{"$f":"Результаты!#REF!","v":{"$error":"#REF!"}},{"$f":"Результаты!#REF!","v":{"$error":"#REF!"}},{"$f":"Результаты!#REF!","v":{"$error":"#REF!"}},{"$f":"Результаты!#REF!","v":{"$error":"#REF!"}},{"$f":"Результаты!#REF!","v":{"$error":"#REF!"}},{"$f":"Результаты!#REF!","v":{"$error":"#REF!"}},{"$f":"Результаты!#REF!","v":{"$error":"#REF!"}},{"$f":"Результаты!#REF!","v":{"$error":"#REF!"}},{"$f":"Результаты!#REF!","v":{"$error":"#REF!"}},{"$f":"Результаты!#REF!","v":{"$error":"#REF!"}},{"$f":"Результаты!#REF!","v":{"$error":"#REF!"}},{"$f":"Результаты!#REF!","v":{"$error":"#REF!"}},{"$f":"Результаты!#REF!","v":{"$error":"#REF!"}},{"$f":"Результаты!#REF!","v":{"$error":"#REF!"}},{"$f":"Результаты!#REF!","v":{"$error":"#REF!"}},{"$f":"Результаты!#REF!","v":{"$error":"#REF!"}},{"$f":"Результаты!#REF!","v":{"$error":"#REF!"}},{"$f":"Результаты!#REF!","v":{"$error":"#REF!"}},{"$f":"Результаты!#REF!","v":{"$error":"#REF!"}},{"$f":"Результаты!#REF!","v":{"$error":"#REF!"}},{"$f":"Результаты!#REF!","v":{"$error":"#REF!"}},{"$f":"Результаты!#REF!","v":{"$error":"#REF!"}},{"$f":"Результаты!#REF!","v":{"$error":"#REF!"}},{"$f":"Результаты!#REF!","v":{"$error":"#REF!"}},{"$f":"Результаты!#REF!","v":{"$error":"#REF!"}}]
[]
[]
[null,{"$f":"B5114","v":1},{"$f":"C5114","v":"Информационная обработка текстов различных стилей и жанров. Текст как речевое произведение. Смысловая и композиционная целостность текста. Отбор языковых средств в тексте в зависимости от темы, цели, адресата и ситуации общения. Создание текстов различных стилей и функционально-смысловых типов речи. Грамматические нормы (морфологические нормы). Грамматические  нормы  (синтаксические нормы). Лексические нормы. Пунктуация в простом и сложном предложениях. Орфограмма"}]
[null,{"$f":"B5115","v":2},"Текст как речевое произведение. Смысловая и композиционная целостность текста. Анализ текста"]
[null,{"$f":"B5116","v":3},"Выразительные средства лексики и фразеологии. Анализ средств выразительности"]
[null,{"$f":"B5117","v":4},"Правописание приставок. Слитное, дефисное, раздельное написание"]
[null,{"$f":"B5118","v":5},"Правописание суффиксов различных частей речи (кроме -Н-/-НН-). Правописание -Н- и -НН- в различных частях речи. Правописание личных окончаний глаголов и суффиксов причастий настоящего времени"]
[null,{"$f":"B5119","v":6},"Лексика и фразеология. Синонимы. Фразеологические обороты. Группы слов по происхождению и употреблению"]
[null,{"$f":"B5120","v":7},"Словосочетание"]
[null,{"$f":"B5121","v":8},"Предложение. Грамматическая (предикативная) основа предложения. Подлежащее и сказуемое как главные члены предложения "]
[null,{"$f":"B5122","v":9},"Осложнённое простое предложение"]
[null,{"$f":"B5123","v":10},"Пунктуационный анализ. Знаки препинания в предложениях со словами и конструкциями, грамматически не связанными с членами предложения"]
[null,{"$f":"B5124","v":11},"Синтаксический анализ сложного предложения"]
[null,{"$f":"B5125","v":12},"Пунктуационный анализ. Знаки препинания в сложносочинённом и сложноподчинённом предложениях"]
[null,{"$f":"B5126","v":13},"Синтаксический анализ сложного предложения"]
[null,{"$f":"B5127","v":14},"Сложные предложения с разными видами связи между частями"]
[null,{"$f":"B5128","v":15},"Текст как речевое произведение. Смысловая и композиционная целостность текста. Создание текстов различных стилей и функционально-смысловых типов речи. Информационная обработка текстов различных стилей и жанров. Грамматические нормы (морфологические нормы). Грамматические нормы (синтаксические нормы). Лексические нормы"]
[null,{"$f":"B5129","v":16},0]
[null,{"$f":"B5130","v":17},0]
[null,{"$f":"B5131","v":18},0]
[null,{"$f":"B5132","v":19},0]
[null,{"$f":"B5133","v":20},0]
[null,{"$f":"B5134","v":21},0]
[null,{"$f":"B5135","v":22},0]
[null,{"$f":"B5136","v":23},0]
[null,{"$f":"B5137","v":24},0]
[null,{"$f":"B5138","v":25},0]
[null,{"$f":"B5139","v":26},0]
[null,{"$f":"B5140","v":27},0]
[null,{"$f":"B5141","v":28},0]
[null,{"$f":"B5142","v":29},0]
[null,{"$f":"B5143","v":30},0]
[null,{"$f":"B5144","v":31},0]
[null,{"$f":"B5145","v":32},0]
[null,{"$f":"B5146","v":33},0]
[null,{"$f":"B5147","v":34},0]
[null,{"$f":"B5148","v":35},0]
[]
[]
["Рекомендация: обратите внимание на задания по темам, которые вызвали у Вас затруднения, решены с ошибкой и отмечены \"0\" или к решению которых Вы не приступили (пустые ячейки)!"]
[]
[]
["Центр независимой оценки качества образования и образовательного аудита \"Легион\""]
[]
["Образовательная организация",null,null,null,{"$f":"E5156","v":"Ленинская СОШ"}]
["Предмет",null,null,null,{"$f":"E5157","v":"Русский язык"}]
["Максимальный балл",null,null,null,39]
["Пороговый балл",null,null,null,15]
["Зона риска",null,null,null,{"$f":"Результаты!E15","v":15},null,null,{"$f":"Результаты!H15","v":16}]
[]
["Уровни",null,null,null,{"$f":"E5162","v":1},{"$f":"F5162","v":2},3,4,5,6,7,8,9,10,11,12,13,14,15,"ПР.ГР",{"$error":"#REF!"},{"$error":"#REF!"},{"$error":"#REF!"},{"$error":"#REF!"},{"$error":"#REF!"},{"$error":"#REF!"},{"$error":"#REF!"},{"$error":"#REF!"},{"$error":"#REF!"},{"$error":"#REF!"},{"$error":"#REF!"},{"$error":"#REF!"},{"$error":"#REF!"},{"$error":"#REF!"},{"$error":"#REF!"},{"$error":"#REF!"},{"$error":"#REF!"},{"$error":"#REF!"},{"$error":"#REF!"},"Тестовый балл","% выплнения заданий по уровням",null,null,"Оценка"]
[null,null,null,null,null,null,null,null,null,null,null,null,null,null,null,null,null,null,null,null,null,null,null,null,null,null,null,null,null,null,null,null,null,null,null,null,null,null,null,null,"Базовый","Повышенный","Высокий"]
["№","Класс","Ф.И.О.","№ задания",{"$f":"E5164","v":1},{"$f":"F5164","v":2},3,4,5,6,7,8,9,10,11,12,13,14,15,0,{"$error":"#REF!"},{"$error":"#REF!"},{"$error":"#REF!"},{"$error":"#REF!"},{"$error":"#REF!"},{"$error":"#REF!"},{"$error":"#REF!"},{"$error":"#REF!"},{"$error":"#REF!"},{"$error":"#REF!"},{"$error":"#REF!"},{"$error":"#REF!"},{"$error":"#REF!"},{"$error":"#REF!"},{"$error":"#REF!"},{"$error":"#REF!"},{"$error":"#REF!"},{"$error":"#REF!"},{"$error":"#REF!"}]
["Максимальный балл",null,null,null,{"$f":"E5165","v":7},{"$f":"F5165","v":1},1,1,1,1,1,1,1,1,1,1,1,1,9,10,{"$error":"#REF!"},{"$error":"#REF!"},{"$error":"#REF!"},{"$error":"#REF!"},{"$error":"#REF!"},{"$error":"#REF!"},{"$error":"#REF!"},{"$error":"#REF!"},{"$error":"#REF!"},{"$error":"#REF!"},{"$error":"#REF!"},{"$error":"#REF!"},{"$error":"#REF!"},{"$error":"#REF!"},{"$error":"#REF!"},{"$error":"#REF!"},{"$error":"#REF!"},{"$error":"#REF!"},{"$error":"#REF!"},39,76.92307692307692,{"$error":"#REF!"},23.076923076923077,0]
[null,null,null,"вариант"]
[{"$f":"Результаты!#REF!","v":{"$error":"#REF!"}},{"$f":"Результаты!#REF!","v":{"$error":"#REF!"}},{"$f":"Результаты!#REF!","v":{"$error":"#REF!"}},{"$f":"Результаты!#REF!","v":{"$error":"#REF!"}},{"$f":"Результаты!#REF!","v":{"$error":"#REF!"}},{"$f":"Результаты!#REF!","v":{"$error":"#REF!"}},{"$f":"Результаты!#REF!","v":{"$error":"#REF!"}},{"$f":"Результаты!#REF!","v":{"$error":"#REF!"}},{"$f":"Результаты!#REF!","v":{"$error":"#REF!"}},{"$f":"Результаты!#REF!","v":{"$error":"#REF!"}},{"$f":"Результаты!#REF!","v":{"$error":"#REF!"}},{"$f":"Результаты!#REF!","v":{"$error":"#REF!"}},{"$f":"Результаты!#REF!","v":{"$error":"#REF!"}},{"$f":"Результаты!#REF!","v":{"$error":"#REF!"}},{"$f":"Результаты!#REF!","v":{"$error":"#REF!"}},{"$f":"Результаты!#REF!","v":{"$error":"#REF!"}},{"$f":"Результаты!#REF!","v":{"$error":"#REF!"}},{"$f":"Результаты!#REF!","v":{"$error":"#REF!"}},{"$f":"Результаты!#REF!","v":{"$error":"#REF!"}},{"$f":"Результаты!#REF!","v":{"$error":"#REF!"}},{"$f":"Результаты!#REF!","v":{"$error":"#REF!"}},{"$f":"Результаты!#REF!","v":{"$error":"#REF!"}},{"$f":"Результаты!#REF!","v":{"$error":"#REF!"}},{"$f":"Результаты!#REF!","v":{"$error":"#REF!"}},{"$f":"Результаты!#REF!","v":{"$error":"#REF!"}},{"$f":"Результаты!#REF!","v":{"$error":"#REF!"}},{"$f":"Результаты!#REF!","v":{"$error":"#REF!"}},{"$f":"Результаты!#REF!","v":{"$error":"#REF!"}},{"$f":"Результаты!#REF!","v":{"$error":"#REF!"}},{"$f":"Результаты!#REF!","v":{"$error":"#REF!"}},{"$f":"Результаты!#REF!","v":{"$error":"#REF!"}},{"$f":"Результаты!#REF!","v":{"$error":"#REF!"}},{"$f":"Результаты!#REF!","v":{"$error":"#REF!"}},{"$f":"Результаты!#REF!","v":{"$error":"#REF!"}},{"$f":"Результаты!#REF!","v":{"$error":"#REF!"}},{"$f":"Результаты!#REF!","v":{"$error":"#REF!"}},{"$f":"Результаты!#REF!","v":{"$error":"#REF!"}},{"$f":"Результаты!#REF!","v":{"$error":"#REF!"}},{"$f":"Результаты!#REF!","v":{"$error":"#REF!"}},{"$f":"Результаты!#REF!","v":{"$error":"#REF!"}},{"$f":"Результаты!#REF!","v":{"$error":"#REF!"}},{"$f":"Результаты!#REF!","v":{"$error":"#REF!"}},{"$f":"Результаты!#REF!","v":{"$error":"#REF!"}},{"$f":"Результаты!#REF!","v":{"$error":"#REF!"}}]
[]
[]
[null,{"$f":"B5170","v":1},"Информационная обработка текстов различных стилей и жанров. Текст как речевое произведение. Смысловая и композиционная целостность текста. Отбор языковых средств в тексте в зависимости от темы, цели, адресата и ситуации общения. Создание текстов различных стилей и функционально-смысловых типов речи. Грамматические нормы (морфологические нормы). Грамматические  нормы  (синтаксические нормы). Лексические нормы. Пунктуация в простом и сложном предложениях. Орфограмма"]
[null,{"$f":"B5171","v":2},"Текст как речевое произведение. Смысловая и композиционная целостность текста. Анализ текста"]
[null,{"$f":"B5172","v":3},"Выразительные средства лексики и фразеологии. Анализ средств выразительности"]
[null,{"$f":"B5173","v":4},"Правописание приставок. Слитное, дефисное, раздельное написание"]
[null,{"$f":"B5174","v":5},"Правописание суффиксов различных частей речи (кроме -Н-/-НН-). Правописание -Н- и -НН- в различных частях речи. Правописание личных окончаний глаголов и суффиксов причастий настоящего времени"]
[null,{"$f":"B5175","v":6},"Лексика и фразеология. Синонимы. Фразеологические обороты. Группы слов по происхождению и употреблению"]
[null,{"$f":"B5176","v":7},"Словосочетание"]
[null,{"$f":"B5177","v":8},"Предложение. Грамматическая (предикативная) основа предложения. Подлежащее и сказуемое как главные члены предложения "]
[null,{"$f":"B5178","v":9},"Осложнённое простое предложение"]
[null,{"$f":"B5179","v":10},"Пунктуационный анализ. Знаки препинания в предложениях со словами и конструкциями, грамматически не связанными с членами предложения"]
[null,{"$f":"B5180","v":11},"Синтаксический анализ сложного предложения"]
[null,{"$f":"B5181","v":12},"Пунктуационный анализ. Знаки препинания в сложносочинённом и сложноподчинённом предложениях"]
[null,{"$f":"B5182","v":13},"Синтаксический анализ сложного предложения"]
[null,{"$f":"B5183","v":14},"Сложные предложения с разными видами связи между частями"]
[null,{"$f":"B5184","v":15},"Текст как речевое произведение. Смысловая и композиционная целостность текста. Создание текстов различных стилей и функционально-смысловых типов речи. Информационная обработка текстов различных стилей и жанров. Грамматические нормы (морфологические нормы). Грамматические нормы (синтаксические нормы). Лексические нормы"]
[null,{"$f":"B5185","v":16},0]
[null,{"$f":"B5186","v":17},0]
[null,{"$f":"B5187","v":18},0]
[null,{"$f":"B5188","v":19},0]
[null,{"$f":"B5189","v":20},0]
[null,{"$f":"B5190","v":21},0]
[null,{"$f":"B5191","v":22},0]
[null,{"$f":"B5192","v":23},0]
[null,{"$f":"B5193","v":24},0]
[null,{"$f":"B5194","v":25},0]
[null,{"$f":"B5195","v":26},0]
[null,{"$f":"B5196","v":27},0]
[null,{"$f":"B5197","v":28},0]
[null,{"$f":"B5198","v":29},0]
[null,{"$f":"B5199","v":30},0]
[null,{"$f":"B5200","v":31},0]
[null,{"$f":"B5201","v":32},0]
[null,{"$f":"B5202","v":33},0]
[null,{"$f":"B5203","v":34},0]
[null,{"$f":"B5204","v":35},0]
[]
[]
["Рекомендация: обратите внимание на задания по темам, которые вызвали у Вас затруднения, решены с ошибкой и отмечены \"0\" или к решению которых Вы не приступили (пустые ячейки)!"]
[]
[]
["Центр независимой оценки качества образования и образовательного аудита \"Легион\""]
[]
["Образовательная организация",null,null,null,{"$f":"E5212","v":"Ленинская СОШ"}]
["Предмет",null,null,null,{"$f":"E5213","v":"Русский язык"}]
["Максимальный балл",null,null,null,39]
["Пороговый балл",null,null,null,15]
["Зона риска",null,null,null,{"$f":"Результаты!E15","v":15},null,null,{"$f":"Результаты!H15","v":16}]
[]
["Уровни",null,null,null,{"$f":"E5218","v":1},{"$f":"F5218","v":2},3,4,5,6,7,8,9,10,11,12,13,14,15,"ПР.ГР",{"$error":"#REF!"},{"$error":"#REF!"},{"$error":"#REF!"},{"$error":"#REF!"},{"$error":"#REF!"},{"$error":"#REF!"},{"$error":"#REF!"},{"$error":"#REF!"},{"$error":"#REF!"},{"$error":"#REF!"},{"$error":"#REF!"},{"$error":"#REF!"},{"$error":"#REF!"},{"$error":"#REF!"},{"$error":"#REF!"},{"$error":"#REF!"},{"$error":"#REF!"},{"$error":"#REF!"},{"$error":"#REF!"},"Тестовый балл","% выплнения заданий по уровням",null,null,"Оценка"]
[null,null,null,null,null,null,null,null,null,null,null,null,null,null,null,null,null,null,null,null,null,null,null,null,null,null,null,null,null,null,null,null,null,null,null,null,null,null,null,null,"Базовый","Повышенный","Высокий"]
["№","Класс","Ф.И.О.","№ задания",{"$f":"E5220","v":1},{"$f":"F5220","v":2},3,4,5,6,7,8,9,10,11,12,13,14,15,0,{"$error":"#REF!"},{"$error":"#REF!"},{"$error":"#REF!"},{"$error":"#REF!"},{"$error":"#REF!"},{"$error":"#REF!"},{"$error":"#REF!"},{"$error":"#REF!"},{"$error":"#REF!"},{"$error":"#REF!"},{"$error":"#REF!"},{"$error":"#REF!"},{"$error":"#REF!"},{"$error":"#REF!"},{"$error":"#REF!"},{"$error":"#REF!"},{"$error":"#REF!"},{"$error":"#REF!"},{"$error":"#REF!"}]
["Максимальный балл",null,null,null,{"$f":"E5221","v":7},{"$f":"F5221","v":1},1,1,1,1,1,1,1,1,1,1,1,1,9,10,{"$error":"#REF!"},{"$error":"#REF!"},{"$error":"#REF!"},{"$error":"#REF!"},{"$error":"#REF!"},{"$error":"#REF!"},{"$error":"#REF!"},{"$error":"#REF!"},{"$error":"#REF!"},{"$error":"#REF!"},{"$error":"#REF!"},{"$error":"#REF!"},{"$error":"#REF!"},{"$error":"#REF!"},{"$error":"#REF!"},{"$error":"#REF!"},{"$error":"#REF!"},{"$error":"#REF!"},{"$error":"#REF!"},39,76.92307692307692,{"$error":"#REF!"},23.076923076923077,0]
[null,null,null,"вариант"]
[{"$f":"Результаты!#REF!","v":{"$error":"#REF!"}},{"$f":"Результаты!#REF!","v":{"$error":"#REF!"}},{"$f":"Результаты!#REF!","v":{"$error":"#REF!"}},{"$f":"Результаты!#REF!","v":{"$error":"#REF!"}},{"$f":"Результаты!#REF!","v":{"$error":"#REF!"}},{"$f":"Результаты!#REF!","v":{"$error":"#REF!"}},{"$f":"Результаты!#REF!","v":{"$error":"#REF!"}},{"$f":"Результаты!#REF!","v":{"$error":"#REF!"}},{"$f":"Результаты!#REF!","v":{"$error":"#REF!"}},{"$f":"Результаты!#REF!","v":{"$error":"#REF!"}},{"$f":"Результаты!#REF!","v":{"$error":"#REF!"}},{"$f":"Результаты!#REF!","v":{"$error":"#REF!"}},{"$f":"Результаты!#REF!","v":{"$error":"#REF!"}},{"$f":"Результаты!#REF!","v":{"$error":"#REF!"}},{"$f":"Результаты!#REF!","v":{"$error":"#REF!"}},{"$f":"Результаты!#REF!","v":{"$error":"#REF!"}},{"$f":"Результаты!#REF!","v":{"$error":"#REF!"}},{"$f":"Результаты!#REF!","v":{"$error":"#REF!"}},{"$f":"Результаты!#REF!","v":{"$error":"#REF!"}},{"$f":"Результаты!#REF!","v":{"$error":"#REF!"}},{"$f":"Результаты!#REF!","v":{"$error":"#REF!"}},{"$f":"Результаты!#REF!","v":{"$error":"#REF!"}},{"$f":"Результаты!#REF!","v":{"$error":"#REF!"}},{"$f":"Результаты!#REF!","v":{"$error":"#REF!"}},{"$f":"Результаты!#REF!","v":{"$error":"#REF!"}},{"$f":"Результаты!#REF!","v":{"$error":"#REF!"}},{"$f":"Результаты!#REF!","v":{"$error":"#REF!"}},{"$f":"Результаты!#REF!","v":{"$error":"#REF!"}},{"$f":"Результаты!#REF!","v":{"$error":"#REF!"}},{"$f":"Результаты!#REF!","v":{"$error":"#REF!"}},{"$f":"Результаты!#REF!","v":{"$error":"#REF!"}},{"$f":"Результаты!#REF!","v":{"$error":"#REF!"}},{"$f":"Результаты!#REF!","v":{"$error":"#REF!"}},{"$f":"Результаты!#REF!","v":{"$error":"#REF!"}},{"$f":"Результаты!#REF!","v":{"$error":"#REF!"}},{"$f":"Результаты!#REF!","v":{"$error":"#REF!"}},{"$f":"Результаты!#REF!","v":{"$error":"#REF!"}},{"$f":"Результаты!#REF!","v":{"$error":"#REF!"}},{"$f":"Результаты!#REF!","v":{"$error":"#REF!"}},{"$f":"Результаты!#REF!","v":{"$error":"#REF!"}},{"$f":"Результаты!#REF!","v":{"$error":"#REF!"}},{"$f":"Результаты!#REF!","v":{"$error":"#REF!"}},{"$f":"Результаты!#REF!","v":{"$error":"#REF!"}},{"$f":"Результаты!#REF!","v":{"$error":"#REF!"}}]
[]
[]
[null,{"$f":"B5226","v":1},"Информационная обработка текстов различных стилей и жанров. Текст как речевое произведение. Смысловая и композиционная целостность текста. Отбор языковых средств в тексте в зависимости от темы, цели, адресата и ситуации общения. Создание текстов различных стилей и функционально-смысловых типов речи. Грамматические нормы (морфологические нормы). Грамматические  нормы  (синтаксические нормы). Лексические нормы. Пунктуация в простом и сложном предложениях. Орфограмма"]
[null,2,"Текст как речевое произведение. Смысловая и композиционная целостность текста. Анализ текста"]
[null,3,"Выразительные средства лексики и фразеологии. Анализ средств выразительности"]
[null,4,"Правописание приставок. Слитное, дефисное, раздельное написание"]
[null,5,"Правописание суффиксов различных частей речи (кроме -Н-/-НН-). Правописание -Н- и -НН- в различных частях речи. Правописание личных окончаний глаголов и суффиксов причастий настоящего времени"]
[null,6,"Лексика и фразеология. Синонимы. Фразеологические обороты. Группы слов по происхождению и употреблению"]
[null,7,"Словосочетание"]
[null,8,"Предложение. Грамматическая (предикативная) основа предложения. Подлежащее и сказуемое как главные члены предложения "]
[null,9,"Осложнённое простое предложение"]
[null,10,"Пунктуационный анализ. Знаки препинания в предложениях со словами и конструкциями, грамматически не связанными с членами предложения"]
[null,11,"Синтаксический анализ сложного предложения"]
[null,12,"Пунктуационный анализ. Знаки препинания в сложносочинённом и сложноподчинённом предложениях"]
[null,13,"Синтаксический анализ сложного предложения"]
[null,14,"Сложные предложения с разными видами связи между частями"]
[null,15,"Текст как речевое произведение. Смысловая и композиционная целостность текста. Создание текстов различных стилей и функционально-смысловых типов речи. Информационная обработка текстов различных стилей и жанров. Грамматические нормы (морфологические нормы). Грамматические нормы (синтаксические нормы). Лексические нормы"]
[null,16,0]
[null,17,0]
[null,18,0]
[null,19,0]
[null,20,0]
[null,{"$f":"B5246","v":21},0]
[null,22,0]
[null,23,0]
[null,24,0]
[null,25,0]
[null,26,0]
[null,27,0]
[null,28,0]
[null,29,0]
[null,30,0]
[null,31,0]
[null,32,0]
[null,33,0]
[null,34,0]
[null,35,0]
[]
["Рекомендация: обратите внимание на задания по темам, которые вызвали у Вас затруднения, решены с ошибкой и отмечены \"0\" или к решению которых Вы не приступили (пустые ячейки)!"]
[]
[]
[]
["Центр независимой оценки качества образования и образовательного аудита \"Легион\""]
[]
["Образовательная организация",null,null,null,{"$f":"E5268","v":"Ленинская СОШ"}]
["Предмет",null,null,null,{"$f":"E5269","v":"Русский язык"}]
["Максимальный балл",null,null,null,39]
["Пороговый балл",null,null,null,15]
["Зона риска",null,null,null,{"$f":"Результаты!E15","v":15},null,null,{"$f":"Результаты!H15","v":16}]
[]
["Уровни",null,null,null,{"$f":"E5274","v":1},{"$f":"F5274","v":2},3,4,5,6,7,8,9,10,11,12,13,14,15,"ПР.ГР",{"$error":"#REF!"},{"$error":"#REF!"},{"$error":"#REF!"},{"$error":"#REF!"},{"$error":"#REF!"},{"$error":"#REF!"},{"$error":"#REF!"},{"$error":"#REF!"},{"$error":"#REF!"},{"$error":"#REF!"},{"$error":"#REF!"},{"$error":"#REF!"},{"$error":"#REF!"},{"$error":"#REF!"},{"$error":"#REF!"},{"$error":"#REF!"},{"$error":"#REF!"},{"$error":"#REF!"},{"$error":"#REF!"},"Тестовый балл","% выплнения заданий по уровням",null,null,"Оценка"]
[null,null,null,null,null,null,null,null,null,null,null,null,null,null,null,null,null,null,null,null,null,null,null,null,null,null,null,null,null,null,null,null,null,null,null,null,null,null,null,null,"Базовый","Повышенный","Высокий"]
["№","Класс","Ф.И.О.","№ задания",{"$f":"E5276","v":1},{"$f":"F5276","v":2},3,4,5,6,7,8,9,10,11,12,13,14,15,0,{"$error":"#REF!"},{"$error":"#REF!"},{"$error":"#REF!"},{"$error":"#REF!"},{"$error":"#REF!"},{"$error":"#REF!"},{"$error":"#REF!"},{"$error":"#REF!"},{"$error":"#REF!"},{"$error":"#REF!"},{"$error":"#REF!"},{"$error":"#REF!"},{"$error":"#REF!"},{"$error":"#REF!"},{"$error":"#REF!"},{"$error":"#REF!"},{"$error":"#REF!"},{"$error":"#REF!"},{"$error":"#REF!"}]
["Максимальный балл",null,null,null,{"$f":"E5277","v":7},{"$f":"F5277","v":1},1,1,1,1,1,1,1,1,1,1,1,1,9,10,{"$error":"#REF!"},{"$error":"#REF!"},{"$error":"#REF!"},{"$error":"#REF!"},{"$error":"#REF!"},{"$error":"#REF!"},{"$error":"#REF!"},{"$error":"#REF!"},{"$error":"#REF!"},{"$error":"#REF!"},{"$error":"#REF!"},{"$error":"#REF!"},{"$error":"#REF!"},{"$error":"#REF!"},{"$error":"#REF!"},{"$error":"#REF!"},{"$error":"#REF!"},{"$error":"#REF!"},{"$error":"#REF!"},39,76.92307692307692,{"$error":"#REF!"},23.076923076923077,0]
[null,null,null,"вариант"]
[{"$f":"Результаты!#REF!","v":{"$error":"#REF!"}},{"$f":"Результаты!#REF!","v":{"$error":"#REF!"}},{"$f":"Результаты!#REF!","v":{"$error":"#REF!"}},{"$f":"Результаты!#REF!","v":{"$error":"#REF!"}},{"$f":"Результаты!#REF!","v":{"$error":"#REF!"}},{"$f":"Результаты!#REF!","v":{"$error":"#REF!"}},{"$f":"Результаты!#REF!","v":{"$error":"#REF!"}},{"$f":"Результаты!#REF!","v":{"$error":"#REF!"}},{"$f":"Результаты!#REF!","v":{"$error":"#REF!"}},{"$f":"Результаты!#REF!","v":{"$error":"#REF!"}},{"$f":"Результаты!#REF!","v":{"$error":"#REF!"}},{"$f":"Результаты!#REF!","v":{"$error":"#REF!"}},{"$f":"Результаты!#REF!","v":{"$error":"#REF!"}},{"$f":"Результаты!#REF!","v":{"$error":"#REF!"}},{"$f":"Результаты!#REF!","v":{"$error":"#REF!"}},{"$f":"Результаты!#REF!","v":{"$error":"#REF!"}},{"$f":"Результаты!#REF!","v":{"$error":"#REF!"}},{"$f":"Результаты!#REF!","v":{"$error":"#REF!"}},{"$f":"Результаты!#REF!","v":{"$error":"#REF!"}},{"$f":"Результаты!#REF!","v":{"$error":"#REF!"}},{"$f":"Результаты!#REF!","v":{"$error":"#REF!"}},{"$f":"Результаты!#REF!","v":{"$error":"#REF!"}},{"$f":"Результаты!#REF!","v":{"$error":"#REF!"}},{"$f":"Результаты!#REF!","v":{"$error":"#REF!"}},{"$f":"Результаты!#REF!","v":{"$error":"#REF!"}},{"$f":"Результаты!#REF!","v":{"$error":"#REF!"}},{"$f":"Результаты!#REF!","v":{"$error":"#REF!"}},{"$f":"Результаты!#REF!","v":{"$error":"#REF!"}},{"$f":"Результаты!#REF!","v":{"$error":"#REF!"}},{"$f":"Результаты!#REF!","v":{"$error":"#REF!"}},{"$f":"Результаты!#REF!","v":{"$error":"#REF!"}},{"$f":"Результаты!#REF!","v":{"$error":"#REF!"}},{"$f":"Результаты!#REF!","v":{"$error":"#REF!"}},{"$f":"Результаты!#REF!","v":{"$error":"#REF!"}},{"$f":"Результаты!#REF!","v":{"$error":"#REF!"}},{"$f":"Результаты!#REF!","v":{"$error":"#REF!"}},{"$f":"Результаты!#REF!","v":{"$error":"#REF!"}},{"$f":"Результаты!#REF!","v":{"$error":"#REF!"}},{"$f":"Результаты!#REF!","v":{"$error":"#REF!"}},{"$f":"Результаты!#REF!","v":{"$error":"#REF!"}},{"$f":"Результаты!#REF!","v":{"$error":"#REF!"}},{"$f":"Результаты!#REF!","v":{"$error":"#REF!"}},{"$f":"Результаты!#REF!","v":{"$error":"#REF!"}},{"$f":"Результаты!#REF!","v":{"$error":"#REF!"}}]
[]
[]
[null,{"$f":"B5282","v":1},{"$f":"C5282","v":"Информационная обработка текстов различных стилей и жанров. Текст как речевое произведение. Смысловая и композиционная целостность текста. Отбор языковых средств в тексте в зависимости от темы, цели, адресата и ситуации общения. Создание текстов различных стилей и функционально-смысловых типов речи. Грамматические нормы (морфологические нормы). Грамматические  нормы  (синтаксические нормы). Лексические нормы. Пунктуация в простом и сложном предложениях. Орфограмма"}]
[null,{"$f":"B5283","v":2},"Текст как речевое произведение. Смысловая и композиционная целостность текста. Анализ текста"]
[null,{"$f":"B5284","v":3},"Выразительные средства лексики и фразеологии. Анализ средств выразительности"]
[null,{"$f":"B5285","v":4},"Правописание приставок. Слитное, дефисное, раздельное написание"]
[null,{"$f":"B5286","v":5},"Правописание суффиксов различных частей речи (кроме -Н-/-НН-). Правописание -Н- и -НН- в различных частях речи. Правописание личных окончаний глаголов и суффиксов причастий настоящего времени"]
[null,{"$f":"B5287","v":6},"Лексика и фразеология. Синонимы. Фразеологические обороты. Группы слов по происхождению и употреблению"]
[null,{"$f":"B5288","v":7},"Словосочетание"]
[null,{"$f":"B5289","v":8},"Предложение. Грамматическая (предикативная) основа предложения. Подлежащее и сказуемое как главные члены предложения "]
[null,{"$f":"B5290","v":9},"Осложнённое простое предложение"]
[null,{"$f":"B5291","v":10},"Пунктуационный анализ. Знаки препинания в предложениях со словами и конструкциями, грамматически не связанными с членами предложения"]
[null,{"$f":"B5292","v":11},"Синтаксический анализ сложного предложения"]
[null,{"$f":"B5293","v":12},"Пунктуационный анализ. Знаки препинания в сложносочинённом и сложноподчинённом предложениях"]
[null,{"$f":"B5294","v":13},"Синтаксический анализ сложного предложения"]
[null,{"$f":"B5295","v":14},"Сложные предложения с разными видами связи между частями"]
[null,{"$f":"B5296","v":15},"Текст как речевое произведение. Смысловая и композиционная целостность текста. Создание текстов различных стилей и функционально-смысловых типов речи. Информационная обработка текстов различных стилей и жанров. Грамматические нормы (морфологические нормы). Грамматические нормы (синтаксические нормы). Лексические нормы"]
[null,{"$f":"B5297","v":16},0]
[null,{"$f":"B5298","v":17},0]
[null,{"$f":"B5299","v":18},0]
[null,{"$f":"B5300","v":19},0]
[null,{"$f":"B5301","v":20},0]
[null,{"$f":"B5302","v":21},0]
[null,{"$f":"B5303","v":22},0]
[null,{"$f":"B5304","v":23},0]
[null,{"$f":"B5305","v":24},0]
[null,{"$f":"B5306","v":25},0]
[null,{"$f":"B5307","v":26},0]
[null,{"$f":"B5308","v":27},0]
[null,{"$f":"B5309","v":28},0]
[null,{"$f":"B5310","v":29},0]
[null,{"$f":"B5311","v":30},0]
[null,{"$f":"B5312","v":31},0]
[null,{"$f":"B5313","v":32},0]
[null,{"$f":"B5314","v":33},0]
[null,{"$f":"B5315","v":34},0]
[null,{"$f":"B5316","v":35},0]
[]
["Рекомендация: обратите внимание на задания по темам, которые вызвали у Вас затруднения, решены с ошибкой и отмечены \"0\" или к решению которых Вы не приступили (пустые ячейки)!"]
[]
[]
[]
["Центр независимой оценки качества образования и образовательного аудита \"Легион\""]
[]
["Образовательная организация",null,null,null,{"$f":"E5324","v":"Ленинская СОШ"}]
["Предмет",null,null,null,{"$f":"E5325","v":"Русский язык"}]
["Максимальный балл",null,null,null,39]
["Пороговый балл",null,null,null,15]
["Зона риска",null,null,null,{"$f":"Результаты!E15","v":15},null,null,{"$f":"Результаты!H15","v":16}]
[]
["Уровни",null,null,null,{"$f":"E5330","v":1},{"$f":"F5330","v":2},3,4,5,6,7,8,9,10,11,12,13,14,15,"ПР.ГР",{"$error":"#REF!"},{"$error":"#REF!"},{"$error":"#REF!"},{"$error":"#REF!"},{"$error":"#REF!"},{"$error":"#REF!"},{"$error":"#REF!"},{"$error":"#REF!"},{"$error":"#REF!"},{"$error":"#REF!"},{"$error":"#REF!"},{"$error":"#REF!"},{"$error":"#REF!"},{"$error":"#REF!"},{"$error":"#REF!"},{"$error":"#REF!"},{"$error":"#REF!"},{"$error":"#REF!"},{"$error":"#REF!"},"Тестовый балл","% выплнения заданий по уровням",null,null,"Оценка"]
[null,null,null,null,null,null,null,null,null,null,null,null,null,null,null,null,null,null,null,null,null,null,null,null,null,null,null,null,null,null,null,null,null,null,null,null,null,null,null,null,"Базовый","Повышенный","Высокий"]
["№","Класс","Ф.И.О.","№ задания",{"$f":"E5332","v":1},{"$f":"F5332","v":2},3,4,5,6,7,8,9,10,11,12,13,14,15,0,{"$error":"#REF!"},{"$error":"#REF!"},{"$error":"#REF!"},{"$error":"#REF!"},{"$error":"#REF!"},{"$error":"#REF!"},{"$error":"#REF!"},{"$error":"#REF!"},{"$error":"#REF!"},{"$error":"#REF!"},{"$error":"#REF!"},{"$error":"#REF!"},{"$error":"#REF!"},{"$error":"#REF!"},{"$error":"#REF!"},{"$error":"#REF!"},{"$error":"#REF!"},{"$error":"#REF!"},{"$error":"#REF!"}]
["Максимальный балл",null,null,null,{"$f":"E5333","v":7},{"$f":"F5333","v":1},1,1,1,1,1,1,1,1,1,1,1,1,9,10,{"$error":"#REF!"},{"$error":"#REF!"},{"$error":"#REF!"},{"$error":"#REF!"},{"$error":"#REF!"},{"$error":"#REF!"},{"$error":"#REF!"},{"$error":"#REF!"},{"$error":"#REF!"},{"$error":"#REF!"},{"$error":"#REF!"},{"$error":"#REF!"},{"$error":"#REF!"},{"$error":"#REF!"},{"$error":"#REF!"},{"$error":"#REF!"},{"$error":"#REF!"},{"$error":"#REF!"},{"$error":"#REF!"},39,76.92307692307692,{"$error":"#REF!"},23.076923076923077,0]
[null,null,null,"вариант"]
[{"$f":"Результаты!#REF!","v":{"$error":"#REF!"}},{"$f":"Результаты!#REF!","v":{"$error":"#REF!"}},{"$f":"Результаты!#REF!","v":{"$error":"#REF!"}},{"$f":"Результаты!#REF!","v":{"$error":"#REF!"}},{"$f":"Результаты!#REF!","v":{"$error":"#REF!"}},{"$f":"Результаты!#REF!","v":{"$error":"#REF!"}},{"$f":"Результаты!#REF!","v":{"$error":"#REF!"}},{"$f":"Результаты!#REF!","v":{"$error":"#REF!"}},{"$f":"Результаты!#REF!","v":{"$error":"#REF!"}},{"$f":"Результаты!#REF!","v":{"$error":"#REF!"}},{"$f":"Результаты!#REF!","v":{"$error":"#REF!"}},{"$f":"Результаты!#REF!","v":{"$error":"#REF!"}},{"$f":"Результаты!#REF!","v":{"$error":"#REF!"}},{"$f":"Результаты!#REF!","v":{"$error":"#REF!"}},{"$f":"Результаты!#REF!","v":{"$error":"#REF!"}},{"$f":"Результаты!#REF!","v":{"$error":"#REF!"}},{"$f":"Результаты!#REF!","v":{"$error":"#REF!"}},{"$f":"Результаты!#REF!","v":{"$error":"#REF!"}},{"$f":"Результаты!#REF!","v":{"$error":"#REF!"}},{"$f":"Результаты!#REF!","v":{"$error":"#REF!"}},{"$f":"Результаты!#REF!","v":{"$error":"#REF!"}},{"$f":"Результаты!#REF!","v":{"$error":"#REF!"}},{"$f":"Результаты!#REF!","v":{"$error":"#REF!"}},{"$f":"Результаты!#REF!","v":{"$error":"#REF!"}},{"$f":"Результаты!#REF!","v":{"$error":"#REF!"}},{"$f":"Результаты!#REF!","v":{"$error":"#REF!"}},{"$f":"Результаты!#REF!","v":{"$error":"#REF!"}},{"$f":"Результаты!#REF!","v":{"$error":"#REF!"}},{"$f":"Результаты!#REF!","v":{"$error":"#REF!"}},{"$f":"Результаты!#REF!","v":{"$error":"#REF!"}},{"$f":"Результаты!#REF!","v":{"$error":"#REF!"}},{"$f":"Результаты!#REF!","v":{"$error":"#REF!"}},{"$f":"Результаты!#REF!","v":{"$error":"#REF!"}},{"$f":"Результаты!#REF!","v":{"$error":"#REF!"}},{"$f":"Результаты!#REF!","v":{"$error":"#REF!"}},{"$f":"Результаты!#REF!","v":{"$error":"#REF!"}},{"$f":"Результаты!#REF!","v":{"$error":"#REF!"}},{"$f":"Результаты!#REF!","v":{"$error":"#REF!"}},{"$f":"Результаты!#REF!","v":{"$error":"#REF!"}},{"$f":"Результаты!#REF!","v":{"$error":"#REF!"}},{"$f":"Результаты!#REF!","v":{"$error":"#REF!"}},{"$f":"Результаты!#REF!","v":{"$error":"#REF!"}},{"$f":"Результаты!#REF!","v":{"$error":"#REF!"}},{"$f":"Результаты!#REF!","v":{"$error":"#REF!"}}]
[]
[]
[null,{"$f":"B5338","v":1},{"$f":"C5338","v":"Информационная обработка текстов различных стилей и жанров. Текст как речевое произведение. Смысловая и композиционная целостность текста. Отбор языковых средств в тексте в зависимости от темы, цели, адресата и ситуации общения. Создание текстов различных стилей и функционально-смысловых типов речи. Грамматические нормы (морфологические нормы). Грамматические  нормы  (синтаксические нормы). Лексические нормы. Пунктуация в простом и сложном предложениях. Орфограмма"}]
[null,{"$f":"B5339","v":2},"Текст как речевое произведение. Смысловая и композиционная целостность текста. Анализ текста"]
[null,{"$f":"B5340","v":3},"Выразительные средства лексики и фразеологии. Анализ средств выразительности"]
[null,{"$f":"B5341","v":4},"Правописание приставок. Слитное, дефисное, раздельное написание"]
[null,{"$f":"B5342","v":5},"Правописание суффиксов различных частей речи (кроме -Н-/-НН-). Правописание -Н- и -НН- в различных частях речи. Правописание личных окончаний глаголов и суффиксов причастий настоящего времени"]
[null,{"$f":"B5343","v":6},"Лексика и фразеология. Синонимы. Фразеологические обороты. Группы слов по происхождению и употреблению"]
[null,{"$f":"B5344","v":7},"Словосочетание"]
[null,{"$f":"B5345","v":8},"Предложение. Грамматическая (предикативная) основа предложения. Подлежащее и сказуемое как главные члены предложения "]
[null,{"$f":"B5346","v":9},"Осложнённое простое предложение"]
[null,{"$f":"B5347","v":10},"Пунктуационный анализ. Знаки препинания в предложениях со словами и конструкциями, грамматически не связанными с членами предложения"]
[null,{"$f":"B5348","v":11},"Синтаксический анализ сложного предложения"]
[null,{"$f":"B5349","v":12},"Пунктуационный анализ. Знаки препинания в сложносочинённом и сложноподчинённом предложениях"]
[null,{"$f":"B5350","v":13},"Синтаксический анализ сложного предложения"]
[null,{"$f":"B5351","v":14},"Сложные предложения с разными видами связи между частями"]
[null,{"$f":"B5352","v":15},"Текст как речевое произведение. Смысловая и композиционная целостность текста. Создание текстов различных стилей и функционально-смысловых типов речи. Информационная обработка текстов различных стилей и жанров. Грамматические нормы (морфологические нормы). Грамматические нормы (синтаксические нормы). Лексические нормы"]
[null,{"$f":"B5353","v":16},0]
[null,{"$f":"B5354","v":17},0]
[null,{"$f":"B5355","v":18},0]
[null,{"$f":"B5356","v":19},0]
[null,{"$f":"B5357","v":20},0]
[null,{"$f":"B5358","v":21},0]
[null,{"$f":"B5359","v":22},0]
[null,{"$f":"B5360","v":23},0]
[null,{"$f":"B5361","v":24},0]
[null,{"$f":"B5362","v":25},0]
[null,{"$f":"B5363","v":26},0]
[null,{"$f":"B5364","v":27},0]
[null,{"$f":"B5365","v":28},0]
[null,{"$f":"B5366","v":29},0]
[null,{"$f":"B5367","v":30},0]
[null,{"$f":"B5368","v":31},0]
[null,{"$f":"B5369","v":32},0]
[null,{"$f":"B5370","v":33},0]
[null,{"$f":"B5371","v":34},0]
[null,{"$f":"B5372","v":35},0]
[]
["Рекомендация: обратите внимание на задания по темам, которые вызвали у Вас затруднения, решены с ошибкой и отмечены \"0\" или к решению которых Вы не приступили (пустые ячейки)!"]
[]
[]
[]
["Центр независимой оценки качества образования и образовательного аудита \"Легион\""]
[]
["Образовательная организация",null,null,null,{"$f":"E5324","v":"Ленинская СОШ"}]
["Предмет",null,null,null,{"$f":"E5325","v":"Русский язык"}]
["Максимальный балл",null,null,null,39]
["Пороговый балл",null,null,null,15]
["Зона риска",null,null,null,{"$f":"Результаты!E15","v":15},null,null,{"$f":"Результаты!H15","v":16}]
[]
["Уровни",null,null,null,{"$f":"E5386","v":1},{"$f":"F5386","v":2},3,4,5,6,7,8,9,10,11,12,13,14,15,"ПР.ГР",{"$error":"#REF!"},{"$error":"#REF!"},{"$error":"#REF!"},{"$error":"#REF!"},{"$error":"#REF!"},{"$error":"#REF!"},{"$error":"#REF!"},{"$error":"#REF!"},{"$error":"#REF!"},{"$error":"#REF!"},{"$error":"#REF!"},{"$error":"#REF!"},{"$error":"#REF!"},{"$error":"#REF!"},{"$error":"#REF!"},{"$error":"#REF!"},{"$error":"#REF!"},{"$error":"#REF!"},{"$error":"#REF!"},"Тестовый балл","% выплнения заданий по уровням",null,null,"Оценка"]
[null,null,null,null,null,null,null,null,null,null,null,null,null,null,null,null,null,null,null,null,null,null,null,null,null,null,null,null,null,null,null,null,null,null,null,null,null,null,null,null,"Базовый","Повышенный","Высокий"]
["№","Класс","Ф.И.О.","№ задания",{"$f":"E5388","v":1},{"$f":"F5388","v":2},3,4,5,6,7,8,9,10,11,12,13,14,15,0,{"$error":"#REF!"},{"$error":"#REF!"},{"$error":"#REF!"},{"$error":"#REF!"},{"$error":"#REF!"},{"$error":"#REF!"},{"$error":"#REF!"},{"$error":"#REF!"},{"$error":"#REF!"},{"$error":"#REF!"},{"$error":"#REF!"},{"$error":"#REF!"},{"$error":"#REF!"},{"$error":"#REF!"},{"$error":"#REF!"},{"$error":"#REF!"},{"$error":"#REF!"},{"$error":"#REF!"},{"$error":"#REF!"}]
["Максимальный балл",null,null,null,{"$f":"E5389","v":7},{"$f":"F5389","v":1},1,1,1,1,1,1,1,1,1,1,1,1,9,10,{"$error":"#REF!"},{"$error":"#REF!"},{"$error":"#REF!"},{"$error":"#REF!"},{"$error":"#REF!"},{"$error":"#REF!"},{"$error":"#REF!"},{"$error":"#REF!"},{"$error":"#REF!"},{"$error":"#REF!"},{"$error":"#REF!"},{"$error":"#REF!"},{"$error":"#REF!"},{"$error":"#REF!"},{"$error":"#REF!"},{"$error":"#REF!"},{"$error":"#REF!"},{"$error":"#REF!"},{"$error":"#REF!"},39,76.92307692307692,{"$error":"#REF!"},23.076923076923077,0]
[null,null,null,"вариант"]
[{"$f":"Результаты!#REF!","v":{"$error":"#REF!"}},{"$f":"Результаты!#REF!","v":{"$error":"#REF!"}},{"$f":"Результаты!#REF!","v":{"$error":"#REF!"}},{"$f":"Результаты!#REF!","v":{"$error":"#REF!"}},{"$f":"Результаты!#REF!","v":{"$error":"#REF!"}},{"$f":"Результаты!#REF!","v":{"$error":"#REF!"}},{"$f":"Результаты!#REF!","v":{"$error":"#REF!"}},{"$f":"Результаты!#REF!","v":{"$error":"#REF!"}},{"$f":"Результаты!#REF!","v":{"$error":"#REF!"}},{"$f":"Результаты!#REF!","v":{"$error":"#REF!"}},{"$f":"Результаты!#REF!","v":{"$error":"#REF!"}},{"$f":"Результаты!#REF!","v":{"$error":"#REF!"}},{"$f":"Результаты!#REF!","v":{"$error":"#REF!"}},{"$f":"Результаты!#REF!","v":{"$error":"#REF!"}},{"$f":"Результаты!#REF!","v":{"$error":"#REF!"}},{"$f":"Результаты!#REF!","v":{"$error":"#REF!"}},{"$f":"Результаты!#REF!","v":{"$error":"#REF!"}},{"$f":"Результаты!#REF!","v":{"$error":"#REF!"}},{"$f":"Результаты!#REF!","v":{"$error":"#REF!"}},{"$f":"Результаты!#REF!","v":{"$error":"#REF!"}},{"$f":"Результаты!#REF!","v":{"$error":"#REF!"}},{"$f":"Результаты!#REF!","v":{"$error":"#REF!"}},{"$f":"Результаты!#REF!","v":{"$error":"#REF!"}},{"$f":"Результаты!#REF!","v":{"$error":"#REF!"}},{"$f":"Результаты!#REF!","v":{"$error":"#REF!"}},{"$f":"Результаты!#REF!","v":{"$error":"#REF!"}},{"$f":"Результаты!#REF!","v":{"$error":"#REF!"}},{"$f":"Результаты!#REF!","v":{"$error":"#REF!"}},{"$f":"Результаты!#REF!","v":{"$error":"#REF!"}},{"$f":"Результаты!#REF!","v":{"$error":"#REF!"}},{"$f":"Результаты!#REF!","v":{"$error":"#REF!"}},{"$f":"Результаты!#REF!","v":{"$error":"#REF!"}},{"$f":"Результаты!#REF!","v":{"$error":"#REF!"}},{"$f":"Результаты!#REF!","v":{"$error":"#REF!"}},{"$f":"Результаты!#REF!","v":{"$error":"#REF!"}},{"$f":"Результаты!#REF!","v":{"$error":"#REF!"}},{"$f":"Результаты!#REF!","v":{"$error":"#REF!"}},{"$f":"Результаты!#REF!","v":{"$error":"#REF!"}},{"$f":"Результаты!#REF!","v":{"$error":"#REF!"}},{"$f":"Результаты!#REF!","v":{"$error":"#REF!"}},{"$f":"Результаты!#REF!","v":{"$error":"#REF!"}},{"$f":"Результаты!#REF!","v":{"$error":"#REF!"}},{"$f":"Результаты!#REF!","v":{"$error":"#REF!"}},{"$f":"Результаты!#REF!","v":{"$error":"#REF!"}}]
[]
[]
[null,{"$f":"B5394","v":1},{"$f":"C5394","v":"Информационная обработка текстов различных стилей и жанров. Текст как речевое произведение. Смысловая и композиционная целостность текста. Отбор языковых средств в тексте в зависимости от темы, цели, адресата и ситуации общения. Создание текстов различных стилей и функционально-смысловых типов речи. Грамматические нормы (морфологические нормы). Грамматические  нормы  (синтаксические нормы). Лексические нормы. Пунктуация в простом и сложном предложениях. Орфограмма"}]
[null,{"$f":"B5395","v":2},"Текст как речевое произведение. Смысловая и композиционная целостность текста. Анализ текста"]
[null,{"$f":"B5396","v":3},"Выразительные средства лексики и фразеологии. Анализ средств выразительности"]
[null,{"$f":"B5397","v":4},"Правописание приставок. Слитное, дефисное, раздельное написание"]
[null,{"$f":"B5398","v":5},"Правописание суффиксов различных частей речи (кроме -Н-/-НН-). Правописание -Н- и -НН- в различных частях речи. Правописание личных окончаний глаголов и суффиксов причастий настоящего времени"]
[null,{"$f":"B5399","v":6},"Лексика и фразеология. Синонимы. Фразеологические обороты. Группы слов по происхождению и употреблению"]
[null,{"$f":"B5400","v":7},"Словосочетание"]
[null,{"$f":"B5401","v":8},"Предложение. Грамматическая (предикативная) основа предложения. Подлежащее и сказуемое как главные члены предложения "]
[null,{"$f":"B5402","v":9},"Осложнённое простое предложение"]
[null,{"$f":"B5403","v":10},"Пунктуационный анализ. Знаки препинания в предложениях со словами и конструкциями, грамматически не связанными с членами предложения"]
[null,{"$f":"B5404","v":11},"Синтаксический анализ сложного предложения"]
[null,{"$f":"B5405","v":12},"Пунктуационный анализ. Знаки препинания в сложносочинённом и сложноподчинённом предложениях"]
[null,{"$f":"B5406","v":13},"Синтаксический анализ сложного предложения"]
[null,{"$f":"B5407","v":14},"Сложные предложения с разными видами связи между частями"]
[null,{"$f":"B5408","v":15},"Текст как речевое произведение. Смысловая и композиционная целостность текста. Создание текстов различных стилей и функционально-смысловых типов речи. Информационная обработка текстов различных стилей и жанров. Грамматические нормы (морфологические нормы). Грамматические нормы (синтаксические нормы). Лексические нормы"]
[null,{"$f":"B5409","v":16},0]
[null,{"$f":"B5410","v":17},0]
[null,{"$f":"B5411","v":18},0]
[null,{"$f":"B5412","v":19},0]
[null,{"$f":"B5413","v":20},0]
[null,{"$f":"B5414","v":21},0]
[null,{"$f":"B5415","v":22},0]
[null,{"$f":"B5416","v":23},0]
[null,{"$f":"B5417","v":24},0]
[null,{"$f":"B5418","v":25},0]
[null,{"$f":"B5419","v":26},0]
[null,{"$f":"B5420","v":27},0]
[null,{"$f":"B5421","v":28},0]
[null,{"$f":"B5422","v":29},0]
[null,{"$f":"B5423","v":30},0]
[null,{"$f":"B5424","v":31},0]
[null,{"$f":"B5425","v":32},0]
[null,{"$f":"B5426","v":33},0]
[null,{"$f":"B5427","v":34},{"$f":"C5427","v":0}]
[null,{"$f":"B5428","v":35},{"$f":"C5428","v":0}]
[]
["Рекомендация: обратите внимание на задания по темам, которые вызвали у Вас затруднения, решены с ошибкой и отмечены \"0\" или к решению которых Вы не приступили (пустые ячейки)!"]
[]
[]
[]
["Центр независимой оценки качества образования и образовательного аудита \"Легион\""]
[]
["Образовательная организация",null,null,null,{"$f":"E5436","v":"Ленинская СОШ"}]
["Предмет",null,null,null,{"$f":"E5437","v":"Русский язык"}]
["Максимальный балл",null,null,null,39]
["Пороговый балл",null,null,null,15]
["Зона риска",null,null,null,{"$f":"Результаты!E15","v":15},null,null,{"$f":"Результаты!H15","v":16}]
[]
["Уровни",null,null,null,{"$f":"E5442","v":1},{"$f":"F5442","v":2},3,4,5,6,7,8,9,10,11,12,13,14,15,"ПР.ГР",{"$error":"#REF!"},{"$error":"#REF!"},{"$error":"#REF!"},{"$error":"#REF!"},{"$error":"#REF!"},{"$error":"#REF!"},{"$error":"#REF!"},{"$error":"#REF!"},{"$error":"#REF!"},{"$error":"#REF!"},{"$error":"#REF!"},{"$error":"#REF!"},{"$error":"#REF!"},{"$error":"#REF!"},{"$error":"#REF!"},{"$error":"#REF!"},{"$error":"#REF!"},{"$error":"#REF!"},{"$error":"#REF!"},"Тестовый балл","% выплнения заданий по уровням",null,null,"Оценка"]
[null,null,null,null,null,null,null,null,null,null,null,null,null,null,null,null,null,null,null,null,null,null,null,null,null,null,null,null,null,null,null,null,null,null,null,null,null,null,null,null,"Базовый","Повышенный","Высокий"]
["№","Класс","Ф.И.О.","№ задания",{"$f":"E5444","v":1},{"$f":"F5444","v":2},3,4,5,6,7,8,9,10,11,12,13,14,15,0,{"$error":"#REF!"},{"$error":"#REF!"},{"$error":"#REF!"},{"$error":"#REF!"},{"$error":"#REF!"},{"$error":"#REF!"},{"$error":"#REF!"},{"$error":"#REF!"},{"$error":"#REF!"},{"$error":"#REF!"},{"$error":"#REF!"},{"$error":"#REF!"},{"$error":"#REF!"},{"$error":"#REF!"},{"$error":"#REF!"},{"$error":"#REF!"},{"$error":"#REF!"},{"$error":"#REF!"},{"$error":"#REF!"}]
["Максимальный балл",null,null,null,{"$f":"E5445","v":7},{"$f":"F5445","v":1},1,1,1,1,1,1,1,1,1,1,1,1,9,10,{"$error":"#REF!"},{"$error":"#REF!"},{"$error":"#REF!"},{"$error":"#REF!"},{"$error":"#REF!"},{"$error":"#REF!"},{"$error":"#REF!"},{"$error":"#REF!"},{"$error":"#REF!"},{"$error":"#REF!"},{"$error":"#REF!"},{"$error":"#REF!"},{"$error":"#REF!"},{"$error":"#REF!"},{"$error":"#REF!"},{"$error":"#REF!"},{"$error":"#REF!"},{"$error":"#REF!"},{"$error":"#REF!"},39,76.92307692307692,{"$error":"#REF!"},23.076923076923077,0]
[null,null,null,"вариант"]
[{"$f":"Результаты!#REF!","v":{"$error":"#REF!"}},{"$f":"Результаты!#REF!","v":{"$error":"#REF!"}},{"$f":"Результаты!#REF!","v":{"$error":"#REF!"}},{"$f":"Результаты!#REF!","v":{"$error":"#REF!"}},{"$f":"Результаты!#REF!","v":{"$error":"#REF!"}},{"$f":"Результаты!#REF!","v":{"$error":"#REF!"}},{"$f":"Результаты!#REF!","v":{"$error":"#REF!"}},{"$f":"Результаты!#REF!","v":{"$error":"#REF!"}},{"$f":"Результаты!#REF!","v":{"$error":"#REF!"}},{"$f":"Результаты!#REF!","v":{"$error":"#REF!"}},{"$f":"Результаты!#REF!","v":{"$error":"#REF!"}},{"$f":"Результаты!#REF!","v":{"$error":"#REF!"}},{"$f":"Результаты!#REF!","v":{"$error":"#REF!"}},{"$f":"Результаты!#REF!","v":{"$error":"#REF!"}},{"$f":"Результаты!#REF!","v":{"$error":"#REF!"}},{"$f":"Результаты!#REF!","v":{"$error":"#REF!"}},{"$f":"Результаты!#REF!","v":{"$error":"#REF!"}},{"$f":"Результаты!#REF!","v":{"$error":"#REF!"}},{"$f":"Результаты!#REF!","v":{"$error":"#REF!"}},{"$f":"Результаты!#REF!","v":{"$error":"#REF!"}},{"$f":"Результаты!#REF!","v":{"$error":"#REF!"}},{"$f":"Результаты!#REF!","v":{"$error":"#REF!"}},{"$f":"Результаты!#REF!","v":{"$error":"#REF!"}},{"$f":"Результаты!#REF!","v":{"$error":"#REF!"}},{"$f":"Результаты!#REF!","v":{"$error":"#REF!"}},{"$f":"Результаты!#REF!","v":{"$error":"#REF!"}},{"$f":"Результаты!#REF!","v":{"$error":"#REF!"}},{"$f":"Результаты!#REF!","v":{"$error":"#REF!"}},{"$f":"Результаты!#REF!","v":{"$error":"#REF!"}},{"$f":"Результаты!#REF!","v":{"$error":"#REF!"}},{"$f":"Результаты!#REF!","v":{"$error":"#REF!"}},{"$f":"Результаты!#REF!","v":{"$error":"#REF!"}},{"$f":"Результаты!#REF!","v":{"$error":"#REF!"}},{"$f":"Результаты!#REF!","v":{"$error":"#REF!"}},{"$f":"Результаты!#REF!","v":{"$error":"#REF!"}},{"$f":"Результаты!#REF!","v":{"$error":"#REF!"}},{"$f":"Результаты!#REF!","v":{"$error":"#REF!"}},{"$f":"Результаты!#REF!","v":{"$error":"#REF!"}},{"$f":"Результаты!#REF!","v":{"$error":"#REF!"}},{"$f":"Результаты!#REF!","v":{"$error":"#REF!"}},{"$f":"Результаты!#REF!","v":{"$error":"#REF!"}},{"$f":"Результаты!#REF!","v":{"$error":"#REF!"}},{"$f":"Результаты!#REF!","v":{"$error":"#REF!"}},{"$f":"Результаты!#REF!","v":{"$error":"#REF!"}}]
[]
[]
[null,{"$f":"B5450","v":1},{"$f":"C5450","v":"Информационная обработка текстов различных стилей и жанров. Текст как речевое произведение. Смысловая и композиционная целостность текста. Отбор языковых средств в тексте в зависимости от темы, цели, адресата и ситуации общения. Создание текстов различных стилей и функционально-смысловых типов речи. Грамматические нормы (морфологические нормы). Грамматические  нормы  (синтаксические нормы). Лексические нормы. Пунктуация в простом и сложном предложениях. Орфограмма"}]
[null,{"$f":"B5451","v":2},"Текст как речевое произведение. Смысловая и композиционная целостность текста. Анализ текста"]
[null,{"$f":"B5452","v":3},"Выразительные средства лексики и фразеологии. Анализ средств выразительности"]
[null,{"$f":"B5453","v":4},"Правописание приставок. Слитное, дефисное, раздельное написание"]
[null,{"$f":"B5454","v":5},"Правописание суффиксов различных частей речи (кроме -Н-/-НН-). Правописание -Н- и -НН- в различных частях речи. Правописание личных окончаний глаголов и суффиксов причастий настоящего времени"]
[null,{"$f":"B5455","v":6},"Лексика и фразеология. Синонимы. Фразеологические обороты. Группы слов по происхождению и употреблению"]
[null,{"$f":"B5456","v":7},"Словосочетание"]
[null,{"$f":"B5457","v":8},"Предложение. Грамматическая (предикативная) основа предложения. Подлежащее и сказуемое как главные члены предложения "]
[null,{"$f":"B5458","v":9},"Осложнённое простое предложение"]
[null,{"$f":"B5459","v":10},"Пунктуационный анализ. Знаки препинания в предложениях со словами и конструкциями, грамматически не связанными с членами предложения"]
[null,{"$f":"B5460","v":11},"Синтаксический анализ сложного предложения"]
[null,{"$f":"B5461","v":12},"Пунктуационный анализ. Знаки препинания в сложносочинённом и сложноподчинённом предложениях"]
[null,{"$f":"B5462","v":13},"Синтаксический анализ сложного предложения"]
[null,{"$f":"B5463","v":14},"Сложные предложения с разными видами связи между частями"]
[null,{"$f":"B5464","v":15},"Текст как речевое произведение. Смысловая и композиционная целостность текста. Создание текстов различных стилей и функционально-смысловых типов речи. Информационная обработка текстов различных стилей и жанров. Грамматические нормы (морфологические нормы). Грамматические нормы (синтаксические нормы). Лексические нормы"]
[null,{"$f":"B5465","v":16},0]
[null,{"$f":"B5466","v":17},0]
[null,{"$f":"B5467","v":18},0]
[null,{"$f":"B5468","v":19},0]
[null,{"$f":"B5469","v":20},0]
[null,{"$f":"B5470","v":21},0]
[null,{"$f":"B5471","v":22},0]
[null,{"$f":"B5472","v":23},0]
[null,{"$f":"B5473","v":24},0]
[null,{"$f":"B5474","v":25},0]
[null,{"$f":"B5475","v":26},0]
[null,{"$f":"B5476","v":27},0]
[null,{"$f":"B5477","v":28},0]
[null,{"$f":"B5478","v":29},0]
[null,{"$f":"B5479","v":30},0]
[null,{"$f":"B5480","v":31},0]
[null,{"$f":"B5481","v":32},0]
[null,{"$f":"B5482","v":33},0]
[null,{"$f":"B5483","v":34},0]
[null,{"$f":"B5484","v":35},0]
[]
["Рекомендация: обратите внимание на задания по темам, которые вызвали у Вас затруднения, решены с ошибкой и отмечены \"0\" или к решению которых Вы не приступили (пустые ячейки)!"]
[]
[]
[]
["Центр независимой оценки качества образования и образовательного аудита \"Легион\""]
[]
["Образовательная организация",null,null,null,{"$f":"E5436","v":"Ленинская СОШ"}]
["Предмет",null,null,null,{"$f":"E5437","v":"Русский язык"}]
["Максимальный балл",null,null,null,39]
["Пороговый балл",null,null,null,15]
["Зона риска",null,null,null,{"$f":"Результаты!E15","v":15},null,null,{"$f":"Результаты!H15","v":16}]
[]
["Уровни",null,null,null,{"$f":"E5498","v":1},{"$f":"F5498","v":2},3,4,5,6,7,8,9,10,11,12,13,14,15,"ПР.ГР",{"$error":"#REF!"},{"$error":"#REF!"},{"$error":"#REF!"},{"$error":"#REF!"},{"$error":"#REF!"},{"$error":"#REF!"},{"$error":"#REF!"},{"$error":"#REF!"},{"$error":"#REF!"},{"$error":"#REF!"},{"$error":"#REF!"},{"$error":"#REF!"},{"$error":"#REF!"},{"$error":"#REF!"},{"$error":"#REF!"},{"$error":"#REF!"},{"$error":"#REF!"},{"$error":"#REF!"},{"$error":"#REF!"},"Тестовый балл","% выплнения заданий по уровням",null,null,"Оценка"]
[null,null,null,null,null,null,null,null,null,null,null,null,null,null,null,null,null,null,null,null,null,null,null,null,null,null,null,null,null,null,null,null,null,null,null,null,null,null,null,null,"Базовый","Повышенный","Высокий"]
["№","Класс","Ф.И.О.","№ задания",{"$f":"E5500","v":1},{"$f":"F5500","v":2},3,4,5,6,7,8,9,10,11,12,13,14,15,0,{"$error":"#REF!"},{"$error":"#REF!"},{"$error":"#REF!"},{"$error":"#REF!"},{"$error":"#REF!"},{"$error":"#REF!"},{"$error":"#REF!"},{"$error":"#REF!"},{"$error":"#REF!"},{"$error":"#REF!"},{"$error":"#REF!"},{"$error":"#REF!"},{"$error":"#REF!"},{"$error":"#REF!"},{"$error":"#REF!"},{"$error":"#REF!"},{"$error":"#REF!"},{"$error":"#REF!"},{"$error":"#REF!"}]
["Максимальный балл",null,null,null,{"$f":"E5501","v":7},{"$f":"F5501","v":1},1,1,1,1,1,1,1,1,1,1,1,1,9,10,{"$error":"#REF!"},{"$error":"#REF!"},{"$error":"#REF!"},{"$error":"#REF!"},{"$error":"#REF!"},{"$error":"#REF!"},{"$error":"#REF!"},{"$error":"#REF!"},{"$error":"#REF!"},{"$error":"#REF!"},{"$error":"#REF!"},{"$error":"#REF!"},{"$error":"#REF!"},{"$error":"#REF!"},{"$error":"#REF!"},{"$error":"#REF!"},{"$error":"#REF!"},{"$error":"#REF!"},{"$error":"#REF!"},39,76.92307692307692,{"$error":"#REF!"},23.076923076923077,0]
[null,null,null,"вариант"]
[{"$f":"Результаты!#REF!","v":{"$error":"#REF!"}},{"$f":"Результаты!#REF!","v":{"$error":"#REF!"}},{"$f":"Результаты!#REF!","v":{"$error":"#REF!"}},{"$f":"Результаты!#REF!","v":{"$error":"#REF!"}},{"$f":"Результаты!#REF!","v":{"$error":"#REF!"}},{"$f":"Результаты!#REF!","v":{"$error":"#REF!"}},{"$f":"Результаты!#REF!","v":{"$error":"#REF!"}},{"$f":"Результаты!#REF!","v":{"$error":"#REF!"}},{"$f":"Результаты!#REF!","v":{"$error":"#REF!"}},{"$f":"Результаты!#REF!","v":{"$error":"#REF!"}},{"$f":"Результаты!#REF!","v":{"$error":"#REF!"}},{"$f":"Результаты!#REF!","v":{"$error":"#REF!"}},{"$f":"Результаты!#REF!","v":{"$error":"#REF!"}},{"$f":"Результаты!#REF!","v":{"$error":"#REF!"}},{"$f":"Результаты!#REF!","v":{"$error":"#REF!"}},{"$f":"Результаты!#REF!","v":{"$error":"#REF!"}},{"$f":"Результаты!#REF!","v":{"$error":"#REF!"}},{"$f":"Результаты!#REF!","v":{"$error":"#REF!"}},{"$f":"Результаты!#REF!","v":{"$error":"#REF!"}},{"$f":"Результаты!#REF!","v":{"$error":"#REF!"}},{"$f":"Результаты!#REF!","v":{"$error":"#REF!"}},{"$f":"Результаты!#REF!","v":{"$error":"#REF!"}},{"$f":"Результаты!#REF!","v":{"$error":"#REF!"}},{"$f":"Результаты!#REF!","v":{"$error":"#REF!"}},{"$f":"Результаты!#REF!","v":{"$error":"#REF!"}},{"$f":"Результаты!#REF!","v":{"$error":"#REF!"}},{"$f":"Результаты!#REF!","v":{"$error":"#REF!"}},{"$f":"Результаты!#REF!","v":{"$error":"#REF!"}},{"$f":"Результаты!#REF!","v":{"$error":"#REF!"}},{"$f":"Результаты!#REF!","v":{"$error":"#REF!"}},{"$f":"Результаты!#REF!","v":{"$error":"#REF!"}},{"$f":"Результаты!#REF!","v":{"$error":"#REF!"}},{"$f":"Результаты!#REF!","v":{"$error":"#REF!"}},{"$f":"Результаты!#REF!","v":{"$error":"#REF!"}},{"$f":"Результаты!#REF!","v":{"$error":"#REF!"}},{"$f":"Результаты!#REF!","v":{"$error":"#REF!"}},{"$f":"Результаты!#REF!","v":{"$error":"#REF!"}},{"$f":"Результаты!#REF!","v":{"$error":"#REF!"}},{"$f":"Результаты!#REF!","v":{"$error":"#REF!"}},{"$f":"Результаты!#REF!","v":{"$error":"#REF!"}},{"$f":"Результаты!#REF!","v":{"$error":"#REF!"}},{"$f":"Результаты!#REF!","v":{"$error":"#REF!"}},{"$f":"Результаты!#REF!","v":{"$error":"#REF!"}},{"$f":"Результаты!#REF!","v":{"$error":"#REF!"}}]
[]
[]
[null,{"$f":"B5506","v":1},{"$f":"C5506","v":"Информационная обработка текстов различных стилей и жанров. Текст как речевое произведение. Смысловая и композиционная целостность текста. Отбор языковых средств в тексте в зависимости от темы, цели, адресата и ситуации общения. Создание текстов различных стилей и функционально-смысловых типов речи. Грамматические нормы (морфологические нормы). Грамматические  нормы  (синтаксические нормы). Лексические нормы. Пунктуация в простом и сложном предложениях. Орфограмма"}]
[null,{"$f":"B5507","v":2},"Текст как речевое произведение. Смысловая и композиционная целостность текста. Анализ текста"]
[null,{"$f":"B5508","v":3},"Выразительные средства лексики и фразеологии. Анализ средств выразительности"]
[null,{"$f":"B5509","v":4},"Правописание приставок. Слитное, дефисное, раздельное написание"]
[null,{"$f":"B5510","v":5},"Правописание суффиксов различных частей речи (кроме -Н-/-НН-). Правописание -Н- и -НН- в различных частях речи. Правописание личных окончаний глаголов и суффиксов причастий настоящего времени"]
[null,{"$f":"B5511","v":6},"Лексика и фразеология. Синонимы. Фразеологические обороты. Группы слов по происхождению и употреблению"]
[null,{"$f":"B5512","v":7},"Словосочетание"]
[null,{"$f":"B5513","v":8},"Предложение. Грамматическая (предикативная) основа предложения. Подлежащее и сказуемое как главные члены предложения "]
[null,{"$f":"B5514","v":9},"Осложнённое простое предложение"]
[null,{"$f":"B5515","v":10},"Пунктуационный анализ. Знаки препинания в предложениях со словами и конструкциями, грамматически не связанными с членами предложения"]
[null,{"$f":"B5516","v":11},"Синтаксический анализ сложного предложения"]
[null,{"$f":"B5517","v":12},"Пунктуационный анализ. Знаки препинания в сложносочинённом и сложноподчинённом предложениях"]
[null,{"$f":"B5518","v":13},"Синтаксический анализ сложного предложения"]
[null,{"$f":"B5519","v":14},"Сложные предложения с разными видами связи между частями"]
[null,{"$f":"B5520","v":15},"Текст как речевое произведение. Смысловая и композиционная целостность текста. Создание текстов различных стилей и функционально-смысловых типов речи. Информационная обработка текстов различных стилей и жанров. Грамматические нормы (морфологические нормы). Грамматические нормы (синтаксические нормы). Лексические нормы"]
[null,{"$f":"B5521","v":16},0]
[null,{"$f":"B5522","v":17},0]
[null,{"$f":"B5523","v":18},0]
[null,{"$f":"B5524","v":19},0]
[null,{"$f":"B5525","v":20},0]
[null,{"$f":"B5526","v":21},0]
[null,{"$f":"B5527","v":22},0]
[null,{"$f":"B5528","v":23},0]
[null,{"$f":"B5529","v":24},0]
[null,{"$f":"B5530","v":25},0]
[null,{"$f":"B5531","v":26},0]
[null,{"$f":"B5532","v":27},0]
[null,{"$f":"B5533","v":28},0]
[null,{"$f":"B5534","v":29},0]
[null,{"$f":"B5535","v":30},0]
[null,{"$f":"B5536","v":31},0]
[null,{"$f":"B5537","v":32},0]
[null,{"$f":"B5538","v":33},0]
[null,{"$f":"B5539","v":34},{"$f":"C5539","v":0}]
[null,{"$f":"B5540","v":35},{"$f":"C5540","v":0}]
[]
["Рекомендация: обратите внимание на задания по темам, которые вызвали у Вас затруднения, решены с ошибкой и отмечены \"0\" или к решению которых Вы не приступили (пустые ячейки)!"]
[]
[]
[]
["Центр независимой оценки качества образования и образовательного аудита \"Легион\""]
[]
["Образовательная организация",null,null,null,{"$f":"E5548","v":"Ленинская СОШ"}]
["Предмет",null,null,null,{"$f":"E5549","v":"Русский язык"}]
["Максимальный балл",null,null,null,39]
["Пороговый балл",null,null,null,15]
["Зона риска",null,null,null,{"$f":"Результаты!E15","v":15},null,null,{"$f":"Результаты!H15","v":16}]
[]
["Уровни",null,null,null,{"$f":"E5554","v":1},{"$f":"F5554","v":2},3,4,5,6,7,8,9,10,11,12,13,14,15,"ПР.ГР",{"$error":"#REF!"},{"$error":"#REF!"},{"$error":"#REF!"},{"$error":"#REF!"},{"$error":"#REF!"},{"$error":"#REF!"},{"$error":"#REF!"},{"$error":"#REF!"},{"$error":"#REF!"},{"$error":"#REF!"},{"$error":"#REF!"},{"$error":"#REF!"},{"$error":"#REF!"},{"$error":"#REF!"},{"$error":"#REF!"},{"$error":"#REF!"},{"$error":"#REF!"},{"$error":"#REF!"},{"$error":"#REF!"},"Тестовый балл","% выплнения заданий по уровням",null,null,"Оценка"]
[null,null,null,null,null,null,null,null,null,null,null,null,null,null,null,null,null,null,null,null,null,null,null,null,null,null,null,null,null,null,null,null,null,null,null,null,null,null,null,null,"Базовый","Повышенный","Высокий"]
["№","Класс","Ф.И.О.","№ задания",{"$f":"E5556","v":1},{"$f":"F5556","v":2},3,4,5,6,7,8,9,10,11,12,13,14,15,0,{"$error":"#REF!"},{"$error":"#REF!"},{"$error":"#REF!"},{"$error":"#REF!"},{"$error":"#REF!"},{"$error":"#REF!"},{"$error":"#REF!"},{"$error":"#REF!"},{"$error":"#REF!"},{"$error":"#REF!"},{"$error":"#REF!"},{"$error":"#REF!"},{"$error":"#REF!"},{"$error":"#REF!"},{"$error":"#REF!"},{"$error":"#REF!"},{"$error":"#REF!"},{"$error":"#REF!"},{"$error":"#REF!"}]
["Максимальный балл",null,null,null,{"$f":"E5557","v":7},{"$f":"F5557","v":1},1,1,1,1,1,1,1,1,1,1,1,1,9,10,{"$error":"#REF!"},{"$error":"#REF!"},{"$error":"#REF!"},{"$error":"#REF!"},{"$error":"#REF!"},{"$error":"#REF!"},{"$error":"#REF!"},{"$error":"#REF!"},{"$error":"#REF!"},{"$error":"#REF!"},{"$error":"#REF!"},{"$error":"#REF!"},{"$error":"#REF!"},{"$error":"#REF!"},{"$error":"#REF!"},{"$error":"#REF!"},{"$error":"#REF!"},{"$error":"#REF!"},{"$error":"#REF!"},39,76.92307692307692,{"$error":"#REF!"},23.076923076923077,0]
[null,null,null,"вариант"]
[{"$f":"Результаты!#REF!","v":{"$error":"#REF!"}},{"$f":"Результаты!#REF!","v":{"$error":"#REF!"}},{"$f":"Результаты!#REF!","v":{"$error":"#REF!"}},{"$f":"Результаты!#REF!","v":{"$error":"#REF!"}},{"$f":"Результаты!#REF!","v":{"$error":"#REF!"}},{"$f":"Результаты!#REF!","v":{"$error":"#REF!"}},{"$f":"Результаты!#REF!","v":{"$error":"#REF!"}},{"$f":"Результаты!#REF!","v":{"$error":"#REF!"}},{"$f":"Результаты!#REF!","v":{"$error":"#REF!"}},{"$f":"Результаты!#REF!","v":{"$error":"#REF!"}},{"$f":"Результаты!#REF!","v":{"$error":"#REF!"}},{"$f":"Результаты!#REF!","v":{"$error":"#REF!"}},{"$f":"Результаты!#REF!","v":{"$error":"#REF!"}},{"$f":"Результаты!#REF!","v":{"$error":"#REF!"}},{"$f":"Результаты!#REF!","v":{"$error":"#REF!"}},{"$f":"Результаты!#REF!","v":{"$error":"#REF!"}},{"$f":"Результаты!#REF!","v":{"$error":"#REF!"}},{"$f":"Результаты!#REF!","v":{"$error":"#REF!"}},{"$f":"Результаты!#REF!","v":{"$error":"#REF!"}},{"$f":"Результаты!#REF!","v":{"$error":"#REF!"}},{"$f":"Результаты!#REF!","v":{"$error":"#REF!"}},{"$f":"Результаты!#REF!","v":{"$error":"#REF!"}},{"$f":"Результаты!#REF!","v":{"$error":"#REF!"}},{"$f":"Результаты!#REF!","v":{"$error":"#REF!"}},{"$f":"Результаты!#REF!","v":{"$error":"#REF!"}},{"$f":"Результаты!#REF!","v":{"$error":"#REF!"}},{"$f":"Результаты!#REF!","v":{"$error":"#REF!"}},{"$f":"Результаты!#REF!","v":{"$error":"#REF!"}},{"$f":"Результаты!#REF!","v":{"$error":"#REF!"}},{"$f":"Результаты!#REF!","v":{"$error":"#REF!"}},{"$f":"Результаты!#REF!","v":{"$error":"#REF!"}},{"$f":"Результаты!#REF!","v":{"$error":"#REF!"}},{"$f":"Результаты!#REF!","v":{"$error":"#REF!"}},{"$f":"Результаты!#REF!","v":{"$error":"#REF!"}},{"$f":"Результаты!#REF!","v":{"$error":"#REF!"}},{"$f":"Результаты!#REF!","v":{"$error":"#REF!"}},{"$f":"Результаты!#REF!","v":{"$error":"#REF!"}},{"$f":"Результаты!#REF!","v":{"$error":"#REF!"}},{"$f":"Результаты!#REF!","v":{"$error":"#REF!"}},{"$f":"Результаты!#REF!","v":{"$error":"#REF!"}},{"$f":"Результаты!#REF!","v":{"$error":"#REF!"}},{"$f":"Результаты!#REF!","v":{"$error":"#REF!"}},{"$f":"Результаты!#REF!","v":{"$error":"#REF!"}},{"$f":"Результаты!#REF!","v":{"$error":"#REF!"}}]
[]
[]
[null,{"$f":"B5562","v":1},{"$f":"C5562","v":"Информационная обработка текстов различных стилей и жанров. Текст как речевое произведение. Смысловая и композиционная целостность текста. Отбор языковых средств в тексте в зависимости от темы, цели, адресата и ситуации общения. Создание текстов различных стилей и функционально-смысловых типов речи. Грамматические нормы (морфологические нормы). Грамматические  нормы  (синтаксические нормы). Лексические нормы. Пунктуация в простом и сложном предложениях. Орфограмма"}]
[null,{"$f":"B5563","v":2},"Текст как речевое произведение. Смысловая и композиционная целостность текста. Анализ текста"]
[null,{"$f":"B5564","v":3},"Выразительные средства лексики и фразеологии. Анализ средств выразительности"]
[null,{"$f":"B5565","v":4},"Правописание приставок. Слитное, дефисное, раздельное написание"]
[null,{"$f":"B5566","v":5},"Правописание суффиксов различных частей речи (кроме -Н-/-НН-). Правописание -Н- и -НН- в различных частях речи. Правописание личных окончаний глаголов и суффиксов причастий настоящего времени"]
[null,{"$f":"B5567","v":6},"Лексика и фразеология. Синонимы. Фразеологические обороты. Группы слов по происхождению и употреблению"]
[null,{"$f":"B5568","v":7},"Словосочетание"]
[null,{"$f":"B5569","v":8},"Предложение. Грамматическая (предикативная) основа предложения. Подлежащее и сказуемое как главные члены предложения "]
[null,{"$f":"B5570","v":9},"Осложнённое простое предложение"]
[null,{"$f":"B5571","v":10},"Пунктуационный анализ. Знаки препинания в предложениях со словами и конструкциями, грамматически не связанными с членами предложения"]
[null,{"$f":"B5572","v":11},"Синтаксический анализ сложного предложения"]
[null,{"$f":"B5573","v":12},"Пунктуационный анализ. Знаки препинания в сложносочинённом и сложноподчинённом предложениях"]
[null,{"$f":"B5574","v":13},"Синтаксический анализ сложного предложения"]
[null,{"$f":"B5575","v":14},"Сложные предложения с разными видами связи между частями"]
[null,{"$f":"B5576","v":15},"Текст как речевое произведение. Смысловая и композиционная целостность текста. Создание текстов различных стилей и функционально-смысловых типов речи. Информационная обработка текстов различных стилей и жанров. Грамматические нормы (морфологические нормы). Грамматические нормы (синтаксические нормы). Лексические нормы"]
[null,{"$f":"B5577","v":16},0]
[null,{"$f":"B5578","v":17},0]
[null,{"$f":"B5579","v":18},0]
[null,{"$f":"B5580","v":19},0]
[null,{"$f":"B5581","v":20},0]
[null,{"$f":"B5582","v":21},0]
[null,{"$f":"B5583","v":22},0]
[null,{"$f":"B5584","v":23},0]
[null,{"$f":"B5585","v":24},0]
[null,{"$f":"B5586","v":25},0]
[null,{"$f":"B5587","v":26},0]
[null,{"$f":"B5588","v":27},0]
[null,{"$f":"B5589","v":28},0]
[null,{"$f":"B5590","v":29},0]
[null,{"$f":"B5591","v":30},0]
[null,{"$f":"B5592","v":31},0]
[null,{"$f":"B5593","v":32},0]
[null,{"$f":"B5594","v":33},0]
[null,{"$f":"B5595","v":34},0]
[null,{"$f":"B5596","v":35},0]
[]
["Рекомендация: обратите внимание на задания по темам, которые вызвали у Вас затруднения, решены с ошибкой и отмечены \"0\" или к решению которых Вы не приступили (пустые ячейки)!"]
[]
[]
[]
["Центр независимой оценки качества образования и образовательного аудита \"Легион\""]
[]
["Образовательная организация",null,null,null,{"$f":"E5604","v":"Ленинская СОШ"}]
["Предмет",null,null,null,{"$f":"E5605","v":"Русский язык"}]
["Максимальный балл",null,null,null,39]
["Пороговый балл",null,null,null,15]
["Зона риска",null,null,null,{"$f":"Результаты!E15","v":15},null,null,{"$f":"Результаты!H15","v":16}]
[]
["Уровни",null,null,null,{"$f":"E5610","v":1},{"$f":"F5610","v":2},3,4,5,6,7,8,9,10,11,12,13,14,15,"ПР.ГР",{"$error":"#REF!"},{"$error":"#REF!"},{"$error":"#REF!"},{"$error":"#REF!"},{"$error":"#REF!"},{"$error":"#REF!"},{"$error":"#REF!"},{"$error":"#REF!"},{"$error":"#REF!"},{"$error":"#REF!"},{"$error":"#REF!"},{"$error":"#REF!"},{"$error":"#REF!"},{"$error":"#REF!"},{"$error":"#REF!"},{"$error":"#REF!"},{"$error":"#REF!"},{"$error":"#REF!"},{"$error":"#REF!"},"Тестовый балл","% выплнения заданий по уровням",null,null,"Оценка"]
[null,null,null,null,null,null,null,null,null,null,null,null,null,null,null,null,null,null,null,null,null,null,null,null,null,null,null,null,null,null,null,null,null,null,null,null,null,null,null,null,"Базовый","Повышенный","Высокий"]
["№","Класс","Ф.И.О.","№ задания",{"$f":"E5612","v":1},{"$f":"F5612","v":2},3,4,5,6,7,8,9,10,11,12,13,14,15,0,{"$error":"#REF!"},{"$error":"#REF!"},{"$error":"#REF!"},{"$error":"#REF!"},{"$error":"#REF!"},{"$error":"#REF!"},{"$error":"#REF!"},{"$error":"#REF!"},{"$error":"#REF!"},{"$error":"#REF!"},{"$error":"#REF!"},{"$error":"#REF!"},{"$error":"#REF!"},{"$error":"#REF!"},{"$error":"#REF!"},{"$error":"#REF!"},{"$error":"#REF!"},{"$error":"#REF!"},{"$error":"#REF!"}]
["Максимальный балл",null,null,null,{"$f":"E5613","v":7},{"$f":"F5613","v":1},1,1,1,1,1,1,1,1,1,1,1,1,9,10,{"$error":"#REF!"},{"$error":"#REF!"},{"$error":"#REF!"},{"$error":"#REF!"},{"$error":"#REF!"},{"$error":"#REF!"},{"$error":"#REF!"},{"$error":"#REF!"},{"$error":"#REF!"},{"$error":"#REF!"},{"$error":"#REF!"},{"$error":"#REF!"},{"$error":"#REF!"},{"$error":"#REF!"},{"$error":"#REF!"},{"$error":"#REF!"},{"$error":"#REF!"},{"$error":"#REF!"},{"$error":"#REF!"},39,76.92307692307692,{"$error":"#REF!"},23.076923076923077,0]
[null,null,null,"вариант"]
[{"$f":"Результаты!#REF!","v":{"$error":"#REF!"}},{"$f":"Результаты!#REF!","v":{"$error":"#REF!"}},{"$f":"Результаты!#REF!","v":{"$error":"#REF!"}},{"$f":"Результаты!#REF!","v":{"$error":"#REF!"}},{"$f":"Результаты!#REF!","v":{"$error":"#REF!"}},{"$f":"Результаты!#REF!","v":{"$error":"#REF!"}},{"$f":"Результаты!#REF!","v":{"$error":"#REF!"}},{"$f":"Результаты!#REF!","v":{"$error":"#REF!"}},{"$f":"Результаты!#REF!","v":{"$error":"#REF!"}},{"$f":"Результаты!#REF!","v":{"$error":"#REF!"}},{"$f":"Результаты!#REF!","v":{"$error":"#REF!"}},{"$f":"Результаты!#REF!","v":{"$error":"#REF!"}},{"$f":"Результаты!#REF!","v":{"$error":"#REF!"}},{"$f":"Результаты!#REF!","v":{"$error":"#REF!"}},{"$f":"Результаты!#REF!","v":{"$error":"#REF!"}},{"$f":"Результаты!#REF!","v":{"$error":"#REF!"}},{"$f":"Результаты!#REF!","v":{"$error":"#REF!"}},{"$f":"Результаты!#REF!","v":{"$error":"#REF!"}},{"$f":"Результаты!#REF!","v":{"$error":"#REF!"}},{"$f":"Результаты!#REF!","v":{"$error":"#REF!"}},{"$f":"Результаты!#REF!","v":{"$error":"#REF!"}},{"$f":"Результаты!#REF!","v":{"$error":"#REF!"}},{"$f":"Результаты!#REF!","v":{"$error":"#REF!"}},{"$f":"Результаты!#REF!","v":{"$error":"#REF!"}},{"$f":"Результаты!#REF!","v":{"$error":"#REF!"}},{"$f":"Результаты!#REF!","v":{"$error":"#REF!"}},{"$f":"Результаты!#REF!","v":{"$error":"#REF!"}},{"$f":"Результаты!#REF!","v":{"$error":"#REF!"}},{"$f":"Результаты!#REF!","v":{"$error":"#REF!"}},{"$f":"Результаты!#REF!","v":{"$error":"#REF!"}},{"$f":"Результаты!#REF!","v":{"$error":"#REF!"}},{"$f":"Результаты!#REF!","v":{"$error":"#REF!"}},{"$f":"Результаты!#REF!","v":{"$error":"#REF!"}},{"$f":"Результаты!#REF!","v":{"$error":"#REF!"}},{"$f":"Результаты!#REF!","v":{"$error":"#REF!"}},{"$f":"Результаты!#REF!","v":{"$error":"#REF!"}},{"$f":"Результаты!#REF!","v":{"$error":"#REF!"}},{"$f":"Результаты!#REF!","v":{"$error":"#REF!"}},{"$f":"Результаты!#REF!","v":{"$error":"#REF!"}},{"$f":"Результаты!#REF!","v":{"$error":"#REF!"}},{"$f":"Результаты!#REF!","v":{"$error":"#REF!"}},{"$f":"Результаты!#REF!","v":{"$error":"#REF!"}},{"$f":"Результаты!#REF!","v":{"$error":"#REF!"}},{"$f":"Результаты!#REF!","v":{"$error":"#REF!"}}]
[]
[]
[null,{"$f":"B5618","v":1},"Информационная обработка текстов различных стилей и жанров. Текст как речевое произведение. Смысловая и композиционная целостность текста. Отбор языковых средств в тексте в зависимости от темы, цели, адресата и ситуации общения. Создание текстов различных стилей и функционально-смысловых типов речи. Грамматические нормы (морфологические нормы). Грамматические  нормы  (синтаксические нормы). Лексические нормы. Пунктуация в простом и сложном предложениях. Орфограмма"]
[null,{"$f":"B5619","v":2},"Текст как речевое произведение. Смысловая и композиционная целостность текста. Анализ текста"]
[null,{"$f":"B5620","v":3},"Выразительные средства лексики и фразеологии. Анализ средств выразительности"]
[null,{"$f":"B5621","v":4},"Правописание приставок. Слитное, дефисное, раздельное написание"]
[null,{"$f":"B5622","v":5},"Правописание суффиксов различных частей речи (кроме -Н-/-НН-). Правописание -Н- и -НН- в различных частях речи. Правописание личных окончаний глаголов и суффиксов причастий настоящего времени"]
[null,{"$f":"B5623","v":6},"Лексика и фразеология. Синонимы. Фразеологические обороты. Группы слов по происхождению и употреблению"]
[null,{"$f":"B5624","v":7},"Словосочетание"]
[null,{"$f":"B5625","v":8},"Предложение. Грамматическая (предикативная) основа предложения. Подлежащее и сказуемое как главные члены предложения "]
[null,{"$f":"B5626","v":9},"Осложнённое простое предложение"]
[null,{"$f":"B5627","v":10},"Пунктуационный анализ. Знаки препинания в предложениях со словами и конструкциями, грамматически не связанными с членами предложения"]
[null,{"$f":"B5628","v":11},"Синтаксический анализ сложного предложения"]
[null,{"$f":"B5629","v":12},"Пунктуационный анализ. Знаки препинания в сложносочинённом и сложноподчинённом предложениях"]
[null,{"$f":"B5630","v":13},"Синтаксический анализ сложного предложения"]
[null,{"$f":"B5631","v":14},"Сложные предложения с разными видами связи между частями"]
[null,{"$f":"B5632","v":15},"Текст как речевое произведение. Смысловая и композиционная целостность текста. Создание текстов различных стилей и функционально-смысловых типов речи. Информационная обработка текстов различных стилей и жанров. Грамматические нормы (морфологические нормы). Грамматические нормы (синтаксические нормы). Лексические нормы"]
[null,{"$f":"B5633","v":16},0]
[null,{"$f":"B5634","v":17},0]
[null,{"$f":"B5635","v":18},0]
[null,{"$f":"B5636","v":19},0]
[null,{"$f":"B5637","v":20},0]
[null,{"$f":"B5638","v":21},0]
[null,{"$f":"B5639","v":22},0]
[null,{"$f":"B5640","v":23},0]
[null,{"$f":"B5641","v":24},0]
[null,{"$f":"B5642","v":25},0]
[null,{"$f":"B5643","v":26},0]
[null,{"$f":"B5644","v":27},0]
[null,{"$f":"B5645","v":28},0]
[null,{"$f":"B5646","v":29},0]
[null,{"$f":"B5647","v":30},0]
[null,{"$f":"B5648","v":31},0]
[null,{"$f":"B5649","v":32},0]
[null,{"$f":"B5650","v":33},0]
[null,{"$f":"B5651","v":34},0]
[null,{"$f":"B5652","v":35},0]
[]
[]
["Рекомендация: обратите внимание на задания по темам, которые вызвали у Вас затруднения, решены с ошибкой и отмечены \"0\" или к решению которых Вы не приступили (пустые ячейки)!"]
[]
[]
["Центр независимой оценки качества образования и образовательного аудита \"Легион\""]
[]
["Образовательная организация",null,null,null,{"$f":"E5660","v":"Ленинская СОШ"}]
["Предмет",null,null,null,{"$f":"E5661","v":"Русский язык"}]
["Максимальный балл",null,null,null,39]
["Пороговый балл",null,null,null,15]
["Зона риска",null,null,null,{"$f":"Результаты!E15","v":15},null,null,{"$f":"Результаты!H15","v":16}]
[]
["Уровни",null,null,null,{"$f":"E5666","v":1},{"$f":"F5666","v":2},3,4,5,6,7,8,9,10,11,12,13,14,15,"ПР.ГР",{"$error":"#REF!"},{"$error":"#REF!"},{"$error":"#REF!"},{"$error":"#REF!"},{"$error":"#REF!"},{"$error":"#REF!"},{"$error":"#REF!"},{"$error":"#REF!"},{"$error":"#REF!"},{"$error":"#REF!"},{"$error":"#REF!"},{"$error":"#REF!"},{"$error":"#REF!"},{"$error":"#REF!"},{"$error":"#REF!"},{"$error":"#REF!"},{"$error":"#REF!"},{"$error":"#REF!"},{"$error":"#REF!"},"Тестовый балл","% выплнения заданий по уровням",null,null,"Оценка"]
[null,null,null,null,null,null,null,null,null,null,null,null,null,null,null,null,null,null,null,null,null,null,null,null,null,null,null,null,null,null,null,null,null,null,null,null,null,null,null,null,"Базовый","Повышенный","Высокий"]
["№","Класс","Ф.И.О.","№ задания",{"$f":"E5668","v":1},{"$f":"F5668","v":2},3,4,5,6,7,8,9,10,11,12,13,14,15,0,{"$error":"#REF!"},{"$error":"#REF!"},{"$error":"#REF!"},{"$error":"#REF!"},{"$error":"#REF!"},{"$error":"#REF!"},{"$error":"#REF!"},{"$error":"#REF!"},{"$error":"#REF!"},{"$error":"#REF!"},{"$error":"#REF!"},{"$error":"#REF!"},{"$error":"#REF!"},{"$error":"#REF!"},{"$error":"#REF!"},{"$error":"#REF!"},{"$error":"#REF!"},{"$error":"#REF!"},{"$error":"#REF!"}]
["Максимальный балл",null,null,null,{"$f":"E5669","v":7},{"$f":"F5669","v":1},1,1,1,1,1,1,1,1,1,1,1,1,9,10,{"$error":"#REF!"},{"$error":"#REF!"},{"$error":"#REF!"},{"$error":"#REF!"},{"$error":"#REF!"},{"$error":"#REF!"},{"$error":"#REF!"},{"$error":"#REF!"},{"$error":"#REF!"},{"$error":"#REF!"},{"$error":"#REF!"},{"$error":"#REF!"},{"$error":"#REF!"},{"$error":"#REF!"},{"$error":"#REF!"},{"$error":"#REF!"},{"$error":"#REF!"},{"$error":"#REF!"},{"$error":"#REF!"},39,76.92307692307692,{"$error":"#REF!"},23.076923076923077,0]
[null,null,null,"вариант"]
[{"$f":"Результаты!#REF!","v":{"$error":"#REF!"}},{"$f":"Результаты!#REF!","v":{"$error":"#REF!"}},{"$f":"Результаты!#REF!","v":{"$error":"#REF!"}},{"$f":"Результаты!#REF!","v":{"$error":"#REF!"}},{"$f":"Результаты!#REF!","v":{"$error":"#REF!"}},{"$f":"Результаты!#REF!","v":{"$error":"#REF!"}},{"$f":"Результаты!#REF!","v":{"$error":"#REF!"}},{"$f":"Результаты!#REF!","v":{"$error":"#REF!"}},{"$f":"Результаты!#REF!","v":{"$error":"#REF!"}},{"$f":"Результаты!#REF!","v":{"$error":"#REF!"}},{"$f":"Результаты!#REF!","v":{"$error":"#REF!"}},{"$f":"Результаты!#REF!","v":{"$error":"#REF!"}},{"$f":"Результаты!#REF!","v":{"$error":"#REF!"}},{"$f":"Результаты!#REF!","v":{"$error":"#REF!"}},{"$f":"Результаты!#REF!","v":{"$error":"#REF!"}},{"$f":"Результаты!#REF!","v":{"$error":"#REF!"}},{"$f":"Результаты!#REF!","v":{"$error":"#REF!"}},{"$f":"Результаты!#REF!","v":{"$error":"#REF!"}},{"$f":"Результаты!#REF!","v":{"$error":"#REF!"}},{"$f":"Результаты!#REF!","v":{"$error":"#REF!"}},{"$f":"Результаты!#REF!","v":{"$error":"#REF!"}},{"$f":"Результаты!#REF!","v":{"$error":"#REF!"}},{"$f":"Результаты!#REF!","v":{"$error":"#REF!"}},{"$f":"Результаты!#REF!","v":{"$error":"#REF!"}},{"$f":"Результаты!#REF!","v":{"$error":"#REF!"}},{"$f":"Результаты!#REF!","v":{"$error":"#REF!"}},{"$f":"Результаты!#REF!","v":{"$error":"#REF!"}},{"$f":"Результаты!#REF!","v":{"$error":"#REF!"}},{"$f":"Результаты!#REF!","v":{"$error":"#REF!"}},{"$f":"Результаты!#REF!","v":{"$error":"#REF!"}},{"$f":"Результаты!#REF!","v":{"$error":"#REF!"}},{"$f":"Результаты!#REF!","v":{"$error":"#REF!"}},{"$f":"Результаты!#REF!","v":{"$error":"#REF!"}},{"$f":"Результаты!#REF!","v":{"$error":"#REF!"}},{"$f":"Результаты!#REF!","v":{"$error":"#REF!"}},{"$f":"Результаты!#REF!","v":{"$error":"#REF!"}},{"$f":"Результаты!#REF!","v":{"$error":"#REF!"}},{"$f":"Результаты!#REF!","v":{"$error":"#REF!"}},{"$f":"Результаты!#REF!","v":{"$error":"#REF!"}},{"$f":"Результаты!#REF!","v":{"$error":"#REF!"}},{"$f":"Результаты!#REF!","v":{"$error":"#REF!"}},{"$f":"Результаты!#REF!","v":{"$error":"#REF!"}},{"$f":"Результаты!#REF!","v":{"$error":"#REF!"}},{"$f":"Результаты!#REF!","v":{"$error":"#REF!"}}]
[]
[]
[null,{"$f":"B5674","v":1},{"$f":"C5674","v":"Информационная обработка текстов различных стилей и жанров. Текст как речевое произведение. Смысловая и композиционная целостность текста. Отбор языковых средств в тексте в зависимости от темы, цели, адресата и ситуации общения. Создание текстов различных стилей и функционально-смысловых типов речи. Грамматические нормы (морфологические нормы). Грамматические  нормы  (синтаксические нормы). Лексические нормы. Пунктуация в простом и сложном предложениях. Орфограмма"}]
[null,{"$f":"B5675","v":2},"Текст как речевое произведение. Смысловая и композиционная целостность текста. Анализ текста"]
[null,{"$f":"B5676","v":3},"Выразительные средства лексики и фразеологии. Анализ средств выразительности"]
[null,{"$f":"B5677","v":4},"Правописание приставок. Слитное, дефисное, раздельное написание"]
[null,{"$f":"B5678","v":5},"Правописание суффиксов различных частей речи (кроме -Н-/-НН-). Правописание -Н- и -НН- в различных частях речи. Правописание личных окончаний глаголов и суффиксов причастий настоящего времени"]
[null,{"$f":"B5679","v":6},"Лексика и фразеология. Синонимы. Фразеологические обороты. Группы слов по происхождению и употреблению"]
[null,{"$f":"B5680","v":7},"Словосочетание"]
[null,{"$f":"B5681","v":8},"Предложение. Грамматическая (предикативная) основа предложения. Подлежащее и сказуемое как главные члены предложения "]
[null,{"$f":"B5682","v":9},"Осложнённое простое предложение"]
[null,{"$f":"B5683","v":10},"Пунктуационный анализ. Знаки препинания в предложениях со словами и конструкциями, грамматически не связанными с членами предложения"]
[null,{"$f":"B5684","v":11},"Синтаксический анализ сложного предложения"]
[null,{"$f":"B5685","v":12},"Пунктуационный анализ. Знаки препинания в сложносочинённом и сложноподчинённом предложениях"]
[null,{"$f":"B5686","v":13},"Синтаксический анализ сложного предложения"]
[null,{"$f":"B5687","v":14},"Сложные предложения с разными видами связи между частями"]
[null,{"$f":"B5688","v":15},"Текст как речевое произведение. Смысловая и композиционная целостность текста. Создание текстов различных стилей и функционально-смысловых типов речи. Информационная обработка текстов различных стилей и жанров. Грамматические нормы (морфологические нормы). Грамматические нормы (синтаксические нормы). Лексические нормы"]
[null,{"$f":"B5689","v":16},0]
[null,{"$f":"B5690","v":17},0]
[null,{"$f":"B5691","v":18},0]
[null,{"$f":"B5692","v":19},0]
[null,{"$f":"B5693","v":20},0]
[null,{"$f":"B5694","v":21},0]
[null,{"$f":"B5695","v":22},0]
[null,{"$f":"B5696","v":23},0]
[null,{"$f":"B5697","v":24},0]
[null,{"$f":"B5698","v":25},0]
[null,{"$f":"B5699","v":26},0]
[null,{"$f":"B5700","v":27},0]
[null,{"$f":"B5701","v":28},0]
[null,{"$f":"B5702","v":29},0]
[null,{"$f":"B5703","v":30},0]
[null,{"$f":"B5704","v":31},0]
[null,{"$f":"B5705","v":32},0]
[null,{"$f":"B5706","v":33},0]
[null,{"$f":"B5707","v":34},0]
[null,{"$f":"B5708","v":35},0]
[]
["Рекомендация: обратите внимание на задания по темам, которые вызвали у Вас затруднения, решены с ошибкой и отмечены \"0\" или к решению которых Вы не приступили (пустые ячейки)!"]
[]
[]
[]
["Центр независимой оценки качества образования и образовательного аудита \"Легион\""]
[]
["Образовательная организация",null,null,null,{"$f":"E5716","v":"Ленинская СОШ"}]
["Предмет",null,null,null,{"$f":"E5717","v":"Русский язык"}]
["Максимальный балл",null,null,null,39]
["Пороговый балл",null,null,null,15]
["Зона риска",null,null,null,{"$f":"Результаты!E15","v":15},null,null,{"$f":"Результаты!H15","v":16}]
[]
["Уровни",null,null,null,{"$f":"E5722","v":1},{"$f":"F5722","v":2},3,4,5,6,7,8,9,10,11,12,13,14,15,"ПР.ГР",{"$error":"#REF!"},{"$error":"#REF!"},{"$error":"#REF!"},{"$error":"#REF!"},{"$error":"#REF!"},{"$error":"#REF!"},{"$error":"#REF!"},{"$error":"#REF!"},{"$error":"#REF!"},{"$error":"#REF!"},{"$error":"#REF!"},{"$error":"#REF!"},{"$error":"#REF!"},{"$error":"#REF!"},{"$error":"#REF!"},{"$error":"#REF!"},{"$error":"#REF!"},{"$error":"#REF!"},{"$error":"#REF!"},"Тестовый балл","% выплнения заданий по уровням",null,null,"Оценка"]
[null,null,null,null,null,null,null,null,null,null,null,null,null,null,null,null,null,null,null,null,null,null,null,null,null,null,null,null,null,null,null,null,null,null,null,null,null,null,null,null,"Базовый","Повышенный","Высокий"]
["№","Класс","Ф.И.О.","№ задания",{"$f":"E5724","v":1},{"$f":"F5724","v":2},3,4,5,6,7,8,9,10,11,12,13,14,15,0,{"$error":"#REF!"},{"$error":"#REF!"},{"$error":"#REF!"},{"$error":"#REF!"},{"$error":"#REF!"},{"$error":"#REF!"},{"$error":"#REF!"},{"$error":"#REF!"},{"$error":"#REF!"},{"$error":"#REF!"},{"$error":"#REF!"},{"$error":"#REF!"},{"$error":"#REF!"},{"$error":"#REF!"},{"$error":"#REF!"},{"$error":"#REF!"},{"$error":"#REF!"},{"$error":"#REF!"},{"$error":"#REF!"}]
["Максимальный балл",null,null,null,{"$f":"E5725","v":7},{"$f":"F5725","v":1},1,1,1,1,1,1,1,1,1,1,1,1,9,10,{"$error":"#REF!"},{"$error":"#REF!"},{"$error":"#REF!"},{"$error":"#REF!"},{"$error":"#REF!"},{"$error":"#REF!"},{"$error":"#REF!"},{"$error":"#REF!"},{"$error":"#REF!"},{"$error":"#REF!"},{"$error":"#REF!"},{"$error":"#REF!"},{"$error":"#REF!"},{"$error":"#REF!"},{"$error":"#REF!"},{"$error":"#REF!"},{"$error":"#REF!"},{"$error":"#REF!"},{"$error":"#REF!"},39,76.92307692307692,{"$error":"#REF!"},23.076923076923077,0]
[null,null,null,"вариант"]
[{"$f":"Результаты!#REF!","v":{"$error":"#REF!"}},{"$f":"Результаты!#REF!","v":{"$error":"#REF!"}},{"$f":"Результаты!#REF!","v":{"$error":"#REF!"}},{"$f":"Результаты!#REF!","v":{"$error":"#REF!"}},{"$f":"Результаты!#REF!","v":{"$error":"#REF!"}},{"$f":"Результаты!#REF!","v":{"$error":"#REF!"}},{"$f":"Результаты!#REF!","v":{"$error":"#REF!"}},{"$f":"Результаты!#REF!","v":{"$error":"#REF!"}},{"$f":"Результаты!#REF!","v":{"$error":"#REF!"}},{"$f":"Результаты!#REF!","v":{"$error":"#REF!"}},{"$f":"Результаты!#REF!","v":{"$error":"#REF!"}},{"$f":"Результаты!#REF!","v":{"$error":"#REF!"}},{"$f":"Результаты!#REF!","v":{"$error":"#REF!"}},{"$f":"Результаты!#REF!","v":{"$error":"#REF!"}},{"$f":"Результаты!#REF!","v":{"$error":"#REF!"}},{"$f":"Результаты!#REF!","v":{"$error":"#REF!"}},{"$f":"Результаты!#REF!","v":{"$error":"#REF!"}},{"$f":"Результаты!#REF!","v":{"$error":"#REF!"}},{"$f":"Результаты!#REF!","v":{"$error":"#REF!"}},{"$f":"Результаты!#REF!","v":{"$error":"#REF!"}},{"$f":"Результаты!#REF!","v":{"$error":"#REF!"}},{"$f":"Результаты!#REF!","v":{"$error":"#REF!"}},{"$f":"Результаты!#REF!","v":{"$error":"#REF!"}},{"$f":"Результаты!#REF!","v":{"$error":"#REF!"}},{"$f":"Результаты!#REF!","v":{"$error":"#REF!"}},{"$f":"Результаты!#REF!","v":{"$error":"#REF!"}},{"$f":"Результаты!#REF!","v":{"$error":"#REF!"}},{"$f":"Результаты!#REF!","v":{"$error":"#REF!"}},{"$f":"Результаты!#REF!","v":{"$error":"#REF!"}},{"$f":"Результаты!#REF!","v":{"$error":"#REF!"}},{"$f":"Результаты!#REF!","v":{"$error":"#REF!"}},{"$f":"Результаты!#REF!","v":{"$error":"#REF!"}},{"$f":"Результаты!#REF!","v":{"$error":"#REF!"}},{"$f":"Результаты!#REF!","v":{"$error":"#REF!"}},{"$f":"Результаты!#REF!","v":{"$error":"#REF!"}},{"$f":"Результаты!#REF!","v":{"$error":"#REF!"}},{"$f":"Результаты!#REF!","v":{"$error":"#REF!"}},{"$f":"Результаты!#REF!","v":{"$error":"#REF!"}},{"$f":"Результаты!#REF!","v":{"$error":"#REF!"}},{"$f":"Результаты!#REF!","v":{"$error":"#REF!"}},{"$f":"Результаты!#REF!","v":{"$error":"#REF!"}},{"$f":"Результаты!#REF!","v":{"$error":"#REF!"}},{"$f":"Результаты!#REF!","v":{"$error":"#REF!"}},{"$f":"Результаты!#REF!","v":{"$error":"#REF!"}}]
[]
[]
[null,{"$f":"B5730","v":1},{"$f":"C5730","v":"Информационная обработка текстов различных стилей и жанров. Текст как речевое произведение. Смысловая и композиционная целостность текста. Отбор языковых средств в тексте в зависимости от темы, цели, адресата и ситуации общения. Создание текстов различных стилей и функционально-смысловых типов речи. Грамматические нормы (морфологические нормы). Грамматические  нормы  (синтаксические нормы). Лексические нормы. Пунктуация в простом и сложном предложениях. Орфограмма"}]
[null,{"$f":"B5731","v":2},"Текст как речевое произведение. Смысловая и композиционная целостность текста. Анализ текста"]
[null,{"$f":"B5732","v":3},"Выразительные средства лексики и фразеологии. Анализ средств выразительности"]
[null,{"$f":"B5733","v":4},"Правописание приставок. Слитное, дефисное, раздельное написание"]
[null,{"$f":"B5734","v":5},"Правописание суффиксов различных частей речи (кроме -Н-/-НН-). Правописание -Н- и -НН- в различных частях речи. Правописание личных окончаний глаголов и суффиксов причастий настоящего времени"]
[null,{"$f":"B5735","v":6},"Лексика и фразеология. Синонимы. Фразеологические обороты. Группы слов по происхождению и употреблению"]
[null,{"$f":"B5736","v":7},"Словосочетание"]
[null,{"$f":"B5737","v":8},"Предложение. Грамматическая (предикативная) основа предложения. Подлежащее и сказуемое как главные члены предложения "]
[null,{"$f":"B5738","v":9},"Осложнённое простое предложение"]
[null,{"$f":"B5739","v":10},"Пунктуационный анализ. Знаки препинания в предложениях со словами и конструкциями, грамматически не связанными с членами предложения"]
[null,{"$f":"B5740","v":11},"Синтаксический анализ сложного предложения"]
[null,{"$f":"B5741","v":12},"Пунктуационный анализ. Знаки препинания в сложносочинённом и сложноподчинённом предложениях"]
[null,{"$f":"B5742","v":13},"Синтаксический анализ сложного предложения"]
[null,{"$f":"B5743","v":14},"Сложные предложения с разными видами связи между частями"]
[null,{"$f":"B5744","v":15},"Текст как речевое произведение. Смысловая и композиционная целостность текста. Создание текстов различных стилей и функционально-смысловых типов речи. Информационная обработка текстов различных стилей и жанров. Грамматические нормы (морфологические нормы). Грамматические нормы (синтаксические нормы). Лексические нормы"]
[null,{"$f":"B5745","v":16},0]
[null,{"$f":"B5746","v":17},0]
[null,{"$f":"B5747","v":18},0]
[null,{"$f":"B5748","v":19},0]
[null,{"$f":"B5749","v":20},0]
[null,{"$f":"B5750","v":21},0]
[null,{"$f":"B5751","v":22},0]
[null,{"$f":"B5752","v":23},0]
[null,{"$f":"B5753","v":24},0]
[null,{"$f":"B5754","v":25},0]
[null,{"$f":"B5755","v":26},0]
[null,{"$f":"B5756","v":27},0]
[null,{"$f":"B5757","v":28},0]
[null,{"$f":"B5758","v":29},0]
[null,{"$f":"B5759","v":30},0]
[null,{"$f":"B5760","v":31},0]
[null,{"$f":"B5761","v":32},0]
[null,{"$f":"B5762","v":33},0]
[null,{"$f":"B5763","v":34},0]
[null,{"$f":"B5764","v":35},0]
[]
["Рекомендация: обратите внимание на задания по темам, которые вызвали у Вас затруднения, решены с ошибкой и отмечены \"0\" или к решению которых Вы не приступили (пустые ячейки)!"]
[]
[]
[]
["Центр независимой оценки качества образования и образовательного аудита \"Легион\""]
[]
["Образовательная организация",null,null,null,{"$f":"E5772","v":"Ленинская СОШ"}]
["Предмет",null,null,null,{"$f":"E5773","v":"Русский язык"}]
["Максимальный балл",null,null,null,39]
["Пороговый балл",null,null,null,15]
["Зона риска",null,null,null,{"$f":"Результаты!E15","v":15},null,null,{"$f":"Результаты!H15","v":16}]
[]
["Уровни",null,null,null,{"$f":"E5778","v":1},{"$f":"F5778","v":2},3,4,5,6,7,8,9,10,11,12,13,14,15,"ПР.ГР",{"$error":"#REF!"},{"$error":"#REF!"},{"$error":"#REF!"},{"$error":"#REF!"},{"$error":"#REF!"},{"$error":"#REF!"},{"$error":"#REF!"},{"$error":"#REF!"},{"$error":"#REF!"},{"$error":"#REF!"},{"$error":"#REF!"},{"$error":"#REF!"},{"$error":"#REF!"},{"$error":"#REF!"},{"$error":"#REF!"},{"$error":"#REF!"},{"$error":"#REF!"},{"$error":"#REF!"},{"$error":"#REF!"},"Тестовый балл","% выплнения заданий по уровням",null,null,"Оценка"]
[null,null,null,null,null,null,null,null,null,null,null,null,null,null,null,null,null,null,null,null,null,null,null,null,null,null,null,null,null,null,null,null,null,null,null,null,null,null,null,null,"Базовый","Повышенный","Высокий"]
["№","Класс","Ф.И.О.","№ задания",{"$f":"E5780","v":1},{"$f":"F5780","v":2},3,4,5,6,7,8,9,10,11,12,13,14,15,0,{"$error":"#REF!"},{"$error":"#REF!"},{"$error":"#REF!"},{"$error":"#REF!"},{"$error":"#REF!"},{"$error":"#REF!"},{"$error":"#REF!"},{"$error":"#REF!"},{"$error":"#REF!"},{"$error":"#REF!"},{"$error":"#REF!"},{"$error":"#REF!"},{"$error":"#REF!"},{"$error":"#REF!"},{"$error":"#REF!"},{"$error":"#REF!"},{"$error":"#REF!"},{"$error":"#REF!"},{"$error":"#REF!"}]
["Максимальный балл",null,null,null,{"$f":"E5781","v":7},{"$f":"F5781","v":1},1,1,1,1,1,1,1,1,1,1,1,1,9,10,{"$error":"#REF!"},{"$error":"#REF!"},{"$error":"#REF!"},{"$error":"#REF!"},{"$error":"#REF!"},{"$error":"#REF!"},{"$error":"#REF!"},{"$error":"#REF!"},{"$error":"#REF!"},{"$error":"#REF!"},{"$error":"#REF!"},{"$error":"#REF!"},{"$error":"#REF!"},{"$error":"#REF!"},{"$error":"#REF!"},{"$error":"#REF!"},{"$error":"#REF!"},{"$error":"#REF!"},{"$error":"#REF!"},39,76.92307692307692,{"$error":"#REF!"},23.076923076923077,0]
[null,null,null,"вариант"]
[{"$f":"Результаты!#REF!","v":{"$error":"#REF!"}},{"$f":"Результаты!#REF!","v":{"$error":"#REF!"}},{"$f":"Результаты!#REF!","v":{"$error":"#REF!"}},{"$f":"Результаты!#REF!","v":{"$error":"#REF!"}},{"$f":"Результаты!#REF!","v":{"$error":"#REF!"}},{"$f":"Результаты!#REF!","v":{"$error":"#REF!"}},{"$f":"Результаты!#REF!","v":{"$error":"#REF!"}},{"$f":"Результаты!#REF!","v":{"$error":"#REF!"}},{"$f":"Результаты!#REF!","v":{"$error":"#REF!"}},{"$f":"Результаты!#REF!","v":{"$error":"#REF!"}},{"$f":"Результаты!#REF!","v":{"$error":"#REF!"}},{"$f":"Результаты!#REF!","v":{"$error":"#REF!"}},{"$f":"Результаты!#REF!","v":{"$error":"#REF!"}},{"$f":"Результаты!#REF!","v":{"$error":"#REF!"}},{"$f":"Результаты!#REF!","v":{"$error":"#REF!"}},{"$f":"Результаты!#REF!","v":{"$error":"#REF!"}},{"$f":"Результаты!#REF!","v":{"$error":"#REF!"}},{"$f":"Результаты!#REF!","v":{"$error":"#REF!"}},{"$f":"Результаты!#REF!","v":{"$error":"#REF!"}},{"$f":"Результаты!#REF!","v":{"$error":"#REF!"}},{"$f":"Результаты!#REF!","v":{"$error":"#REF!"}},{"$f":"Результаты!#REF!","v":{"$error":"#REF!"}},{"$f":"Результаты!#REF!","v":{"$error":"#REF!"}},{"$f":"Результаты!#REF!","v":{"$error":"#REF!"}},{"$f":"Результаты!#REF!","v":{"$error":"#REF!"}},{"$f":"Результаты!#REF!","v":{"$error":"#REF!"}},{"$f":"Результаты!#REF!","v":{"$error":"#REF!"}},{"$f":"Результаты!#REF!","v":{"$error":"#REF!"}},{"$f":"Результаты!#REF!","v":{"$error":"#REF!"}},{"$f":"Результаты!#REF!","v":{"$error":"#REF!"}},{"$f":"Результаты!#REF!","v":{"$error":"#REF!"}},{"$f":"Результаты!#REF!","v":{"$error":"#REF!"}},{"$f":"Результаты!#REF!","v":{"$error":"#REF!"}},{"$f":"Результаты!#REF!","v":{"$error":"#REF!"}},{"$f":"Результаты!#REF!","v":{"$error":"#REF!"}},{"$f":"Результаты!#REF!","v":{"$error":"#REF!"}},{"$f":"Результаты!#REF!","v":{"$error":"#REF!"}},{"$f":"Результаты!#REF!","v":{"$error":"#REF!"}},{"$f":"Результаты!#REF!","v":{"$error":"#REF!"}},{"$f":"Результаты!#REF!","v":{"$error":"#REF!"}},{"$f":"Результаты!#REF!","v":{"$error":"#REF!"}},{"$f":"Результаты!#REF!","v":{"$error":"#REF!"}},{"$f":"Результаты!#REF!","v":{"$error":"#REF!"}},{"$f":"Результаты!#REF!","v":{"$error":"#REF!"}}]
[]
[]
[null,{"$f":"B5786","v":1},{"$f":"C5786","v":"Информационная обработка текстов различных стилей и жанров. Текст как речевое произведение. Смысловая и композиционная целостность текста. Отбор языковых средств в тексте в зависимости от темы, цели, адресата и ситуации общения. Создание текстов различных стилей и функционально-смысловых типов речи. Грамматические нормы (морфологические нормы). Грамматические  нормы  (синтаксические нормы). Лексические нормы. Пунктуация в простом и сложном предложениях. Орфограмма"}]
[null,{"$f":"B5787","v":2},"Текст как речевое произведение. Смысловая и композиционная целостность текста. Анализ текста"]
[null,{"$f":"B5788","v":3},"Выразительные средства лексики и фразеологии. Анализ средств выразительности"]
[null,{"$f":"B5789","v":4},"Правописание приставок. Слитное, дефисное, раздельное написание"]
[null,{"$f":"B5790","v":5},"Правописание суффиксов различных частей речи (кроме -Н-/-НН-). Правописание -Н- и -НН- в различных частях речи. Правописание личных окончаний глаголов и суффиксов причастий настоящего времени"]
[null,{"$f":"B5791","v":6},"Лексика и фразеология. Синонимы. Фразеологические обороты. Группы слов по происхождению и употреблению"]
[null,{"$f":"B5792","v":7},"Словосочетание"]
[null,{"$f":"B5793","v":8},"Предложение. Грамматическая (предикативная) основа предложения. Подлежащее и сказуемое как главные члены предложения "]
[null,{"$f":"B5794","v":9},"Осложнённое простое предложение"]
[null,{"$f":"B5795","v":10},"Пунктуационный анализ. Знаки препинания в предложениях со словами и конструкциями, грамматически не связанными с членами предложения"]
[null,{"$f":"B5796","v":11},"Синтаксический анализ сложного предложения"]
[null,{"$f":"B5797","v":12},"Пунктуационный анализ. Знаки препинания в сложносочинённом и сложноподчинённом предложениях"]
[null,{"$f":"B5798","v":13},"Синтаксический анализ сложного предложения"]
[null,{"$f":"B5799","v":14},"Сложные предложения с разными видами связи между частями"]
[null,{"$f":"B5800","v":15},"Текст как речевое произведение. Смысловая и композиционная целостность текста. Создание текстов различных стилей и функционально-смысловых типов речи. Информационная обработка текстов различных стилей и жанров. Грамматические нормы (морфологические нормы). Грамматические нормы (синтаксические нормы). Лексические нормы"]
[null,{"$f":"B5801","v":16},0]
[null,{"$f":"B5802","v":17},0]
[null,{"$f":"B5803","v":18},0]
[null,{"$f":"B5804","v":19},0]
[null,{"$f":"B5805","v":20},0]
[null,{"$f":"B5806","v":21},0]
[null,{"$f":"B5807","v":22},0]
[null,{"$f":"B5808","v":23},0]
[null,{"$f":"B5809","v":24},0]
[null,{"$f":"B5810","v":25},0]
[null,{"$f":"B5811","v":26},0]
[null,{"$f":"B5812","v":27},0]
[null,{"$f":"B5813","v":28},0]
[null,{"$f":"B5814","v":29},0]
[null,{"$f":"B5815","v":30},0]
[null,{"$f":"B5816","v":31},0]
[null,{"$f":"B5817","v":32},0]
[null,{"$f":"B5818","v":33},0]
[null,{"$f":"B5819","v":34},0]
[null,{"$f":"B5820","v":35},0]
[]
["Рекомендация: обратите внимание на задания по темам, которые вызвали у Вас затруднения, решены с ошибкой и отмечены \"0\" или к решению которых Вы не приступили (пустые ячейки)!"]
[]
[]
[]
["Центр независимой оценки качества образования и образовательного аудита \"Легион\""]
[]
["Образовательная организация",null,null,null,{"$f":"E5772","v":"Ленинская СОШ"}]
["Предмет",null,null,null,{"$f":"E5773","v":"Русский язык"}]
["Максимальный балл",null,null,null,39]
["Пороговый балл",null,null,null,15]
["Зона риска",null,null,null,{"$f":"Результаты!E15","v":15},null,null,{"$f":"Результаты!H15","v":16}]
[]
["Уровни",null,null,null,{"$f":"E5834","v":1},{"$f":"F5834","v":2},3,4,5,6,7,8,9,10,11,12,13,14,15,"ПР.ГР",{"$error":"#REF!"},{"$error":"#REF!"},{"$error":"#REF!"},{"$error":"#REF!"},{"$error":"#REF!"},{"$error":"#REF!"},{"$error":"#REF!"},{"$error":"#REF!"},{"$error":"#REF!"},{"$error":"#REF!"},{"$error":"#REF!"},{"$error":"#REF!"},{"$error":"#REF!"},{"$error":"#REF!"},{"$error":"#REF!"},{"$error":"#REF!"},{"$error":"#REF!"},{"$error":"#REF!"},{"$error":"#REF!"},"Тестовый балл","% выплнения заданий по уровням",null,null,"Оценка"]
[null,null,null,null,null,null,null,null,null,null,null,null,null,null,null,null,null,null,null,null,null,null,null,null,null,null,null,null,null,null,null,null,null,null,null,null,null,null,null,null,"Базовый","Повышенный","Высокий"]
["№","Класс","Ф.И.О.","№ задания",{"$f":"E5836","v":1},{"$f":"F5836","v":2},3,4,5,6,7,8,9,10,11,12,13,14,15,0,{"$error":"#REF!"},{"$error":"#REF!"},{"$error":"#REF!"},{"$error":"#REF!"},{"$error":"#REF!"},{"$error":"#REF!"},{"$error":"#REF!"},{"$error":"#REF!"},{"$error":"#REF!"},{"$error":"#REF!"},{"$error":"#REF!"},{"$error":"#REF!"},{"$error":"#REF!"},{"$error":"#REF!"},{"$error":"#REF!"},{"$error":"#REF!"},{"$error":"#REF!"},{"$error":"#REF!"},{"$error":"#REF!"}]
["Максимальный балл",null,null,null,{"$f":"E5837","v":7},{"$f":"F5837","v":1},1,1,1,1,1,1,1,1,1,1,1,1,9,10,{"$error":"#REF!"},{"$error":"#REF!"},{"$error":"#REF!"},{"$error":"#REF!"},{"$error":"#REF!"},{"$error":"#REF!"},{"$error":"#REF!"},{"$error":"#REF!"},{"$error":"#REF!"},{"$error":"#REF!"},{"$error":"#REF!"},{"$error":"#REF!"},{"$error":"#REF!"},{"$error":"#REF!"},{"$error":"#REF!"},{"$error":"#REF!"},{"$error":"#REF!"},{"$error":"#REF!"},{"$error":"#REF!"},39,76.92307692307692,{"$error":"#REF!"},23.076923076923077,0]
[null,null,null,"вариант"]
[{"$f":"Результаты!#REF!","v":{"$error":"#REF!"}},{"$f":"Результаты!#REF!","v":{"$error":"#REF!"}},{"$f":"Результаты!#REF!","v":{"$error":"#REF!"}},{"$f":"Результаты!#REF!","v":{"$error":"#REF!"}},{"$f":"Результаты!#REF!","v":{"$error":"#REF!"}},{"$f":"Результаты!#REF!","v":{"$error":"#REF!"}},{"$f":"Результаты!#REF!","v":{"$error":"#REF!"}},{"$f":"Результаты!#REF!","v":{"$error":"#REF!"}},{"$f":"Результаты!#REF!","v":{"$error":"#REF!"}},{"$f":"Результаты!#REF!","v":{"$error":"#REF!"}},{"$f":"Результаты!#REF!","v":{"$error":"#REF!"}},{"$f":"Результаты!#REF!","v":{"$error":"#REF!"}},{"$f":"Результаты!#REF!","v":{"$error":"#REF!"}},{"$f":"Результаты!#REF!","v":{"$error":"#REF!"}},{"$f":"Результаты!#REF!","v":{"$error":"#REF!"}},{"$f":"Результаты!#REF!","v":{"$error":"#REF!"}},{"$f":"Результаты!#REF!","v":{"$error":"#REF!"}},{"$f":"Результаты!#REF!","v":{"$error":"#REF!"}},{"$f":"Результаты!#REF!","v":{"$error":"#REF!"}},{"$f":"Результаты!#REF!","v":{"$error":"#REF!"}},{"$f":"Результаты!#REF!","v":{"$error":"#REF!"}},{"$f":"Результаты!#REF!","v":{"$error":"#REF!"}},{"$f":"Результаты!#REF!","v":{"$error":"#REF!"}},{"$f":"Результаты!#REF!","v":{"$error":"#REF!"}},{"$f":"Результаты!#REF!","v":{"$error":"#REF!"}},{"$f":"Результаты!#REF!","v":{"$error":"#REF!"}},{"$f":"Результаты!#REF!","v":{"$error":"#REF!"}},{"$f":"Результаты!#REF!","v":{"$error":"#REF!"}},{"$f":"Результаты!#REF!","v":{"$error":"#REF!"}},{"$f":"Результаты!#REF!","v":{"$error":"#REF!"}},{"$f":"Результаты!#REF!","v":{"$error":"#REF!"}},{"$f":"Результаты!#REF!","v":{"$error":"#REF!"}},{"$f":"Результаты!#REF!","v":{"$error":"#REF!"}},{"$f":"Результаты!#REF!","v":{"$error":"#REF!"}},{"$f":"Результаты!#REF!","v":{"$error":"#REF!"}},{"$f":"Результаты!#REF!","v":{"$error":"#REF!"}},{"$f":"Результаты!#REF!","v":{"$error":"#REF!"}},{"$f":"Результаты!#REF!","v":{"$error":"#REF!"}},{"$f":"Результаты!#REF!","v":{"$error":"#REF!"}},{"$f":"Результаты!#REF!","v":{"$error":"#REF!"}},{"$f":"Результаты!#REF!","v":{"$error":"#REF!"}},{"$f":"Результаты!#REF!","v":{"$error":"#REF!"}},{"$f":"Результаты!#REF!","v":{"$error":"#REF!"}},{"$f":"Результаты!#REF!","v":{"$error":"#REF!"}}]
[]
[]
[null,{"$f":"B5842","v":1},{"$f":"C5842","v":"Информационная обработка текстов различных стилей и жанров. Текст как речевое произведение. Смысловая и композиционная целостность текста. Отбор языковых средств в тексте в зависимости от темы, цели, адресата и ситуации общения. Создание текстов различных стилей и функционально-смысловых типов речи. Грамматические нормы (морфологические нормы). Грамматические  нормы  (синтаксические нормы). Лексические нормы. Пунктуация в простом и сложном предложениях. Орфограмма"}]
[null,{"$f":"B5843","v":2},"Текст как речевое произведение. Смысловая и композиционная целостность текста. Анализ текста"]
[null,{"$f":"B5844","v":3},"Выразительные средства лексики и фразеологии. Анализ средств выразительности"]
[null,{"$f":"B5845","v":4},"Правописание приставок. Слитное, дефисное, раздельное написание"]
[null,{"$f":"B5846","v":5},"Правописание суффиксов различных частей речи (кроме -Н-/-НН-). Правописание -Н- и -НН- в различных частях речи. Правописание личных окончаний глаголов и суффиксов причастий настоящего времени"]
[null,{"$f":"B5847","v":6},"Лексика и фразеология. Синонимы. Фразеологические обороты. Группы слов по происхождению и употреблению"]
[null,{"$f":"B5848","v":7},"Словосочетание"]
[null,{"$f":"B5849","v":8},"Предложение. Грамматическая (предикативная) основа предложения. Подлежащее и сказуемое как главные члены предложения "]
[null,{"$f":"B5850","v":9},"Осложнённое простое предложение"]
[null,{"$f":"B5851","v":10},"Пунктуационный анализ. Знаки препинания в предложениях со словами и конструкциями, грамматически не связанными с членами предложения"]
[null,{"$f":"B5852","v":11},"Синтаксический анализ сложного предложения"]
[null,{"$f":"B5853","v":12},"Пунктуационный анализ. Знаки препинания в сложносочинённом и сложноподчинённом предложениях"]
[null,{"$f":"B5854","v":13},"Синтаксический анализ сложного предложения"]
[null,{"$f":"B5855","v":14},"Сложные предложения с разными видами связи между частями"]
[null,{"$f":"B5856","v":15},"Текст как речевое произведение. Смысловая и композиционная целостность текста. Создание текстов различных стилей и функционально-смысловых типов речи. Информационная обработка текстов различных стилей и жанров. Грамматические нормы (морфологические нормы). Грамматические нормы (синтаксические нормы). Лексические нормы"]
[null,{"$f":"B5857","v":16},0]
[null,{"$f":"B5858","v":17},0]
[null,{"$f":"B5859","v":18},0]
[null,{"$f":"B5860","v":19},0]
[null,{"$f":"B5861","v":20},0]
[null,{"$f":"B5862","v":21},0]
[null,{"$f":"B5863","v":22},0]
[null,{"$f":"B5864","v":23},0]
[null,{"$f":"B5865","v":24},0]
[null,{"$f":"B5866","v":25},0]
[null,{"$f":"B5867","v":26},0]
[null,{"$f":"B5868","v":27},0]
[null,{"$f":"B5869","v":28},0]
[null,{"$f":"B5870","v":29},0]
[null,{"$f":"B5871","v":30},0]
[null,{"$f":"B5872","v":31},0]
[null,{"$f":"B5873","v":32},0]
[null,{"$f":"B5874","v":33},0]
[null,{"$f":"B5875","v":34},{"$f":"C5875","v":0}]
[null,{"$f":"B5876","v":35},{"$f":"C5876","v":0}]
[]
["Рекомендация: обратите внимание на задания по темам, которые вызвали у Вас затруднения, решены с ошибкой и отмечены \"0\" или к решению которых Вы не приступили (пустые ячейки)!"]
[]
[]
[]
["Центр независимой оценки качества образования и образовательного аудита \"Легион\""]
[]
["Образовательная организация",null,null,null,{"$f":"E5884","v":"Ленинская СОШ"}]
["Предмет",null,null,null,{"$f":"E5885","v":"Русский язык"}]
["Максимальный балл",null,null,null,39]
["Пороговый балл",null,null,null,15]
["Зона риска",null,null,null,{"$f":"Результаты!E15","v":15},null,null,{"$f":"Результаты!H15","v":16}]
[]
["Уровни",null,null,null,{"$f":"E5890","v":1},{"$f":"F5890","v":2},3,4,5,6,7,8,9,10,11,12,13,14,15,"ПР.ГР",{"$error":"#REF!"},{"$error":"#REF!"},{"$error":"#REF!"},{"$error":"#REF!"},{"$error":"#REF!"},{"$error":"#REF!"},{"$error":"#REF!"},{"$error":"#REF!"},{"$error":"#REF!"},{"$error":"#REF!"},{"$error":"#REF!"},{"$error":"#REF!"},{"$error":"#REF!"},{"$error":"#REF!"},{"$error":"#REF!"},{"$error":"#REF!"},{"$error":"#REF!"},{"$error":"#REF!"},{"$error":"#REF!"},"Тестовый балл","% выплнения заданий по уровням",null,null,"Оценка"]
[null,null,null,null,null,null,null,null,null,null,null,null,null,null,null,null,null,null,null,null,null,null,null,null,null,null,null,null,null,null,null,null,null,null,null,null,null,null,null,null,"Базовый","Повышенный","Высокий"]
["№","Класс","Ф.И.О.","№ задания",{"$f":"E5892","v":1},{"$f":"F5892","v":2},3,4,5,6,7,8,9,10,11,12,13,14,15,0,{"$error":"#REF!"},{"$error":"#REF!"},{"$error":"#REF!"},{"$error":"#REF!"},{"$error":"#REF!"},{"$error":"#REF!"},{"$error":"#REF!"},{"$error":"#REF!"},{"$error":"#REF!"},{"$error":"#REF!"},{"$error":"#REF!"},{"$error":"#REF!"},{"$error":"#REF!"},{"$error":"#REF!"},{"$error":"#REF!"},{"$error":"#REF!"},{"$error":"#REF!"},{"$error":"#REF!"},{"$error":"#REF!"}]
["Максимальный балл",null,null,null,{"$f":"E5893","v":7},{"$f":"F5893","v":1},1,1,1,1,1,1,1,1,1,1,1,1,9,10,{"$error":"#REF!"},{"$error":"#REF!"},{"$error":"#REF!"},{"$error":"#REF!"},{"$error":"#REF!"},{"$error":"#REF!"},{"$error":"#REF!"},{"$error":"#REF!"},{"$error":"#REF!"},{"$error":"#REF!"},{"$error":"#REF!"},{"$error":"#REF!"},{"$error":"#REF!"},{"$error":"#REF!"},{"$error":"#REF!"},{"$error":"#REF!"},{"$error":"#REF!"},{"$error":"#REF!"},{"$error":"#REF!"},39,76.92307692307692,{"$error":"#REF!"},23.076923076923077,0]
[null,null,null,"вариант"]
[{"$f":"Результаты!#REF!","v":{"$error":"#REF!"}},{"$f":"Результаты!#REF!","v":{"$error":"#REF!"}},{"$f":"Результаты!#REF!","v":{"$error":"#REF!"}},{"$f":"Результаты!#REF!","v":{"$error":"#REF!"}},{"$f":"Результаты!#REF!","v":{"$error":"#REF!"}},{"$f":"Результаты!#REF!","v":{"$error":"#REF!"}},{"$f":"Результаты!#REF!","v":{"$error":"#REF!"}},{"$f":"Результаты!#REF!","v":{"$error":"#REF!"}},{"$f":"Результаты!#REF!","v":{"$error":"#REF!"}},{"$f":"Результаты!#REF!","v":{"$error":"#REF!"}},{"$f":"Результаты!#REF!","v":{"$error":"#REF!"}},{"$f":"Результаты!#REF!","v":{"$error":"#REF!"}},{"$f":"Результаты!#REF!","v":{"$error":"#REF!"}},{"$f":"Результаты!#REF!","v":{"$error":"#REF!"}},{"$f":"Результаты!#REF!","v":{"$error":"#REF!"}},{"$f":"Результаты!#REF!","v":{"$error":"#REF!"}},{"$f":"Результаты!#REF!","v":{"$error":"#REF!"}},{"$f":"Результаты!#REF!","v":{"$error":"#REF!"}},{"$f":"Результаты!#REF!","v":{"$error":"#REF!"}},{"$f":"Результаты!#REF!","v":{"$error":"#REF!"}},{"$f":"Результаты!#REF!","v":{"$error":"#REF!"}},{"$f":"Результаты!#REF!","v":{"$error":"#REF!"}},{"$f":"Результаты!#REF!","v":{"$error":"#REF!"}},{"$f":"Результаты!#REF!","v":{"$error":"#REF!"}},{"$f":"Результаты!#REF!","v":{"$error":"#REF!"}},{"$f":"Результаты!#REF!","v":{"$error":"#REF!"}},{"$f":"Результаты!#REF!","v":{"$error":"#REF!"}},{"$f":"Результаты!#REF!","v":{"$error":"#REF!"}},{"$f":"Результаты!#REF!","v":{"$error":"#REF!"}},{"$f":"Результаты!#REF!","v":{"$error":"#REF!"}},{"$f":"Результаты!#REF!","v":{"$error":"#REF!"}},{"$f":"Результаты!#REF!","v":{"$error":"#REF!"}},{"$f":"Результаты!#REF!","v":{"$error":"#REF!"}},{"$f":"Результаты!#REF!","v":{"$error":"#REF!"}},{"$f":"Результаты!#REF!","v":{"$error":"#REF!"}},{"$f":"Результаты!#REF!","v":{"$error":"#REF!"}},{"$f":"Результаты!#REF!","v":{"$error":"#REF!"}},{"$f":"Результаты!#REF!","v":{"$error":"#REF!"}},{"$f":"Результаты!#REF!","v":{"$error":"#REF!"}},{"$f":"Результаты!#REF!","v":{"$error":"#REF!"}},{"$f":"Результаты!#REF!","v":{"$error":"#REF!"}},{"$f":"Результаты!#REF!","v":{"$error":"#REF!"}},{"$f":"Результаты!#REF!","v":{"$error":"#REF!"}},{"$f":"Результаты!#REF!","v":{"$error":"#REF!"}}]
[]
[]
[null,{"$f":"B5898","v":1},{"$f":"C5898","v":"Информационная обработка текстов различных стилей и жанров. Текст как речевое произведение. Смысловая и композиционная целостность текста. Отбор языковых средств в тексте в зависимости от темы, цели, адресата и ситуации общения. Создание текстов различных стилей и функционально-смысловых типов речи. Грамматические нормы (морфологические нормы). Грамматические  нормы  (синтаксические нормы). Лексические нормы. Пунктуация в простом и сложном предложениях. Орфограмма"}]
[null,{"$f":"B5899","v":2},"Текст как речевое произведение. Смысловая и композиционная целостность текста. Анализ текста"]
[null,{"$f":"B5900","v":3},"Выразительные средства лексики и фразеологии. Анализ средств выразительности"]
[null,{"$f":"B5901","v":4},"Правописание приставок. Слитное, дефисное, раздельное написание"]
[null,{"$f":"B5902","v":5},"Правописание суффиксов различных частей речи (кроме -Н-/-НН-). Правописание -Н- и -НН- в различных частях речи. Правописание личных окончаний глаголов и суффиксов причастий настоящего времени"]
[null,{"$f":"B5903","v":6},"Лексика и фразеология. Синонимы. Фразеологические обороты. Группы слов по происхождению и употреблению"]
[null,{"$f":"B5904","v":7},"Словосочетание"]
[null,{"$f":"B5905","v":8},"Предложение. Грамматическая (предикативная) основа предложения. Подлежащее и сказуемое как главные члены предложения "]
[null,{"$f":"B5906","v":9},"Осложнённое простое предложение"]
[null,{"$f":"B5907","v":10},"Пунктуационный анализ. Знаки препинания в предложениях со словами и конструкциями, грамматически не связанными с членами предложения"]
[null,{"$f":"B5908","v":11},"Синтаксический анализ сложного предложения"]
[null,{"$f":"B5909","v":12},"Пунктуационный анализ. Знаки препинания в сложносочинённом и сложноподчинённом предложениях"]
[null,{"$f":"B5910","v":13},"Синтаксический анализ сложного предложения"]
[null,{"$f":"B5911","v":14},"Сложные предложения с разными видами связи между частями"]
[null,{"$f":"B5912","v":15},"Текст как речевое произведение. Смысловая и композиционная целостность текста. Создание текстов различных стилей и функционально-смысловых типов речи. Информационная обработка текстов различных стилей и жанров. Грамматические нормы (морфологические нормы). Грамматические нормы (синтаксические нормы). Лексические нормы"]
[null,{"$f":"B5913","v":16},0]
[null,{"$f":"B5914","v":17},0]
[null,{"$f":"B5915","v":18},0]
[null,{"$f":"B5916","v":19},0]
[null,{"$f":"B5917","v":20},0]
[null,{"$f":"B5918","v":21},0]
[null,{"$f":"B5919","v":22},0]
[null,{"$f":"B5920","v":23},0]
[null,{"$f":"B5921","v":24},0]
[null,{"$f":"B5922","v":25},0]
[null,{"$f":"B5923","v":26},0]
[null,{"$f":"B5924","v":27},0]
[null,{"$f":"B5925","v":28},0]
[null,{"$f":"B5926","v":29},0]
[null,{"$f":"B5927","v":30},0]
[null,{"$f":"B5928","v":31},0]
[null,{"$f":"B5929","v":32},0]
[null,{"$f":"B5930","v":33},0]
[null,{"$f":"B5931","v":34},0]
[null,{"$f":"B5932","v":35},0]
[]
["Рекомендация: обратите внимание на задания по темам, которые вызвали у Вас затруднения, решены с ошибкой и отмечены \"0\" или к решению которых Вы не приступили (пустые ячейки)!"]
[]
[]
[]
["Центр независимой оценки качества образования и образовательного аудита \"Легион\""]
[]
["Образовательная организация",null,null,null,{"$f":"E5940","v":"Ленинская СОШ"}]
["Предмет",null,null,null,{"$f":"E5941","v":"Русский язык"}]
["Максимальный балл",null,null,null,39]
["Пороговый балл",null,null,null,15]
["Зона риска",null,null,null,{"$f":"Результаты!E15","v":15},null,null,{"$f":"Результаты!H15","v":16}]
[]
["Уровни",null,null,null,{"$f":"E5946","v":1},{"$f":"F5946","v":2},3,4,5,6,7,8,9,10,11,12,13,14,15,"ПР.ГР",{"$error":"#REF!"},{"$error":"#REF!"},{"$error":"#REF!"},{"$error":"#REF!"},{"$error":"#REF!"},{"$error":"#REF!"},{"$error":"#REF!"},{"$error":"#REF!"},{"$error":"#REF!"},{"$error":"#REF!"},{"$error":"#REF!"},{"$error":"#REF!"},{"$error":"#REF!"},{"$error":"#REF!"},{"$error":"#REF!"},{"$error":"#REF!"},{"$error":"#REF!"},{"$error":"#REF!"},{"$error":"#REF!"},"Тестовый балл","% выплнения заданий по уровням",null,null,"Оценка"]
[null,null,null,null,null,null,null,null,null,null,null,null,null,null,null,null,null,null,null,null,null,null,null,null,null,null,null,null,null,null,null,null,null,null,null,null,null,null,null,null,"Базовый","Повышенный","Высокий"]
["№","Класс","Ф.И.О.","№ задания",{"$f":"E5948","v":1},{"$f":"F5948","v":2},3,4,5,6,7,8,9,10,11,12,13,14,15,0,{"$error":"#REF!"},{"$error":"#REF!"},{"$error":"#REF!"},{"$error":"#REF!"},{"$error":"#REF!"},{"$error":"#REF!"},{"$error":"#REF!"},{"$error":"#REF!"},{"$error":"#REF!"},{"$error":"#REF!"},{"$error":"#REF!"},{"$error":"#REF!"},{"$error":"#REF!"},{"$error":"#REF!"},{"$error":"#REF!"},{"$error":"#REF!"},{"$error":"#REF!"},{"$error":"#REF!"},{"$error":"#REF!"}]
["Максимальный балл",null,null,null,{"$f":"E5949","v":7},{"$f":"F5949","v":1},1,1,1,1,1,1,1,1,1,1,1,1,9,10,{"$error":"#REF!"},{"$error":"#REF!"},{"$error":"#REF!"},{"$error":"#REF!"},{"$error":"#REF!"},{"$error":"#REF!"},{"$error":"#REF!"},{"$error":"#REF!"},{"$error":"#REF!"},{"$error":"#REF!"},{"$error":"#REF!"},{"$error":"#REF!"},{"$error":"#REF!"},{"$error":"#REF!"},{"$error":"#REF!"},{"$error":"#REF!"},{"$error":"#REF!"},{"$error":"#REF!"},{"$error":"#REF!"},39,76.92307692307692,{"$error":"#REF!"},23.076923076923077,0]
[null,null,null,"вариант"]
[{"$f":"Результаты!#REF!","v":{"$error":"#REF!"}},{"$f":"Результаты!#REF!","v":{"$error":"#REF!"}},{"$f":"Результаты!#REF!","v":{"$error":"#REF!"}},{"$f":"Результаты!#REF!","v":{"$error":"#REF!"}},{"$f":"Результаты!#REF!","v":{"$error":"#REF!"}},{"$f":"Результаты!#REF!","v":{"$error":"#REF!"}},{"$f":"Результаты!#REF!","v":{"$error":"#REF!"}},{"$f":"Результаты!#REF!","v":{"$error":"#REF!"}},{"$f":"Результаты!#REF!","v":{"$error":"#REF!"}},{"$f":"Результаты!#REF!","v":{"$error":"#REF!"}},{"$f":"Результаты!#REF!","v":{"$error":"#REF!"}},{"$f":"Результаты!#REF!","v":{"$error":"#REF!"}},{"$f":"Результаты!#REF!","v":{"$error":"#REF!"}},{"$f":"Результаты!#REF!","v":{"$error":"#REF!"}},{"$f":"Результаты!#REF!","v":{"$error":"#REF!"}},{"$f":"Результаты!#REF!","v":{"$error":"#REF!"}},{"$f":"Результаты!#REF!","v":{"$error":"#REF!"}},{"$f":"Результаты!#REF!","v":{"$error":"#REF!"}},{"$f":"Результаты!#REF!","v":{"$error":"#REF!"}},{"$f":"Результаты!#REF!","v":{"$error":"#REF!"}},{"$f":"Результаты!#REF!","v":{"$error":"#REF!"}},{"$f":"Результаты!#REF!","v":{"$error":"#REF!"}},{"$f":"Результаты!#REF!","v":{"$error":"#REF!"}},{"$f":"Результаты!#REF!","v":{"$error":"#REF!"}},{"$f":"Результаты!#REF!","v":{"$error":"#REF!"}},{"$f":"Результаты!#REF!","v":{"$error":"#REF!"}},{"$f":"Результаты!#REF!","v":{"$error":"#REF!"}},{"$f":"Результаты!#REF!","v":{"$error":"#REF!"}},{"$f":"Результаты!#REF!","v":{"$error":"#REF!"}},{"$f":"Результаты!#REF!","v":{"$error":"#REF!"}},{"$f":"Результаты!#REF!","v":{"$error":"#REF!"}},{"$f":"Результаты!#REF!","v":{"$error":"#REF!"}},{"$f":"Результаты!#REF!","v":{"$error":"#REF!"}},{"$f":"Результаты!#REF!","v":{"$error":"#REF!"}},{"$f":"Результаты!#REF!","v":{"$error":"#REF!"}},{"$f":"Результаты!#REF!","v":{"$error":"#REF!"}},{"$f":"Результаты!#REF!","v":{"$error":"#REF!"}},{"$f":"Результаты!#REF!","v":{"$error":"#REF!"}},{"$f":"Результаты!#REF!","v":{"$error":"#REF!"}},{"$f":"Результаты!#REF!","v":{"$error":"#REF!"}},{"$f":"Результаты!#REF!","v":{"$error":"#REF!"}},{"$f":"Результаты!#REF!","v":{"$error":"#REF!"}},{"$f":"Результаты!#REF!","v":{"$error":"#REF!"}},{"$f":"Результаты!#REF!","v":{"$error":"#REF!"}}]
[]
[]
[null,{"$f":"B5954","v":1},"Информационная обработка текстов различных стилей и жанров. Текст как речевое произведение. Смысловая и композиционная целостность текста. Отбор языковых средств в тексте в зависимости от темы, цели, адресата и ситуации общения. Создание текстов различных стилей и функционально-смысловых типов речи. Грамматические нормы (морфологические нормы). Грамматические  нормы  (синтаксические нормы). Лексические нормы. Пунктуация в простом и сложном предложениях. Орфограмма"]
[null,{"$f":"B5955","v":2},"Текст как речевое произведение. Смысловая и композиционная целостность текста. Анализ текста"]
[null,{"$f":"B5956","v":3},"Выразительные средства лексики и фразеологии. Анализ средств выразительности"]
[null,{"$f":"B5957","v":4},"Правописание приставок. Слитное, дефисное, раздельное написание"]
[null,{"$f":"B5958","v":5},"Правописание суффиксов различных частей речи (кроме -Н-/-НН-). Правописание -Н- и -НН- в различных частях речи. Правописание личных окончаний глаголов и суффиксов причастий настоящего времени"]
[null,{"$f":"B5959","v":6},"Лексика и фразеология. Синонимы. Фразеологические обороты. Группы слов по происхождению и употреблению"]
[null,{"$f":"B5960","v":7},"Словосочетание"]
[null,{"$f":"B5961","v":8},"Предложение. Грамматическая (предикативная) основа предложения. Подлежащее и сказуемое как главные члены предложения "]
[null,{"$f":"B5962","v":9},"Осложнённое простое предложение"]
[null,{"$f":"B5963","v":10},"Пунктуационный анализ. Знаки препинания в предложениях со словами и конструкциями, грамматически не связанными с членами предложения"]
[null,{"$f":"B5964","v":11},"Синтаксический анализ сложного предложения"]
[null,{"$f":"B5965","v":12},"Пунктуационный анализ. Знаки препинания в сложносочинённом и сложноподчинённом предложениях"]
[null,{"$f":"B5966","v":13},"Синтаксический анализ сложного предложения"]
[null,{"$f":"B5967","v":14},"Сложные предложения с разными видами связи между частями"]
[null,{"$f":"B5968","v":15},"Текст как речевое произведение. Смысловая и композиционная целостность текста. Создание текстов различных стилей и функционально-смысловых типов речи. Информационная обработка текстов различных стилей и жанров. Грамматические нормы (морфологические нормы). Грамматические нормы (синтаксические нормы). Лексические нормы"]
[null,{"$f":"B5969","v":16},0]
[null,{"$f":"B5970","v":17},0]
[null,{"$f":"B5971","v":18},0]
[null,{"$f":"B5972","v":19},0]
[null,{"$f":"B5973","v":20},0]
[null,{"$f":"B5974","v":21},0]
[null,{"$f":"B5975","v":22},0]
[null,{"$f":"B5976","v":23},0]
[null,{"$f":"B5977","v":24},0]
[null,{"$f":"B5978","v":25},0]
[null,{"$f":"B5979","v":26},0]
[null,{"$f":"B5980","v":27},0]
[null,{"$f":"B5981","v":28},0]
[null,{"$f":"B5982","v":29},0]
[null,{"$f":"B5983","v":30},0]
[null,{"$f":"B5984","v":31},0]
[null,{"$f":"B5985","v":32},0]
[null,{"$f":"B5986","v":33},0]
[null,{"$f":"B5987","v":34},0]
[null,{"$f":"B5988","v":35},0]
[]
["Рекомендация: обратите внимание на задания по темам, которые вызвали у Вас затруднения, решены с ошибкой и отмечены \"0\" или к решению которых Вы не приступили (пустые ячейки)!"]
[]
[]
[]
["Центр независимой оценки качества образования и образовательного аудита \"Легион\""]
[]
["Образовательная организация",null,null,null,{"$f":"E5996","v":"Ленинская СОШ"}]
["Предмет",null,null,null,{"$f":"E5997","v":"Русский язык"}]
["Максимальный балл",null,null,null,39]
["Пороговый балл",null,null,null,15]
["Зона риска",null,null,null,{"$f":"Результаты!E15","v":15},null,null,{"$f":"Результаты!H15","v":16}]
[]
["Уровни",null,null,null,{"$f":"E6002","v":1},{"$f":"F6002","v":2},3,4,5,6,7,8,9,10,11,12,13,14,15,"ПР.ГР",{"$error":"#REF!"},{"$error":"#REF!"},{"$error":"#REF!"},{"$error":"#REF!"},{"$error":"#REF!"},{"$error":"#REF!"},{"$error":"#REF!"},{"$error":"#REF!"},{"$error":"#REF!"},{"$error":"#REF!"},{"$error":"#REF!"},{"$error":"#REF!"},{"$error":"#REF!"},{"$error":"#REF!"},{"$error":"#REF!"},{"$error":"#REF!"},{"$error":"#REF!"},{"$error":"#REF!"},{"$error":"#REF!"},"Тестовый балл","% выплнения заданий по уровням",null,null,"Оценка"]
[null,null,null,null,null,null,null,null,null,null,null,null,null,null,null,null,null,null,null,null,null,null,null,null,null,null,null,null,null,null,null,null,null,null,null,null,null,null,null,null,"Базовый","Повышенный","Высокий"]
["№","Класс","Ф.И.О.","№ задания",{"$f":"E6004","v":1},{"$f":"F6004","v":2},3,4,5,6,7,8,9,10,11,12,13,14,15,0,{"$error":"#REF!"},{"$error":"#REF!"},{"$error":"#REF!"},{"$error":"#REF!"},{"$error":"#REF!"},{"$error":"#REF!"},{"$error":"#REF!"},{"$error":"#REF!"},{"$error":"#REF!"},{"$error":"#REF!"},{"$error":"#REF!"},{"$error":"#REF!"},{"$error":"#REF!"},{"$error":"#REF!"},{"$error":"#REF!"},{"$error":"#REF!"},{"$error":"#REF!"},{"$error":"#REF!"},{"$error":"#REF!"}]
["Максимальный балл",null,null,null,{"$f":"E6005","v":7},{"$f":"F6005","v":1},1,1,1,1,1,1,1,1,1,1,1,1,9,10,{"$error":"#REF!"},{"$error":"#REF!"},{"$error":"#REF!"},{"$error":"#REF!"},{"$error":"#REF!"},{"$error":"#REF!"},{"$error":"#REF!"},{"$error":"#REF!"},{"$error":"#REF!"},{"$error":"#REF!"},{"$error":"#REF!"},{"$error":"#REF!"},{"$error":"#REF!"},{"$error":"#REF!"},{"$error":"#REF!"},{"$error":"#REF!"},{"$error":"#REF!"},{"$error":"#REF!"},{"$error":"#REF!"},39,76.92307692307692,{"$error":"#REF!"},23.076923076923077,0]
[null,null,null,"вариант"]
[{"$f":"Результаты!#REF!","v":{"$error":"#REF!"}},{"$f":"Результаты!#REF!","v":{"$error":"#REF!"}},{"$f":"Результаты!#REF!","v":{"$error":"#REF!"}},{"$f":"Результаты!#REF!","v":{"$error":"#REF!"}},{"$f":"Результаты!#REF!","v":{"$error":"#REF!"}},{"$f":"Результаты!#REF!","v":{"$error":"#REF!"}},{"$f":"Результаты!#REF!","v":{"$error":"#REF!"}},{"$f":"Результаты!#REF!","v":{"$error":"#REF!"}},{"$f":"Результаты!#REF!","v":{"$error":"#REF!"}},{"$f":"Результаты!#REF!","v":{"$error":"#REF!"}},{"$f":"Результаты!#REF!","v":{"$error":"#REF!"}},{"$f":"Результаты!#REF!","v":{"$error":"#REF!"}},{"$f":"Результаты!#REF!","v":{"$error":"#REF!"}},{"$f":"Результаты!#REF!","v":{"$error":"#REF!"}},{"$f":"Результаты!#REF!","v":{"$error":"#REF!"}},{"$f":"Результаты!#REF!","v":{"$error":"#REF!"}},{"$f":"Результаты!#REF!","v":{"$error":"#REF!"}},{"$f":"Результаты!#REF!","v":{"$error":"#REF!"}},{"$f":"Результаты!#REF!","v":{"$error":"#REF!"}},{"$f":"Результаты!#REF!","v":{"$error":"#REF!"}},{"$f":"Результаты!#REF!","v":{"$error":"#REF!"}},{"$f":"Результаты!#REF!","v":{"$error":"#REF!"}},{"$f":"Результаты!#REF!","v":{"$error":"#REF!"}},{"$f":"Результаты!#REF!","v":{"$error":"#REF!"}},{"$f":"Результаты!#REF!","v":{"$error":"#REF!"}},{"$f":"Результаты!#REF!","v":{"$error":"#REF!"}},{"$f":"Результаты!#REF!","v":{"$error":"#REF!"}},{"$f":"Результаты!#REF!","v":{"$error":"#REF!"}},{"$f":"Результаты!#REF!","v":{"$error":"#REF!"}},{"$f":"Результаты!#REF!","v":{"$error":"#REF!"}},{"$f":"Результаты!#REF!","v":{"$error":"#REF!"}},{"$f":"Результаты!#REF!","v":{"$error":"#REF!"}},{"$f":"Результаты!#REF!","v":{"$error":"#REF!"}},{"$f":"Результаты!#REF!","v":{"$error":"#REF!"}},{"$f":"Результаты!#REF!","v":{"$error":"#REF!"}},{"$f":"Результаты!#REF!","v":{"$error":"#REF!"}},{"$f":"Результаты!#REF!","v":{"$error":"#REF!"}},{"$f":"Результаты!#REF!","v":{"$error":"#REF!"}},{"$f":"Результаты!#REF!","v":{"$error":"#REF!"}},{"$f":"Результаты!#REF!","v":{"$error":"#REF!"}},{"$f":"Результаты!#REF!","v":{"$error":"#REF!"}},{"$f":"Результаты!#REF!","v":{"$error":"#REF!"}},{"$f":"Результаты!#REF!","v":{"$error":"#REF!"}},{"$f":"Результаты!#REF!","v":{"$error":"#REF!"}}]
[]
[]
[null,{"$f":"B6010","v":1},"Информационная обработка текстов различных стилей и жанров. Текст как речевое произведение. Смысловая и композиционная целостность текста. Отбор языковых средств в тексте в зависимости от темы, цели, адресата и ситуации общения. Создание текстов различных стилей и функционально-смысловых типов речи. Грамматические нормы (морфологические нормы). Грамматические  нормы  (синтаксические нормы). Лексические нормы. Пунктуация в простом и сложном предложениях. Орфограмма"]
[null,{"$f":"B6011","v":2},"Текст как речевое произведение. Смысловая и композиционная целостность текста. Анализ текста"]
[null,{"$f":"B6012","v":3},"Выразительные средства лексики и фразеологии. Анализ средств выразительности"]
[null,{"$f":"B6013","v":4},"Правописание приставок. Слитное, дефисное, раздельное написание"]
[null,{"$f":"B6014","v":5},"Правописание суффиксов различных частей речи (кроме -Н-/-НН-). Правописание -Н- и -НН- в различных частях речи. Правописание личных окончаний глаголов и суффиксов причастий настоящего времени"]
[null,{"$f":"B6015","v":6},"Лексика и фразеология. Синонимы. Фразеологические обороты. Группы слов по происхождению и употреблению"]
[null,{"$f":"B6016","v":7},"Словосочетание"]
[null,{"$f":"B6017","v":8},"Предложение. Грамматическая (предикативная) основа предложения. Подлежащее и сказуемое как главные члены предложения "]
[null,{"$f":"B6018","v":9},"Осложнённое простое предложение"]
[null,{"$f":"B6019","v":10},"Пунктуационный анализ. Знаки препинания в предложениях со словами и конструкциями, грамматически не связанными с членами предложения"]
[null,{"$f":"B6020","v":11},"Синтаксический анализ сложного предложения"]
[null,{"$f":"B6021","v":12},"Пунктуационный анализ. Знаки препинания в сложносочинённом и сложноподчинённом предложениях"]
[null,{"$f":"B6022","v":13},"Синтаксический анализ сложного предложения"]
[null,{"$f":"B6023","v":14},"Сложные предложения с разными видами связи между частями"]
[null,{"$f":"B6024","v":15},"Текст как речевое произведение. Смысловая и композиционная целостность текста. Создание текстов различных стилей и функционально-смысловых типов речи. Информационная обработка текстов различных стилей и жанров. Грамматические нормы (морфологические нормы). Грамматические нормы (синтаксические нормы). Лексические нормы"]
[null,{"$f":"B6025","v":16},0]
[null,{"$f":"B6026","v":17},0]
[null,{"$f":"B6027","v":18},0]
[null,{"$f":"B6028","v":19},0]
[null,{"$f":"B6029","v":20},0]
[null,{"$f":"B6030","v":21},0]
[null,{"$f":"B6031","v":22},0]
[null,{"$f":"B6032","v":23},0]
[null,{"$f":"B6033","v":24},0]
[null,{"$f":"B6034","v":25},0]
[null,{"$f":"B6035","v":26},0]
[null,{"$f":"B6036","v":27},0]
[null,{"$f":"B6037","v":28},0]
[null,{"$f":"B6038","v":29},0]
[null,{"$f":"B6039","v":30},0]
[null,{"$f":"B6040","v":31},0]
[null,{"$f":"B6041","v":32},0]
[null,{"$f":"B6042","v":33},0]
[null,{"$f":"B6043","v":34},0]
[null,{"$f":"B6044","v":35},0]
[]
[]
["Рекомендация: обратите внимание на задания по темам, которые вызвали у Вас затруднения, решены с ошибкой и отмечены \"0\" или к решению которых Вы не приступили (пустые ячейки)!"]
[]
[]
["Центр независимой оценки качества образования и образовательного аудита \"Легион\""]
[]
["Образовательная организация",null,null,null,{"$f":"E6052","v":"Ленинская СОШ"}]
["Предмет",null,null,null,{"$f":"E6053","v":"Русский язык"}]
["Максимальный балл",null,null,null,39]
["Пороговый балл",null,null,null,15]
["Зона риска",null,null,null,{"$f":"Результаты!E15","v":15},null,null,{"$f":"Результаты!H15","v":16}]
[]
["Уровни",null,null,null,{"$f":"E6058","v":1},{"$f":"F6058","v":2},3,4,5,6,7,8,9,10,11,12,13,14,15,"ПР.ГР",{"$error":"#REF!"},{"$error":"#REF!"},{"$error":"#REF!"},{"$error":"#REF!"},{"$error":"#REF!"},{"$error":"#REF!"},{"$error":"#REF!"},{"$error":"#REF!"},{"$error":"#REF!"},{"$error":"#REF!"},{"$error":"#REF!"},{"$error":"#REF!"},{"$error":"#REF!"},{"$error":"#REF!"},{"$error":"#REF!"},{"$error":"#REF!"},{"$error":"#REF!"},{"$error":"#REF!"},{"$error":"#REF!"},"Тестовый балл","% выплнения заданий по уровням",null,null,"Оценка"]
[null,null,null,null,null,null,null,null,null,null,null,null,null,null,null,null,null,null,null,null,null,null,null,null,null,null,null,null,null,null,null,null,null,null,null,null,null,null,null,null,"Базовый","Повышенный","Высокий"]
["№","Класс","Ф.И.О.","№ задания",{"$f":"E6060","v":1},{"$f":"F6060","v":2},3,4,5,6,7,8,9,10,11,12,13,14,15,0,{"$error":"#REF!"},{"$error":"#REF!"},{"$error":"#REF!"},{"$error":"#REF!"},{"$error":"#REF!"},{"$error":"#REF!"},{"$error":"#REF!"},{"$error":"#REF!"},{"$error":"#REF!"},{"$error":"#REF!"},{"$error":"#REF!"},{"$error":"#REF!"},{"$error":"#REF!"},{"$error":"#REF!"},{"$error":"#REF!"},{"$error":"#REF!"},{"$error":"#REF!"},{"$error":"#REF!"},{"$error":"#REF!"}]
["Максимальный балл",null,null,null,{"$f":"E6061","v":7},{"$f":"F6061","v":1},1,1,1,1,1,1,1,1,1,1,1,1,9,10,{"$error":"#REF!"},{"$error":"#REF!"},{"$error":"#REF!"},{"$error":"#REF!"},{"$error":"#REF!"},{"$error":"#REF!"},{"$error":"#REF!"},{"$error":"#REF!"},{"$error":"#REF!"},{"$error":"#REF!"},{"$error":"#REF!"},{"$error":"#REF!"},{"$error":"#REF!"},{"$error":"#REF!"},{"$error":"#REF!"},{"$error":"#REF!"},{"$error":"#REF!"},{"$error":"#REF!"},{"$error":"#REF!"},39,76.92307692307692,{"$error":"#REF!"},23.076923076923077,0]
[null,null,null,"вариант"]
[{"$f":"Результаты!#REF!","v":{"$error":"#REF!"}},{"$f":"Результаты!#REF!","v":{"$error":"#REF!"}},{"$f":"Результаты!#REF!","v":{"$error":"#REF!"}},{"$f":"Результаты!#REF!","v":{"$error":"#REF!"}},{"$f":"Результаты!#REF!","v":{"$error":"#REF!"}},{"$f":"Результаты!#REF!","v":{"$error":"#REF!"}},{"$f":"Результаты!#REF!","v":{"$error":"#REF!"}},{"$f":"Результаты!#REF!","v":{"$error":"#REF!"}},{"$f":"Результаты!#REF!","v":{"$error":"#REF!"}},{"$f":"Результаты!#REF!","v":{"$error":"#REF!"}},{"$f":"Результаты!#REF!","v":{"$error":"#REF!"}},{"$f":"Результаты!#REF!","v":{"$error":"#REF!"}},{"$f":"Результаты!#REF!","v":{"$error":"#REF!"}},{"$f":"Результаты!#REF!","v":{"$error":"#REF!"}},{"$f":"Результаты!#REF!","v":{"$error":"#REF!"}},{"$f":"Результаты!#REF!","v":{"$error":"#REF!"}},{"$f":"Результаты!#REF!","v":{"$error":"#REF!"}},{"$f":"Результаты!#REF!","v":{"$error":"#REF!"}},{"$f":"Результаты!#REF!","v":{"$error":"#REF!"}},{"$f":"Результаты!#REF!","v":{"$error":"#REF!"}},{"$f":"Результаты!#REF!","v":{"$error":"#REF!"}},{"$f":"Результаты!#REF!","v":{"$error":"#REF!"}},{"$f":"Результаты!#REF!","v":{"$error":"#REF!"}},{"$f":"Результаты!#REF!","v":{"$error":"#REF!"}},{"$f":"Результаты!#REF!","v":{"$error":"#REF!"}},{"$f":"Результаты!#REF!","v":{"$error":"#REF!"}},{"$f":"Результаты!#REF!","v":{"$error":"#REF!"}},{"$f":"Результаты!#REF!","v":{"$error":"#REF!"}},{"$f":"Результаты!#REF!","v":{"$error":"#REF!"}},{"$f":"Результаты!#REF!","v":{"$error":"#REF!"}},{"$f":"Результаты!#REF!","v":{"$error":"#REF!"}},{"$f":"Результаты!#REF!","v":{"$error":"#REF!"}},{"$f":"Результаты!#REF!","v":{"$error":"#REF!"}},{"$f":"Результаты!#REF!","v":{"$error":"#REF!"}},{"$f":"Результаты!#REF!","v":{"$error":"#REF!"}},{"$f":"Результаты!#REF!","v":{"$error":"#REF!"}},{"$f":"Результаты!#REF!","v":{"$error":"#REF!"}},{"$f":"Результаты!#REF!","v":{"$error":"#REF!"}},{"$f":"Результаты!#REF!","v":{"$error":"#REF!"}},{"$f":"Результаты!#REF!","v":{"$error":"#REF!"}},{"$f":"Результаты!#REF!","v":{"$error":"#REF!"}},{"$f":"Результаты!#REF!","v":{"$error":"#REF!"}},{"$f":"Результаты!#REF!","v":{"$error":"#REF!"}},{"$f":"Результаты!#REF!","v":{"$error":"#REF!"}}]
[]
[]
[null,{"$f":"B6066","v":1},{"$f":"C6066","v":"Информационная обработка текстов различных стилей и жанров. Текст как речевое произведение. Смысловая и композиционная целостность текста. Отбор языковых средств в тексте в зависимости от темы, цели, адресата и ситуации общения. Создание текстов различных стилей и функционально-смысловых типов речи. Грамматические нормы (морфологические нормы). Грамматические  нормы  (синтаксические нормы). Лексические нормы. Пунктуация в простом и сложном предложениях. Орфограмма"}]
[null,{"$f":"B6067","v":2},"Текст как речевое произведение. Смысловая и композиционная целостность текста. Анализ текста"]
[null,{"$f":"B6068","v":3},"Выразительные средства лексики и фразеологии. Анализ средств выразительности"]
[null,{"$f":"B6069","v":4},"Правописание приставок. Слитное, дефисное, раздельное написание"]
[null,{"$f":"B6070","v":5},"Правописание суффиксов различных частей речи (кроме -Н-/-НН-). Правописание -Н- и -НН- в различных частях речи. Правописание личных окончаний глаголов и суффиксов причастий настоящего времени"]
[null,{"$f":"B6071","v":6},"Лексика и фразеология. Синонимы. Фразеологические обороты. Группы слов по происхождению и употреблению"]
[null,{"$f":"B6072","v":7},"Словосочетание"]
[null,{"$f":"B6073","v":8},"Предложение. Грамматическая (предикативная) основа предложения. Подлежащее и сказуемое как главные члены предложения "]
[null,{"$f":"B6074","v":9},"Осложнённое простое предложение"]
[null,{"$f":"B6075","v":10},"Пунктуационный анализ. Знаки препинания в предложениях со словами и конструкциями, грамматически не связанными с членами предложения"]
[null,{"$f":"B6076","v":11},"Синтаксический анализ сложного предложения"]
[null,{"$f":"B6077","v":12},"Пунктуационный анализ. Знаки препинания в сложносочинённом и сложноподчинённом предложениях"]
[null,{"$f":"B6078","v":13},"Синтаксический анализ сложного предложения"]
[null,{"$f":"B6079","v":14},"Сложные предложения с разными видами связи между частями"]
[null,{"$f":"B6080","v":15},"Текст как речевое произведение. Смысловая и композиционная целостность текста. Создание текстов различных стилей и функционально-смысловых типов речи. Информационная обработка текстов различных стилей и жанров. Грамматические нормы (морфологические нормы). Грамматические нормы (синтаксические нормы). Лексические нормы"]
[null,{"$f":"B6081","v":16},0]
[null,{"$f":"B6082","v":17},0]
[null,{"$f":"B6083","v":18},0]
[null,{"$f":"B6084","v":19},0]
[null,{"$f":"B6085","v":20},0]
[null,{"$f":"B6086","v":21},0]
[null,{"$f":"B6087","v":22},0]
[null,{"$f":"B6088","v":23},0]
[null,{"$f":"B6089","v":24},0]
[null,{"$f":"B6090","v":25},0]
[null,{"$f":"B6091","v":26},0]
[null,{"$f":"B6092","v":27},0]
[null,{"$f":"B6093","v":28},0]
[null,{"$f":"B6094","v":29},0]
[null,{"$f":"B6095","v":30},0]
[null,{"$f":"B6096","v":31},0]
[null,{"$f":"B6097","v":32},0]
[null,{"$f":"B6098","v":33},0]
[null,{"$f":"B6099","v":34},0]
[null,{"$f":"B6100","v":35},0]
[]
["Рекомендация: обратите внимание на задания по темам, которые вызвали у Вас затруднения, решены с ошибкой и отмечены \"0\" или к решению которых Вы не приступили (пустые ячейки)!"]
[]
[]
[]
["Центр независимой оценки качества образования и образовательного аудита \"Легион\""]
[]
["Образовательная организация",null,null,null,{"$f":"E6108","v":"Ленинская СОШ"}]
["Предмет",null,null,null,{"$f":"E6109","v":"Русский язык"}]
["Максимальный балл",null,null,null,39]
["Пороговый балл",null,null,null,15]
["Зона риска",null,null,null,{"$f":"Результаты!E15","v":15},null,null,{"$f":"Результаты!H15","v":16}]
[]
["Уровни",null,null,null,{"$f":"E6114","v":1},{"$f":"F6114","v":2},3,4,5,6,7,8,9,10,11,12,13,14,15,"ПР.ГР",{"$error":"#REF!"},{"$error":"#REF!"},{"$error":"#REF!"},{"$error":"#REF!"},{"$error":"#REF!"},{"$error":"#REF!"},{"$error":"#REF!"},{"$error":"#REF!"},{"$error":"#REF!"},{"$error":"#REF!"},{"$error":"#REF!"},{"$error":"#REF!"},{"$error":"#REF!"},{"$error":"#REF!"},{"$error":"#REF!"},{"$error":"#REF!"},{"$error":"#REF!"},{"$error":"#REF!"},{"$error":"#REF!"},"Тестовый балл","% выплнения заданий по уровням",null,null,"Оценка"]
[null,null,null,null,null,null,null,null,null,null,null,null,null,null,null,null,null,null,null,null,null,null,null,null,null,null,null,null,null,null,null,null,null,null,null,null,null,null,null,null,"Базовый","Повышенный","Высокий"]
["№","Класс","Ф.И.О.","№ задания",{"$f":"E6116","v":1},{"$f":"F6116","v":2},3,4,5,6,7,8,9,10,11,12,13,14,15,0,{"$error":"#REF!"},{"$error":"#REF!"},{"$error":"#REF!"},{"$error":"#REF!"},{"$error":"#REF!"},{"$error":"#REF!"},{"$error":"#REF!"},{"$error":"#REF!"},{"$error":"#REF!"},{"$error":"#REF!"},{"$error":"#REF!"},{"$error":"#REF!"},{"$error":"#REF!"},{"$error":"#REF!"},{"$error":"#REF!"},{"$error":"#REF!"},{"$error":"#REF!"},{"$error":"#REF!"},{"$error":"#REF!"}]
["Максимальный балл",null,null,null,{"$f":"E6117","v":7},{"$f":"F6117","v":1},1,1,1,1,1,1,1,1,1,1,1,1,9,10,{"$error":"#REF!"},{"$error":"#REF!"},{"$error":"#REF!"},{"$error":"#REF!"},{"$error":"#REF!"},{"$error":"#REF!"},{"$error":"#REF!"},{"$error":"#REF!"},{"$error":"#REF!"},{"$error":"#REF!"},{"$error":"#REF!"},{"$error":"#REF!"},{"$error":"#REF!"},{"$error":"#REF!"},{"$error":"#REF!"},{"$error":"#REF!"},{"$error":"#REF!"},{"$error":"#REF!"},{"$error":"#REF!"},39,76.92307692307692,{"$error":"#REF!"},23.076923076923077,0]
[null,null,null,"вариант"]
[{"$f":"Результаты!#REF!","v":{"$error":"#REF!"}},{"$f":"Результаты!#REF!","v":{"$error":"#REF!"}},{"$f":"Результаты!#REF!","v":{"$error":"#REF!"}},{"$f":"Результаты!#REF!","v":{"$error":"#REF!"}},{"$f":"Результаты!#REF!","v":{"$error":"#REF!"}},{"$f":"Результаты!#REF!","v":{"$error":"#REF!"}},{"$f":"Результаты!#REF!","v":{"$error":"#REF!"}},{"$f":"Результаты!#REF!","v":{"$error":"#REF!"}},{"$f":"Результаты!#REF!","v":{"$error":"#REF!"}},{"$f":"Результаты!#REF!","v":{"$error":"#REF!"}},{"$f":"Результаты!#REF!","v":{"$error":"#REF!"}},{"$f":"Результаты!#REF!","v":{"$error":"#REF!"}},{"$f":"Результаты!#REF!","v":{"$error":"#REF!"}},{"$f":"Результаты!#REF!","v":{"$error":"#REF!"}},{"$f":"Результаты!#REF!","v":{"$error":"#REF!"}},{"$f":"Результаты!#REF!","v":{"$error":"#REF!"}},{"$f":"Результаты!#REF!","v":{"$error":"#REF!"}},{"$f":"Результаты!#REF!","v":{"$error":"#REF!"}},{"$f":"Результаты!#REF!","v":{"$error":"#REF!"}},{"$f":"Результаты!#REF!","v":{"$error":"#REF!"}},{"$f":"Результаты!#REF!","v":{"$error":"#REF!"}},{"$f":"Результаты!#REF!","v":{"$error":"#REF!"}},{"$f":"Результаты!#REF!","v":{"$error":"#REF!"}},{"$f":"Результаты!#REF!","v":{"$error":"#REF!"}},{"$f":"Результаты!#REF!","v":{"$error":"#REF!"}},{"$f":"Результаты!#REF!","v":{"$error":"#REF!"}},{"$f":"Результаты!#REF!","v":{"$error":"#REF!"}},{"$f":"Результаты!#REF!","v":{"$error":"#REF!"}},{"$f":"Результаты!#REF!","v":{"$error":"#REF!"}},{"$f":"Результаты!#REF!","v":{"$error":"#REF!"}},{"$f":"Результаты!#REF!","v":{"$error":"#REF!"}},{"$f":"Результаты!#REF!","v":{"$error":"#REF!"}},{"$f":"Результаты!#REF!","v":{"$error":"#REF!"}},{"$f":"Результаты!#REF!","v":{"$error":"#REF!"}},{"$f":"Результаты!#REF!","v":{"$error":"#REF!"}},{"$f":"Результаты!#REF!","v":{"$error":"#REF!"}},{"$f":"Результаты!#REF!","v":{"$error":"#REF!"}},{"$f":"Результаты!#REF!","v":{"$error":"#REF!"}},{"$f":"Результаты!#REF!","v":{"$error":"#REF!"}},{"$f":"Результаты!#REF!","v":{"$error":"#REF!"}},{"$f":"Результаты!#REF!","v":{"$error":"#REF!"}},{"$f":"Результаты!#REF!","v":{"$error":"#REF!"}},{"$f":"Результаты!#REF!","v":{"$error":"#REF!"}},{"$f":"Результаты!#REF!","v":{"$error":"#REF!"}}]
[]
[]
[null,{"$f":"B6122","v":1},"Информационная обработка текстов различных стилей и жанров. Текст как речевое произведение. Смысловая и композиционная целостность текста. Отбор языковых средств в тексте в зависимости от темы, цели, адресата и ситуации общения. Создание текстов различных стилей и функционально-смысловых типов речи. Грамматические нормы (морфологические нормы). Грамматические  нормы  (синтаксические нормы). Лексические нормы. Пунктуация в простом и сложном предложениях. Орфограмма"]
[null,{"$f":"B6123","v":2},"Текст как речевое произведение. Смысловая и композиционная целостность текста. Анализ текста"]
[null,{"$f":"B6124","v":3},"Выразительные средства лексики и фразеологии. Анализ средств выразительности"]
[null,{"$f":"B6125","v":4},"Правописание приставок. Слитное, дефисное, раздельное написание"]
[null,{"$f":"B6126","v":5},"Правописание суффиксов различных частей речи (кроме -Н-/-НН-). Правописание -Н- и -НН- в различных частях речи. Правописание личных окончаний глаголов и суффиксов причастий настоящего времени"]
[null,{"$f":"B6127","v":6},"Лексика и фразеология. Синонимы. Фразеологические обороты. Группы слов по происхождению и употреблению"]
[null,{"$f":"B6128","v":7},"Словосочетание"]
[null,{"$f":"B6129","v":8},"Предложение. Грамматическая (предикативная) основа предложения. Подлежащее и сказуемое как главные члены предложения "]
[null,{"$f":"B6130","v":9},"Осложнённое простое предложение"]
[null,{"$f":"B6131","v":10},"Пунктуационный анализ. Знаки препинания в предложениях со словами и конструкциями, грамматически не связанными с членами предложения"]
[null,{"$f":"B6132","v":11},"Синтаксический анализ сложного предложения"]
[null,{"$f":"B6133","v":12},"Пунктуационный анализ. Знаки препинания в сложносочинённом и сложноподчинённом предложениях"]
[null,{"$f":"B6134","v":13},"Синтаксический анализ сложного предложения"]
[null,{"$f":"B6135","v":14},"Сложные предложения с разными видами связи между частями"]
[null,{"$f":"B6136","v":15},"Текст как речевое произведение. Смысловая и композиционная целостность текста. Создание текстов различных стилей и функционально-смысловых типов речи. Информационная обработка текстов различных стилей и жанров. Грамматические нормы (морфологические нормы). Грамматические нормы (синтаксические нормы). Лексические нормы"]
[null,{"$f":"B6137","v":16},0]
[null,{"$f":"B6138","v":17},0]
[null,{"$f":"B6139","v":18},0]
[null,{"$f":"B6140","v":19},0]
[null,{"$f":"B6141","v":20},0]
[null,{"$f":"B6142","v":21},0]
[null,{"$f":"B6143","v":22},0]
[null,{"$f":"B6144","v":23},0]
[null,{"$f":"B6145","v":24},0]
[null,{"$f":"B6146","v":25},0]
[null,{"$f":"B6147","v":26},0]
[null,{"$f":"B6148","v":27},0]
[null,{"$f":"B6149","v":28},0]
[null,{"$f":"B6150","v":29},0]
[null,{"$f":"B6151","v":30},0]
[null,{"$f":"B6152","v":31},0]
[null,{"$f":"B6153","v":32},0]
[null,{"$f":"B6154","v":33},0]
[null,{"$f":"B6155","v":34},0]
[null,{"$f":"B6156","v":35},0]
[]
[]
["Рекомендация: обратите внимание на задания по темам, которые вызвали у Вас затруднения, решены с ошибкой и отмечены \"0\" или к решению которых Вы не приступили (пустые ячейки)!"]
[]
[]
["Центр независимой оценки качества образования и образовательного аудита \"Легион\""]
[]
["Образовательная организация",null,null,null,{"$f":"E6108","v":"Ленинская СОШ"}]
["Предмет",null,null,null,{"$f":"E6109","v":"Русский язык"}]
["Максимальный балл",null,null,null,39]
["Пороговый балл",null,null,null,15]
["Зона риска",null,null,null,{"$f":"Результаты!E15","v":15},null,null,{"$f":"Результаты!H15","v":16}]
[]
["Уровни",null,null,null,{"$f":"E6170","v":1},{"$f":"F6170","v":2},3,4,5,6,7,8,9,10,11,12,13,14,15,"ПР.ГР",{"$error":"#REF!"},{"$error":"#REF!"},{"$error":"#REF!"},{"$error":"#REF!"},{"$error":"#REF!"},{"$error":"#REF!"},{"$error":"#REF!"},{"$error":"#REF!"},{"$error":"#REF!"},{"$error":"#REF!"},{"$error":"#REF!"},{"$error":"#REF!"},{"$error":"#REF!"},{"$error":"#REF!"},{"$error":"#REF!"},{"$error":"#REF!"},{"$error":"#REF!"},{"$error":"#REF!"},{"$error":"#REF!"},"Тестовый балл","% выплнения заданий по уровням",null,null,"Оценка"]
[null,null,null,null,null,null,null,null,null,null,null,null,null,null,null,null,null,null,null,null,null,null,null,null,null,null,null,null,null,null,null,null,null,null,null,null,null,null,null,null,"Базовый","Повышенный","Высокий"]
["№","Класс","Ф.И.О.","№ задания",{"$f":"E6172","v":1},{"$f":"F6172","v":2},3,4,5,6,7,8,9,10,11,12,13,14,15,0,{"$error":"#REF!"},{"$error":"#REF!"},{"$error":"#REF!"},{"$error":"#REF!"},{"$error":"#REF!"},{"$error":"#REF!"},{"$error":"#REF!"},{"$error":"#REF!"},{"$error":"#REF!"},{"$error":"#REF!"},{"$error":"#REF!"},{"$error":"#REF!"},{"$error":"#REF!"},{"$error":"#REF!"},{"$error":"#REF!"},{"$error":"#REF!"},{"$error":"#REF!"},{"$error":"#REF!"},{"$error":"#REF!"}]
["Максимальный балл",null,null,null,{"$f":"E6173","v":7},{"$f":"F6173","v":1},1,1,1,1,1,1,1,1,1,1,1,1,9,10,{"$error":"#REF!"},{"$error":"#REF!"},{"$error":"#REF!"},{"$error":"#REF!"},{"$error":"#REF!"},{"$error":"#REF!"},{"$error":"#REF!"},{"$error":"#REF!"},{"$error":"#REF!"},{"$error":"#REF!"},{"$error":"#REF!"},{"$error":"#REF!"},{"$error":"#REF!"},{"$error":"#REF!"},{"$error":"#REF!"},{"$error":"#REF!"},{"$error":"#REF!"},{"$error":"#REF!"},{"$error":"#REF!"},{"$f":"AN6173","v":39},{"$f":"AO6173","v":76.92307692307692},{"$error":"#REF!"},23.076923076923077,0]
[null,null,null,"вариант"]
[{"$f":"Результаты!#REF!","v":{"$error":"#REF!"}},{"$f":"Результаты!#REF!","v":{"$error":"#REF!"}},{"$f":"Результаты!#REF!","v":{"$error":"#REF!"}},{"$f":"Результаты!#REF!","v":{"$error":"#REF!"}},{"$f":"Результаты!#REF!","v":{"$error":"#REF!"}},{"$f":"Результаты!#REF!","v":{"$error":"#REF!"}},{"$f":"Результаты!#REF!","v":{"$error":"#REF!"}},{"$f":"Результаты!#REF!","v":{"$error":"#REF!"}},{"$f":"Результаты!#REF!","v":{"$error":"#REF!"}},{"$f":"Результаты!#REF!","v":{"$error":"#REF!"}},{"$f":"Результаты!#REF!","v":{"$error":"#REF!"}},{"$f":"Результаты!#REF!","v":{"$error":"#REF!"}},{"$f":"Результаты!#REF!","v":{"$error":"#REF!"}},{"$f":"Результаты!#REF!","v":{"$error":"#REF!"}},{"$f":"Результаты!#REF!","v":{"$error":"#REF!"}},{"$f":"Результаты!#REF!","v":{"$error":"#REF!"}},{"$f":"Результаты!#REF!","v":{"$error":"#REF!"}},{"$f":"Результаты!#REF!","v":{"$error":"#REF!"}},{"$f":"Результаты!#REF!","v":{"$error":"#REF!"}},{"$f":"Результаты!#REF!","v":{"$error":"#REF!"}},{"$f":"Результаты!#REF!","v":{"$error":"#REF!"}},{"$f":"Результаты!#REF!","v":{"$error":"#REF!"}},{"$f":"Результаты!#REF!","v":{"$error":"#REF!"}},{"$f":"Результаты!#REF!","v":{"$error":"#REF!"}},{"$f":"Результаты!#REF!","v":{"$error":"#REF!"}},{"$f":"Результаты!#REF!","v":{"$error":"#REF!"}},{"$f":"Результаты!#REF!","v":{"$error":"#REF!"}},{"$f":"Результаты!#REF!","v":{"$error":"#REF!"}},{"$f":"Результаты!#REF!","v":{"$error":"#REF!"}},{"$f":"Результаты!#REF!","v":{"$error":"#REF!"}},{"$f":"Результаты!#REF!","v":{"$error":"#REF!"}},{"$f":"Результаты!#REF!","v":{"$error":"#REF!"}},{"$f":"Результаты!#REF!","v":{"$error":"#REF!"}},{"$f":"Результаты!#REF!","v":{"$error":"#REF!"}},{"$f":"Результаты!#REF!","v":{"$error":"#REF!"}},{"$f":"Результаты!#REF!","v":{"$error":"#REF!"}},{"$f":"Результаты!#REF!","v":{"$error":"#REF!"}},{"$f":"Результаты!#REF!","v":{"$error":"#REF!"}},{"$f":"Результаты!#REF!","v":{"$error":"#REF!"}},{"$f":"Результаты!#REF!","v":{"$error":"#REF!"}},{"$f":"Результаты!#REF!","v":{"$error":"#REF!"}},{"$f":"Результаты!#REF!","v":{"$error":"#REF!"}},{"$f":"Результаты!#REF!","v":{"$error":"#REF!"}},{"$f":"Результаты!#REF!","v":{"$error":"#REF!"}}]
[]
[]
[null,{"$f":"B6178","v":1},{"$f":"C6178","v":"Информационная обработка текстов различных стилей и жанров. Текст как речевое произведение. Смысловая и композиционная целостность текста. Отбор языковых средств в тексте в зависимости от темы, цели, адресата и ситуации общения. Создание текстов различных стилей и функционально-смысловых типов речи. Грамматические нормы (морфологические нормы). Грамматические  нормы  (синтаксические нормы). Лексические нормы. Пунктуация в простом и сложном предложениях. Орфограмма"}]
[null,{"$f":"B6179","v":2},"Текст как речевое произведение. Смысловая и композиционная целостность текста. Анализ текста"]
[null,{"$f":"B6180","v":3},"Выразительные средства лексики и фразеологии. Анализ средств выразительности"]
[null,{"$f":"B6181","v":4},"Правописание приставок. Слитное, дефисное, раздельное написание"]
[null,{"$f":"B6182","v":5},"Правописание суффиксов различных частей речи (кроме -Н-/-НН-). Правописание -Н- и -НН- в различных частях речи. Правописание личных окончаний глаголов и суффиксов причастий настоящего времени"]
[null,{"$f":"B6183","v":6},"Лексика и фразеология. Синонимы. Фразеологические обороты. Группы слов по происхождению и употреблению"]
[null,{"$f":"B6184","v":7},"Словосочетание"]
[null,{"$f":"B6185","v":8},"Предложение. Грамматическая (предикативная) основа предложения. Подлежащее и сказуемое как главные члены предложения "]
[null,{"$f":"B6186","v":9},"Осложнённое простое предложение"]
[null,{"$f":"B6187","v":10},"Пунктуационный анализ. Знаки препинания в предложениях со словами и конструкциями, грамматически не связанными с членами предложения"]
[null,{"$f":"B6188","v":11},"Синтаксический анализ сложного предложения"]
[null,{"$f":"B6189","v":12},"Пунктуационный анализ. Знаки препинания в сложносочинённом и сложноподчинённом предложениях"]
[null,{"$f":"B6190","v":13},"Синтаксический анализ сложного предложения"]
[null,{"$f":"B6191","v":14},"Сложные предложения с разными видами связи между частями"]
[null,{"$f":"B6192","v":15},"Текст как речевое произведение. Смысловая и композиционная целостность текста. Создание текстов различных стилей и функционально-смысловых типов речи. Информационная обработка текстов различных стилей и жанров. Грамматические нормы (морфологические нормы). Грамматические нормы (синтаксические нормы). Лексические нормы"]
[null,{"$f":"B6193","v":16},0]
[null,{"$f":"B6194","v":17},0]
[null,{"$f":"B6195","v":18},0]
[null,{"$f":"B6196","v":19},0]
[null,{"$f":"B6197","v":20},0]
[null,{"$f":"B6198","v":21},0]
[null,{"$f":"B6199","v":22},0]
[null,{"$f":"B6200","v":23},0]
[null,{"$f":"B6201","v":24},0]
[null,{"$f":"B6202","v":25},0]
[null,{"$f":"B6203","v":26},0]
[null,{"$f":"B6204","v":27},0]
[null,{"$f":"B6205","v":28},0]
[null,{"$f":"B6206","v":29},0]
[null,{"$f":"B6207","v":30},0]
[null,{"$f":"B6208","v":31},0]
[null,{"$f":"B6209","v":32},0]
[null,{"$f":"B6210","v":33},0]
[null,{"$f":"B6211","v":34},0]
[null,{"$f":"B6212","v":35},0]
[]
["Рекомендация: обратите внимание на задания по темам, которые вызвали у Вас затруднения, решены с ошибкой и отмечены \"0\" или к решению которых Вы не приступили (пустые ячейки)!"]
[]
[]
[]
["Центр независимой оценки качества образования и образовательного аудита \"Легион\""]
[]
["Образовательная организация",null,null,null,{"$f":"E6220","v":"Ленинская СОШ"}]
["Предмет",null,null,null,{"$f":"E6221","v":"Русский язык"}]
["Максимальный балл",null,null,null,39]
["Пороговый балл",null,null,null,15]
["Зона риска",null,null,null,{"$f":"Результаты!E15","v":15},null,null,{"$f":"Результаты!H15","v":16}]
[]
["Уровни",null,null,null,{"$f":"E6226","v":1},{"$f":"F6226","v":2},3,4,5,6,7,8,9,10,11,12,13,14,15,"ПР.ГР",{"$error":"#REF!"},{"$error":"#REF!"},{"$error":"#REF!"},{"$error":"#REF!"},{"$error":"#REF!"},{"$error":"#REF!"},{"$error":"#REF!"},{"$error":"#REF!"},{"$error":"#REF!"},{"$error":"#REF!"},{"$error":"#REF!"},{"$error":"#REF!"},{"$error":"#REF!"},{"$error":"#REF!"},{"$error":"#REF!"},{"$error":"#REF!"},{"$error":"#REF!"},{"$error":"#REF!"},{"$error":"#REF!"},"Тестовый балл","% выплнения заданий по уровням",null,null,"Оценка"]
[null,null,null,null,null,null,null,null,null,null,null,null,null,null,null,null,null,null,null,null,null,null,null,null,null,null,null,null,null,null,null,null,null,null,null,null,null,null,null,null,"Базовый","Повышенный","Высокий"]
["№","Класс","Ф.И.О.","№ задания",{"$f":"E6228","v":1},{"$f":"F6228","v":2},3,4,5,6,7,8,9,10,11,12,13,14,15,0,{"$error":"#REF!"},{"$error":"#REF!"},{"$error":"#REF!"},{"$error":"#REF!"},{"$error":"#REF!"},{"$error":"#REF!"},{"$error":"#REF!"},{"$error":"#REF!"},{"$error":"#REF!"},{"$error":"#REF!"},{"$error":"#REF!"},{"$error":"#REF!"},{"$error":"#REF!"},{"$error":"#REF!"},{"$error":"#REF!"},{"$error":"#REF!"},{"$error":"#REF!"},{"$error":"#REF!"},{"$error":"#REF!"}]
["Максимальный балл",null,null,null,{"$f":"E6229","v":7},{"$f":"F6229","v":1},1,1,1,1,1,1,1,1,1,1,1,1,9,10,{"$error":"#REF!"},{"$error":"#REF!"},{"$error":"#REF!"},{"$error":"#REF!"},{"$error":"#REF!"},{"$error":"#REF!"},{"$error":"#REF!"},{"$error":"#REF!"},{"$error":"#REF!"},{"$error":"#REF!"},{"$error":"#REF!"},{"$error":"#REF!"},{"$error":"#REF!"},{"$error":"#REF!"},{"$error":"#REF!"},{"$error":"#REF!"},{"$error":"#REF!"},{"$error":"#REF!"},{"$error":"#REF!"},39,76.92307692307692,{"$error":"#REF!"},23.076923076923077,0]
[null,null,null,"вариант"]
[{"$f":"Результаты!#REF!","v":{"$error":"#REF!"}},{"$f":"Результаты!#REF!","v":{"$error":"#REF!"}},{"$f":"Результаты!#REF!","v":{"$error":"#REF!"}},{"$f":"Результаты!#REF!","v":{"$error":"#REF!"}},{"$f":"Результаты!#REF!","v":{"$error":"#REF!"}},{"$f":"Результаты!#REF!","v":{"$error":"#REF!"}},{"$f":"Результаты!#REF!","v":{"$error":"#REF!"}},{"$f":"Результаты!#REF!","v":{"$error":"#REF!"}},{"$f":"Результаты!#REF!","v":{"$error":"#REF!"}},{"$f":"Результаты!#REF!","v":{"$error":"#REF!"}},{"$f":"Результаты!#REF!","v":{"$error":"#REF!"}},{"$f":"Результаты!#REF!","v":{"$error":"#REF!"}},{"$f":"Результаты!#REF!","v":{"$error":"#REF!"}},{"$f":"Результаты!#REF!","v":{"$error":"#REF!"}},{"$f":"Результаты!#REF!","v":{"$error":"#REF!"}},{"$f":"Результаты!#REF!","v":{"$error":"#REF!"}},{"$f":"Результаты!#REF!","v":{"$error":"#REF!"}},{"$f":"Результаты!#REF!","v":{"$error":"#REF!"}},{"$f":"Результаты!#REF!","v":{"$error":"#REF!"}},{"$f":"Результаты!#REF!","v":{"$error":"#REF!"}},{"$f":"Результаты!#REF!","v":{"$error":"#REF!"}},{"$f":"Результаты!#REF!","v":{"$error":"#REF!"}},{"$f":"Результаты!#REF!","v":{"$error":"#REF!"}},{"$f":"Результаты!#REF!","v":{"$error":"#REF!"}},{"$f":"Результаты!#REF!","v":{"$error":"#REF!"}},{"$f":"Результаты!#REF!","v":{"$error":"#REF!"}},{"$f":"Результаты!#REF!","v":{"$error":"#REF!"}},{"$f":"Результаты!#REF!","v":{"$error":"#REF!"}},{"$f":"Результаты!#REF!","v":{"$error":"#REF!"}},{"$f":"Результаты!#REF!","v":{"$error":"#REF!"}},{"$f":"Результаты!#REF!","v":{"$error":"#REF!"}},{"$f":"Результаты!#REF!","v":{"$error":"#REF!"}},{"$f":"Результаты!#REF!","v":{"$error":"#REF!"}},{"$f":"Результаты!#REF!","v":{"$error":"#REF!"}},{"$f":"Результаты!#REF!","v":{"$error":"#REF!"}},{"$f":"Результаты!#REF!","v":{"$error":"#REF!"}},{"$f":"Результаты!#REF!","v":{"$error":"#REF!"}},{"$f":"Результаты!#REF!","v":{"$error":"#REF!"}},{"$f":"Результаты!#REF!","v":{"$error":"#REF!"}},{"$f":"Результаты!#REF!","v":{"$error":"#REF!"}},{"$f":"Результаты!#REF!","v":{"$error":"#REF!"}},{"$f":"Результаты!#REF!","v":{"$error":"#REF!"}},{"$f":"Результаты!#REF!","v":{"$error":"#REF!"}},{"$f":"Результаты!#REF!","v":{"$error":"#REF!"}}]
[]
[]
[null,{"$f":"B6234","v":1},{"$f":"C6234","v":"Информационная обработка текстов различных стилей и жанров. Текст как речевое произведение. Смысловая и композиционная целостность текста. Отбор языковых средств в тексте в зависимости от темы, цели, адресата и ситуации общения. Создание текстов различных стилей и функционально-смысловых типов речи. Грамматические нормы (морфологические нормы). Грамматические  нормы  (синтаксические нормы). Лексические нормы. Пунктуация в простом и сложном предложениях. Орфограмма"}]
[null,{"$f":"B6235","v":2},"Текст как речевое произведение. Смысловая и композиционная целостность текста. Анализ текста"]
[null,{"$f":"B6236","v":3},"Выразительные средства лексики и фразеологии. Анализ средств выразительности"]
[null,{"$f":"B6237","v":4},"Правописание приставок. Слитное, дефисное, раздельное написание"]
[null,{"$f":"B6238","v":5},"Правописание суффиксов различных частей речи (кроме -Н-/-НН-). Правописание -Н- и -НН- в различных частях речи. Правописание личных окончаний глаголов и суффиксов причастий настоящего времени"]
[null,{"$f":"B6239","v":6},"Лексика и фразеология. Синонимы. Фразеологические обороты. Группы слов по происхождению и употреблению"]
[null,{"$f":"B6240","v":7},"Словосочетание"]
[null,{"$f":"B6241","v":8},"Предложение. Грамматическая (предикативная) основа предложения. Подлежащее и сказуемое как главные члены предложения "]
[null,{"$f":"B6242","v":9},"Осложнённое простое предложение"]
[null,{"$f":"B6243","v":10},"Пунктуационный анализ. Знаки препинания в предложениях со словами и конструкциями, грамматически не связанными с членами предложения"]
[null,{"$f":"B6244","v":11},"Синтаксический анализ сложного предложения"]
[null,{"$f":"B6245","v":12},"Пунктуационный анализ. Знаки препинания в сложносочинённом и сложноподчинённом предложениях"]
[null,{"$f":"B6246","v":13},"Синтаксический анализ сложного предложения"]
[null,{"$f":"B6247","v":14},"Сложные предложения с разными видами связи между частями"]
[null,{"$f":"B6248","v":15},"Текст как речевое произведение. Смысловая и композиционная целостность текста. Создание текстов различных стилей и функционально-смысловых типов речи. Информационная обработка текстов различных стилей и жанров. Грамматические нормы (морфологические нормы). Грамматические нормы (синтаксические нормы). Лексические нормы"]
[null,{"$f":"B6249","v":16},0]
[null,{"$f":"B6250","v":17},0]
[null,{"$f":"B6251","v":18},0]
[null,{"$f":"B6252","v":19},0]
[null,{"$f":"B6253","v":20},0]
[null,{"$f":"B6254","v":21},0]
[null,{"$f":"B6255","v":22},0]
[null,{"$f":"B6256","v":23},0]
[null,{"$f":"B6257","v":24},0]
[null,{"$f":"B6258","v":25},0]
[null,{"$f":"B6259","v":26},0]
[null,{"$f":"B6260","v":27},0]
[null,{"$f":"B6261","v":28},0]
[null,{"$f":"B6262","v":29},0]
[null,{"$f":"B6263","v":30},0]
[null,{"$f":"B6264","v":31},0]
[null,{"$f":"B6265","v":32},0]
[null,{"$f":"B6266","v":33},0]
[null,{"$f":"B6267","v":34},0]
[null,{"$f":"B6268","v":35},0]
[]
["Рекомендация: обратите внимание на задания по темам, которые вызвали у Вас затруднения, решены с ошибкой и отмечены \"0\" или к решению которых Вы не приступили (пустые ячейки)!"]
[]
[]
[]
["Центр независимой оценки качества образования и образовательного аудита \"Легион\""]
[]
["Образовательная организация",null,null,null,{"$f":"E6276","v":"Ленинская СОШ"}]
["Предмет",null,null,null,{"$f":"E6277","v":"Русский язык"}]
["Максимальный балл",null,null,null,39]
["Пороговый балл",null,null,null,15]
["Зона риска",null,null,null,{"$f":"Результаты!E15","v":15},null,null,{"$f":"Результаты!H15","v":16}]
[]
["Уровни",null,null,null,{"$f":"E6282","v":1},{"$f":"F6282","v":2},3,4,5,6,7,8,9,10,11,12,13,14,15,"ПР.ГР",{"$error":"#REF!"},{"$error":"#REF!"},{"$error":"#REF!"},{"$error":"#REF!"},{"$error":"#REF!"},{"$error":"#REF!"},{"$error":"#REF!"},{"$error":"#REF!"},{"$error":"#REF!"},{"$error":"#REF!"},{"$error":"#REF!"},{"$error":"#REF!"},{"$error":"#REF!"},{"$error":"#REF!"},{"$error":"#REF!"},{"$error":"#REF!"},{"$error":"#REF!"},{"$error":"#REF!"},{"$error":"#REF!"},"Тестовый балл","% выплнения заданий по уровням",null,null,"Оценка"]
[null,null,null,null,null,null,null,null,null,null,null,null,null,null,null,null,null,null,null,null,null,null,null,null,null,null,null,null,null,null,null,null,null,null,null,null,null,null,null,null,"Базовый","Повышенный","Высокий"]
["№","Класс","Ф.И.О.","№ задания",{"$f":"E6284","v":1},{"$f":"F6284","v":2},3,4,5,6,7,8,9,10,11,12,13,14,15,0,{"$error":"#REF!"},{"$error":"#REF!"},{"$error":"#REF!"},{"$error":"#REF!"},{"$error":"#REF!"},{"$error":"#REF!"},{"$error":"#REF!"},{"$error":"#REF!"},{"$error":"#REF!"},{"$error":"#REF!"},{"$error":"#REF!"},{"$error":"#REF!"},{"$error":"#REF!"},{"$error":"#REF!"},{"$error":"#REF!"},{"$error":"#REF!"},{"$error":"#REF!"},{"$error":"#REF!"},{"$error":"#REF!"}]
["Максимальный балл",null,null,null,{"$f":"E6285","v":7},{"$f":"F6285","v":1},1,1,1,1,1,1,1,1,1,1,1,1,9,10,{"$error":"#REF!"},{"$error":"#REF!"},{"$error":"#REF!"},{"$error":"#REF!"},{"$error":"#REF!"},{"$error":"#REF!"},{"$error":"#REF!"},{"$error":"#REF!"},{"$error":"#REF!"},{"$error":"#REF!"},{"$error":"#REF!"},{"$error":"#REF!"},{"$error":"#REF!"},{"$error":"#REF!"},{"$error":"#REF!"},{"$error":"#REF!"},{"$error":"#REF!"},{"$error":"#REF!"},{"$error":"#REF!"},39,76.92307692307692,{"$error":"#REF!"},23.076923076923077,0]
[null,null,null,"вариант"]
[{"$f":"Результаты!#REF!","v":{"$error":"#REF!"}},{"$f":"Результаты!#REF!","v":{"$error":"#REF!"}},{"$f":"Результаты!#REF!","v":{"$error":"#REF!"}},{"$f":"Результаты!#REF!","v":{"$error":"#REF!"}},{"$f":"Результаты!#REF!","v":{"$error":"#REF!"}},{"$f":"Результаты!#REF!","v":{"$error":"#REF!"}},{"$f":"Результаты!#REF!","v":{"$error":"#REF!"}},{"$f":"Результаты!#REF!","v":{"$error":"#REF!"}},{"$f":"Результаты!#REF!","v":{"$error":"#REF!"}},{"$f":"Результаты!#REF!","v":{"$error":"#REF!"}},{"$f":"Результаты!#REF!","v":{"$error":"#REF!"}},{"$f":"Результаты!#REF!","v":{"$error":"#REF!"}},{"$f":"Результаты!#REF!","v":{"$error":"#REF!"}},{"$f":"Результаты!#REF!","v":{"$error":"#REF!"}},{"$f":"Результаты!#REF!","v":{"$error":"#REF!"}},{"$f":"Результаты!#REF!","v":{"$error":"#REF!"}},{"$f":"Результаты!#REF!","v":{"$error":"#REF!"}},{"$f":"Результаты!#REF!","v":{"$error":"#REF!"}},{"$f":"Результаты!#REF!","v":{"$error":"#REF!"}},{"$f":"Результаты!#REF!","v":{"$error":"#REF!"}},{"$f":"Результаты!#REF!","v":{"$error":"#REF!"}},{"$f":"Результаты!#REF!","v":{"$error":"#REF!"}},{"$f":"Результаты!#REF!","v":{"$error":"#REF!"}},{"$f":"Результаты!#REF!","v":{"$error":"#REF!"}},{"$f":"Результаты!#REF!","v":{"$error":"#REF!"}},{"$f":"Результаты!#REF!","v":{"$error":"#REF!"}},{"$f":"Результаты!#REF!","v":{"$error":"#REF!"}},{"$f":"Результаты!#REF!","v":{"$error":"#REF!"}},{"$f":"Результаты!#REF!","v":{"$error":"#REF!"}},{"$f":"Результаты!#REF!","v":{"$error":"#REF!"}},{"$f":"Результаты!#REF!","v":{"$error":"#REF!"}},{"$f":"Результаты!#REF!","v":{"$error":"#REF!"}},{"$f":"Результаты!#REF!","v":{"$error":"#REF!"}},{"$f":"Результаты!#REF!","v":{"$error":"#REF!"}},{"$f":"Результаты!#REF!","v":{"$error":"#REF!"}},{"$f":"Результаты!#REF!","v":{"$error":"#REF!"}},{"$f":"Результаты!#REF!","v":{"$error":"#REF!"}},{"$f":"Результаты!#REF!","v":{"$error":"#REF!"}},{"$f":"Результаты!#REF!","v":{"$error":"#REF!"}},{"$f":"Результаты!#REF!","v":{"$error":"#REF!"}},{"$f":"Результаты!#REF!","v":{"$error":"#REF!"}},{"$f":"Результаты!#REF!","v":{"$error":"#REF!"}},{"$f":"Результаты!#REF!","v":{"$error":"#REF!"}},{"$f":"Результаты!#REF!","v":{"$error":"#REF!"}}]
[]
[]
[null,{"$f":"B6290","v":1},"Информационная обработка текстов различных стилей и жанров. Текст как речевое произведение. Смысловая и композиционная целостность текста. Отбор языковых средств в тексте в зависимости от темы, цели, адресата и ситуации общения. Создание текстов различных стилей и функционально-смысловых типов речи. Грамматические нормы (морфологические нормы). Грамматические  нормы  (синтаксические нормы). Лексические нормы. Пунктуация в простом и сложном предложениях. Орфограмма"]
[null,{"$f":"B6291","v":2},"Текст как речевое произведение. Смысловая и композиционная целостность текста. Анализ текста"]
[null,{"$f":"B6292","v":3},"Выразительные средства лексики и фразеологии. Анализ средств выразительности"]
[null,{"$f":"B6293","v":4},"Правописание приставок. Слитное, дефисное, раздельное написание"]
[null,{"$f":"B6294","v":5},"Правописание суффиксов различных частей речи (кроме -Н-/-НН-). Правописание -Н- и -НН- в различных частях речи. Правописание личных окончаний глаголов и суффиксов причастий настоящего времени"]
[null,{"$f":"B6295","v":6},"Лексика и фразеология. Синонимы. Фразеологические обороты. Группы слов по происхождению и употреблению"]
[null,{"$f":"B6296","v":7},"Словосочетание"]
[null,{"$f":"B6297","v":8},"Предложение. Грамматическая (предикативная) основа предложения. Подлежащее и сказуемое как главные члены предложения "]
[null,{"$f":"B6298","v":9},"Осложнённое простое предложение"]
[null,{"$f":"B6299","v":10},"Пунктуационный анализ. Знаки препинания в предложениях со словами и конструкциями, грамматически не связанными с членами предложения"]
[null,{"$f":"B6300","v":11},"Синтаксический анализ сложного предложения"]
[null,{"$f":"B6301","v":12},"Пунктуационный анализ. Знаки препинания в сложносочинённом и сложноподчинённом предложениях"]
[null,{"$f":"B6302","v":13},"Синтаксический анализ сложного предложения"]
[null,{"$f":"B6303","v":14},"Сложные предложения с разными видами связи между частями"]
[null,{"$f":"B6304","v":15},"Текст как речевое произведение. Смысловая и композиционная целостность текста. Создание текстов различных стилей и функционально-смысловых типов речи. Информационная обработка текстов различных стилей и жанров. Грамматические нормы (морфологические нормы). Грамматические нормы (синтаксические нормы). Лексические нормы"]
[null,{"$f":"B6305","v":16},0]
[null,{"$f":"B6306","v":17},0]
[null,{"$f":"B6307","v":18},0]
[null,{"$f":"B6308","v":19},0]
[null,{"$f":"B6309","v":20},0]
[null,{"$f":"B6310","v":21},0]
[null,{"$f":"B6311","v":22},0]
[null,{"$f":"B6312","v":23},0]
[null,{"$f":"B6313","v":24},0]
[null,{"$f":"B6314","v":25},0]
[null,{"$f":"B6315","v":26},0]
[null,{"$f":"B6316","v":27},0]
[null,{"$f":"B6317","v":28},0]
[null,{"$f":"B6318","v":29},0]
[null,{"$f":"B6319","v":30},0]
[null,{"$f":"B6320","v":31},0]
[null,{"$f":"B6321","v":32},0]
[null,{"$f":"B6322","v":33},0]
[null,{"$f":"B6323","v":34},0]
[null,{"$f":"B6324","v":35},0]
[]
[]
["Рекомендация: обратите внимание на задания по темам, которые вызвали у Вас затруднения, решены с ошибкой и отмечены \"0\" или к решению которых Вы не приступили (пустые ячейки)!"]
[]
[]
["Центр независимой оценки качества образования и образовательного аудита \"Легион\""]
[]
["Образовательная организация",null,null,null,{"$f":"E6332","v":"Ленинская СОШ"}]
["Предмет",null,null,null,{"$f":"E6333","v":"Русский язык"}]
["Максимальный балл",null,null,null,39]
["Пороговый балл",null,null,null,15]
["Зона риска",null,null,null,{"$f":"Результаты!E15","v":15},null,null,{"$f":"Результаты!H15","v":16}]
[]
["Уровни",null,null,null,{"$f":"E6338","v":1},{"$f":"F6338","v":2},3,4,5,6,7,8,9,10,11,12,13,14,15,"ПР.ГР",{"$error":"#REF!"},{"$error":"#REF!"},{"$error":"#REF!"},{"$error":"#REF!"},{"$error":"#REF!"},{"$error":"#REF!"},{"$error":"#REF!"},{"$error":"#REF!"},{"$error":"#REF!"},{"$error":"#REF!"},{"$error":"#REF!"},{"$error":"#REF!"},{"$error":"#REF!"},{"$error":"#REF!"},{"$error":"#REF!"},{"$error":"#REF!"},{"$error":"#REF!"},{"$error":"#REF!"},{"$error":"#REF!"},"Тестовый балл","% выплнения заданий по уровням",null,null,"Оценка"]
[null,null,null,null,null,null,null,null,null,null,null,null,null,null,null,null,null,null,null,null,null,null,null,null,null,null,null,null,null,null,null,null,null,null,null,null,null,null,null,null,"Базовый","Повышенный","Высокий"]
["№","Класс","Ф.И.О.","№ задания",{"$f":"E6340","v":1},{"$f":"F6340","v":2},3,4,5,6,7,8,9,10,11,12,13,14,15,0,{"$error":"#REF!"},{"$error":"#REF!"},{"$error":"#REF!"},{"$error":"#REF!"},{"$error":"#REF!"},{"$error":"#REF!"},{"$error":"#REF!"},{"$error":"#REF!"},{"$error":"#REF!"},{"$error":"#REF!"},{"$error":"#REF!"},{"$error":"#REF!"},{"$error":"#REF!"},{"$error":"#REF!"},{"$error":"#REF!"},{"$error":"#REF!"},{"$error":"#REF!"},{"$error":"#REF!"},{"$error":"#REF!"}]
["Максимальный балл",null,null,null,{"$f":"E6341","v":7},{"$f":"F6341","v":1},1,1,1,1,1,1,1,1,1,1,1,1,9,10,{"$error":"#REF!"},{"$error":"#REF!"},{"$error":"#REF!"},{"$error":"#REF!"},{"$error":"#REF!"},{"$error":"#REF!"},{"$error":"#REF!"},{"$error":"#REF!"},{"$error":"#REF!"},{"$error":"#REF!"},{"$error":"#REF!"},{"$error":"#REF!"},{"$error":"#REF!"},{"$error":"#REF!"},{"$error":"#REF!"},{"$error":"#REF!"},{"$error":"#REF!"},{"$error":"#REF!"},{"$error":"#REF!"},39,76.92307692307692,{"$error":"#REF!"},23.076923076923077,0]
[null,null,null,"вариант"]
[{"$f":"Результаты!#REF!","v":{"$error":"#REF!"}},{"$f":"Результаты!#REF!","v":{"$error":"#REF!"}},{"$f":"Результаты!#REF!","v":{"$error":"#REF!"}},{"$f":"Результаты!#REF!","v":{"$error":"#REF!"}},{"$f":"Результаты!#REF!","v":{"$error":"#REF!"}},{"$f":"Результаты!#REF!","v":{"$error":"#REF!"}},{"$f":"Результаты!#REF!","v":{"$error":"#REF!"}},{"$f":"Результаты!#REF!","v":{"$error":"#REF!"}},{"$f":"Результаты!#REF!","v":{"$error":"#REF!"}},{"$f":"Результаты!#REF!","v":{"$error":"#REF!"}},{"$f":"Результаты!#REF!","v":{"$error":"#REF!"}},{"$f":"Результаты!#REF!","v":{"$error":"#REF!"}},{"$f":"Результаты!#REF!","v":{"$error":"#REF!"}},{"$f":"Результаты!#REF!","v":{"$error":"#REF!"}},{"$f":"Результаты!#REF!","v":{"$error":"#REF!"}},{"$f":"Результаты!#REF!","v":{"$error":"#REF!"}},{"$f":"Результаты!#REF!","v":{"$error":"#REF!"}},{"$f":"Результаты!#REF!","v":{"$error":"#REF!"}},{"$f":"Результаты!#REF!","v":{"$error":"#REF!"}},{"$f":"Результаты!#REF!","v":{"$error":"#REF!"}},{"$f":"Результаты!#REF!","v":{"$error":"#REF!"}},{"$f":"Результаты!#REF!","v":{"$error":"#REF!"}},{"$f":"Результаты!#REF!","v":{"$error":"#REF!"}},{"$f":"Результаты!#REF!","v":{"$error":"#REF!"}},{"$f":"Результаты!#REF!","v":{"$error":"#REF!"}},{"$f":"Результаты!#REF!","v":{"$error":"#REF!"}},{"$f":"Результаты!#REF!","v":{"$error":"#REF!"}},{"$f":"Результаты!#REF!","v":{"$error":"#REF!"}},{"$f":"Результаты!#REF!","v":{"$error":"#REF!"}},{"$f":"Результаты!#REF!","v":{"$error":"#REF!"}},{"$f":"Результаты!#REF!","v":{"$error":"#REF!"}},{"$f":"Результаты!#REF!","v":{"$error":"#REF!"}},{"$f":"Результаты!#REF!","v":{"$error":"#REF!"}},{"$f":"Результаты!#REF!","v":{"$error":"#REF!"}},{"$f":"Результаты!#REF!","v":{"$error":"#REF!"}},{"$f":"Результаты!#REF!","v":{"$error":"#REF!"}},{"$f":"Результаты!#REF!","v":{"$error":"#REF!"}},{"$f":"Результаты!#REF!","v":{"$error":"#REF!"}},{"$f":"Результаты!#REF!","v":{"$error":"#REF!"}},{"$f":"Результаты!#REF!","v":{"$error":"#REF!"}},{"$f":"Результаты!#REF!","v":{"$error":"#REF!"}},{"$f":"Результаты!#REF!","v":{"$error":"#REF!"}},{"$f":"Результаты!#REF!","v":{"$error":"#REF!"}},{"$f":"Результаты!#REF!","v":{"$error":"#REF!"}}]
[]
[]
[null,{"$f":"B6346","v":1},{"$f":"C6346","v":"Информационная обработка текстов различных стилей и жанров. Текст как речевое произведение. Смысловая и композиционная целостность текста. Отбор языковых средств в тексте в зависимости от темы, цели, адресата и ситуации общения. Создание текстов различных стилей и функционально-смысловых типов речи. Грамматические нормы (морфологические нормы). Грамматические  нормы  (синтаксические нормы). Лексические нормы. Пунктуация в простом и сложном предложениях. Орфограмма"}]
[null,{"$f":"B6347","v":2},"Текст как речевое произведение. Смысловая и композиционная целостность текста. Анализ текста"]
[null,{"$f":"B6348","v":3},"Выразительные средства лексики и фразеологии. Анализ средств выразительности"]
[null,{"$f":"B6349","v":4},"Правописание приставок. Слитное, дефисное, раздельное написание"]
[null,{"$f":"B6350","v":5},"Правописание суффиксов различных частей речи (кроме -Н-/-НН-). Правописание -Н- и -НН- в различных частях речи. Правописание личных окончаний глаголов и суффиксов причастий настоящего времени"]
[null,{"$f":"B6351","v":6},"Лексика и фразеология. Синонимы. Фразеологические обороты. Группы слов по происхождению и употреблению"]
[null,{"$f":"B6352","v":7},"Словосочетание"]
[null,{"$f":"B6353","v":8},"Предложение. Грамматическая (предикативная) основа предложения. Подлежащее и сказуемое как главные члены предложения "]
[null,{"$f":"B6354","v":9},"Осложнённое простое предложение"]
[null,{"$f":"B6355","v":10},"Пунктуационный анализ. Знаки препинания в предложениях со словами и конструкциями, грамматически не связанными с членами предложения"]
[null,{"$f":"B6356","v":11},"Синтаксический анализ сложного предложения"]
[null,{"$f":"B6357","v":12},"Пунктуационный анализ. Знаки препинания в сложносочинённом и сложноподчинённом предложениях"]
[null,{"$f":"B6358","v":13},"Синтаксический анализ сложного предложения"]
[null,{"$f":"B6359","v":14},"Сложные предложения с разными видами связи между частями"]
[null,{"$f":"B6360","v":15},"Текст как речевое произведение. Смысловая и композиционная целостность текста. Создание текстов различных стилей и функционально-смысловых типов речи. Информационная обработка текстов различных стилей и жанров. Грамматические нормы (морфологические нормы). Грамматические нормы (синтаксические нормы). Лексические нормы"]
[null,{"$f":"B6361","v":16},0]
[null,{"$f":"B6362","v":17},0]
[null,{"$f":"B6363","v":18},0]
[null,{"$f":"B6364","v":19},0]
[null,{"$f":"B6365","v":20},0]
[null,{"$f":"B6366","v":21},0]
[null,{"$f":"B6367","v":22},0]
[null,{"$f":"B6368","v":23},0]
[null,{"$f":"B6369","v":24},0]
[null,{"$f":"B6370","v":25},0]
[null,{"$f":"B6371","v":26},0]
[null,{"$f":"B6372","v":27},0]
[null,{"$f":"B6373","v":28},0]
[null,{"$f":"B6374","v":29},0]
[null,{"$f":"B6375","v":30},0]
[null,{"$f":"B6376","v":31},0]
[null,{"$f":"B6377","v":32},0]
[null,{"$f":"B6378","v":33},0]
[null,{"$f":"B6379","v":34},0]
[null,{"$f":"B6380","v":35},0]
[]
["Рекомендация: обратите внимание на задания по темам, которые вызвали у Вас затруднения, решены с ошибкой и отмечены \"0\" или к решению которых Вы не приступили (пустые ячейки)!"]
[]
[]
[]
["Центр независимой оценки качества образования и образовательного аудита \"Легион\""]
[]
["Образовательная организация",null,null,null,{"$f":"E6388","v":"Ленинская СОШ"}]
["Предмет",null,null,null,{"$f":"E6389","v":"Русский язык"}]
["Максимальный балл",null,null,null,39]
["Пороговый балл",null,null,null,15]
["Зона риска",null,null,null,{"$f":"Результаты!E15","v":15},null,null,{"$f":"Результаты!H15","v":16}]
[]
["Уровни",null,null,null,{"$f":"E6394","v":1},{"$f":"F6394","v":2},3,4,5,6,7,8,9,10,11,12,13,14,15,"ПР.ГР",{"$error":"#REF!"},{"$error":"#REF!"},{"$error":"#REF!"},{"$error":"#REF!"},{"$error":"#REF!"},{"$error":"#REF!"},{"$error":"#REF!"},{"$error":"#REF!"},{"$error":"#REF!"},{"$error":"#REF!"},{"$error":"#REF!"},{"$error":"#REF!"},{"$error":"#REF!"},{"$error":"#REF!"},{"$error":"#REF!"},{"$error":"#REF!"},{"$error":"#REF!"},{"$error":"#REF!"},{"$error":"#REF!"},"Тестовый балл","% выплнения заданий по уровням",null,null,"Оценка"]
[null,null,null,null,null,null,null,null,null,null,null,null,null,null,null,null,null,null,null,null,null,null,null,null,null,null,null,null,null,null,null,null,null,null,null,null,null,null,null,null,"Базовый","Повышенный","Высокий"]
["№","Класс","Ф.И.О.","№ задания",{"$f":"E6396","v":1},{"$f":"F6396","v":2},3,4,5,6,7,8,9,10,11,12,13,14,15,0,{"$error":"#REF!"},{"$error":"#REF!"},{"$error":"#REF!"},{"$error":"#REF!"},{"$error":"#REF!"},{"$error":"#REF!"},{"$error":"#REF!"},{"$error":"#REF!"},{"$error":"#REF!"},{"$error":"#REF!"},{"$error":"#REF!"},{"$error":"#REF!"},{"$error":"#REF!"},{"$error":"#REF!"},{"$error":"#REF!"},{"$error":"#REF!"},{"$error":"#REF!"},{"$error":"#REF!"},{"$error":"#REF!"}]
["Максимальный балл",null,null,null,{"$f":"E6397","v":7},{"$f":"F6397","v":1},1,1,1,1,1,1,1,1,1,1,1,1,9,10,{"$error":"#REF!"},{"$error":"#REF!"},{"$error":"#REF!"},{"$error":"#REF!"},{"$error":"#REF!"},{"$error":"#REF!"},{"$error":"#REF!"},{"$error":"#REF!"},{"$error":"#REF!"},{"$error":"#REF!"},{"$error":"#REF!"},{"$error":"#REF!"},{"$error":"#REF!"},{"$error":"#REF!"},{"$error":"#REF!"},{"$error":"#REF!"},{"$error":"#REF!"},{"$error":"#REF!"},{"$error":"#REF!"},39,76.92307692307692,{"$error":"#REF!"},23.076923076923077,0]
[null,null,null,"вариант"]
[{"$f":"Результаты!#REF!","v":{"$error":"#REF!"}},{"$f":"Результаты!#REF!","v":{"$error":"#REF!"}},{"$f":"Результаты!#REF!","v":{"$error":"#REF!"}},{"$f":"Результаты!#REF!","v":{"$error":"#REF!"}},{"$f":"Результаты!#REF!","v":{"$error":"#REF!"}},{"$f":"Результаты!#REF!","v":{"$error":"#REF!"}},{"$f":"Результаты!#REF!","v":{"$error":"#REF!"}},{"$f":"Результаты!#REF!","v":{"$error":"#REF!"}},{"$f":"Результаты!#REF!","v":{"$error":"#REF!"}},{"$f":"Результаты!#REF!","v":{"$error":"#REF!"}},{"$f":"Результаты!#REF!","v":{"$error":"#REF!"}},{"$f":"Результаты!#REF!","v":{"$error":"#REF!"}},{"$f":"Результаты!#REF!","v":{"$error":"#REF!"}},{"$f":"Результаты!#REF!","v":{"$error":"#REF!"}},{"$f":"Результаты!#REF!","v":{"$error":"#REF!"}},{"$f":"Результаты!#REF!","v":{"$error":"#REF!"}},{"$f":"Результаты!#REF!","v":{"$error":"#REF!"}},{"$f":"Результаты!#REF!","v":{"$error":"#REF!"}},{"$f":"Результаты!#REF!","v":{"$error":"#REF!"}},{"$f":"Результаты!#REF!","v":{"$error":"#REF!"}},{"$f":"Результаты!#REF!","v":{"$error":"#REF!"}},{"$f":"Результаты!#REF!","v":{"$error":"#REF!"}},{"$f":"Результаты!#REF!","v":{"$error":"#REF!"}},{"$f":"Результаты!#REF!","v":{"$error":"#REF!"}},{"$f":"Результаты!#REF!","v":{"$error":"#REF!"}},{"$f":"Результаты!#REF!","v":{"$error":"#REF!"}},{"$f":"Результаты!#REF!","v":{"$error":"#REF!"}},{"$f":"Результаты!#REF!","v":{"$error":"#REF!"}},{"$f":"Результаты!#REF!","v":{"$error":"#REF!"}},{"$f":"Результаты!#REF!","v":{"$error":"#REF!"}},{"$f":"Результаты!#REF!","v":{"$error":"#REF!"}},{"$f":"Результаты!#REF!","v":{"$error":"#REF!"}},{"$f":"Результаты!#REF!","v":{"$error":"#REF!"}},{"$f":"Результаты!#REF!","v":{"$error":"#REF!"}},{"$f":"Результаты!#REF!","v":{"$error":"#REF!"}},{"$f":"Результаты!#REF!","v":{"$error":"#REF!"}},{"$f":"Результаты!#REF!","v":{"$error":"#REF!"}},{"$f":"Результаты!#REF!","v":{"$error":"#REF!"}},{"$f":"Результаты!#REF!","v":{"$error":"#REF!"}},{"$f":"Результаты!#REF!","v":{"$error":"#REF!"}},{"$f":"Результаты!#REF!","v":{"$error":"#REF!"}},{"$f":"Результаты!#REF!","v":{"$error":"#REF!"}},{"$f":"Результаты!#REF!","v":{"$error":"#REF!"}},{"$f":"Результаты!#REF!","v":{"$error":"#REF!"}}]
[]
[]
[null,{"$f":"B6402","v":1},{"$f":"C6402","v":"Информационная обработка текстов различных стилей и жанров. Текст как речевое произведение. Смысловая и композиционная целостность текста. Отбор языковых средств в тексте в зависимости от темы, цели, адресата и ситуации общения. Создание текстов различных стилей и функционально-смысловых типов речи. Грамматические нормы (морфологические нормы). Грамматические  нормы  (синтаксические нормы). Лексические нормы. Пунктуация в простом и сложном предложениях. Орфограмма"}]
[null,{"$f":"B6403","v":2},"Текст как речевое произведение. Смысловая и композиционная целостность текста. Анализ текста"]
[null,{"$f":"B6404","v":3},"Выразительные средства лексики и фразеологии. Анализ средств выразительности"]
[null,{"$f":"B6405","v":4},"Правописание приставок. Слитное, дефисное, раздельное написание"]
[null,{"$f":"B6406","v":5},"Правописание суффиксов различных частей речи (кроме -Н-/-НН-). Правописание -Н- и -НН- в различных частях речи. Правописание личных окончаний глаголов и суффиксов причастий настоящего времени"]
[null,{"$f":"B6407","v":6},"Лексика и фразеология. Синонимы. Фразеологические обороты. Группы слов по происхождению и употреблению"]
[null,{"$f":"B6408","v":7},"Словосочетание"]
[null,{"$f":"B6409","v":8},"Предложение. Грамматическая (предикативная) основа предложения. Подлежащее и сказуемое как главные члены предложения "]
[null,{"$f":"B6410","v":9},"Осложнённое простое предложение"]
[null,{"$f":"B6411","v":10},"Пунктуационный анализ. Знаки препинания в предложениях со словами и конструкциями, грамматически не связанными с членами предложения"]
[null,{"$f":"B6412","v":11},"Синтаксический анализ сложного предложения"]
[null,{"$f":"B6413","v":12},"Пунктуационный анализ. Знаки препинания в сложносочинённом и сложноподчинённом предложениях"]
[null,{"$f":"B6414","v":13},"Синтаксический анализ сложного предложения"]
[null,{"$f":"B6415","v":14},"Сложные предложения с разными видами связи между частями"]
[null,{"$f":"B6416","v":15},"Текст как речевое произведение. Смысловая и композиционная целостность текста. Создание текстов различных стилей и функционально-смысловых типов речи. Информационная обработка текстов различных стилей и жанров. Грамматические нормы (морфологические нормы). Грамматические нормы (синтаксические нормы). Лексические нормы"]
[null,{"$f":"B6417","v":16},0]
[null,{"$f":"B6418","v":17},0]
[null,{"$f":"B6419","v":18},0]
[null,{"$f":"B6420","v":19},0]
[null,{"$f":"B6421","v":20},0]
[null,{"$f":"B6422","v":21},0]
[null,{"$f":"B6423","v":22},0]
[null,{"$f":"B6424","v":23},0]
[null,{"$f":"B6425","v":24},0]
[null,{"$f":"B6426","v":25},0]
[null,{"$f":"B6427","v":26},0]
[null,{"$f":"B6428","v":27},0]
[null,{"$f":"B6429","v":28},0]
[null,{"$f":"B6430","v":29},0]
[null,{"$f":"B6431","v":30},0]
[null,{"$f":"B6432","v":31},0]
[null,{"$f":"B6433","v":32},0]
[null,{"$f":"B6434","v":33},0]
[null,{"$f":"B6435","v":34},0]
[null,{"$f":"B6436","v":35},0]
[]
["Рекомендация: обратите внимание на задания по темам, которые вызвали у Вас затруднения, решены с ошибкой и отмечены \"0\" или к решению которых Вы не приступили (пустые ячейки)!"]
[]
[]
[]
["Центр независимой оценки качества образования и образовательного аудита \"Легион\""]
[]
["Образовательная организация",null,null,null,{"$f":"E6444","v":"Ленинская СОШ"}]
["Предмет",null,null,null,{"$f":"E6445","v":"Русский язык"}]
["Максимальный балл",null,null,null,39]
["Пороговый балл",null,null,null,15]
["Зона риска",null,null,null,{"$f":"Результаты!E15","v":15},null,null,{"$f":"Результаты!H15","v":16}]
[]
["Уровни",null,null,null,{"$f":"E6450","v":1},{"$f":"F6450","v":2},3,4,5,6,7,8,9,10,11,12,13,14,15,"ПР.ГР",{"$error":"#REF!"},{"$error":"#REF!"},{"$error":"#REF!"},{"$error":"#REF!"},{"$error":"#REF!"},{"$error":"#REF!"},{"$error":"#REF!"},{"$error":"#REF!"},{"$error":"#REF!"},{"$error":"#REF!"},{"$error":"#REF!"},{"$error":"#REF!"},{"$error":"#REF!"},{"$error":"#REF!"},{"$error":"#REF!"},{"$error":"#REF!"},{"$error":"#REF!"},{"$error":"#REF!"},{"$error":"#REF!"},"Тестовый балл","% выплнения заданий по уровням",null,null,"Оценка"]
[null,null,null,null,null,null,null,null,null,null,null,null,null,null,null,null,null,null,null,null,null,null,null,null,null,null,null,null,null,null,null,null,null,null,null,null,null,null,null,null,"Базовый","Повышенный","Высокий"]
["№","Класс","Ф.И.О.","№ задания",{"$f":"E6452","v":1},{"$f":"F6452","v":2},3,4,5,6,7,8,9,10,11,12,13,14,15,0,{"$error":"#REF!"},{"$error":"#REF!"},{"$error":"#REF!"},{"$error":"#REF!"},{"$error":"#REF!"},{"$error":"#REF!"},{"$error":"#REF!"},{"$error":"#REF!"},{"$error":"#REF!"},{"$error":"#REF!"},{"$error":"#REF!"},{"$error":"#REF!"},{"$error":"#REF!"},{"$error":"#REF!"},{"$error":"#REF!"},{"$error":"#REF!"},{"$error":"#REF!"},{"$error":"#REF!"},{"$error":"#REF!"}]
["Максимальный балл",null,null,null,{"$f":"E6453","v":7},{"$f":"F6453","v":1},1,1,1,1,1,1,1,1,1,1,1,1,9,10,{"$error":"#REF!"},{"$error":"#REF!"},{"$error":"#REF!"},{"$error":"#REF!"},{"$error":"#REF!"},{"$error":"#REF!"},{"$error":"#REF!"},{"$error":"#REF!"},{"$error":"#REF!"},{"$error":"#REF!"},{"$error":"#REF!"},{"$error":"#REF!"},{"$error":"#REF!"},{"$error":"#REF!"},{"$error":"#REF!"},{"$error":"#REF!"},{"$error":"#REF!"},{"$error":"#REF!"},{"$error":"#REF!"},39,76.92307692307692,{"$error":"#REF!"},23.076923076923077,0]
[null,null,null,"вариант"]
[{"$f":"Результаты!#REF!","v":{"$error":"#REF!"}},{"$f":"Результаты!#REF!","v":{"$error":"#REF!"}},{"$f":"Результаты!#REF!","v":{"$error":"#REF!"}},{"$f":"Результаты!#REF!","v":{"$error":"#REF!"}},{"$f":"Результаты!#REF!","v":{"$error":"#REF!"}},{"$f":"Результаты!#REF!","v":{"$error":"#REF!"}},{"$f":"Результаты!#REF!","v":{"$error":"#REF!"}},{"$f":"Результаты!#REF!","v":{"$error":"#REF!"}},{"$f":"Результаты!#REF!","v":{"$error":"#REF!"}},{"$f":"Результаты!#REF!","v":{"$error":"#REF!"}},{"$f":"Результаты!#REF!","v":{"$error":"#REF!"}},{"$f":"Результаты!#REF!","v":{"$error":"#REF!"}},{"$f":"Результаты!#REF!","v":{"$error":"#REF!"}},{"$f":"Результаты!#REF!","v":{"$error":"#REF!"}},{"$f":"Результаты!#REF!","v":{"$error":"#REF!"}},{"$f":"Результаты!#REF!","v":{"$error":"#REF!"}},{"$f":"Результаты!#REF!","v":{"$error":"#REF!"}},{"$f":"Результаты!#REF!","v":{"$error":"#REF!"}},{"$f":"Результаты!#REF!","v":{"$error":"#REF!"}},{"$f":"Результаты!#REF!","v":{"$error":"#REF!"}},{"$f":"Результаты!#REF!","v":{"$error":"#REF!"}},{"$f":"Результаты!#REF!","v":{"$error":"#REF!"}},{"$f":"Результаты!#REF!","v":{"$error":"#REF!"}},{"$f":"Результаты!#REF!","v":{"$error":"#REF!"}},{"$f":"Результаты!#REF!","v":{"$error":"#REF!"}},{"$f":"Результаты!#REF!","v":{"$error":"#REF!"}},{"$f":"Результаты!#REF!","v":{"$error":"#REF!"}},{"$f":"Результаты!#REF!","v":{"$error":"#REF!"}},{"$f":"Результаты!#REF!","v":{"$error":"#REF!"}},{"$f":"Результаты!#REF!","v":{"$error":"#REF!"}},{"$f":"Результаты!#REF!","v":{"$error":"#REF!"}},{"$f":"Результаты!#REF!","v":{"$error":"#REF!"}},{"$f":"Результаты!#REF!","v":{"$error":"#REF!"}},{"$f":"Результаты!#REF!","v":{"$error":"#REF!"}},{"$f":"Результаты!#REF!","v":{"$error":"#REF!"}},{"$f":"Результаты!#REF!","v":{"$error":"#REF!"}},{"$f":"Результаты!#REF!","v":{"$error":"#REF!"}},{"$f":"Результаты!#REF!","v":{"$error":"#REF!"}},{"$f":"Результаты!#REF!","v":{"$error":"#REF!"}},{"$f":"Результаты!#REF!","v":{"$error":"#REF!"}},{"$f":"Результаты!#REF!","v":{"$error":"#REF!"}},{"$f":"Результаты!#REF!","v":{"$error":"#REF!"}},{"$f":"Результаты!#REF!","v":{"$error":"#REF!"}},{"$f":"Результаты!#REF!","v":{"$error":"#REF!"}}]
[]
[]
[null,{"$f":"B6458","v":1},{"$f":"C6458","v":"Информационная обработка текстов различных стилей и жанров. Текст как речевое произведение. Смысловая и композиционная целостность текста. Отбор языковых средств в тексте в зависимости от темы, цели, адресата и ситуации общения. Создание текстов различных стилей и функционально-смысловых типов речи. Грамматические нормы (морфологические нормы). Грамматические  нормы  (синтаксические нормы). Лексические нормы. Пунктуация в простом и сложном предложениях. Орфограмма"}]
[null,{"$f":"B6459","v":2},"Текст как речевое произведение. Смысловая и композиционная целостность текста. Анализ текста"]
[null,{"$f":"B6460","v":3},"Выразительные средства лексики и фразеологии. Анализ средств выразительности"]
[null,{"$f":"B6461","v":4},"Правописание приставок. Слитное, дефисное, раздельное написание"]
[null,{"$f":"B6462","v":5},"Правописание суффиксов различных частей речи (кроме -Н-/-НН-). Правописание -Н- и -НН- в различных частях речи. Правописание личных окончаний глаголов и суффиксов причастий настоящего времени"]
[null,{"$f":"B6463","v":6},"Лексика и фразеология. Синонимы. Фразеологические обороты. Группы слов по происхождению и употреблению"]
[null,{"$f":"B6464","v":7},"Словосочетание"]
[null,{"$f":"B6465","v":8},"Предложение. Грамматическая (предикативная) основа предложения. Подлежащее и сказуемое как главные члены предложения "]
[null,{"$f":"B6466","v":9},"Осложнённое простое предложение"]
[null,{"$f":"B6467","v":10},"Пунктуационный анализ. Знаки препинания в предложениях со словами и конструкциями, грамматически не связанными с членами предложения"]
[null,{"$f":"B6468","v":11},"Синтаксический анализ сложного предложения"]
[null,{"$f":"B6469","v":12},"Пунктуационный анализ. Знаки препинания в сложносочинённом и сложноподчинённом предложениях"]
[null,{"$f":"B6470","v":13},"Синтаксический анализ сложного предложения"]
[null,{"$f":"B6471","v":14},"Сложные предложения с разными видами связи между частями"]
[null,{"$f":"B6472","v":15},"Текст как речевое произведение. Смысловая и композиционная целостность текста. Создание текстов различных стилей и функционально-смысловых типов речи. Информационная обработка текстов различных стилей и жанров. Грамматические нормы (морфологические нормы). Грамматические нормы (синтаксические нормы). Лексические нормы"]
[null,{"$f":"B6473","v":16},0]
[null,{"$f":"B6474","v":17},0]
[null,{"$f":"B6475","v":18},0]
[null,{"$f":"B6476","v":19},0]
[null,{"$f":"B6477","v":20},0]
[null,{"$f":"B6478","v":21},0]
[null,{"$f":"B6479","v":22},0]
[null,{"$f":"B6480","v":23},0]
[null,{"$f":"B6481","v":24},0]
[null,{"$f":"B6482","v":25},0]
[null,{"$f":"B6483","v":26},0]
[null,{"$f":"B6484","v":27},0]
[null,{"$f":"B6485","v":28},0]
[null,{"$f":"B6486","v":29},0]
[null,{"$f":"B6487","v":30},0]
[null,{"$f":"B6488","v":31},0]
[null,{"$f":"B6489","v":32},0]
[null,{"$f":"B6490","v":33},0]
[null,{"$f":"B6491","v":34},0]
[null,{"$f":"B6492","v":35},0]
[]
["Рекомендация: обратите внимание на задания по темам, которые вызвали у Вас затруднения, решены с ошибкой и отмечены \"0\" или к решению которых Вы не приступили (пустые ячейки)!"]
[]
[]
[]
["Центр независимой оценки качества образования и образовательного аудита \"Легион\""]
[]
["Образовательная организация",null,null,null,{"$f":"E6444","v":"Ленинская СОШ"}]
["Предмет",null,null,null,{"$f":"E6445","v":"Русский язык"}]
["Максимальный балл",null,null,null,39]
["Пороговый балл",null,null,null,15]
["Зона риска",null,null,null,{"$f":"Результаты!E15","v":15},null,null,{"$f":"Результаты!H15","v":16}]
[]
["Уровни",null,null,null,{"$f":"E6506","v":1},{"$f":"F6506","v":2},3,4,5,6,7,8,9,10,11,12,13,14,15,"ПР.ГР",{"$error":"#REF!"},{"$error":"#REF!"},{"$error":"#REF!"},{"$error":"#REF!"},{"$error":"#REF!"},{"$error":"#REF!"},{"$error":"#REF!"},{"$error":"#REF!"},{"$error":"#REF!"},{"$error":"#REF!"},{"$error":"#REF!"},{"$error":"#REF!"},{"$error":"#REF!"},{"$error":"#REF!"},{"$error":"#REF!"},{"$error":"#REF!"},{"$error":"#REF!"},{"$error":"#REF!"},{"$error":"#REF!"},"Тестовый балл","% выплнения заданий по уровням",null,null,"Оценка"]
[null,null,null,null,null,null,null,null,null,null,null,null,null,null,null,null,null,null,null,null,null,null,null,null,null,null,null,null,null,null,null,null,null,null,null,null,null,null,null,null,"Базовый","Повышенный","Высокий"]
["№","Класс","Ф.И.О.","№ задания",{"$f":"E6508","v":1},{"$f":"F6508","v":2},3,4,5,6,7,8,9,10,11,12,13,14,15,0,{"$error":"#REF!"},{"$error":"#REF!"},{"$error":"#REF!"},{"$error":"#REF!"},{"$error":"#REF!"},{"$error":"#REF!"},{"$error":"#REF!"},{"$error":"#REF!"},{"$error":"#REF!"},{"$error":"#REF!"},{"$error":"#REF!"},{"$error":"#REF!"},{"$error":"#REF!"},{"$error":"#REF!"},{"$error":"#REF!"},{"$error":"#REF!"},{"$error":"#REF!"},{"$error":"#REF!"},{"$error":"#REF!"}]
["Максимальный балл",null,null,null,{"$f":"E6509","v":7},{"$f":"F6509","v":1},1,1,1,1,1,1,1,1,1,1,1,1,9,10,{"$error":"#REF!"},{"$error":"#REF!"},{"$error":"#REF!"},{"$error":"#REF!"},{"$error":"#REF!"},{"$error":"#REF!"},{"$error":"#REF!"},{"$error":"#REF!"},{"$error":"#REF!"},{"$error":"#REF!"},{"$error":"#REF!"},{"$error":"#REF!"},{"$error":"#REF!"},{"$error":"#REF!"},{"$error":"#REF!"},{"$error":"#REF!"},{"$error":"#REF!"},{"$error":"#REF!"},{"$error":"#REF!"},39,76.92307692307692,{"$error":"#REF!"},23.076923076923077,0]
[null,null,null,"вариант"]
[{"$f":"Результаты!#REF!","v":{"$error":"#REF!"}},{"$f":"Результаты!#REF!","v":{"$error":"#REF!"}},{"$f":"Результаты!#REF!","v":{"$error":"#REF!"}},{"$f":"Результаты!#REF!","v":{"$error":"#REF!"}},{"$f":"Результаты!#REF!","v":{"$error":"#REF!"}},{"$f":"Результаты!#REF!","v":{"$error":"#REF!"}},{"$f":"Результаты!#REF!","v":{"$error":"#REF!"}},{"$f":"Результаты!#REF!","v":{"$error":"#REF!"}},{"$f":"Результаты!#REF!","v":{"$error":"#REF!"}},{"$f":"Результаты!#REF!","v":{"$error":"#REF!"}},{"$f":"Результаты!#REF!","v":{"$error":"#REF!"}},{"$f":"Результаты!#REF!","v":{"$error":"#REF!"}},{"$f":"Результаты!#REF!","v":{"$error":"#REF!"}},{"$f":"Результаты!#REF!","v":{"$error":"#REF!"}},{"$f":"Результаты!#REF!","v":{"$error":"#REF!"}},{"$f":"Результаты!#REF!","v":{"$error":"#REF!"}},{"$f":"Результаты!#REF!","v":{"$error":"#REF!"}},{"$f":"Результаты!#REF!","v":{"$error":"#REF!"}},{"$f":"Результаты!#REF!","v":{"$error":"#REF!"}},{"$f":"Результаты!#REF!","v":{"$error":"#REF!"}},{"$f":"Результаты!#REF!","v":{"$error":"#REF!"}},{"$f":"Результаты!#REF!","v":{"$error":"#REF!"}},{"$f":"Результаты!#REF!","v":{"$error":"#REF!"}},{"$f":"Результаты!#REF!","v":{"$error":"#REF!"}},{"$f":"Результаты!#REF!","v":{"$error":"#REF!"}},{"$f":"Результаты!#REF!","v":{"$error":"#REF!"}},{"$f":"Результаты!#REF!","v":{"$error":"#REF!"}},{"$f":"Результаты!#REF!","v":{"$error":"#REF!"}},{"$f":"Результаты!#REF!","v":{"$error":"#REF!"}},{"$f":"Результаты!#REF!","v":{"$error":"#REF!"}},{"$f":"Результаты!#REF!","v":{"$error":"#REF!"}},{"$f":"Результаты!#REF!","v":{"$error":"#REF!"}},{"$f":"Результаты!#REF!","v":{"$error":"#REF!"}},{"$f":"Результаты!#REF!","v":{"$error":"#REF!"}},{"$f":"Результаты!#REF!","v":{"$error":"#REF!"}},{"$f":"Результаты!#REF!","v":{"$error":"#REF!"}},{"$f":"Результаты!#REF!","v":{"$error":"#REF!"}},{"$f":"Результаты!#REF!","v":{"$error":"#REF!"}},{"$f":"Результаты!#REF!","v":{"$error":"#REF!"}},{"$f":"Результаты!#REF!","v":{"$error":"#REF!"}},{"$f":"Результаты!#REF!","v":{"$error":"#REF!"}},{"$f":"Результаты!#REF!","v":{"$error":"#REF!"}},{"$f":"Результаты!#REF!","v":{"$error":"#REF!"}},{"$f":"Результаты!#REF!","v":{"$error":"#REF!"}}]
[]
[]
[null,{"$f":"B6514","v":1},{"$f":"C6514","v":"Информационная обработка текстов различных стилей и жанров. Текст как речевое произведение. Смысловая и композиционная целостность текста. Отбор языковых средств в тексте в зависимости от темы, цели, адресата и ситуации общения. Создание текстов различных стилей и функционально-смысловых типов речи. Грамматические нормы (морфологические нормы). Грамматические  нормы  (синтаксические нормы). Лексические нормы. Пунктуация в простом и сложном предложениях. Орфограмма"}]
[null,{"$f":"B6515","v":2},"Текст как речевое произведение. Смысловая и композиционная целостность текста. Анализ текста"]
[null,{"$f":"B6516","v":3},"Выразительные средства лексики и фразеологии. Анализ средств выразительности"]
[null,{"$f":"B6517","v":4},"Правописание приставок. Слитное, дефисное, раздельное написание"]
[null,{"$f":"B6518","v":5},"Правописание суффиксов различных частей речи (кроме -Н-/-НН-). Правописание -Н- и -НН- в различных частях речи. Правописание личных окончаний глаголов и суффиксов причастий настоящего времени"]
[null,{"$f":"B6519","v":6},"Лексика и фразеология. Синонимы. Фразеологические обороты. Группы слов по происхождению и употреблению"]
[null,{"$f":"B6520","v":7},"Словосочетание"]
[null,{"$f":"B6521","v":8},"Предложение. Грамматическая (предикативная) основа предложения. Подлежащее и сказуемое как главные члены предложения "]
[null,{"$f":"B6522","v":9},"Осложнённое простое предложение"]
[null,{"$f":"B6523","v":10},"Пунктуационный анализ. Знаки препинания в предложениях со словами и конструкциями, грамматически не связанными с членами предложения"]
[null,{"$f":"B6524","v":11},"Синтаксический анализ сложного предложения"]
[null,{"$f":"B6525","v":12},"Пунктуационный анализ. Знаки препинания в сложносочинённом и сложноподчинённом предложениях"]
[null,{"$f":"B6526","v":13},"Синтаксический анализ сложного предложения"]
[null,{"$f":"B6527","v":14},"Сложные предложения с разными видами связи между частями"]
[null,{"$f":"B6528","v":15},"Текст как речевое произведение. Смысловая и композиционная целостность текста. Создание текстов различных стилей и функционально-смысловых типов речи. Информационная обработка текстов различных стилей и жанров. Грамматические нормы (морфологические нормы). Грамматические нормы (синтаксические нормы). Лексические нормы"]
[null,{"$f":"B6529","v":16},0]
[null,{"$f":"B6530","v":17},0]
[null,{"$f":"B6531","v":18},0]
[null,{"$f":"B6532","v":19},0]
[null,{"$f":"B6533","v":20},0]
[null,{"$f":"B6534","v":21},0]
[null,{"$f":"B6535","v":22},0]
[null,{"$f":"B6536","v":23},0]
[null,{"$f":"B6537","v":24},0]
[null,{"$f":"B6538","v":25},0]
[null,{"$f":"B6539","v":26},0]
[null,{"$f":"B6540","v":27},0]
[null,{"$f":"B6541","v":28},0]
[null,{"$f":"B6542","v":29},0]
[null,{"$f":"B6543","v":30},0]
[null,{"$f":"B6544","v":31},0]
[null,{"$f":"B6545","v":32},0]
[null,{"$f":"B6546","v":33},0]
[null,{"$f":"B6547","v":34},{"$f":"C6547","v":0}]
[null,{"$f":"B6548","v":35},{"$f":"C6548","v":0}]
[]
["Рекомендация: обратите внимание на задания по темам, которые вызвали у Вас затруднения, решены с ошибкой и отмечены \"0\" или к решению которых Вы не приступили (пустые ячейки)!"]
[]
[]
[]
["Центр независимой оценки качества образования и образовательного аудита \"Легион\""]
[]
["Образовательная организация",null,null,null,{"$f":"E6556","v":"Ленинская СОШ"}]
["Предмет",null,null,null,{"$f":"E6557","v":"Русский язык"}]
["Максимальный балл",null,null,null,39]
["Пороговый балл",null,null,null,15]
["Зона риска",null,null,null,{"$f":"Результаты!E15","v":15},null,null,{"$f":"Результаты!H15","v":16}]
[]
["Уровни",null,null,null,{"$f":"E6562","v":1},{"$f":"F6562","v":2},3,4,5,6,7,8,9,10,11,12,13,14,15,"ПР.ГР",{"$error":"#REF!"},{"$error":"#REF!"},{"$error":"#REF!"},{"$error":"#REF!"},{"$error":"#REF!"},{"$error":"#REF!"},{"$error":"#REF!"},{"$error":"#REF!"},{"$error":"#REF!"},{"$error":"#REF!"},{"$error":"#REF!"},{"$error":"#REF!"},{"$error":"#REF!"},{"$error":"#REF!"},{"$error":"#REF!"},{"$error":"#REF!"},{"$error":"#REF!"},{"$error":"#REF!"},{"$error":"#REF!"},"Тестовый балл","% выплнения заданий по уровням",null,null,"Оценка"]
[null,null,null,null,null,null,null,null,null,null,null,null,null,null,null,null,null,null,null,null,null,null,null,null,null,null,null,null,null,null,null,null,null,null,null,null,null,null,null,null,"Базовый","Повышенный","Высокий"]
["№","Класс","Ф.И.О.","№ задания",{"$f":"E6564","v":1},{"$f":"F6564","v":2},3,4,5,6,7,8,9,10,11,12,13,14,15,0,{"$error":"#REF!"},{"$error":"#REF!"},{"$error":"#REF!"},{"$error":"#REF!"},{"$error":"#REF!"},{"$error":"#REF!"},{"$error":"#REF!"},{"$error":"#REF!"},{"$error":"#REF!"},{"$error":"#REF!"},{"$error":"#REF!"},{"$error":"#REF!"},{"$error":"#REF!"},{"$error":"#REF!"},{"$error":"#REF!"},{"$error":"#REF!"},{"$error":"#REF!"},{"$error":"#REF!"},{"$error":"#REF!"}]
["Максимальный балл",null,null,null,{"$f":"E6565","v":7},{"$f":"F6565","v":1},1,1,1,1,1,1,1,1,1,1,1,1,9,10,{"$error":"#REF!"},{"$error":"#REF!"},{"$error":"#REF!"},{"$error":"#REF!"},{"$error":"#REF!"},{"$error":"#REF!"},{"$error":"#REF!"},{"$error":"#REF!"},{"$error":"#REF!"},{"$error":"#REF!"},{"$error":"#REF!"},{"$error":"#REF!"},{"$error":"#REF!"},{"$error":"#REF!"},{"$error":"#REF!"},{"$error":"#REF!"},{"$error":"#REF!"},{"$error":"#REF!"},{"$error":"#REF!"},39,76.92307692307692,{"$error":"#REF!"},23.076923076923077,0]
[null,null,null,"вариант"]
[{"$f":"Результаты!#REF!","v":{"$error":"#REF!"}},{"$f":"Результаты!#REF!","v":{"$error":"#REF!"}},{"$f":"Результаты!#REF!","v":{"$error":"#REF!"}},{"$f":"Результаты!#REF!","v":{"$error":"#REF!"}},{"$f":"Результаты!#REF!","v":{"$error":"#REF!"}},{"$f":"Результаты!#REF!","v":{"$error":"#REF!"}},{"$f":"Результаты!#REF!","v":{"$error":"#REF!"}},{"$f":"Результаты!#REF!","v":{"$error":"#REF!"}},{"$f":"Результаты!#REF!","v":{"$error":"#REF!"}},{"$f":"Результаты!#REF!","v":{"$error":"#REF!"}},{"$f":"Результаты!#REF!","v":{"$error":"#REF!"}},{"$f":"Результаты!#REF!","v":{"$error":"#REF!"}},{"$f":"Результаты!#REF!","v":{"$error":"#REF!"}},{"$f":"Результаты!#REF!","v":{"$error":"#REF!"}},{"$f":"Результаты!#REF!","v":{"$error":"#REF!"}},{"$f":"Результаты!#REF!","v":{"$error":"#REF!"}},{"$f":"Результаты!#REF!","v":{"$error":"#REF!"}},{"$f":"Результаты!#REF!","v":{"$error":"#REF!"}},{"$f":"Результаты!#REF!","v":{"$error":"#REF!"}},{"$f":"Результаты!#REF!","v":{"$error":"#REF!"}},{"$f":"Результаты!#REF!","v":{"$error":"#REF!"}},{"$f":"Результаты!#REF!","v":{"$error":"#REF!"}},{"$f":"Результаты!#REF!","v":{"$error":"#REF!"}},{"$f":"Результаты!#REF!","v":{"$error":"#REF!"}},{"$f":"Результаты!#REF!","v":{"$error":"#REF!"}},{"$f":"Результаты!#REF!","v":{"$error":"#REF!"}},{"$f":"Результаты!#REF!","v":{"$error":"#REF!"}},{"$f":"Результаты!#REF!","v":{"$error":"#REF!"}},{"$f":"Результаты!#REF!","v":{"$error":"#REF!"}},{"$f":"Результаты!#REF!","v":{"$error":"#REF!"}},{"$f":"Результаты!#REF!","v":{"$error":"#REF!"}},{"$f":"Результаты!#REF!","v":{"$error":"#REF!"}},{"$f":"Результаты!#REF!","v":{"$error":"#REF!"}},{"$f":"Результаты!#REF!","v":{"$error":"#REF!"}},{"$f":"Результаты!#REF!","v":{"$error":"#REF!"}},{"$f":"Результаты!#REF!","v":{"$error":"#REF!"}},{"$f":"Результаты!#REF!","v":{"$error":"#REF!"}},{"$f":"Результаты!#REF!","v":{"$error":"#REF!"}},{"$f":"Результаты!#REF!","v":{"$error":"#REF!"}},{"$f":"Результаты!#REF!","v":{"$error":"#REF!"}},{"$f":"Результаты!#REF!","v":{"$error":"#REF!"}},{"$f":"Результаты!#REF!","v":{"$error":"#REF!"}},{"$f":"Результаты!#REF!","v":{"$error":"#REF!"}},{"$f":"Результаты!#REF!","v":{"$error":"#REF!"}}]
[]
[]
[null,{"$f":"B6570","v":1},{"$f":"C6570","v":"Информационная обработка текстов различных стилей и жанров. Текст как речевое произведение. Смысловая и композиционная целостность текста. Отбор языковых средств в тексте в зависимости от темы, цели, адресата и ситуации общения. Создание текстов различных стилей и функционально-смысловых типов речи. Грамматические нормы (морфологические нормы). Грамматические  нормы  (синтаксические нормы). Лексические нормы. Пунктуация в простом и сложном предложениях. Орфограмма"}]
[null,{"$f":"B6571","v":2},"Текст как речевое произведение. Смысловая и композиционная целостность текста. Анализ текста"]
[null,{"$f":"B6572","v":3},"Выразительные средства лексики и фразеологии. Анализ средств выразительности"]
[null,{"$f":"B6573","v":4},"Правописание приставок. Слитное, дефисное, раздельное написание"]
[null,{"$f":"B6574","v":5},"Правописание суффиксов различных частей речи (кроме -Н-/-НН-). Правописание -Н- и -НН- в различных частях речи. Правописание личных окончаний глаголов и суффиксов причастий настоящего времени"]
[null,{"$f":"B6575","v":6},"Лексика и фразеология. Синонимы. Фразеологические обороты. Группы слов по происхождению и употреблению"]
[null,{"$f":"B6576","v":7},"Словосочетание"]
[null,{"$f":"B6577","v":8},"Предложение. Грамматическая (предикативная) основа предложения. Подлежащее и сказуемое как главные члены предложения "]
[null,{"$f":"B6578","v":9},"Осложнённое простое предложение"]
[null,{"$f":"B6579","v":10},"Пунктуационный анализ. Знаки препинания в предложениях со словами и конструкциями, грамматически не связанными с членами предложения"]
[null,{"$f":"B6580","v":11},"Синтаксический анализ сложного предложения"]
[null,{"$f":"B6581","v":12},"Пунктуационный анализ. Знаки препинания в сложносочинённом и сложноподчинённом предложениях"]
[null,{"$f":"B6582","v":13},"Синтаксический анализ сложного предложения"]
[null,{"$f":"B6583","v":14},"Сложные предложения с разными видами связи между частями"]
[null,{"$f":"B6584","v":15},"Текст как речевое произведение. Смысловая и композиционная целостность текста. Создание текстов различных стилей и функционально-смысловых типов речи. Информационная обработка текстов различных стилей и жанров. Грамматические нормы (морфологические нормы). Грамматические нормы (синтаксические нормы). Лексические нормы"]
[null,{"$f":"B6585","v":16},0]
[null,{"$f":"B6586","v":17},0]
[null,{"$f":"B6587","v":18},0]
[null,{"$f":"B6588","v":19},0]
[null,{"$f":"B6589","v":20},0]
[null,{"$f":"B6590","v":21},0]
[null,{"$f":"B6591","v":22},0]
[null,{"$f":"B6592","v":23},0]
[null,{"$f":"B6593","v":24},0]
[null,{"$f":"B6594","v":25},0]
[null,{"$f":"B6595","v":26},0]
[null,{"$f":"B6596","v":27},0]
[null,{"$f":"B6597","v":28},0]
[null,{"$f":"B6598","v":29},0]
[null,{"$f":"B6599","v":30},0]
[null,{"$f":"B6600","v":31},0]
[null,{"$f":"B6601","v":32},0]
[null,{"$f":"B6602","v":33},0]
[null,{"$f":"B6603","v":34},0]
[null,{"$f":"B6604","v":35},0]
[]
["Рекомендация: обратите внимание на задания по темам, которые вызвали у Вас затруднения, решены с ошибкой и отмечены \"0\" или к решению которых Вы не приступили (пустые ячейки)!"]
[]
[]
[]
["Центр независимой оценки качества образования и образовательного аудита \"Легион\""]
[]
["Образовательная организация",null,null,null,{"$f":"E6612","v":"Ленинская СОШ"}]
["Предмет",null,null,null,{"$f":"E6613","v":"Русский язык"}]
["Максимальный балл",null,null,null,39]
["Пороговый балл",null,null,null,15]
["Зона риска",null,null,null,{"$f":"Результаты!E15","v":15},null,null,{"$f":"Результаты!H15","v":16}]
[]
["Уровни",null,null,null,{"$f":"E6618","v":1},{"$f":"F6618","v":2},3,4,5,6,7,8,9,10,11,12,13,14,15,"ПР.ГР",{"$error":"#REF!"},{"$error":"#REF!"},{"$error":"#REF!"},{"$error":"#REF!"},{"$error":"#REF!"},{"$error":"#REF!"},{"$error":"#REF!"},{"$error":"#REF!"},{"$error":"#REF!"},{"$error":"#REF!"},{"$error":"#REF!"},{"$error":"#REF!"},{"$error":"#REF!"},{"$error":"#REF!"},{"$error":"#REF!"},{"$error":"#REF!"},{"$error":"#REF!"},{"$error":"#REF!"},{"$error":"#REF!"},"Тестовый балл","% выплнения заданий по уровням",null,null,"Оценка"]
[null,null,null,null,null,null,null,null,null,null,null,null,null,null,null,null,null,null,null,null,null,null,null,null,null,null,null,null,null,null,null,null,null,null,null,null,null,null,null,null,"Базовый","Повышенный","Высокий"]
["№","Класс","Ф.И.О.","№ задания",{"$f":"E6620","v":1},{"$f":"F6620","v":2},3,4,5,6,7,8,9,10,11,12,13,14,15,0,{"$error":"#REF!"},{"$error":"#REF!"},{"$error":"#REF!"},{"$error":"#REF!"},{"$error":"#REF!"},{"$error":"#REF!"},{"$error":"#REF!"},{"$error":"#REF!"},{"$error":"#REF!"},{"$error":"#REF!"},{"$error":"#REF!"},{"$error":"#REF!"},{"$error":"#REF!"},{"$error":"#REF!"},{"$error":"#REF!"},{"$error":"#REF!"},{"$error":"#REF!"},{"$error":"#REF!"},{"$error":"#REF!"}]
["Максимальный балл",null,null,null,{"$f":"E6621","v":7},{"$f":"F6621","v":1},1,1,1,1,1,1,1,1,1,1,1,1,9,10,{"$error":"#REF!"},{"$error":"#REF!"},{"$error":"#REF!"},{"$error":"#REF!"},{"$error":"#REF!"},{"$error":"#REF!"},{"$error":"#REF!"},{"$error":"#REF!"},{"$error":"#REF!"},{"$error":"#REF!"},{"$error":"#REF!"},{"$error":"#REF!"},{"$error":"#REF!"},{"$error":"#REF!"},{"$error":"#REF!"},{"$error":"#REF!"},{"$error":"#REF!"},{"$error":"#REF!"},{"$error":"#REF!"},39,76.92307692307692,{"$error":"#REF!"},23.076923076923077,0]
[null,null,null,"вариант"]
[{"$f":"Результаты!#REF!","v":{"$error":"#REF!"}},{"$f":"Результаты!#REF!","v":{"$error":"#REF!"}},{"$f":"Результаты!#REF!","v":{"$error":"#REF!"}},{"$f":"Результаты!#REF!","v":{"$error":"#REF!"}},{"$f":"Результаты!#REF!","v":{"$error":"#REF!"}},{"$f":"Результаты!#REF!","v":{"$error":"#REF!"}},{"$f":"Результаты!#REF!","v":{"$error":"#REF!"}},{"$f":"Результаты!#REF!","v":{"$error":"#REF!"}},{"$f":"Результаты!#REF!","v":{"$error":"#REF!"}},{"$f":"Результаты!#REF!","v":{"$error":"#REF!"}},{"$f":"Результаты!#REF!","v":{"$error":"#REF!"}},{"$f":"Результаты!#REF!","v":{"$error":"#REF!"}},{"$f":"Результаты!#REF!","v":{"$error":"#REF!"}},{"$f":"Результаты!#REF!","v":{"$error":"#REF!"}},{"$f":"Результаты!#REF!","v":{"$error":"#REF!"}},{"$f":"Результаты!#REF!","v":{"$error":"#REF!"}},{"$f":"Результаты!#REF!","v":{"$error":"#REF!"}},{"$f":"Результаты!#REF!","v":{"$error":"#REF!"}},{"$f":"Результаты!#REF!","v":{"$error":"#REF!"}},{"$f":"Результаты!#REF!","v":{"$error":"#REF!"}},{"$f":"Результаты!#REF!","v":{"$error":"#REF!"}},{"$f":"Результаты!#REF!","v":{"$error":"#REF!"}},{"$f":"Результаты!#REF!","v":{"$error":"#REF!"}},{"$f":"Результаты!#REF!","v":{"$error":"#REF!"}},{"$f":"Результаты!#REF!","v":{"$error":"#REF!"}},{"$f":"Результаты!#REF!","v":{"$error":"#REF!"}},{"$f":"Результаты!#REF!","v":{"$error":"#REF!"}},{"$f":"Результаты!#REF!","v":{"$error":"#REF!"}},{"$f":"Результаты!#REF!","v":{"$error":"#REF!"}},{"$f":"Результаты!#REF!","v":{"$error":"#REF!"}},{"$f":"Результаты!#REF!","v":{"$error":"#REF!"}},{"$f":"Результаты!#REF!","v":{"$error":"#REF!"}},{"$f":"Результаты!#REF!","v":{"$error":"#REF!"}},{"$f":"Результаты!#REF!","v":{"$error":"#REF!"}},{"$f":"Результаты!#REF!","v":{"$error":"#REF!"}},{"$f":"Результаты!#REF!","v":{"$error":"#REF!"}},{"$f":"Результаты!#REF!","v":{"$error":"#REF!"}},{"$f":"Результаты!#REF!","v":{"$error":"#REF!"}},{"$f":"Результаты!#REF!","v":{"$error":"#REF!"}},{"$f":"Результаты!#REF!","v":{"$error":"#REF!"}},{"$f":"Результаты!#REF!","v":{"$error":"#REF!"}},{"$f":"Результаты!#REF!","v":{"$error":"#REF!"}},{"$f":"Результаты!#REF!","v":{"$error":"#REF!"}},{"$f":"Результаты!#REF!","v":{"$error":"#REF!"}}]
[]
[]
[null,{"$f":"B6626","v":1},"Информационная обработка текстов различных стилей и жанров. Текст как речевое произведение. Смысловая и композиционная целостность текста. Отбор языковых средств в тексте в зависимости от темы, цели, адресата и ситуации общения. Создание текстов различных стилей и функционально-смысловых типов речи. Грамматические нормы (морфологические нормы). Грамматические  нормы  (синтаксические нормы). Лексические нормы. Пунктуация в простом и сложном предложениях. Орфограмма"]
[null,{"$f":"B6627","v":2},"Текст как речевое произведение. Смысловая и композиционная целостность текста. Анализ текста"]
[null,{"$f":"B6628","v":3},"Выразительные средства лексики и фразеологии. Анализ средств выразительности"]
[null,{"$f":"B6629","v":4},"Правописание приставок. Слитное, дефисное, раздельное написание"]
[null,{"$f":"B6630","v":5},"Правописание суффиксов различных частей речи (кроме -Н-/-НН-). Правописание -Н- и -НН- в различных частях речи. Правописание личных окончаний глаголов и суффиксов причастий настоящего времени"]
[null,{"$f":"B6631","v":6},"Лексика и фразеология. Синонимы. Фразеологические обороты. Группы слов по происхождению и употреблению"]
[null,{"$f":"B6632","v":7},"Словосочетание"]
[null,{"$f":"B6633","v":8},"Предложение. Грамматическая (предикативная) основа предложения. Подлежащее и сказуемое как главные члены предложения "]
[null,{"$f":"B6634","v":9},"Осложнённое простое предложение"]
[null,{"$f":"B6635","v":10},"Пунктуационный анализ. Знаки препинания в предложениях со словами и конструкциями, грамматически не связанными с членами предложения"]
[null,{"$f":"B6636","v":11},"Синтаксический анализ сложного предложения"]
[null,{"$f":"B6637","v":12},"Пунктуационный анализ. Знаки препинания в сложносочинённом и сложноподчинённом предложениях"]
[null,{"$f":"B6638","v":13},"Синтаксический анализ сложного предложения"]
[null,{"$f":"B6639","v":14},"Сложные предложения с разными видами связи между частями"]
[null,{"$f":"B6640","v":15},"Текст как речевое произведение. Смысловая и композиционная целостность текста. Создание текстов различных стилей и функционально-смысловых типов речи. Информационная обработка текстов различных стилей и жанров. Грамматические нормы (морфологические нормы). Грамматические нормы (синтаксические нормы). Лексические нормы"]
[null,{"$f":"B6641","v":16},0]
[null,{"$f":"B6642","v":17},0]
[null,{"$f":"B6643","v":18},0]
[null,{"$f":"B6644","v":19},0]
[null,{"$f":"B6645","v":20},0]
[null,{"$f":"B6646","v":21},0]
[null,{"$f":"B6647","v":22},0]
[null,{"$f":"B6648","v":23},0]
[null,{"$f":"B6649","v":24},0]
[null,{"$f":"B6650","v":25},0]
[null,{"$f":"B6651","v":26},0]
[null,{"$f":"B6652","v":27},0]
[null,{"$f":"B6653","v":28},0]
[null,{"$f":"B6654","v":29},0]
[null,{"$f":"B6655","v":30},0]
[null,{"$f":"B6656","v":31},0]
[null,{"$f":"B6657","v":32},0]
[null,{"$f":"B6658","v":33},0]
[null,{"$f":"B6659","v":34},0]
[null,{"$f":"B6660","v":35},0]
[]
[]
["Рекомендация: обратите внимание на задания по темам, которые вызвали у Вас затруднения, решены с ошибкой и отмечены \"0\" или к решению которых Вы не приступили (пустые ячейки)!"]
[]
[]
["Центр независимой оценки качества образования и образовательного аудита \"Легион\""]
[]
["Образовательная организация",null,null,null,{"$f":"E6668","v":"Ленинская СОШ"}]
["Предмет",null,null,null,{"$f":"E6669","v":"Русский язык"}]
["Максимальный балл",null,null,null,39]
["Пороговый балл",null,null,null,15]
["Зона риска",null,null,null,{"$f":"Результаты!E15","v":15},null,null,{"$f":"Результаты!H15","v":16}]
[]
["Уровни",null,null,null,{"$f":"E6674","v":1},{"$f":"F6674","v":2},3,4,5,6,7,8,9,10,11,12,13,14,15,"ПР.ГР",{"$error":"#REF!"},{"$error":"#REF!"},{"$error":"#REF!"},{"$error":"#REF!"},{"$error":"#REF!"},{"$error":"#REF!"},{"$error":"#REF!"},{"$error":"#REF!"},{"$error":"#REF!"},{"$error":"#REF!"},{"$error":"#REF!"},{"$error":"#REF!"},{"$error":"#REF!"},{"$error":"#REF!"},{"$error":"#REF!"},{"$error":"#REF!"},{"$error":"#REF!"},{"$error":"#REF!"},{"$error":"#REF!"},"Тестовый балл","% выплнения заданий по уровням",null,null,"Оценка"]
[null,null,null,null,null,null,null,null,null,null,null,null,null,null,null,null,null,null,null,null,null,null,null,null,null,null,null,null,null,null,null,null,null,null,null,null,null,null,null,null,"Базовый","Повышенный","Высокий"]
["№","Класс","Ф.И.О.","№ задания",{"$f":"E6676","v":1},{"$f":"F6676","v":2},3,4,5,6,7,8,9,10,11,12,13,14,15,0,{"$error":"#REF!"},{"$error":"#REF!"},{"$error":"#REF!"},{"$error":"#REF!"},{"$error":"#REF!"},{"$error":"#REF!"},{"$error":"#REF!"},{"$error":"#REF!"},{"$error":"#REF!"},{"$error":"#REF!"},{"$error":"#REF!"},{"$error":"#REF!"},{"$error":"#REF!"},{"$error":"#REF!"},{"$error":"#REF!"},{"$error":"#REF!"},{"$error":"#REF!"},{"$error":"#REF!"},{"$error":"#REF!"}]
["Максимальный балл",null,null,null,{"$f":"E6677","v":7},{"$f":"F6677","v":1},1,1,1,1,1,1,1,1,1,1,1,1,9,10,{"$error":"#REF!"},{"$error":"#REF!"},{"$error":"#REF!"},{"$error":"#REF!"},{"$error":"#REF!"},{"$error":"#REF!"},{"$error":"#REF!"},{"$error":"#REF!"},{"$error":"#REF!"},{"$error":"#REF!"},{"$error":"#REF!"},{"$error":"#REF!"},{"$error":"#REF!"},{"$error":"#REF!"},{"$error":"#REF!"},{"$error":"#REF!"},{"$error":"#REF!"},{"$error":"#REF!"},{"$error":"#REF!"},39,76.92307692307692,{"$error":"#REF!"},23.076923076923077,0]
[null,null,null,"вариант"]
[{"$f":"Результаты!#REF!","v":{"$error":"#REF!"}},{"$f":"Результаты!#REF!","v":{"$error":"#REF!"}},{"$f":"Результаты!#REF!","v":{"$error":"#REF!"}},{"$f":"Результаты!#REF!","v":{"$error":"#REF!"}},{"$f":"Результаты!#REF!","v":{"$error":"#REF!"}},{"$f":"Результаты!#REF!","v":{"$error":"#REF!"}},{"$f":"Результаты!#REF!","v":{"$error":"#REF!"}},{"$f":"Результаты!#REF!","v":{"$error":"#REF!"}},{"$f":"Результаты!#REF!","v":{"$error":"#REF!"}},{"$f":"Результаты!#REF!","v":{"$error":"#REF!"}},{"$f":"Результаты!#REF!","v":{"$error":"#REF!"}},{"$f":"Результаты!#REF!","v":{"$error":"#REF!"}},{"$f":"Результаты!#REF!","v":{"$error":"#REF!"}},{"$f":"Результаты!#REF!","v":{"$error":"#REF!"}},{"$f":"Результаты!#REF!","v":{"$error":"#REF!"}},{"$f":"Результаты!#REF!","v":{"$error":"#REF!"}},{"$f":"Результаты!#REF!","v":{"$error":"#REF!"}},{"$f":"Результаты!#REF!","v":{"$error":"#REF!"}},{"$f":"Результаты!#REF!","v":{"$error":"#REF!"}},{"$f":"Результаты!#REF!","v":{"$error":"#REF!"}},{"$f":"Результаты!#REF!","v":{"$error":"#REF!"}},{"$f":"Результаты!#REF!","v":{"$error":"#REF!"}},{"$f":"Результаты!#REF!","v":{"$error":"#REF!"}},{"$f":"Результаты!#REF!","v":{"$error":"#REF!"}},{"$f":"Результаты!#REF!","v":{"$error":"#REF!"}},{"$f":"Результаты!#REF!","v":{"$error":"#REF!"}},{"$f":"Результаты!#REF!","v":{"$error":"#REF!"}},{"$f":"Результаты!#REF!","v":{"$error":"#REF!"}},{"$f":"Результаты!#REF!","v":{"$error":"#REF!"}},{"$f":"Результаты!#REF!","v":{"$error":"#REF!"}},{"$f":"Результаты!#REF!","v":{"$error":"#REF!"}},{"$f":"Результаты!#REF!","v":{"$error":"#REF!"}},{"$f":"Результаты!#REF!","v":{"$error":"#REF!"}},{"$f":"Результаты!#REF!","v":{"$error":"#REF!"}},{"$f":"Результаты!#REF!","v":{"$error":"#REF!"}},{"$f":"Результаты!#REF!","v":{"$error":"#REF!"}},{"$f":"Результаты!#REF!","v":{"$error":"#REF!"}},{"$f":"Результаты!#REF!","v":{"$error":"#REF!"}},{"$f":"Результаты!#REF!","v":{"$error":"#REF!"}},{"$f":"Результаты!#REF!","v":{"$error":"#REF!"}},{"$f":"Результаты!#REF!","v":{"$error":"#REF!"}},{"$f":"Результаты!#REF!","v":{"$error":"#REF!"}},{"$f":"Результаты!#REF!","v":{"$error":"#REF!"}},{"$f":"Результаты!#REF!","v":{"$error":"#REF!"}}]
[]
[]
[null,{"$f":"B6682","v":1},{"$f":"C6682","v":"Информационная обработка текстов различных стилей и жанров. Текст как речевое произведение. Смысловая и композиционная целостность текста. Отбор языковых средств в тексте в зависимости от темы, цели, адресата и ситуации общения. Создание текстов различных стилей и функционально-смысловых типов речи. Грамматические нормы (морфологические нормы). Грамматические  нормы  (синтаксические нормы). Лексические нормы. Пунктуация в простом и сложном предложениях. Орфограмма"}]
[null,{"$f":"B6683","v":2},"Текст как речевое произведение. Смысловая и композиционная целостность текста. Анализ текста"]
[null,3,"Выразительные средства лексики и фразеологии. Анализ средств выразительности"]
[null,4,"Правописание приставок. Слитное, дефисное, раздельное написание"]
[null,5,"Правописание суффиксов различных частей речи (кроме -Н-/-НН-). Правописание -Н- и -НН- в различных частях речи. Правописание личных окончаний глаголов и суффиксов причастий настоящего времени"]
[null,6,"Лексика и фразеология. Синонимы. Фразеологические обороты. Группы слов по происхождению и употреблению"]
[null,7,"Словосочетание"]
[null,8,"Предложение. Грамматическая (предикативная) основа предложения. Подлежащее и сказуемое как главные члены предложения "]
[null,9,"Осложнённое простое предложение"]
[null,10,"Пунктуационный анализ. Знаки препинания в предложениях со словами и конструкциями, грамматически не связанными с членами предложения"]
[null,11,"Синтаксический анализ сложного предложения"]
[null,12,"Пунктуационный анализ. Знаки препинания в сложносочинённом и сложноподчинённом предложениях"]
[null,13,"Синтаксический анализ сложного предложения"]
[null,14,"Сложные предложения с разными видами связи между частями"]
[null,15,"Текст как речевое произведение. Смысловая и композиционная целостность текста. Создание текстов различных стилей и функционально-смысловых типов речи. Информационная обработка текстов различных стилей и жанров. Грамматические нормы (морфологические нормы). Грамматические нормы (синтаксические нормы). Лексические нормы"]
[null,16,0]
[null,17,0]
[null,18,0]
[null,19,0]
[null,20,0]
[null,21,0]
[null,22,0]
[null,23,0]
[null,24,0]
[null,25,0]
[null,26,0]
[null,27,0]
[null,28,0]
[null,29,0]
[null,30,0]
[null,31,0]
[null,32,0]
[null,33,0]
[null,34,0]
[null,35,0]
[]
["Рекомендация: обратите внимание на задания по темам, которые вызвали у Вас затруднения, решены с ошибкой и отмечены \"0\" или к решению которых Вы не приступили (пустые ячейки)!"]
[]
[]
[]
["Центр независимой оценки качества образования и образовательного аудита \"Легион\""]
[]
["Образовательная организация",null,null,null,{"$f":"E6668","v":"Ленинская СОШ"}]
["Предмет",null,null,null,{"$f":"E6669","v":"Русский язык"}]
["Максимальный балл",null,null,null,39]
["Пороговый балл",null,null,null,15]
["Зона риска",null,null,null,{"$f":"Результаты!E15","v":15},null,null,{"$f":"Результаты!H15","v":16}]
[]
["Уровни",null,null,null,{"$f":"E6730","v":1},{"$f":"F6730","v":2},3,4,5,6,7,8,9,10,11,12,13,14,15,"ПР.ГР",{"$error":"#REF!"},{"$error":"#REF!"},{"$error":"#REF!"},{"$error":"#REF!"},{"$error":"#REF!"},{"$error":"#REF!"},{"$error":"#REF!"},{"$error":"#REF!"},{"$error":"#REF!"},{"$error":"#REF!"},{"$error":"#REF!"},{"$error":"#REF!"},{"$error":"#REF!"},{"$error":"#REF!"},{"$error":"#REF!"},{"$error":"#REF!"},{"$error":"#REF!"},{"$error":"#REF!"},{"$error":"#REF!"},"Тестовый балл","% выплнения заданий по уровням",null,null,"Оценка"]
[null,null,null,null,null,null,null,null,null,null,null,null,null,null,null,null,null,null,null,null,null,null,null,null,null,null,null,null,null,null,null,null,null,null,null,null,null,null,null,null,"Базовый","Повышенный","Высокий"]
["№","Класс","Ф.И.О.","№ задания",{"$f":"E6732","v":1},{"$f":"F6732","v":2},3,4,5,6,7,8,9,10,11,12,13,14,15,0,{"$error":"#REF!"},{"$error":"#REF!"},{"$error":"#REF!"},{"$error":"#REF!"},{"$error":"#REF!"},{"$error":"#REF!"},{"$error":"#REF!"},{"$error":"#REF!"},{"$error":"#REF!"},{"$error":"#REF!"},{"$error":"#REF!"},{"$error":"#REF!"},{"$error":"#REF!"},{"$error":"#REF!"},{"$error":"#REF!"},{"$error":"#REF!"},{"$error":"#REF!"},{"$error":"#REF!"},{"$error":"#REF!"}]
["Максимальный балл",null,null,null,{"$f":"E6733","v":7},{"$f":"F6733","v":1},1,1,1,1,1,1,1,1,1,1,1,1,9,10,{"$error":"#REF!"},{"$error":"#REF!"},{"$error":"#REF!"},{"$error":"#REF!"},{"$error":"#REF!"},{"$error":"#REF!"},{"$error":"#REF!"},{"$error":"#REF!"},{"$error":"#REF!"},{"$error":"#REF!"},{"$error":"#REF!"},{"$error":"#REF!"},{"$error":"#REF!"},{"$error":"#REF!"},{"$error":"#REF!"},{"$error":"#REF!"},{"$error":"#REF!"},{"$error":"#REF!"},{"$error":"#REF!"},39,76.92307692307692,{"$error":"#REF!"},23.076923076923077,0]
[null,null,null,"вариант"]
[{"$f":"Результаты!#REF!","v":{"$error":"#REF!"}},{"$f":"Результаты!#REF!","v":{"$error":"#REF!"}},{"$f":"Результаты!#REF!","v":{"$error":"#REF!"}},{"$f":"Результаты!#REF!","v":{"$error":"#REF!"}},{"$f":"Результаты!#REF!","v":{"$error":"#REF!"}},{"$f":"Результаты!#REF!","v":{"$error":"#REF!"}},{"$f":"Результаты!#REF!","v":{"$error":"#REF!"}},{"$f":"Результаты!#REF!","v":{"$error":"#REF!"}},{"$f":"Результаты!#REF!","v":{"$error":"#REF!"}},{"$f":"Результаты!#REF!","v":{"$error":"#REF!"}},{"$f":"Результаты!#REF!","v":{"$error":"#REF!"}},{"$f":"Результаты!#REF!","v":{"$error":"#REF!"}},{"$f":"Результаты!#REF!","v":{"$error":"#REF!"}},{"$f":"Результаты!#REF!","v":{"$error":"#REF!"}},{"$f":"Результаты!#REF!","v":{"$error":"#REF!"}},{"$f":"Результаты!#REF!","v":{"$error":"#REF!"}},{"$f":"Результаты!#REF!","v":{"$error":"#REF!"}},{"$f":"Результаты!#REF!","v":{"$error":"#REF!"}},{"$f":"Результаты!#REF!","v":{"$error":"#REF!"}},{"$f":"Результаты!#REF!","v":{"$error":"#REF!"}},{"$f":"Результаты!#REF!","v":{"$error":"#REF!"}},{"$f":"Результаты!#REF!","v":{"$error":"#REF!"}},{"$f":"Результаты!#REF!","v":{"$error":"#REF!"}},{"$f":"Результаты!#REF!","v":{"$error":"#REF!"}},{"$f":"Результаты!#REF!","v":{"$error":"#REF!"}},{"$f":"Результаты!#REF!","v":{"$error":"#REF!"}},{"$f":"Результаты!#REF!","v":{"$error":"#REF!"}},{"$f":"Результаты!#REF!","v":{"$error":"#REF!"}},{"$f":"Результаты!#REF!","v":{"$error":"#REF!"}},{"$f":"Результаты!#REF!","v":{"$error":"#REF!"}},{"$f":"Результаты!#REF!","v":{"$error":"#REF!"}},{"$f":"Результаты!#REF!","v":{"$error":"#REF!"}},{"$f":"Результаты!#REF!","v":{"$error":"#REF!"}},{"$f":"Результаты!#REF!","v":{"$error":"#REF!"}},{"$f":"Результаты!#REF!","v":{"$error":"#REF!"}},{"$f":"Результаты!#REF!","v":{"$error":"#REF!"}},{"$f":"Результаты!#REF!","v":{"$error":"#REF!"}},{"$f":"Результаты!#REF!","v":{"$error":"#REF!"}},{"$f":"Результаты!#REF!","v":{"$error":"#REF!"}},{"$f":"Результаты!#REF!","v":{"$error":"#REF!"}},{"$f":"Результаты!#REF!","v":{"$error":"#REF!"}},{"$f":"Результаты!#REF!","v":{"$error":"#REF!"}},{"$f":"Результаты!#REF!","v":{"$error":"#REF!"}},{"$f":"Результаты!#REF!","v":{"$error":"#REF!"}}]
[]
[]
[null,{"$f":"B6738","v":1},{"$f":"C6738","v":"Информационная обработка текстов различных стилей и жанров. Текст как речевое произведение. Смысловая и композиционная целостность текста. Отбор языковых средств в тексте в зависимости от темы, цели, адресата и ситуации общения. Создание текстов различных стилей и функционально-смысловых типов речи. Грамматические нормы (морфологические нормы). Грамматические  нормы  (синтаксические нормы). Лексические нормы. Пунктуация в простом и сложном предложениях. Орфограмма"}]
[null,{"$f":"B6739","v":2},"Текст как речевое произведение. Смысловая и композиционная целостность текста. Анализ текста"]
[null,{"$f":"B6740","v":3},"Выразительные средства лексики и фразеологии. Анализ средств выразительности"]
[null,{"$f":"B6741","v":4},"Правописание приставок. Слитное, дефисное, раздельное написание"]
[null,{"$f":"B6742","v":5},"Правописание суффиксов различных частей речи (кроме -Н-/-НН-). Правописание -Н- и -НН- в различных частях речи. Правописание личных окончаний глаголов и суффиксов причастий настоящего времени"]
[null,{"$f":"B6743","v":6},"Лексика и фразеология. Синонимы. Фразеологические обороты. Группы слов по происхождению и употреблению"]
[null,{"$f":"B6744","v":7},"Словосочетание"]
[null,{"$f":"B6745","v":8},"Предложение. Грамматическая (предикативная) основа предложения. Подлежащее и сказуемое как главные члены предложения "]
[null,{"$f":"B6746","v":9},"Осложнённое простое предложение"]
[null,{"$f":"B6747","v":10},"Пунктуационный анализ. Знаки препинания в предложениях со словами и конструкциями, грамматически не связанными с членами предложения"]
[null,{"$f":"B6748","v":11},"Синтаксический анализ сложного предложения"]
[null,{"$f":"B6749","v":12},"Пунктуационный анализ. Знаки препинания в сложносочинённом и сложноподчинённом предложениях"]
[null,{"$f":"B6750","v":13},"Синтаксический анализ сложного предложения"]
[null,{"$f":"B6751","v":14},"Сложные предложения с разными видами связи между частями"]
[null,{"$f":"B6752","v":15},"Текст как речевое произведение. Смысловая и композиционная целостность текста. Создание текстов различных стилей и функционально-смысловых типов речи. Информационная обработка текстов различных стилей и жанров. Грамматические нормы (морфологические нормы). Грамматические нормы (синтаксические нормы). Лексические нормы"]
[null,{"$f":"B6753","v":16},0]
[null,{"$f":"B6754","v":17},0]
[null,{"$f":"B6755","v":18},0]
[null,{"$f":"B6756","v":19},0]
[null,{"$f":"B6757","v":20},0]
[null,{"$f":"B6758","v":21},0]
[null,{"$f":"B6759","v":22},0]
[null,{"$f":"B6760","v":23},0]
[null,{"$f":"B6761","v":24},0]
[null,{"$f":"B6762","v":25},0]
[null,{"$f":"B6763","v":26},0]
[null,{"$f":"B6764","v":27},0]
[null,{"$f":"B6765","v":28},0]
[null,{"$f":"B6766","v":29},0]
[null,{"$f":"B6767","v":30},0]
[null,{"$f":"B6768","v":31},0]
[null,{"$f":"B6769","v":32},0]
[null,{"$f":"B6770","v":33},0]
[null,{"$f":"B6771","v":34},{"$f":"C6771","v":0}]
[null,{"$f":"B6772","v":35},{"$f":"C6772","v":0}]
[]
["Рекомендация: обратите внимание на задания по темам, которые вызвали у Вас затруднения, решены с ошибкой и отмечены \"0\" или к решению которых Вы не приступили (пустые ячейки)!"]
[]
[]
[]
["Центр независимой оценки качества образования и образовательного аудита \"Легион\""]
[]
["Образовательная организация",null,null,null,{"$f":"E6780","v":"Ленинская СОШ"}]
["Предмет",null,null,null,{"$f":"E6781","v":"Русский язык"}]
["Максимальный балл",null,null,null,39]
["Пороговый балл",null,null,null,15]
["Зона риска",null,null,null,{"$f":"Результаты!E15","v":15},null,null,{"$f":"Результаты!H15","v":16}]
[]
["Уровни",null,null,null,{"$f":"E6786","v":1},{"$f":"F6786","v":2},3,4,5,6,7,8,9,10,11,12,13,14,15,"ПР.ГР",{"$error":"#REF!"},{"$error":"#REF!"},{"$error":"#REF!"},{"$error":"#REF!"},{"$error":"#REF!"},{"$error":"#REF!"},{"$error":"#REF!"},{"$error":"#REF!"},{"$error":"#REF!"},{"$error":"#REF!"},{"$error":"#REF!"},{"$error":"#REF!"},{"$error":"#REF!"},{"$error":"#REF!"},{"$error":"#REF!"},{"$error":"#REF!"},{"$error":"#REF!"},{"$error":"#REF!"},{"$error":"#REF!"},"Тестовый балл","% выплнения заданий по уровням",null,null,"Оценка"]
[null,null,null,null,null,null,null,null,null,null,null,null,null,null,null,null,null,null,null,null,null,null,null,null,null,null,null,null,null,null,null,null,null,null,null,null,null,null,null,null,"Базовый","Повышенный","Высокий"]
["№","Класс","Ф.И.О.","№ задания",{"$f":"E6788","v":1},{"$f":"F6788","v":2},3,4,5,6,7,8,9,10,11,12,13,14,15,0,{"$error":"#REF!"},{"$error":"#REF!"},{"$error":"#REF!"},{"$error":"#REF!"},{"$error":"#REF!"},{"$error":"#REF!"},{"$error":"#REF!"},{"$error":"#REF!"},{"$error":"#REF!"},{"$error":"#REF!"},{"$error":"#REF!"},{"$error":"#REF!"},{"$error":"#REF!"},{"$error":"#REF!"},{"$error":"#REF!"},{"$error":"#REF!"},{"$error":"#REF!"},{"$error":"#REF!"},{"$error":"#REF!"}]
["Максимальный балл",null,null,null,{"$f":"E6789","v":7},{"$f":"F6789","v":1},1,1,1,1,1,1,1,1,1,1,1,1,9,10,{"$error":"#REF!"},{"$error":"#REF!"},{"$error":"#REF!"},{"$error":"#REF!"},{"$error":"#REF!"},{"$error":"#REF!"},{"$error":"#REF!"},{"$error":"#REF!"},{"$error":"#REF!"},{"$error":"#REF!"},{"$error":"#REF!"},{"$error":"#REF!"},{"$error":"#REF!"},{"$error":"#REF!"},{"$error":"#REF!"},{"$error":"#REF!"},{"$error":"#REF!"},{"$error":"#REF!"},{"$error":"#REF!"},39,76.92307692307692,{"$error":"#REF!"},23.076923076923077,0]
[null,null,null,"вариант"]
[{"$f":"Результаты!#REF!","v":{"$error":"#REF!"}},{"$f":"Результаты!#REF!","v":{"$error":"#REF!"}},{"$f":"Результаты!#REF!","v":{"$error":"#REF!"}},{"$f":"Результаты!#REF!","v":{"$error":"#REF!"}},{"$f":"Результаты!#REF!","v":{"$error":"#REF!"}},{"$f":"Результаты!#REF!","v":{"$error":"#REF!"}},{"$f":"Результаты!#REF!","v":{"$error":"#REF!"}},{"$f":"Результаты!#REF!","v":{"$error":"#REF!"}},{"$f":"Результаты!#REF!","v":{"$error":"#REF!"}},{"$f":"Результаты!#REF!","v":{"$error":"#REF!"}},{"$f":"Результаты!#REF!","v":{"$error":"#REF!"}},{"$f":"Результаты!#REF!","v":{"$error":"#REF!"}},{"$f":"Результаты!#REF!","v":{"$error":"#REF!"}},{"$f":"Результаты!#REF!","v":{"$error":"#REF!"}},{"$f":"Результаты!#REF!","v":{"$error":"#REF!"}},{"$f":"Результаты!#REF!","v":{"$error":"#REF!"}},{"$f":"Результаты!#REF!","v":{"$error":"#REF!"}},{"$f":"Результаты!#REF!","v":{"$error":"#REF!"}},{"$f":"Результаты!#REF!","v":{"$error":"#REF!"}},{"$f":"Результаты!#REF!","v":{"$error":"#REF!"}},{"$f":"Результаты!#REF!","v":{"$error":"#REF!"}},{"$f":"Результаты!#REF!","v":{"$error":"#REF!"}},{"$f":"Результаты!#REF!","v":{"$error":"#REF!"}},{"$f":"Результаты!#REF!","v":{"$error":"#REF!"}},{"$f":"Результаты!#REF!","v":{"$error":"#REF!"}},{"$f":"Результаты!#REF!","v":{"$error":"#REF!"}},{"$f":"Результаты!#REF!","v":{"$error":"#REF!"}},{"$f":"Результаты!#REF!","v":{"$error":"#REF!"}},{"$f":"Результаты!#REF!","v":{"$error":"#REF!"}},{"$f":"Результаты!#REF!","v":{"$error":"#REF!"}},{"$f":"Результаты!#REF!","v":{"$error":"#REF!"}},{"$f":"Результаты!#REF!","v":{"$error":"#REF!"}},{"$f":"Результаты!#REF!","v":{"$error":"#REF!"}},{"$f":"Результаты!#REF!","v":{"$error":"#REF!"}},{"$f":"Результаты!#REF!","v":{"$error":"#REF!"}},{"$f":"Результаты!#REF!","v":{"$error":"#REF!"}},{"$f":"Результаты!#REF!","v":{"$error":"#REF!"}},{"$f":"Результаты!#REF!","v":{"$error":"#REF!"}},{"$f":"Результаты!#REF!","v":{"$error":"#REF!"}},{"$f":"Результаты!#REF!","v":{"$error":"#REF!"}},{"$f":"Результаты!#REF!","v":{"$error":"#REF!"}},{"$f":"Результаты!#REF!","v":{"$error":"#REF!"}},{"$f":"Результаты!#REF!","v":{"$error":"#REF!"}},{"$f":"Результаты!#REF!","v":{"$error":"#REF!"}}]
[]
[]
[null,{"$f":"B6794","v":1},{"$f":"C6794","v":"Информационная обработка текстов различных стилей и жанров. Текст как речевое произведение. Смысловая и композиционная целостность текста. Отбор языковых средств в тексте в зависимости от темы, цели, адресата и ситуации общения. Создание текстов различных стилей и функционально-смысловых типов речи. Грамматические нормы (морфологические нормы). Грамматические  нормы  (синтаксические нормы). Лексические нормы. Пунктуация в простом и сложном предложениях. Орфограмма"}]
[null,{"$f":"B6795","v":2},"Текст как речевое произведение. Смысловая и композиционная целостность текста. Анализ текста"]
[null,{"$f":"B6796","v":3},"Выразительные средства лексики и фразеологии. Анализ средств выразительности"]
[null,{"$f":"B6797","v":4},"Правописание приставок. Слитное, дефисное, раздельное написание"]
[null,{"$f":"B6798","v":5},"Правописание суффиксов различных частей речи (кроме -Н-/-НН-). Правописание -Н- и -НН- в различных частях речи. Правописание личных окончаний глаголов и суффиксов причастий настоящего времени"]
[null,{"$f":"B6799","v":6},"Лексика и фразеология. Синонимы. Фразеологические обороты. Группы слов по происхождению и употреблению"]
[null,{"$f":"B6800","v":7},"Словосочетание"]
[null,{"$f":"B6801","v":8},"Предложение. Грамматическая (предикативная) основа предложения. Подлежащее и сказуемое как главные члены предложения "]
[null,{"$f":"B6802","v":9},"Осложнённое простое предложение"]
[null,{"$f":"B6803","v":10},"Пунктуационный анализ. Знаки препинания в предложениях со словами и конструкциями, грамматически не связанными с членами предложения"]
[null,{"$f":"B6804","v":11},"Синтаксический анализ сложного предложения"]
[null,{"$f":"B6805","v":12},"Пунктуационный анализ. Знаки препинания в сложносочинённом и сложноподчинённом предложениях"]
[null,{"$f":"B6806","v":13},"Синтаксический анализ сложного предложения"]
[null,{"$f":"B6807","v":14},"Сложные предложения с разными видами связи между частями"]
[null,{"$f":"B6808","v":15},"Текст как речевое произведение. Смысловая и композиционная целостность текста. Создание текстов различных стилей и функционально-смысловых типов речи. Информационная обработка текстов различных стилей и жанров. Грамматические нормы (морфологические нормы). Грамматические нормы (синтаксические нормы). Лексические нормы"]
[null,{"$f":"B6809","v":16},0]
[null,{"$f":"B6810","v":17},0]
[null,{"$f":"B6811","v":18},0]
[null,{"$f":"B6812","v":19},0]
[null,{"$f":"B6813","v":20},0]
[null,{"$f":"B6814","v":21},0]
[null,{"$f":"B6815","v":22},0]
[null,{"$f":"B6816","v":23},0]
[null,{"$f":"B6817","v":24},0]
[null,{"$f":"B6818","v":25},0]
[null,{"$f":"B6819","v":26},0]
[null,{"$f":"B6820","v":27},0]
[null,{"$f":"B6821","v":28},0]
[null,{"$f":"B6822","v":29},0]
[null,{"$f":"B6823","v":30},0]
[null,{"$f":"B6824","v":31},0]
[null,{"$f":"B6825","v":32},0]
[null,{"$f":"B6826","v":33},0]
[null,{"$f":"B6827","v":34},0]
[null,{"$f":"B6828","v":35},0]
[]
["Рекомендация: обратите внимание на задания по темам, которые вызвали у Вас затруднения, решены с ошибкой и отмечены \"0\" или к решению которых Вы не приступили (пустые ячейки)!"]
[]
[]
[]
["Центр независимой оценки качества образования и образовательного аудита \"Легион\""]
[]
["Образовательная организация",null,null,null,{"$f":"E6836","v":"Ленинская СОШ"}]
["Предмет",null,null,null,{"$f":"E6837","v":"Русский язык"}]
["Максимальный балл",null,null,null,39]
["Пороговый балл",null,null,null,15]
["Зона риска",null,null,null,{"$f":"Результаты!E15","v":15},null,null,{"$f":"Результаты!H15","v":16}]
[]
["Уровни",null,null,null,{"$f":"E6842","v":1},{"$f":"F6842","v":2},3,4,5,6,7,8,9,10,11,12,13,14,15,"ПР.ГР",{"$error":"#REF!"},{"$error":"#REF!"},{"$error":"#REF!"},{"$error":"#REF!"},{"$error":"#REF!"},{"$error":"#REF!"},{"$error":"#REF!"},{"$error":"#REF!"},{"$error":"#REF!"},{"$error":"#REF!"},{"$error":"#REF!"},{"$error":"#REF!"},{"$error":"#REF!"},{"$error":"#REF!"},{"$error":"#REF!"},{"$error":"#REF!"},{"$error":"#REF!"},{"$error":"#REF!"},{"$error":"#REF!"},"Тестовый балл","% выплнения заданий по уровням",null,null,"Оценка"]
[null,null,null,null,null,null,null,null,null,null,null,null,null,null,null,null,null,null,null,null,null,null,null,null,null,null,null,null,null,null,null,null,null,null,null,null,null,null,null,null,"Базовый","Повышенный","Высокий"]
["№","Класс","Ф.И.О.","№ задания",{"$f":"E6844","v":1},{"$f":"F6844","v":2},3,4,5,6,7,8,9,10,11,12,13,14,15,0,{"$error":"#REF!"},{"$error":"#REF!"},{"$error":"#REF!"},{"$error":"#REF!"},{"$error":"#REF!"},{"$error":"#REF!"},{"$error":"#REF!"},{"$error":"#REF!"},{"$error":"#REF!"},{"$error":"#REF!"},{"$error":"#REF!"},{"$error":"#REF!"},{"$error":"#REF!"},{"$error":"#REF!"},{"$error":"#REF!"},{"$error":"#REF!"},{"$error":"#REF!"},{"$error":"#REF!"},{"$error":"#REF!"}]
["Максимальный балл",null,null,null,{"$f":"E6845","v":7},{"$f":"F6845","v":1},1,1,1,1,1,1,1,1,1,1,1,1,9,10,{"$error":"#REF!"},{"$error":"#REF!"},{"$error":"#REF!"},{"$error":"#REF!"},{"$error":"#REF!"},{"$error":"#REF!"},{"$error":"#REF!"},{"$error":"#REF!"},{"$error":"#REF!"},{"$error":"#REF!"},{"$error":"#REF!"},{"$error":"#REF!"},{"$error":"#REF!"},{"$error":"#REF!"},{"$error":"#REF!"},{"$error":"#REF!"},{"$error":"#REF!"},{"$error":"#REF!"},{"$error":"#REF!"},39,76.92307692307692,{"$error":"#REF!"},23.076923076923077,0]
[null,null,null,"вариант"]
[{"$f":"Результаты!#REF!","v":{"$error":"#REF!"}},{"$f":"Результаты!#REF!","v":{"$error":"#REF!"}},{"$f":"Результаты!#REF!","v":{"$error":"#REF!"}},{"$f":"Результаты!#REF!","v":{"$error":"#REF!"}},{"$f":"Результаты!#REF!","v":{"$error":"#REF!"}},{"$f":"Результаты!#REF!","v":{"$error":"#REF!"}},{"$f":"Результаты!#REF!","v":{"$error":"#REF!"}},{"$f":"Результаты!#REF!","v":{"$error":"#REF!"}},{"$f":"Результаты!#REF!","v":{"$error":"#REF!"}},{"$f":"Результаты!#REF!","v":{"$error":"#REF!"}},{"$f":"Результаты!#REF!","v":{"$error":"#REF!"}},{"$f":"Результаты!#REF!","v":{"$error":"#REF!"}},{"$f":"Результаты!#REF!","v":{"$error":"#REF!"}},{"$f":"Результаты!#REF!","v":{"$error":"#REF!"}},{"$f":"Результаты!#REF!","v":{"$error":"#REF!"}},{"$f":"Результаты!#REF!","v":{"$error":"#REF!"}},{"$f":"Результаты!#REF!","v":{"$error":"#REF!"}},{"$f":"Результаты!#REF!","v":{"$error":"#REF!"}},{"$f":"Результаты!#REF!","v":{"$error":"#REF!"}},{"$f":"Результаты!#REF!","v":{"$error":"#REF!"}},{"$f":"Результаты!#REF!","v":{"$error":"#REF!"}},{"$f":"Результаты!#REF!","v":{"$error":"#REF!"}},{"$f":"Результаты!#REF!","v":{"$error":"#REF!"}},{"$f":"Результаты!#REF!","v":{"$error":"#REF!"}},{"$f":"Результаты!#REF!","v":{"$error":"#REF!"}},{"$f":"Результаты!#REF!","v":{"$error":"#REF!"}},{"$f":"Результаты!#REF!","v":{"$error":"#REF!"}},{"$f":"Результаты!#REF!","v":{"$error":"#REF!"}},{"$f":"Результаты!#REF!","v":{"$error":"#REF!"}},{"$f":"Результаты!#REF!","v":{"$error":"#REF!"}},{"$f":"Результаты!#REF!","v":{"$error":"#REF!"}},{"$f":"Результаты!#REF!","v":{"$error":"#REF!"}},{"$f":"Результаты!#REF!","v":{"$error":"#REF!"}},{"$f":"Результаты!#REF!","v":{"$error":"#REF!"}},{"$f":"Результаты!#REF!","v":{"$error":"#REF!"}},{"$f":"Результаты!#REF!","v":{"$error":"#REF!"}},{"$f":"Результаты!#REF!","v":{"$error":"#REF!"}},{"$f":"Результаты!#REF!","v":{"$error":"#REF!"}},{"$f":"Результаты!#REF!","v":{"$error":"#REF!"}},{"$f":"Результаты!#REF!","v":{"$error":"#REF!"}},{"$f":"Результаты!#REF!","v":{"$error":"#REF!"}},{"$f":"Результаты!#REF!","v":{"$error":"#REF!"}},{"$f":"Результаты!#REF!","v":{"$error":"#REF!"}},{"$f":"Результаты!#REF!","v":{"$error":"#REF!"}}]
[]
[]
[null,{"$f":"B6850","v":1},"Информационная обработка текстов различных стилей и жанров. Текст как речевое произведение. Смысловая и композиционная целостность текста. Отбор языковых средств в тексте в зависимости от темы, цели, адресата и ситуации общения. Создание текстов различных стилей и функционально-смысловых типов речи. Грамматические нормы (морфологические нормы). Грамматические  нормы  (синтаксические нормы). Лексические нормы. Пунктуация в простом и сложном предложениях. Орфограмма"]
[null,{"$f":"B6851","v":2},"Текст как речевое произведение. Смысловая и композиционная целостность текста. Анализ текста"]
[null,{"$f":"B6852","v":3},"Выразительные средства лексики и фразеологии. Анализ средств выразительности"]
[null,{"$f":"B6853","v":4},"Правописание приставок. Слитное, дефисное, раздельное написание"]
[null,{"$f":"B6854","v":5},"Правописание суффиксов различных частей речи (кроме -Н-/-НН-). Правописание -Н- и -НН- в различных частях речи. Правописание личных окончаний глаголов и суффиксов причастий настоящего времени"]
[null,{"$f":"B6855","v":6},"Лексика и фразеология. Синонимы. Фразеологические обороты. Группы слов по происхождению и употреблению"]
[null,{"$f":"B6856","v":7},"Словосочетание"]
[null,{"$f":"B6857","v":8},"Предложение. Грамматическая (предикативная) основа предложения. Подлежащее и сказуемое как главные члены предложения "]
[null,{"$f":"B6858","v":9},"Осложнённое простое предложение"]
[null,{"$f":"B6859","v":10},"Пунктуационный анализ. Знаки препинания в предложениях со словами и конструкциями, грамматически не связанными с членами предложения"]
[null,{"$f":"B6860","v":11},"Синтаксический анализ сложного предложения"]
[null,{"$f":"B6861","v":12},"Пунктуационный анализ. Знаки препинания в сложносочинённом и сложноподчинённом предложениях"]
[null,{"$f":"B6862","v":13},"Синтаксический анализ сложного предложения"]
[null,{"$f":"B6863","v":14},"Сложные предложения с разными видами связи между частями"]
[null,{"$f":"B6864","v":15},"Текст как речевое произведение. Смысловая и композиционная целостность текста. Создание текстов различных стилей и функционально-смысловых типов речи. Информационная обработка текстов различных стилей и жанров. Грамматические нормы (морфологические нормы). Грамматические нормы (синтаксические нормы). Лексические нормы"]
[null,{"$f":"B6865","v":16},0]
[null,{"$f":"B6866","v":17},0]
[null,{"$f":"B6867","v":18},0]
[null,{"$f":"B6868","v":19},0]
[null,{"$f":"B6869","v":20},0]
[null,{"$f":"B6870","v":21},0]
[null,{"$f":"B6871","v":22},0]
[null,{"$f":"B6872","v":23},0]
[null,{"$f":"B6873","v":24},0]
[null,{"$f":"B6874","v":25},0]
[null,{"$f":"B6875","v":26},0]
[null,{"$f":"B6876","v":27},0]
[null,{"$f":"B6877","v":28},0]
[null,{"$f":"B6878","v":29},0]
[null,{"$f":"B6879","v":30},0]
[null,{"$f":"B6880","v":31},0]
[null,{"$f":"B6881","v":32},0]
[null,{"$f":"B6882","v":33},0]
[null,{"$f":"B6883","v":34},0]
[null,{"$f":"B6884","v":35},0]
[]
[]
["Рекомендация: обратите внимание на задания по темам, которые вызвали у Вас затруднения, решены с ошибкой и отмечены \"0\" или к решению которых Вы не приступили (пустые ячейки)!"]
[]
[]
["Центр независимой оценки качества образования и образовательного аудита \"Легион\""]
[]
["Образовательная организация",null,null,null,{"$f":"E6892","v":"Ленинская СОШ"}]
["Предмет",null,null,null,{"$f":"E6893","v":"Русский язык"}]
["Максимальный балл",null,null,null,39]
["Пороговый балл",null,null,null,15]
["Зона риска",null,null,null,{"$f":"Результаты!E15","v":15},null,null,{"$f":"Результаты!H15","v":16}]
[]
["Уровни",null,null,null,{"$f":"E6898","v":1},{"$f":"F6898","v":2},3,4,5,6,7,8,9,10,11,12,13,14,15,"ПР.ГР",{"$error":"#REF!"},{"$error":"#REF!"},{"$error":"#REF!"},{"$error":"#REF!"},{"$error":"#REF!"},{"$error":"#REF!"},{"$error":"#REF!"},{"$error":"#REF!"},{"$error":"#REF!"},{"$error":"#REF!"},{"$error":"#REF!"},{"$error":"#REF!"},{"$error":"#REF!"},{"$error":"#REF!"},{"$error":"#REF!"},{"$error":"#REF!"},{"$error":"#REF!"},{"$error":"#REF!"},{"$error":"#REF!"},"Тестовый балл","% выплнения заданий по уровням",null,null,"Оценка"]
[null,null,null,null,null,null,null,null,null,null,null,null,null,null,null,null,null,null,null,null,null,null,null,null,null,null,null,null,null,null,null,null,null,null,null,null,null,null,null,null,"Базовый","Повышенный","Высокий"]
["№","Класс","Ф.И.О.","№ задания",{"$f":"E6900","v":1},{"$f":"F6900","v":2},3,4,5,6,7,8,9,10,11,12,13,14,15,0,{"$error":"#REF!"},{"$error":"#REF!"},{"$error":"#REF!"},{"$error":"#REF!"},{"$error":"#REF!"},{"$error":"#REF!"},{"$error":"#REF!"},{"$error":"#REF!"},{"$error":"#REF!"},{"$error":"#REF!"},{"$error":"#REF!"},{"$error":"#REF!"},{"$error":"#REF!"},{"$error":"#REF!"},{"$error":"#REF!"},{"$error":"#REF!"},{"$error":"#REF!"},{"$error":"#REF!"},{"$error":"#REF!"}]
["Максимальный балл",null,null,null,{"$f":"E6901","v":7},{"$f":"F6901","v":1},1,1,1,1,1,1,1,1,1,1,1,1,9,10,{"$error":"#REF!"},{"$error":"#REF!"},{"$error":"#REF!"},{"$error":"#REF!"},{"$error":"#REF!"},{"$error":"#REF!"},{"$error":"#REF!"},{"$error":"#REF!"},{"$error":"#REF!"},{"$error":"#REF!"},{"$error":"#REF!"},{"$error":"#REF!"},{"$error":"#REF!"},{"$error":"#REF!"},{"$error":"#REF!"},{"$error":"#REF!"},{"$error":"#REF!"},{"$error":"#REF!"},{"$error":"#REF!"},39,76.92307692307692,{"$error":"#REF!"},23.076923076923077,0]
[null,null,null,"вариант"]
[{"$f":"Результаты!#REF!","v":{"$error":"#REF!"}},{"$f":"Результаты!#REF!","v":{"$error":"#REF!"}},{"$f":"Результаты!#REF!","v":{"$error":"#REF!"}},{"$f":"Результаты!#REF!","v":{"$error":"#REF!"}},{"$f":"Результаты!#REF!","v":{"$error":"#REF!"}},{"$f":"Результаты!#REF!","v":{"$error":"#REF!"}},{"$f":"Результаты!#REF!","v":{"$error":"#REF!"}},{"$f":"Результаты!#REF!","v":{"$error":"#REF!"}},{"$f":"Результаты!#REF!","v":{"$error":"#REF!"}},{"$f":"Результаты!#REF!","v":{"$error":"#REF!"}},{"$f":"Результаты!#REF!","v":{"$error":"#REF!"}},{"$f":"Результаты!#REF!","v":{"$error":"#REF!"}},{"$f":"Результаты!#REF!","v":{"$error":"#REF!"}},{"$f":"Результаты!#REF!","v":{"$error":"#REF!"}},{"$f":"Результаты!#REF!","v":{"$error":"#REF!"}},{"$f":"Результаты!#REF!","v":{"$error":"#REF!"}},{"$f":"Результаты!#REF!","v":{"$error":"#REF!"}},{"$f":"Результаты!#REF!","v":{"$error":"#REF!"}},{"$f":"Результаты!#REF!","v":{"$error":"#REF!"}},{"$f":"Результаты!#REF!","v":{"$error":"#REF!"}},{"$f":"Результаты!#REF!","v":{"$error":"#REF!"}},{"$f":"Результаты!#REF!","v":{"$error":"#REF!"}},{"$f":"Результаты!#REF!","v":{"$error":"#REF!"}},{"$f":"Результаты!#REF!","v":{"$error":"#REF!"}},{"$f":"Результаты!#REF!","v":{"$error":"#REF!"}},{"$f":"Результаты!#REF!","v":{"$error":"#REF!"}},{"$f":"Результаты!#REF!","v":{"$error":"#REF!"}},{"$f":"Результаты!#REF!","v":{"$error":"#REF!"}},{"$f":"Результаты!#REF!","v":{"$error":"#REF!"}},{"$f":"Результаты!#REF!","v":{"$error":"#REF!"}},{"$f":"Результаты!#REF!","v":{"$error":"#REF!"}},{"$f":"Результаты!#REF!","v":{"$error":"#REF!"}},{"$f":"Результаты!#REF!","v":{"$error":"#REF!"}},{"$f":"Результаты!#REF!","v":{"$error":"#REF!"}},{"$f":"Результаты!#REF!","v":{"$error":"#REF!"}},{"$f":"Результаты!#REF!","v":{"$error":"#REF!"}},{"$f":"Результаты!#REF!","v":{"$error":"#REF!"}},{"$f":"Результаты!#REF!","v":{"$error":"#REF!"}},{"$f":"Результаты!#REF!","v":{"$error":"#REF!"}},{"$f":"Результаты!#REF!","v":{"$error":"#REF!"}},{"$f":"Результаты!#REF!","v":{"$error":"#REF!"}},{"$f":"Результаты!#REF!","v":{"$error":"#REF!"}},{"$f":"Результаты!#REF!","v":{"$error":"#REF!"}},{"$f":"Результаты!#REF!","v":{"$error":"#REF!"}}]
[]
[]
[null,{"$f":"B6906","v":1},{"$f":"C6906","v":"Информационная обработка текстов различных стилей и жанров. Текст как речевое произведение. Смысловая и композиционная целостность текста. Отбор языковых средств в тексте в зависимости от темы, цели, адресата и ситуации общения. Создание текстов различных стилей и функционально-смысловых типов речи. Грамматические нормы (морфологические нормы). Грамматические  нормы  (синтаксические нормы). Лексические нормы. Пунктуация в простом и сложном предложениях. Орфограмма"}]
[null,{"$f":"B6907","v":2},"Текст как речевое произведение. Смысловая и композиционная целостность текста. Анализ текста"]
[null,{"$f":"B6908","v":3},"Выразительные средства лексики и фразеологии. Анализ средств выразительности"]
[null,{"$f":"B6909","v":4},"Правописание приставок. Слитное, дефисное, раздельное написание"]
[null,{"$f":"B6910","v":5},"Правописание суффиксов различных частей речи (кроме -Н-/-НН-). Правописание -Н- и -НН- в различных частях речи. Правописание личных окончаний глаголов и суффиксов причастий настоящего времени"]
[null,{"$f":"B6911","v":6},"Лексика и фразеология. Синонимы. Фразеологические обороты. Группы слов по происхождению и употреблению"]
[null,{"$f":"B6912","v":7},"Словосочетание"]
[null,{"$f":"B6913","v":8},"Предложение. Грамматическая (предикативная) основа предложения. Подлежащее и сказуемое как главные члены предложения "]
[null,{"$f":"B6914","v":9},"Осложнённое простое предложение"]
[null,{"$f":"B6915","v":10},"Пунктуационный анализ. Знаки препинания в предложениях со словами и конструкциями, грамматически не связанными с членами предложения"]
[null,{"$f":"B6916","v":11},"Синтаксический анализ сложного предложения"]
[null,{"$f":"B6917","v":12},"Пунктуационный анализ. Знаки препинания в сложносочинённом и сложноподчинённом предложениях"]
[null,{"$f":"B6918","v":13},"Синтаксический анализ сложного предложения"]
[null,{"$f":"B6919","v":14},"Сложные предложения с разными видами связи между частями"]
[null,{"$f":"B6920","v":15},"Текст как речевое произведение. Смысловая и композиционная целостность текста. Создание текстов различных стилей и функционально-смысловых типов речи. Информационная обработка текстов различных стилей и жанров. Грамматические нормы (морфологические нормы). Грамматические нормы (синтаксические нормы). Лексические нормы"]
[null,{"$f":"B6921","v":16},0]
[null,{"$f":"B6922","v":17},0]
[null,{"$f":"B6923","v":18},0]
[null,{"$f":"B6924","v":19},0]
[null,{"$f":"B6925","v":20},0]
[null,{"$f":"B6926","v":21},0]
[null,{"$f":"B6927","v":22},0]
[null,{"$f":"B6928","v":23},0]
[null,{"$f":"B6929","v":24},0]
[null,{"$f":"B6930","v":25},0]
[null,{"$f":"B6931","v":26},0]
[null,{"$f":"B6932","v":27},0]
[null,{"$f":"B6933","v":28},0]
[null,{"$f":"B6934","v":29},0]
[null,{"$f":"B6935","v":30},0]
[null,{"$f":"B6936","v":31},0]
[null,{"$f":"B6937","v":32},0]
[null,{"$f":"B6938","v":33},0]
[null,{"$f":"B6939","v":34},0]
[null,{"$f":"B6940","v":35},0]
[]
["Рекомендация: обратите внимание на задания по темам, которые вызвали у Вас затруднения, решены с ошибкой и отмечены \"0\" или к решению которых Вы не приступили (пустые ячейки)!"]
[]
[]
[]
["Центр независимой оценки качества образования и образовательного аудита \"Легион\""]
[]
["Образовательная организация",null,null,null,{"$f":"E6948","v":"Ленинская СОШ"}]
["Предмет",null,null,null,{"$f":"E6949","v":"Русский язык"}]
["Максимальный балл",null,null,null,39]
["Пороговый балл",null,null,null,15]
["Зона риска",null,null,null,{"$f":"Результаты!E15","v":15},null,null,{"$f":"Результаты!H15","v":16}]
[]
["Уровни",null,null,null,{"$f":"E6954","v":1},{"$f":"F6954","v":2},3,4,5,6,7,8,9,10,11,12,13,14,15,"ПР.ГР",{"$error":"#REF!"},{"$error":"#REF!"},{"$error":"#REF!"},{"$error":"#REF!"},{"$error":"#REF!"},{"$error":"#REF!"},{"$error":"#REF!"},{"$error":"#REF!"},{"$error":"#REF!"},{"$error":"#REF!"},{"$error":"#REF!"},{"$error":"#REF!"},{"$error":"#REF!"},{"$error":"#REF!"},{"$error":"#REF!"},{"$error":"#REF!"},{"$error":"#REF!"},{"$error":"#REF!"},{"$error":"#REF!"},"Тестовый балл","% выплнения заданий по уровням",null,null,"Оценка"]
[null,null,null,null,null,null,null,null,null,null,null,null,null,null,null,null,null,null,null,null,null,null,null,null,null,null,null,null,null,null,null,null,null,null,null,null,null,null,null,null,"Базовый","Повышенный","Высокий"]
["№","Класс","Ф.И.О.","№ задания",{"$f":"E6956","v":1},{"$f":"F6956","v":2},3,4,5,6,7,8,9,10,11,12,13,14,15,0,{"$error":"#REF!"},{"$error":"#REF!"},{"$error":"#REF!"},{"$error":"#REF!"},{"$error":"#REF!"},{"$error":"#REF!"},{"$error":"#REF!"},{"$error":"#REF!"},{"$error":"#REF!"},{"$error":"#REF!"},{"$error":"#REF!"},{"$error":"#REF!"},{"$error":"#REF!"},{"$error":"#REF!"},{"$error":"#REF!"},{"$error":"#REF!"},{"$error":"#REF!"},{"$error":"#REF!"},{"$error":"#REF!"}]
["Максимальный балл",null,null,null,{"$f":"E6957","v":7},{"$f":"F6957","v":1},1,1,1,1,1,1,1,1,1,1,1,1,9,10,{"$error":"#REF!"},{"$error":"#REF!"},{"$error":"#REF!"},{"$error":"#REF!"},{"$error":"#REF!"},{"$error":"#REF!"},{"$error":"#REF!"},{"$error":"#REF!"},{"$error":"#REF!"},{"$error":"#REF!"},{"$error":"#REF!"},{"$error":"#REF!"},{"$error":"#REF!"},{"$error":"#REF!"},{"$error":"#REF!"},{"$error":"#REF!"},{"$error":"#REF!"},{"$error":"#REF!"},{"$error":"#REF!"},39,76.92307692307692,{"$error":"#REF!"},23.076923076923077,0]
[null,null,null,"вариант"]
[{"$f":"Результаты!#REF!","v":{"$error":"#REF!"}},{"$f":"Результаты!#REF!","v":{"$error":"#REF!"}},{"$f":"Результаты!#REF!","v":{"$error":"#REF!"}},{"$f":"Результаты!#REF!","v":{"$error":"#REF!"}},{"$f":"Результаты!#REF!","v":{"$error":"#REF!"}},{"$f":"Результаты!#REF!","v":{"$error":"#REF!"}},{"$f":"Результаты!#REF!","v":{"$error":"#REF!"}},{"$f":"Результаты!#REF!","v":{"$error":"#REF!"}},{"$f":"Результаты!#REF!","v":{"$error":"#REF!"}},{"$f":"Результаты!#REF!","v":{"$error":"#REF!"}},{"$f":"Результаты!#REF!","v":{"$error":"#REF!"}},{"$f":"Результаты!#REF!","v":{"$error":"#REF!"}},{"$f":"Результаты!#REF!","v":{"$error":"#REF!"}},{"$f":"Результаты!#REF!","v":{"$error":"#REF!"}},{"$f":"Результаты!#REF!","v":{"$error":"#REF!"}},{"$f":"Результаты!#REF!","v":{"$error":"#REF!"}},{"$f":"Результаты!#REF!","v":{"$error":"#REF!"}},{"$f":"Результаты!#REF!","v":{"$error":"#REF!"}},{"$f":"Результаты!#REF!","v":{"$error":"#REF!"}},{"$f":"Результаты!#REF!","v":{"$error":"#REF!"}},{"$f":"Результаты!#REF!","v":{"$error":"#REF!"}},{"$f":"Результаты!#REF!","v":{"$error":"#REF!"}},{"$f":"Результаты!#REF!","v":{"$error":"#REF!"}},{"$f":"Результаты!#REF!","v":{"$error":"#REF!"}},{"$f":"Результаты!#REF!","v":{"$error":"#REF!"}},{"$f":"Результаты!#REF!","v":{"$error":"#REF!"}},{"$f":"Результаты!#REF!","v":{"$error":"#REF!"}},{"$f":"Результаты!#REF!","v":{"$error":"#REF!"}},{"$f":"Результаты!#REF!","v":{"$error":"#REF!"}},{"$f":"Результаты!#REF!","v":{"$error":"#REF!"}},{"$f":"Результаты!#REF!","v":{"$error":"#REF!"}},{"$f":"Результаты!#REF!","v":{"$error":"#REF!"}},{"$f":"Результаты!#REF!","v":{"$error":"#REF!"}},{"$f":"Результаты!#REF!","v":{"$error":"#REF!"}},{"$f":"Результаты!#REF!","v":{"$error":"#REF!"}},{"$f":"Результаты!#REF!","v":{"$error":"#REF!"}},{"$f":"Результаты!#REF!","v":{"$error":"#REF!"}},{"$f":"Результаты!#REF!","v":{"$error":"#REF!"}},{"$f":"Результаты!#REF!","v":{"$error":"#REF!"}},{"$f":"Результаты!#REF!","v":{"$error":"#REF!"}},{"$f":"Результаты!#REF!","v":{"$error":"#REF!"}},{"$f":"Результаты!#REF!","v":{"$error":"#REF!"}},{"$f":"Результаты!#REF!","v":{"$error":"#REF!"}},{"$f":"Результаты!#REF!","v":{"$error":"#REF!"}}]
[]
[]
[null,{"$f":"B6962","v":1},{"$f":"C6962","v":"Информационная обработка текстов различных стилей и жанров. Текст как речевое произведение. Смысловая и композиционная целостность текста. Отбор языковых средств в тексте в зависимости от темы, цели, адресата и ситуации общения. Создание текстов различных стилей и функционально-смысловых типов речи. Грамматические нормы (морфологические нормы). Грамматические  нормы  (синтаксические нормы). Лексические нормы. Пунктуация в простом и сложном предложениях. Орфограмма"}]
[null,{"$f":"B6963","v":2},"Текст как речевое произведение. Смысловая и композиционная целостность текста. Анализ текста"]
[null,{"$f":"B6964","v":3},"Выразительные средства лексики и фразеологии. Анализ средств выразительности"]
[null,{"$f":"B6965","v":4},"Правописание приставок. Слитное, дефисное, раздельное написание"]
[null,{"$f":"B6966","v":5},"Правописание суффиксов различных частей речи (кроме -Н-/-НН-). Правописание -Н- и -НН- в различных частях речи. Правописание личных окончаний глаголов и суффиксов причастий настоящего времени"]
[null,{"$f":"B6967","v":6},"Лексика и фразеология. Синонимы. Фразеологические обороты. Группы слов по происхождению и употреблению"]
[null,{"$f":"B6968","v":7},"Словосочетание"]
[null,{"$f":"B6969","v":8},"Предложение. Грамматическая (предикативная) основа предложения. Подлежащее и сказуемое как главные члены предложения "]
[null,{"$f":"B6970","v":9},"Осложнённое простое предложение"]
[null,{"$f":"B6971","v":10},"Пунктуационный анализ. Знаки препинания в предложениях со словами и конструкциями, грамматически не связанными с членами предложения"]
[null,{"$f":"B6972","v":11},"Синтаксический анализ сложного предложения"]
[null,{"$f":"B6973","v":12},"Пунктуационный анализ. Знаки препинания в сложносочинённом и сложноподчинённом предложениях"]
[null,{"$f":"B6974","v":13},"Синтаксический анализ сложного предложения"]
[null,{"$f":"B6975","v":14},"Сложные предложения с разными видами связи между частями"]
[null,{"$f":"B6976","v":15},"Текст как речевое произведение. Смысловая и композиционная целостность текста. Создание текстов различных стилей и функционально-смысловых типов речи. Информационная обработка текстов различных стилей и жанров. Грамматические нормы (морфологические нормы). Грамматические нормы (синтаксические нормы). Лексические нормы"]
[null,{"$f":"B6977","v":16},0]
[null,{"$f":"B6978","v":17},0]
[null,{"$f":"B6979","v":18},0]
[null,{"$f":"B6980","v":19},0]
[null,{"$f":"B6981","v":20},0]
[null,{"$f":"B6982","v":21},0]
[null,{"$f":"B6983","v":22},0]
[null,{"$f":"B6984","v":23},0]
[null,{"$f":"B6985","v":24},0]
[null,{"$f":"B6986","v":25},0]
[null,{"$f":"B6987","v":26},0]
[null,{"$f":"B6988","v":27},0]
[null,{"$f":"B6989","v":28},0]
[null,{"$f":"B6990","v":29},0]
[null,{"$f":"B6991","v":30},0]
[null,{"$f":"B6992","v":31},0]
[null,{"$f":"B6993","v":32},0]
[null,{"$f":"B6994","v":33},0]
[null,{"$f":"B6995","v":34},0]
[null,{"$f":"B6996","v":35},0]
[]
["Рекомендация: обратите внимание на задания по темам, которые вызвали у Вас затруднения, решены с ошибкой и отмечены \"0\" или к решению которых Вы не приступили (пустые ячейки)!"]
[]
[]
[]
["Центр независимой оценки качества образования и образовательного аудита \"Легион\""]
[]
["Образовательная организация",null,null,null,{"$f":"E7004","v":"Ленинская СОШ"}]
["Предмет",null,null,null,{"$f":"E7005","v":"Русский язык"}]
["Максимальный балл",null,null,null,39]
["Пороговый балл",null,null,null,15]
["Зона риска",null,null,null,{"$f":"Результаты!E15","v":15},null,null,{"$f":"Результаты!H15","v":16}]
[]
["Уровни",null,null,null,{"$f":"E7010","v":1},{"$f":"F7010","v":2},3,4,5,6,7,8,9,10,11,12,13,14,15,"ПР.ГР",{"$error":"#REF!"},{"$error":"#REF!"},{"$error":"#REF!"},{"$error":"#REF!"},{"$error":"#REF!"},{"$error":"#REF!"},{"$error":"#REF!"},{"$error":"#REF!"},{"$error":"#REF!"},{"$error":"#REF!"},{"$error":"#REF!"},{"$error":"#REF!"},{"$error":"#REF!"},{"$error":"#REF!"},{"$error":"#REF!"},{"$error":"#REF!"},{"$error":"#REF!"},{"$error":"#REF!"},{"$error":"#REF!"},"Тестовый балл","% выплнения заданий по уровням",null,null,"Оценка"]
[null,null,null,null,null,null,null,null,null,null,null,null,null,null,null,null,null,null,null,null,null,null,null,null,null,null,null,null,null,null,null,null,null,null,null,null,null,null,null,null,"Базовый","Повышенный","Высокий"]
["№","Класс","Ф.И.О.","№ задания",{"$f":"E7012","v":1},{"$f":"F7012","v":2},3,4,5,6,7,8,9,10,11,12,13,14,15,0,{"$error":"#REF!"},{"$error":"#REF!"},{"$error":"#REF!"},{"$error":"#REF!"},{"$error":"#REF!"},{"$error":"#REF!"},{"$error":"#REF!"},{"$error":"#REF!"},{"$error":"#REF!"},{"$error":"#REF!"},{"$error":"#REF!"},{"$error":"#REF!"},{"$error":"#REF!"},{"$error":"#REF!"},{"$error":"#REF!"},{"$error":"#REF!"},{"$error":"#REF!"},{"$error":"#REF!"},{"$error":"#REF!"}]
["Максимальный балл",null,null,null,{"$f":"E7013","v":7},{"$f":"F7013","v":1},1,1,1,1,1,1,1,1,1,1,1,1,9,10,{"$error":"#REF!"},{"$error":"#REF!"},{"$error":"#REF!"},{"$error":"#REF!"},{"$error":"#REF!"},{"$error":"#REF!"},{"$error":"#REF!"},{"$error":"#REF!"},{"$error":"#REF!"},{"$error":"#REF!"},{"$error":"#REF!"},{"$error":"#REF!"},{"$error":"#REF!"},{"$error":"#REF!"},{"$error":"#REF!"},{"$error":"#REF!"},{"$error":"#REF!"},{"$error":"#REF!"},{"$error":"#REF!"},39,76.92307692307692,{"$error":"#REF!"},23.076923076923077,0]
[null,null,null,"вариант"]
[{"$f":"Результаты!#REF!","v":{"$error":"#REF!"}},{"$f":"Результаты!#REF!","v":{"$error":"#REF!"}},{"$f":"Результаты!#REF!","v":{"$error":"#REF!"}},{"$f":"Результаты!#REF!","v":{"$error":"#REF!"}},{"$f":"Результаты!#REF!","v":{"$error":"#REF!"}},{"$f":"Результаты!#REF!","v":{"$error":"#REF!"}},{"$f":"Результаты!#REF!","v":{"$error":"#REF!"}},{"$f":"Результаты!#REF!","v":{"$error":"#REF!"}},{"$f":"Результаты!#REF!","v":{"$error":"#REF!"}},{"$f":"Результаты!#REF!","v":{"$error":"#REF!"}},{"$f":"Результаты!#REF!","v":{"$error":"#REF!"}},{"$f":"Результаты!#REF!","v":{"$error":"#REF!"}},{"$f":"Результаты!#REF!","v":{"$error":"#REF!"}},{"$f":"Результаты!#REF!","v":{"$error":"#REF!"}},{"$f":"Результаты!#REF!","v":{"$error":"#REF!"}},{"$f":"Результаты!#REF!","v":{"$error":"#REF!"}},{"$f":"Результаты!#REF!","v":{"$error":"#REF!"}},{"$f":"Результаты!#REF!","v":{"$error":"#REF!"}},{"$f":"Результаты!#REF!","v":{"$error":"#REF!"}},{"$f":"Результаты!#REF!","v":{"$error":"#REF!"}},{"$f":"Результаты!#REF!","v":{"$error":"#REF!"}},{"$f":"Результаты!#REF!","v":{"$error":"#REF!"}},{"$f":"Результаты!#REF!","v":{"$error":"#REF!"}},{"$f":"Результаты!#REF!","v":{"$error":"#REF!"}},{"$f":"Результаты!#REF!","v":{"$error":"#REF!"}},{"$f":"Результаты!#REF!","v":{"$error":"#REF!"}},{"$f":"Результаты!#REF!","v":{"$error":"#REF!"}},{"$f":"Результаты!#REF!","v":{"$error":"#REF!"}},{"$f":"Результаты!#REF!","v":{"$error":"#REF!"}},{"$f":"Результаты!#REF!","v":{"$error":"#REF!"}},{"$f":"Результаты!#REF!","v":{"$error":"#REF!"}},{"$f":"Результаты!#REF!","v":{"$error":"#REF!"}},{"$f":"Результаты!#REF!","v":{"$error":"#REF!"}},{"$f":"Результаты!#REF!","v":{"$error":"#REF!"}},{"$f":"Результаты!#REF!","v":{"$error":"#REF!"}},{"$f":"Результаты!#REF!","v":{"$error":"#REF!"}},{"$f":"Результаты!#REF!","v":{"$error":"#REF!"}},{"$f":"Результаты!#REF!","v":{"$error":"#REF!"}},{"$f":"Результаты!#REF!","v":{"$error":"#REF!"}},{"$f":"Результаты!#REF!","v":{"$error":"#REF!"}},{"$f":"Результаты!#REF!","v":{"$error":"#REF!"}},{"$f":"Результаты!#REF!","v":{"$error":"#REF!"}},{"$f":"Результаты!#REF!","v":{"$error":"#REF!"}},{"$f":"Результаты!#REF!","v":{"$error":"#REF!"}}]
[]
[]
[null,{"$f":"B7018","v":1},{"$f":"C7018","v":"Информационная обработка текстов различных стилей и жанров. Текст как речевое произведение. Смысловая и композиционная целостность текста. Отбор языковых средств в тексте в зависимости от темы, цели, адресата и ситуации общения. Создание текстов различных стилей и функционально-смысловых типов речи. Грамматические нормы (морфологические нормы). Грамматические  нормы  (синтаксические нормы). Лексические нормы. Пунктуация в простом и сложном предложениях. Орфограмма"}]
[null,{"$f":"B7019","v":2},"Текст как речевое произведение. Смысловая и композиционная целостность текста. Анализ текста"]
[null,{"$f":"B7020","v":3},"Выразительные средства лексики и фразеологии. Анализ средств выразительности"]
[null,{"$f":"B7021","v":4},"Правописание приставок. Слитное, дефисное, раздельное написание"]
[null,{"$f":"B7022","v":5},"Правописание суффиксов различных частей речи (кроме -Н-/-НН-). Правописание -Н- и -НН- в различных частях речи. Правописание личных окончаний глаголов и суффиксов причастий настоящего времени"]
[null,{"$f":"B7023","v":6},"Лексика и фразеология. Синонимы. Фразеологические обороты. Группы слов по происхождению и употреблению"]
[null,{"$f":"B7024","v":7},"Словосочетание"]
[null,{"$f":"B7025","v":8},"Предложение. Грамматическая (предикативная) основа предложения. Подлежащее и сказуемое как главные члены предложения "]
[null,{"$f":"B7026","v":9},"Осложнённое простое предложение"]
[null,{"$f":"B7027","v":10},"Пунктуационный анализ. Знаки препинания в предложениях со словами и конструкциями, грамматически не связанными с членами предложения"]
[null,{"$f":"B7028","v":11},"Синтаксический анализ сложного предложения"]
[null,{"$f":"B7029","v":12},"Пунктуационный анализ. Знаки препинания в сложносочинённом и сложноподчинённом предложениях"]
[null,{"$f":"B7030","v":13},"Синтаксический анализ сложного предложения"]
[null,{"$f":"B7031","v":14},"Сложные предложения с разными видами связи между частями"]
[null,{"$f":"B7032","v":15},"Текст как речевое произведение. Смысловая и композиционная целостность текста. Создание текстов различных стилей и функционально-смысловых типов речи. Информационная обработка текстов различных стилей и жанров. Грамматические нормы (морфологические нормы). Грамматические нормы (синтаксические нормы). Лексические нормы"]
[null,{"$f":"B7033","v":16},0]
[null,{"$f":"B7034","v":17},0]
[null,{"$f":"B7035","v":18},0]
[null,{"$f":"B7036","v":19},0]
[null,{"$f":"B7037","v":20},0]
[null,{"$f":"B7038","v":21},0]
[null,{"$f":"B7039","v":22},0]
[null,{"$f":"B7040","v":23},0]
[null,{"$f":"B7041","v":24},0]
[null,{"$f":"B7042","v":25},0]
[null,{"$f":"B7043","v":26},0]
[null,{"$f":"B7044","v":27},0]
[null,{"$f":"B7045","v":28},0]
[null,{"$f":"B7046","v":29},0]
[null,{"$f":"B7047","v":30},0]
[null,{"$f":"B7048","v":31},0]
[null,{"$f":"B7049","v":32},0]
[null,{"$f":"B7050","v":33},0]
[null,{"$f":"B7051","v":34},0]
[null,{"$f":"B7052","v":35},0]
[]
["Рекомендация: обратите внимание на задания по темам, которые вызвали у Вас затруднения, решены с ошибкой и отмечены \"0\" или к решению которых Вы не приступили (пустые ячейки)!"]
[]
[]
[]
["Центр независимой оценки качества образования и образовательного аудита \"Легион\""]
[]
["Образовательная организация",null,null,null,{"$f":"E7004","v":"Ленинская СОШ"}]
["Предмет",null,null,null,{"$f":"E7005","v":"Русский язык"}]
["Максимальный балл",null,null,null,39]
["Пороговый балл",null,null,null,15]
["Зона риска",null,null,null,{"$f":"Результаты!E15","v":15},null,null,{"$f":"Результаты!H15","v":16}]
[]
["Уровни",null,null,null,{"$f":"E7066","v":1},{"$f":"F7066","v":2},3,4,5,6,7,8,9,10,11,12,13,14,15,"ПР.ГР",{"$error":"#REF!"},{"$error":"#REF!"},{"$error":"#REF!"},{"$error":"#REF!"},{"$error":"#REF!"},{"$error":"#REF!"},{"$error":"#REF!"},{"$error":"#REF!"},{"$error":"#REF!"},{"$error":"#REF!"},{"$error":"#REF!"},{"$error":"#REF!"},{"$error":"#REF!"},{"$error":"#REF!"},{"$error":"#REF!"},{"$error":"#REF!"},{"$error":"#REF!"},{"$error":"#REF!"},{"$error":"#REF!"},"Тестовый балл","% выплнения заданий по уровням",null,null,"Оценка"]
[null,null,null,null,null,null,null,null,null,null,null,null,null,null,null,null,null,null,null,null,null,null,null,null,null,null,null,null,null,null,null,null,null,null,null,null,null,null,null,null,"Базовый","Повышенный","Высокий"]
["№","Класс","Ф.И.О.","№ задания",{"$f":"E7068","v":1},{"$f":"F7068","v":2},3,4,5,6,7,8,9,10,11,12,13,14,15,0,{"$error":"#REF!"},{"$error":"#REF!"},{"$error":"#REF!"},{"$error":"#REF!"},{"$error":"#REF!"},{"$error":"#REF!"},{"$error":"#REF!"},{"$error":"#REF!"},{"$error":"#REF!"},{"$error":"#REF!"},{"$error":"#REF!"},{"$error":"#REF!"},{"$error":"#REF!"},{"$error":"#REF!"},{"$error":"#REF!"},{"$error":"#REF!"},{"$error":"#REF!"},{"$error":"#REF!"},{"$error":"#REF!"}]
["Максимальный балл",null,null,null,{"$f":"E7069","v":7},{"$f":"F7069","v":1},1,1,1,1,1,1,1,1,1,1,1,1,9,10,{"$error":"#REF!"},{"$error":"#REF!"},{"$error":"#REF!"},{"$error":"#REF!"},{"$error":"#REF!"},{"$error":"#REF!"},{"$error":"#REF!"},{"$error":"#REF!"},{"$error":"#REF!"},{"$error":"#REF!"},{"$error":"#REF!"},{"$error":"#REF!"},{"$error":"#REF!"},{"$error":"#REF!"},{"$error":"#REF!"},{"$error":"#REF!"},{"$error":"#REF!"},{"$error":"#REF!"},{"$error":"#REF!"},39,76.92307692307692,{"$error":"#REF!"},23.076923076923077,0]
[null,null,null,"вариант"]
[{"$f":"Результаты!#REF!","v":{"$error":"#REF!"}},{"$f":"Результаты!#REF!","v":{"$error":"#REF!"}},{"$f":"Результаты!#REF!","v":{"$error":"#REF!"}},{"$f":"Результаты!#REF!","v":{"$error":"#REF!"}},{"$f":"Результаты!#REF!","v":{"$error":"#REF!"}},{"$f":"Результаты!#REF!","v":{"$error":"#REF!"}},{"$f":"Результаты!#REF!","v":{"$error":"#REF!"}},{"$f":"Результаты!#REF!","v":{"$error":"#REF!"}},{"$f":"Результаты!#REF!","v":{"$error":"#REF!"}},{"$f":"Результаты!#REF!","v":{"$error":"#REF!"}},{"$f":"Результаты!#REF!","v":{"$error":"#REF!"}},{"$f":"Результаты!#REF!","v":{"$error":"#REF!"}},{"$f":"Результаты!#REF!","v":{"$error":"#REF!"}},{"$f":"Результаты!#REF!","v":{"$error":"#REF!"}},{"$f":"Результаты!#REF!","v":{"$error":"#REF!"}},{"$f":"Результаты!#REF!","v":{"$error":"#REF!"}},{"$f":"Результаты!#REF!","v":{"$error":"#REF!"}},{"$f":"Результаты!#REF!","v":{"$error":"#REF!"}},{"$f":"Результаты!#REF!","v":{"$error":"#REF!"}},{"$f":"Результаты!#REF!","v":{"$error":"#REF!"}},{"$f":"Результаты!#REF!","v":{"$error":"#REF!"}},{"$f":"Результаты!#REF!","v":{"$error":"#REF!"}},{"$f":"Результаты!#REF!","v":{"$error":"#REF!"}},{"$f":"Результаты!#REF!","v":{"$error":"#REF!"}},{"$f":"Результаты!#REF!","v":{"$error":"#REF!"}},{"$f":"Результаты!#REF!","v":{"$error":"#REF!"}},{"$f":"Результаты!#REF!","v":{"$error":"#REF!"}},{"$f":"Результаты!#REF!","v":{"$error":"#REF!"}},{"$f":"Результаты!#REF!","v":{"$error":"#REF!"}},{"$f":"Результаты!#REF!","v":{"$error":"#REF!"}},{"$f":"Результаты!#REF!","v":{"$error":"#REF!"}},{"$f":"Результаты!#REF!","v":{"$error":"#REF!"}},{"$f":"Результаты!#REF!","v":{"$error":"#REF!"}},{"$f":"Результаты!#REF!","v":{"$error":"#REF!"}},{"$f":"Результаты!#REF!","v":{"$error":"#REF!"}},{"$f":"Результаты!#REF!","v":{"$error":"#REF!"}},{"$f":"Результаты!#REF!","v":{"$error":"#REF!"}},{"$f":"Результаты!#REF!","v":{"$error":"#REF!"}},{"$f":"Результаты!#REF!","v":{"$error":"#REF!"}},{"$f":"Результаты!#REF!","v":{"$error":"#REF!"}},{"$f":"Результаты!#REF!","v":{"$error":"#REF!"}},{"$f":"Результаты!#REF!","v":{"$error":"#REF!"}},{"$f":"Результаты!#REF!","v":{"$error":"#REF!"}},{"$f":"Результаты!#REF!","v":{"$error":"#REF!"}}]
[]
[]
[null,{"$f":"B7074","v":1},{"$f":"C7074","v":"Информационная обработка текстов различных стилей и жанров. Текст как речевое произведение. Смысловая и композиционная целостность текста. Отбор языковых средств в тексте в зависимости от темы, цели, адресата и ситуации общения. Создание текстов различных стилей и функционально-смысловых типов речи. Грамматические нормы (морфологические нормы). Грамматические  нормы  (синтаксические нормы). Лексические нормы. Пунктуация в простом и сложном предложениях. Орфограмма"}]
[null,{"$f":"B7075","v":2},"Текст как речевое произведение. Смысловая и композиционная целостность текста. Анализ текста"]
[null,{"$f":"B7076","v":3},"Выразительные средства лексики и фразеологии. Анализ средств выразительности"]
[null,{"$f":"B7077","v":4},"Правописание приставок. Слитное, дефисное, раздельное написание"]
[null,{"$f":"B7078","v":5},"Правописание суффиксов различных частей речи (кроме -Н-/-НН-). Правописание -Н- и -НН- в различных частях речи. Правописание личных окончаний глаголов и суффиксов причастий настоящего времени"]
[null,{"$f":"B7079","v":6},"Лексика и фразеология. Синонимы. Фразеологические обороты. Группы слов по происхождению и употреблению"]
[null,{"$f":"B7080","v":7},"Словосочетание"]
[null,{"$f":"B7081","v":8},"Предложение. Грамматическая (предикативная) основа предложения. Подлежащее и сказуемое как главные члены предложения "]
[null,{"$f":"B7082","v":9},"Осложнённое простое предложение"]
[null,{"$f":"B7083","v":10},"Пунктуационный анализ. Знаки препинания в предложениях со словами и конструкциями, грамматически не связанными с членами предложения"]
[null,{"$f":"B7084","v":11},"Синтаксический анализ сложного предложения"]
[null,{"$f":"B7085","v":12},"Пунктуационный анализ. Знаки препинания в сложносочинённом и сложноподчинённом предложениях"]
[null,{"$f":"B7086","v":13},"Синтаксический анализ сложного предложения"]
[null,{"$f":"B7087","v":14},"Сложные предложения с разными видами связи между частями"]
[null,{"$f":"B7088","v":15},"Текст как речевое произведение. Смысловая и композиционная целостность текста. Создание текстов различных стилей и функционально-смысловых типов речи. Информационная обработка текстов различных стилей и жанров. Грамматические нормы (морфологические нормы). Грамматические нормы (синтаксические нормы). Лексические нормы"]
[null,{"$f":"B7089","v":16},0]
[null,{"$f":"B7090","v":17},0]
[null,{"$f":"B7091","v":18},0]
[null,{"$f":"B7092","v":19},0]
[null,{"$f":"B7093","v":20},0]
[null,{"$f":"B7094","v":21},0]
[null,{"$f":"B7095","v":22},0]
[null,{"$f":"B7096","v":23},0]
[null,{"$f":"B7097","v":24},0]
[null,{"$f":"B7098","v":25},0]
[null,{"$f":"B7099","v":26},0]
[null,{"$f":"B7100","v":27},0]
[null,{"$f":"B7101","v":28},0]
[null,{"$f":"B7102","v":29},0]
[null,{"$f":"B7103","v":30},0]
[null,{"$f":"B7104","v":31},0]
[null,{"$f":"B7105","v":32},0]
[null,{"$f":"B7106","v":33},0]
[null,{"$f":"B7107","v":34},{"$f":"C7107","v":0}]
[null,{"$f":"B7108","v":35},{"$f":"C7108","v":0}]
[]
["Рекомендация: обратите внимание на задания по темам, которые вызвали у Вас затруднения, решены с ошибкой и отмечены \"0\" или к решению которых Вы не приступили (пустые ячейки)!"]
[]
[]
[]
["Центр независимой оценки качества образования и образовательного аудита \"Легион\""]
[]
["Образовательная организация",null,null,null,{"$f":"E7116","v":"Ленинская СОШ"}]
["Предмет",null,null,null,{"$f":"E7117","v":"Русский язык"}]
["Максимальный балл",null,null,null,39]
["Пороговый балл",null,null,null,15]
["Зона риска",null,null,null,{"$f":"Результаты!E15","v":15},null,null,{"$f":"Результаты!H15","v":16}]
[]
["Уровни",null,null,null,{"$f":"E7122","v":1},{"$f":"F7122","v":2},3,4,5,6,7,8,9,10,11,12,13,14,15,"ПР.ГР",{"$error":"#REF!"},{"$error":"#REF!"},{"$error":"#REF!"},{"$error":"#REF!"},{"$error":"#REF!"},{"$error":"#REF!"},{"$error":"#REF!"},{"$error":"#REF!"},{"$error":"#REF!"},{"$error":"#REF!"},{"$error":"#REF!"},{"$error":"#REF!"},{"$error":"#REF!"},{"$error":"#REF!"},{"$error":"#REF!"},{"$error":"#REF!"},{"$error":"#REF!"},{"$error":"#REF!"},{"$error":"#REF!"},"Тестовый балл","% выплнения заданий по уровням",null,null,"Оценка"]
[null,null,null,null,null,null,null,null,null,null,null,null,null,null,null,null,null,null,null,null,null,null,null,null,null,null,null,null,null,null,null,null,null,null,null,null,null,null,null,null,"Базовый","Повышенный","Высокий"]
["№","Класс","Ф.И.О.","№ задания",{"$f":"E7124","v":1},{"$f":"F7124","v":2},3,4,5,6,7,8,9,10,11,12,13,14,15,0,{"$error":"#REF!"},{"$error":"#REF!"},{"$error":"#REF!"},{"$error":"#REF!"},{"$error":"#REF!"},{"$error":"#REF!"},{"$error":"#REF!"},{"$error":"#REF!"},{"$error":"#REF!"},{"$error":"#REF!"},{"$error":"#REF!"},{"$error":"#REF!"},{"$error":"#REF!"},{"$error":"#REF!"},{"$error":"#REF!"},{"$error":"#REF!"},{"$error":"#REF!"},{"$error":"#REF!"},{"$error":"#REF!"}]
["Максимальный балл",null,null,null,{"$f":"E7125","v":7},{"$f":"F7125","v":1},1,1,1,1,1,1,1,1,1,1,1,1,9,10,{"$error":"#REF!"},{"$error":"#REF!"},{"$error":"#REF!"},{"$error":"#REF!"},{"$error":"#REF!"},{"$error":"#REF!"},{"$error":"#REF!"},{"$error":"#REF!"},{"$error":"#REF!"},{"$error":"#REF!"},{"$error":"#REF!"},{"$error":"#REF!"},{"$error":"#REF!"},{"$error":"#REF!"},{"$error":"#REF!"},{"$error":"#REF!"},{"$error":"#REF!"},{"$error":"#REF!"},{"$error":"#REF!"},39,76.92307692307692,{"$error":"#REF!"},23.076923076923077,0]
[null,null,null,"вариант"]
[{"$f":"Результаты!#REF!","v":{"$error":"#REF!"}},{"$f":"Результаты!#REF!","v":{"$error":"#REF!"}},{"$f":"Результаты!#REF!","v":{"$error":"#REF!"}},{"$f":"Результаты!#REF!","v":{"$error":"#REF!"}},{"$f":"Результаты!#REF!","v":{"$error":"#REF!"}},{"$f":"Результаты!#REF!","v":{"$error":"#REF!"}},{"$f":"Результаты!#REF!","v":{"$error":"#REF!"}},{"$f":"Результаты!#REF!","v":{"$error":"#REF!"}},{"$f":"Результаты!#REF!","v":{"$error":"#REF!"}},{"$f":"Результаты!#REF!","v":{"$error":"#REF!"}},{"$f":"Результаты!#REF!","v":{"$error":"#REF!"}},{"$f":"Результаты!#REF!","v":{"$error":"#REF!"}},{"$f":"Результаты!#REF!","v":{"$error":"#REF!"}},{"$f":"Результаты!#REF!","v":{"$error":"#REF!"}},{"$f":"Результаты!#REF!","v":{"$error":"#REF!"}},{"$f":"Результаты!#REF!","v":{"$error":"#REF!"}},{"$f":"Результаты!#REF!","v":{"$error":"#REF!"}},{"$f":"Результаты!#REF!","v":{"$error":"#REF!"}},{"$f":"Результаты!#REF!","v":{"$error":"#REF!"}},{"$f":"Результаты!#REF!","v":{"$error":"#REF!"}},{"$f":"Результаты!#REF!","v":{"$error":"#REF!"}},{"$f":"Результаты!#REF!","v":{"$error":"#REF!"}},{"$f":"Результаты!#REF!","v":{"$error":"#REF!"}},{"$f":"Результаты!#REF!","v":{"$error":"#REF!"}},{"$f":"Результаты!#REF!","v":{"$error":"#REF!"}},{"$f":"Результаты!#REF!","v":{"$error":"#REF!"}},{"$f":"Результаты!#REF!","v":{"$error":"#REF!"}},{"$f":"Результаты!#REF!","v":{"$error":"#REF!"}},{"$f":"Результаты!#REF!","v":{"$error":"#REF!"}},{"$f":"Результаты!#REF!","v":{"$error":"#REF!"}},{"$f":"Результаты!#REF!","v":{"$error":"#REF!"}},{"$f":"Результаты!#REF!","v":{"$error":"#REF!"}},{"$f":"Результаты!#REF!","v":{"$error":"#REF!"}},{"$f":"Результаты!#REF!","v":{"$error":"#REF!"}},{"$f":"Результаты!#REF!","v":{"$error":"#REF!"}},{"$f":"Результаты!#REF!","v":{"$error":"#REF!"}},{"$f":"Результаты!#REF!","v":{"$error":"#REF!"}},{"$f":"Результаты!#REF!","v":{"$error":"#REF!"}},{"$f":"Результаты!#REF!","v":{"$error":"#REF!"}},{"$f":"Результаты!#REF!","v":{"$error":"#REF!"}},{"$f":"Результаты!#REF!","v":{"$error":"#REF!"}},{"$f":"Результаты!#REF!","v":{"$error":"#REF!"}},{"$f":"Результаты!#REF!","v":{"$error":"#REF!"}},{"$f":"Результаты!#REF!","v":{"$error":"#REF!"}}]
[]
[]
[null,{"$f":"B7130","v":1},{"$f":"C7130","v":"Информационная обработка текстов различных стилей и жанров. Текст как речевое произведение. Смысловая и композиционная целостность текста. Отбор языковых средств в тексте в зависимости от темы, цели, адресата и ситуации общения. Создание текстов различных стилей и функционально-смысловых типов речи. Грамматические нормы (морфологические нормы). Грамматические  нормы  (синтаксические нормы). Лексические нормы. Пунктуация в простом и сложном предложениях. Орфограмма"}]
[null,{"$f":"B7131","v":2},"Текст как речевое произведение. Смысловая и композиционная целостность текста. Анализ текста"]
[null,{"$f":"B7132","v":3},"Выразительные средства лексики и фразеологии. Анализ средств выразительности"]
[null,{"$f":"B7133","v":4},"Правописание приставок. Слитное, дефисное, раздельное написание"]
[null,{"$f":"B7134","v":5},"Правописание суффиксов различных частей речи (кроме -Н-/-НН-). Правописание -Н- и -НН- в различных частях речи. Правописание личных окончаний глаголов и суффиксов причастий настоящего времени"]
[null,{"$f":"B7135","v":6},"Лексика и фразеология. Синонимы. Фразеологические обороты. Группы слов по происхождению и употреблению"]
[null,{"$f":"B7136","v":7},"Словосочетание"]
[null,{"$f":"B7137","v":8},"Предложение. Грамматическая (предикативная) основа предложения. Подлежащее и сказуемое как главные члены предложения "]
[null,{"$f":"B7138","v":9},"Осложнённое простое предложение"]
[null,{"$f":"B7139","v":10},"Пунктуационный анализ. Знаки препинания в предложениях со словами и конструкциями, грамматически не связанными с членами предложения"]
[null,{"$f":"B7140","v":11},"Синтаксический анализ сложного предложения"]
[null,{"$f":"B7141","v":12},"Пунктуационный анализ. Знаки препинания в сложносочинённом и сложноподчинённом предложениях"]
[null,{"$f":"B7142","v":13},"Синтаксический анализ сложного предложения"]
[null,{"$f":"B7143","v":14},"Сложные предложения с разными видами связи между частями"]
[null,{"$f":"B7144","v":15},"Текст как речевое произведение. Смысловая и композиционная целостность текста. Создание текстов различных стилей и функционально-смысловых типов речи. Информационная обработка текстов различных стилей и жанров. Грамматические нормы (морфологические нормы). Грамматические нормы (синтаксические нормы). Лексические нормы"]
[null,{"$f":"B7145","v":16},0]
[null,{"$f":"B7146","v":17},0]
[null,{"$f":"B7147","v":18},0]
[null,{"$f":"B7148","v":19},0]
[null,{"$f":"B7149","v":20},0]
[null,{"$f":"B7150","v":21},0]
[null,{"$f":"B7151","v":22},0]
[null,{"$f":"B7152","v":23},0]
[null,{"$f":"B7153","v":24},0]
[null,{"$f":"B7154","v":25},0]
[null,{"$f":"B7155","v":26},0]
[null,{"$f":"B7156","v":27},0]
[null,{"$f":"B7157","v":28},0]
[null,{"$f":"B7158","v":29},0]
[null,{"$f":"B7159","v":30},0]
[null,{"$f":"B7160","v":31},0]
[null,{"$f":"B7161","v":32},0]
[null,{"$f":"B7162","v":33},0]
[null,{"$f":"B7163","v":34},0]
[null,{"$f":"B7164","v":35},0]
[]
["Рекомендация: обратите внимание на задания по темам, которые вызвали у Вас затруднения, решены с ошибкой и отмечены \"0\" или к решению которых Вы не приступили (пустые ячейки)!"]
[]
[]
[]
["Центр независимой оценки качества образования и образовательного аудита \"Легион\""]
[]
["Образовательная организация",null,null,null,{"$f":"E7172","v":"Ленинская СОШ"}]
["Предмет",null,null,null,{"$f":"E7173","v":"Русский язык"}]
["Максимальный балл",null,null,null,39]
["Пороговый балл",null,null,null,15]
["Зона риска",null,null,null,{"$f":"Результаты!E15","v":15},null,null,{"$f":"Результаты!H15","v":16}]
[]
["Уровни",null,null,null,{"$f":"E7178","v":1},{"$f":"F7178","v":2},3,4,5,6,7,8,9,10,11,12,13,14,15,"ПР.ГР",{"$error":"#REF!"},{"$error":"#REF!"},{"$error":"#REF!"},{"$error":"#REF!"},{"$error":"#REF!"},{"$error":"#REF!"},{"$error":"#REF!"},{"$error":"#REF!"},{"$error":"#REF!"},{"$error":"#REF!"},{"$error":"#REF!"},{"$error":"#REF!"},{"$error":"#REF!"},{"$error":"#REF!"},{"$error":"#REF!"},{"$error":"#REF!"},{"$error":"#REF!"},{"$error":"#REF!"},{"$error":"#REF!"},"Тестовый балл","% выплнения заданий по уровням",null,null,"Оценка"]
[null,null,null,null,null,null,null,null,null,null,null,null,null,null,null,null,null,null,null,null,null,null,null,null,null,null,null,null,null,null,null,null,null,null,null,null,null,null,null,null,"Базовый","Повышенный","Высокий"]
["№","Класс","Ф.И.О.","№ задания",{"$f":"E7180","v":1},{"$f":"F7180","v":2},3,4,5,6,7,8,9,10,11,12,13,14,15,0,{"$error":"#REF!"},{"$error":"#REF!"},{"$error":"#REF!"},{"$error":"#REF!"},{"$error":"#REF!"},{"$error":"#REF!"},{"$error":"#REF!"},{"$error":"#REF!"},{"$error":"#REF!"},{"$error":"#REF!"},{"$error":"#REF!"},{"$error":"#REF!"},{"$error":"#REF!"},{"$error":"#REF!"},{"$error":"#REF!"},{"$error":"#REF!"},{"$error":"#REF!"},{"$error":"#REF!"},{"$error":"#REF!"}]
["Максимальный балл",null,null,null,{"$f":"E7181","v":7},{"$f":"F7181","v":1},1,1,1,1,1,1,1,1,1,1,1,1,9,10,{"$error":"#REF!"},{"$error":"#REF!"},{"$error":"#REF!"},{"$error":"#REF!"},{"$error":"#REF!"},{"$error":"#REF!"},{"$error":"#REF!"},{"$error":"#REF!"},{"$error":"#REF!"},{"$error":"#REF!"},{"$error":"#REF!"},{"$error":"#REF!"},{"$error":"#REF!"},{"$error":"#REF!"},{"$error":"#REF!"},{"$error":"#REF!"},{"$error":"#REF!"},{"$error":"#REF!"},{"$error":"#REF!"},39,76.92307692307692,{"$error":"#REF!"},23.076923076923077,0]
[null,null,null,"вариант"]
[{"$f":"Результаты!#REF!","v":{"$error":"#REF!"}},{"$f":"Результаты!#REF!","v":{"$error":"#REF!"}},{"$f":"Результаты!#REF!","v":{"$error":"#REF!"}},{"$f":"Результаты!#REF!","v":{"$error":"#REF!"}},{"$f":"Результаты!#REF!","v":{"$error":"#REF!"}},{"$f":"Результаты!#REF!","v":{"$error":"#REF!"}},{"$f":"Результаты!#REF!","v":{"$error":"#REF!"}},{"$f":"Результаты!#REF!","v":{"$error":"#REF!"}},{"$f":"Результаты!#REF!","v":{"$error":"#REF!"}},{"$f":"Результаты!#REF!","v":{"$error":"#REF!"}},{"$f":"Результаты!#REF!","v":{"$error":"#REF!"}},{"$f":"Результаты!#REF!","v":{"$error":"#REF!"}},{"$f":"Результаты!#REF!","v":{"$error":"#REF!"}},{"$f":"Результаты!#REF!","v":{"$error":"#REF!"}},{"$f":"Результаты!#REF!","v":{"$error":"#REF!"}},{"$f":"Результаты!#REF!","v":{"$error":"#REF!"}},{"$f":"Результаты!#REF!","v":{"$error":"#REF!"}},{"$f":"Результаты!#REF!","v":{"$error":"#REF!"}},{"$f":"Результаты!#REF!","v":{"$error":"#REF!"}},{"$f":"Результаты!#REF!","v":{"$error":"#REF!"}},{"$f":"Результаты!#REF!","v":{"$error":"#REF!"}},{"$f":"Результаты!#REF!","v":{"$error":"#REF!"}},{"$f":"Результаты!#REF!","v":{"$error":"#REF!"}},{"$f":"Результаты!#REF!","v":{"$error":"#REF!"}},{"$f":"Результаты!#REF!","v":{"$error":"#REF!"}},{"$f":"Результаты!#REF!","v":{"$error":"#REF!"}},{"$f":"Результаты!#REF!","v":{"$error":"#REF!"}},{"$f":"Результаты!#REF!","v":{"$error":"#REF!"}},{"$f":"Результаты!#REF!","v":{"$error":"#REF!"}},{"$f":"Результаты!#REF!","v":{"$error":"#REF!"}},{"$f":"Результаты!#REF!","v":{"$error":"#REF!"}},{"$f":"Результаты!#REF!","v":{"$error":"#REF!"}},{"$f":"Результаты!#REF!","v":{"$error":"#REF!"}},{"$f":"Результаты!#REF!","v":{"$error":"#REF!"}},{"$f":"Результаты!#REF!","v":{"$error":"#REF!"}},{"$f":"Результаты!#REF!","v":{"$error":"#REF!"}},{"$f":"Результаты!#REF!","v":{"$error":"#REF!"}},{"$f":"Результаты!#REF!","v":{"$error":"#REF!"}},{"$f":"Результаты!#REF!","v":{"$error":"#REF!"}},{"$f":"Результаты!#REF!","v":{"$error":"#REF!"}},{"$f":"Результаты!#REF!","v":{"$error":"#REF!"}},{"$f":"Результаты!#REF!","v":{"$error":"#REF!"}},{"$f":"Результаты!#REF!","v":{"$error":"#REF!"}},{"$f":"Результаты!#REF!","v":{"$error":"#REF!"}}]
[]
[]
[null,{"$f":"B7186","v":1},"Информационная обработка текстов различных стилей и жанров. Текст как речевое произведение. Смысловая и композиционная целостность текста. Отбор языковых средств в тексте в зависимости от темы, цели, адресата и ситуации общения. Создание текстов различных стилей и функционально-смысловых типов речи. Грамматические нормы (морфологические нормы). Грамматические  нормы  (синтаксические нормы). Лексические нормы. Пунктуация в простом и сложном предложениях. Орфограмма"]
[null,{"$f":"B7187","v":2},"Текст как речевое произведение. Смысловая и композиционная целостность текста. Анализ текста"]
[null,{"$f":"B7188","v":3},"Выразительные средства лексики и фразеологии. Анализ средств выразительности"]
[null,{"$f":"B7189","v":4},"Правописание приставок. Слитное, дефисное, раздельное написание"]
[null,{"$f":"B7190","v":5},"Правописание суффиксов различных частей речи (кроме -Н-/-НН-). Правописание -Н- и -НН- в различных частях речи. Правописание личных окончаний глаголов и суффиксов причастий настоящего времени"]
[null,{"$f":"B7191","v":6},"Лексика и фразеология. Синонимы. Фразеологические обороты. Группы слов по происхождению и употреблению"]
[null,{"$f":"B7192","v":7},"Словосочетание"]
[null,{"$f":"B7193","v":8},"Предложение. Грамматическая (предикативная) основа предложения. Подлежащее и сказуемое как главные члены предложения "]
[null,{"$f":"B7194","v":9},"Осложнённое простое предложение"]
[null,{"$f":"B7195","v":10},"Пунктуационный анализ. Знаки препинания в предложениях со словами и конструкциями, грамматически не связанными с членами предложения"]
[null,{"$f":"B7196","v":11},"Синтаксический анализ сложного предложения"]
[null,{"$f":"B7197","v":12},"Пунктуационный анализ. Знаки препинания в сложносочинённом и сложноподчинённом предложениях"]
[null,{"$f":"B7198","v":13},"Синтаксический анализ сложного предложения"]
[null,{"$f":"B7199","v":14},"Сложные предложения с разными видами связи между частями"]
[null,{"$f":"B7200","v":15},"Текст как речевое произведение. Смысловая и композиционная целостность текста. Создание текстов различных стилей и функционально-смысловых типов речи. Информационная обработка текстов различных стилей и жанров. Грамматические нормы (морфологические нормы). Грамматические нормы (синтаксические нормы). Лексические нормы"]
[null,{"$f":"B7201","v":16},0]
[null,{"$f":"B7202","v":17},0]
[null,{"$f":"B7203","v":18},0]
[null,{"$f":"B7204","v":19},0]
[null,{"$f":"B7205","v":20},0]
[null,{"$f":"B7206","v":21},0]
[null,{"$f":"B7207","v":22},0]
[null,{"$f":"B7208","v":23},0]
[null,{"$f":"B7209","v":24},0]
[null,{"$f":"B7210","v":25},0]
[null,{"$f":"B7211","v":26},0]
[null,{"$f":"B7212","v":27},0]
[null,{"$f":"B7213","v":28},0]
[null,{"$f":"B7214","v":29},0]
[null,{"$f":"B7215","v":30},0]
[null,{"$f":"B7216","v":31},0]
[null,{"$f":"B7217","v":32},0]
[null,{"$f":"B7218","v":33},0]
[null,{"$f":"B7219","v":34},0]
[null,{"$f":"B7220","v":35},0]
[]
["Рекомендация: обратите внимание на задания по темам, которые вызвали у Вас затруднения, решены с ошибкой и отмечены \"0\" или к решению которых Вы не приступили (пустые ячейки)!"]
[]
[]
[]
["Центр независимой оценки качества образования и образовательного аудита \"Легион\""]
[]
["Образовательная организация",null,null,null,{"$f":"E7228","v":"Ленинская СОШ"}]
["Предмет",null,null,null,{"$f":"E7229","v":"Русский язык"}]
["Максимальный балл",null,null,null,39]
["Пороговый балл",null,null,null,15]
["Зона риска",null,null,null,{"$f":"Результаты!E15","v":15},null,null,{"$f":"Результаты!H15","v":16}]
[]
["Уровни",null,null,null,{"$f":"E7234","v":1},{"$f":"F7234","v":2},3,4,5,6,7,8,9,10,11,12,13,14,15,"ПР.ГР",{"$error":"#REF!"},{"$error":"#REF!"},{"$error":"#REF!"},{"$error":"#REF!"},{"$error":"#REF!"},{"$error":"#REF!"},{"$error":"#REF!"},{"$error":"#REF!"},{"$error":"#REF!"},{"$error":"#REF!"},{"$error":"#REF!"},{"$error":"#REF!"},{"$error":"#REF!"},{"$error":"#REF!"},{"$error":"#REF!"},{"$error":"#REF!"},{"$error":"#REF!"},{"$error":"#REF!"},{"$error":"#REF!"},"Тестовый балл","% выплнения заданий по уровням",null,null,"Оценка"]
[null,null,null,null,null,null,null,null,null,null,null,null,null,null,null,null,null,null,null,null,null,null,null,null,null,null,null,null,null,null,null,null,null,null,null,null,null,null,null,null,"Базовый","Повышенный","Высокий"]
["№","Класс","Ф.И.О.","№ задания",{"$f":"E7236","v":1},{"$f":"F7236","v":2},3,4,5,6,7,8,9,10,11,12,13,14,15,0,{"$error":"#REF!"},{"$error":"#REF!"},{"$error":"#REF!"},{"$error":"#REF!"},{"$error":"#REF!"},{"$error":"#REF!"},{"$error":"#REF!"},{"$error":"#REF!"},{"$error":"#REF!"},{"$error":"#REF!"},{"$error":"#REF!"},{"$error":"#REF!"},{"$error":"#REF!"},{"$error":"#REF!"},{"$error":"#REF!"},{"$error":"#REF!"},{"$error":"#REF!"},{"$error":"#REF!"},{"$error":"#REF!"}]
["Максимальный балл",null,null,null,{"$f":"E7237","v":7},{"$f":"F7237","v":1},1,1,1,1,1,1,1,1,1,1,1,1,9,10,{"$error":"#REF!"},{"$error":"#REF!"},{"$error":"#REF!"},{"$error":"#REF!"},{"$error":"#REF!"},{"$error":"#REF!"},{"$error":"#REF!"},{"$error":"#REF!"},{"$error":"#REF!"},{"$error":"#REF!"},{"$error":"#REF!"},{"$error":"#REF!"},{"$error":"#REF!"},{"$error":"#REF!"},{"$error":"#REF!"},{"$error":"#REF!"},{"$error":"#REF!"},{"$error":"#REF!"},{"$error":"#REF!"},39,76.92307692307692,{"$error":"#REF!"},23.076923076923077,0]
[null,null,null,"вариант"]
[{"$f":"Результаты!#REF!","v":{"$error":"#REF!"}},{"$f":"Результаты!#REF!","v":{"$error":"#REF!"}},{"$f":"Результаты!#REF!","v":{"$error":"#REF!"}},{"$f":"Результаты!#REF!","v":{"$error":"#REF!"}},{"$f":"Результаты!#REF!","v":{"$error":"#REF!"}},{"$f":"Результаты!#REF!","v":{"$error":"#REF!"}},{"$f":"Результаты!#REF!","v":{"$error":"#REF!"}},{"$f":"Результаты!#REF!","v":{"$error":"#REF!"}},{"$f":"Результаты!#REF!","v":{"$error":"#REF!"}},{"$f":"Результаты!#REF!","v":{"$error":"#REF!"}},{"$f":"Результаты!#REF!","v":{"$error":"#REF!"}},{"$f":"Результаты!#REF!","v":{"$error":"#REF!"}},{"$f":"Результаты!#REF!","v":{"$error":"#REF!"}},{"$f":"Результаты!#REF!","v":{"$error":"#REF!"}},{"$f":"Результаты!#REF!","v":{"$error":"#REF!"}},{"$f":"Результаты!#REF!","v":{"$error":"#REF!"}},{"$f":"Результаты!#REF!","v":{"$error":"#REF!"}},{"$f":"Результаты!#REF!","v":{"$error":"#REF!"}},{"$f":"Результаты!#REF!","v":{"$error":"#REF!"}},{"$f":"Результаты!#REF!","v":{"$error":"#REF!"}},{"$f":"Результаты!#REF!","v":{"$error":"#REF!"}},{"$f":"Результаты!#REF!","v":{"$error":"#REF!"}},{"$f":"Результаты!#REF!","v":{"$error":"#REF!"}},{"$f":"Результаты!#REF!","v":{"$error":"#REF!"}},{"$f":"Результаты!#REF!","v":{"$error":"#REF!"}},{"$f":"Результаты!#REF!","v":{"$error":"#REF!"}},{"$f":"Результаты!#REF!","v":{"$error":"#REF!"}},{"$f":"Результаты!#REF!","v":{"$error":"#REF!"}},{"$f":"Результаты!#REF!","v":{"$error":"#REF!"}},{"$f":"Результаты!#REF!","v":{"$error":"#REF!"}},{"$f":"Результаты!#REF!","v":{"$error":"#REF!"}},{"$f":"Результаты!#REF!","v":{"$error":"#REF!"}},{"$f":"Результаты!#REF!","v":{"$error":"#REF!"}},{"$f":"Результаты!#REF!","v":{"$error":"#REF!"}},{"$f":"Результаты!#REF!","v":{"$error":"#REF!"}},{"$f":"Результаты!#REF!","v":{"$error":"#REF!"}},{"$f":"Результаты!#REF!","v":{"$error":"#REF!"}},{"$f":"Результаты!#REF!","v":{"$error":"#REF!"}},{"$f":"Результаты!#REF!","v":{"$error":"#REF!"}},{"$f":"Результаты!#REF!","v":{"$error":"#REF!"}},{"$f":"Результаты!#REF!","v":{"$error":"#REF!"}},{"$f":"Результаты!#REF!","v":{"$error":"#REF!"}},{"$f":"Результаты!#REF!","v":{"$error":"#REF!"}},{"$f":"Результаты!#REF!","v":{"$error":"#REF!"}}]
[]
[]
[null,{"$f":"B7242","v":1},"Информационная обработка текстов различных стилей и жанров. Текст как речевое произведение. Смысловая и композиционная целостность текста. Отбор языковых средств в тексте в зависимости от темы, цели, адресата и ситуации общения. Создание текстов различных стилей и функционально-смысловых типов речи. Грамматические нормы (морфологические нормы). Грамматические  нормы  (синтаксические нормы). Лексические нормы. Пунктуация в простом и сложном предложениях. Орфограмма"]
[null,{"$f":"B7243","v":2},"Текст как речевое произведение. Смысловая и композиционная целостность текста. Анализ текста"]
[null,{"$f":"B7244","v":3},"Выразительные средства лексики и фразеологии. Анализ средств выразительности"]
[null,{"$f":"B7245","v":4},"Правописание приставок. Слитное, дефисное, раздельное написание"]
[null,{"$f":"B7246","v":5},"Правописание суффиксов различных частей речи (кроме -Н-/-НН-). Правописание -Н- и -НН- в различных частях речи. Правописание личных окончаний глаголов и суффиксов причастий настоящего времени"]
[null,{"$f":"B7247","v":6},"Лексика и фразеология. Синонимы. Фразеологические обороты. Группы слов по происхождению и употреблению"]
[null,{"$f":"B7248","v":7},"Словосочетание"]
[null,{"$f":"B7249","v":8},"Предложение. Грамматическая (предикативная) основа предложения. Подлежащее и сказуемое как главные члены предложения "]
[null,{"$f":"B7250","v":9},"Осложнённое простое предложение"]
[null,{"$f":"B7251","v":10},"Пунктуационный анализ. Знаки препинания в предложениях со словами и конструкциями, грамматически не связанными с членами предложения"]
[null,{"$f":"B7252","v":11},"Синтаксический анализ сложного предложения"]
[null,{"$f":"B7253","v":12},"Пунктуационный анализ. Знаки препинания в сложносочинённом и сложноподчинённом предложениях"]
[null,{"$f":"B7254","v":13},"Синтаксический анализ сложного предложения"]
[null,{"$f":"B7255","v":14},"Сложные предложения с разными видами связи между частями"]
[null,{"$f":"B7256","v":15},"Текст как речевое произведение. Смысловая и композиционная целостность текста. Создание текстов различных стилей и функционально-смысловых типов речи. Информационная обработка текстов различных стилей и жанров. Грамматические нормы (морфологические нормы). Грамматические нормы (синтаксические нормы). Лексические нормы"]
[null,{"$f":"B7257","v":16},0]
[null,{"$f":"B7258","v":17},0]
[null,{"$f":"B7259","v":18},0]
[null,{"$f":"B7260","v":19},0]
[null,{"$f":"B7261","v":20},0]
[null,{"$f":"B7262","v":21},0]
[null,{"$f":"B7263","v":22},0]
[null,{"$f":"B7264","v":23},0]
[null,{"$f":"B7265","v":24},0]
[null,{"$f":"B7266","v":25},0]
[null,{"$f":"B7267","v":26},0]
[null,{"$f":"B7268","v":27},0]
[null,{"$f":"B7269","v":28},0]
[null,{"$f":"B7270","v":29},0]
[null,{"$f":"B7271","v":30},0]
[null,{"$f":"B7272","v":31},0]
[null,{"$f":"B7273","v":32},0]
[null,{"$f":"B7274","v":33},0]
[null,{"$f":"B7275","v":34},0]
[null,{"$f":"B7276","v":35},0]
[]
[]
["Рекомендация: обратите внимание на задания по темам, которые вызвали у Вас затруднения, решены с ошибкой и отмечены \"0\" или к решению которых Вы не приступили (пустые ячейки)!"]
[]
[]
["Центр независимой оценки качества образования и образовательного аудита \"Легион\""]
[]
["Образовательная организация",null,null,null,{"$f":"E7284","v":"Ленинская СОШ"}]
["Предмет",null,null,null,{"$f":"E7285","v":"Русский язык"}]
["Максимальный балл",null,null,null,39]
["Пороговый балл",null,null,null,15]
["Зона риска",null,null,null,{"$f":"Результаты!E15","v":15},null,null,{"$f":"Результаты!H15","v":16}]
[]
["Уровни",null,null,null,{"$f":"E7290","v":1},{"$f":"F7290","v":2},3,4,5,6,7,8,9,10,11,12,13,14,15,"ПР.ГР",{"$error":"#REF!"},{"$error":"#REF!"},{"$error":"#REF!"},{"$error":"#REF!"},{"$error":"#REF!"},{"$error":"#REF!"},{"$error":"#REF!"},{"$error":"#REF!"},{"$error":"#REF!"},{"$error":"#REF!"},{"$error":"#REF!"},{"$error":"#REF!"},{"$error":"#REF!"},{"$error":"#REF!"},{"$error":"#REF!"},{"$error":"#REF!"},{"$error":"#REF!"},{"$error":"#REF!"},{"$error":"#REF!"},"Тестовый балл","% выплнения заданий по уровням",null,null,"Оценка"]
[null,null,null,null,null,null,null,null,null,null,null,null,null,null,null,null,null,null,null,null,null,null,null,null,null,null,null,null,null,null,null,null,null,null,null,null,null,null,null,null,"Базовый","Повышенный","Высокий"]
["№","Класс","Ф.И.О.","№ задания",{"$f":"E7292","v":1},{"$f":"F7292","v":2},3,4,5,6,7,8,9,10,11,12,13,14,15,0,{"$error":"#REF!"},{"$error":"#REF!"},{"$error":"#REF!"},{"$error":"#REF!"},{"$error":"#REF!"},{"$error":"#REF!"},{"$error":"#REF!"},{"$error":"#REF!"},{"$error":"#REF!"},{"$error":"#REF!"},{"$error":"#REF!"},{"$error":"#REF!"},{"$error":"#REF!"},{"$error":"#REF!"},{"$error":"#REF!"},{"$error":"#REF!"},{"$error":"#REF!"},{"$error":"#REF!"},{"$error":"#REF!"}]
["Максимальный балл",null,null,null,{"$f":"E7293","v":7},{"$f":"F7293","v":1},1,1,1,1,1,1,1,1,1,1,1,1,9,10,{"$error":"#REF!"},{"$error":"#REF!"},{"$error":"#REF!"},{"$error":"#REF!"},{"$error":"#REF!"},{"$error":"#REF!"},{"$error":"#REF!"},{"$error":"#REF!"},{"$error":"#REF!"},{"$error":"#REF!"},{"$error":"#REF!"},{"$error":"#REF!"},{"$error":"#REF!"},{"$error":"#REF!"},{"$error":"#REF!"},{"$error":"#REF!"},{"$error":"#REF!"},{"$error":"#REF!"},{"$error":"#REF!"},39,76.92307692307692,{"$error":"#REF!"},23.076923076923077,0]
[null,null,null,"вариант"]
[{"$f":"Результаты!#REF!","v":{"$error":"#REF!"}},{"$f":"Результаты!#REF!","v":{"$error":"#REF!"}},{"$f":"Результаты!#REF!","v":{"$error":"#REF!"}},{"$f":"Результаты!#REF!","v":{"$error":"#REF!"}},{"$f":"Результаты!#REF!","v":{"$error":"#REF!"}},{"$f":"Результаты!#REF!","v":{"$error":"#REF!"}},{"$f":"Результаты!#REF!","v":{"$error":"#REF!"}},{"$f":"Результаты!#REF!","v":{"$error":"#REF!"}},{"$f":"Результаты!#REF!","v":{"$error":"#REF!"}},{"$f":"Результаты!#REF!","v":{"$error":"#REF!"}},{"$f":"Результаты!#REF!","v":{"$error":"#REF!"}},{"$f":"Результаты!#REF!","v":{"$error":"#REF!"}},{"$f":"Результаты!#REF!","v":{"$error":"#REF!"}},{"$f":"Результаты!#REF!","v":{"$error":"#REF!"}},{"$f":"Результаты!#REF!","v":{"$error":"#REF!"}},{"$f":"Результаты!#REF!","v":{"$error":"#REF!"}},{"$f":"Результаты!#REF!","v":{"$error":"#REF!"}},{"$f":"Результаты!#REF!","v":{"$error":"#REF!"}},{"$f":"Результаты!#REF!","v":{"$error":"#REF!"}},{"$f":"Результаты!#REF!","v":{"$error":"#REF!"}},{"$f":"Результаты!#REF!","v":{"$error":"#REF!"}},{"$f":"Результаты!#REF!","v":{"$error":"#REF!"}},{"$f":"Результаты!#REF!","v":{"$error":"#REF!"}},{"$f":"Результаты!#REF!","v":{"$error":"#REF!"}},{"$f":"Результаты!#REF!","v":{"$error":"#REF!"}},{"$f":"Результаты!#REF!","v":{"$error":"#REF!"}},{"$f":"Результаты!#REF!","v":{"$error":"#REF!"}},{"$f":"Результаты!#REF!","v":{"$error":"#REF!"}},{"$f":"Результаты!#REF!","v":{"$error":"#REF!"}},{"$f":"Результаты!#REF!","v":{"$error":"#REF!"}},{"$f":"Результаты!#REF!","v":{"$error":"#REF!"}},{"$f":"Результаты!#REF!","v":{"$error":"#REF!"}},{"$f":"Результаты!#REF!","v":{"$error":"#REF!"}},{"$f":"Результаты!#REF!","v":{"$error":"#REF!"}},{"$f":"Результаты!#REF!","v":{"$error":"#REF!"}},{"$f":"Результаты!#REF!","v":{"$error":"#REF!"}},{"$f":"Результаты!#REF!","v":{"$error":"#REF!"}},{"$f":"Результаты!#REF!","v":{"$error":"#REF!"}},{"$f":"Результаты!#REF!","v":{"$error":"#REF!"}},{"$f":"Результаты!#REF!","v":{"$error":"#REF!"}},{"$f":"Результаты!#REF!","v":{"$error":"#REF!"}},{"$f":"Результаты!#REF!","v":{"$error":"#REF!"}},{"$f":"Результаты!#REF!","v":{"$error":"#REF!"}},{"$f":"Результаты!#REF!","v":{"$error":"#REF!"}}]
[]
[]
[null,{"$f":"B7298","v":1},{"$f":"C7298","v":"Информационная обработка текстов различных стилей и жанров. Текст как речевое произведение. Смысловая и композиционная целостность текста. Отбор языковых средств в тексте в зависимости от темы, цели, адресата и ситуации общения. Создание текстов различных стилей и функционально-смысловых типов речи. Грамматические нормы (морфологические нормы). Грамматические  нормы  (синтаксические нормы). Лексические нормы. Пунктуация в простом и сложном предложениях. Орфограмма"}]
[null,{"$f":"B7299","v":2},"Текст как речевое произведение. Смысловая и композиционная целостность текста. Анализ текста"]
[null,{"$f":"B7300","v":3},"Выразительные средства лексики и фразеологии. Анализ средств выразительности"]
[null,{"$f":"B7301","v":4},"Правописание приставок. Слитное, дефисное, раздельное написание"]
[null,{"$f":"B7302","v":5},"Правописание суффиксов различных частей речи (кроме -Н-/-НН-). Правописание -Н- и -НН- в различных частях речи. Правописание личных окончаний глаголов и суффиксов причастий настоящего времени"]
[null,{"$f":"B7303","v":6},"Лексика и фразеология. Синонимы. Фразеологические обороты. Группы слов по происхождению и употреблению"]
[null,{"$f":"B7304","v":7},"Словосочетание"]
[null,{"$f":"B7305","v":8},"Предложение. Грамматическая (предикативная) основа предложения. Подлежащее и сказуемое как главные члены предложения "]
[null,{"$f":"B7306","v":9},"Осложнённое простое предложение"]
[null,{"$f":"B7307","v":10},"Пунктуационный анализ. Знаки препинания в предложениях со словами и конструкциями, грамматически не связанными с членами предложения"]
[null,{"$f":"B7308","v":11},"Синтаксический анализ сложного предложения"]
[null,{"$f":"B7309","v":12},"Пунктуационный анализ. Знаки препинания в сложносочинённом и сложноподчинённом предложениях"]
[null,{"$f":"B7310","v":13},"Синтаксический анализ сложного предложения"]
[null,{"$f":"B7311","v":14},"Сложные предложения с разными видами связи между частями"]
[null,{"$f":"B7312","v":15},"Текст как речевое произведение. Смысловая и композиционная целостность текста. Создание текстов различных стилей и функционально-смысловых типов речи. Информационная обработка текстов различных стилей и жанров. Грамматические нормы (морфологические нормы). Грамматические нормы (синтаксические нормы). Лексические нормы"]
[null,{"$f":"B7313","v":16},0]
[null,{"$f":"B7314","v":17},0]
[null,{"$f":"B7315","v":18},0]
[null,{"$f":"B7316","v":19},0]
[null,{"$f":"B7317","v":20},0]
[null,{"$f":"B7318","v":21},0]
[null,{"$f":"B7319","v":22},0]
[null,{"$f":"B7320","v":23},0]
[null,{"$f":"B7321","v":24},0]
[null,{"$f":"B7322","v":25},0]
[null,{"$f":"B7323","v":26},0]
[null,{"$f":"B7324","v":27},0]
[null,{"$f":"B7325","v":28},0]
[null,{"$f":"B7326","v":29},0]
[null,{"$f":"B7327","v":30},0]
[null,{"$f":"B7328","v":31},0]
[null,{"$f":"B7329","v":32},0]
[null,{"$f":"B7330","v":33},0]
[null,{"$f":"B7331","v":34},0]
[null,{"$f":"B7332","v":35},0]
[]
["Рекомендация: обратите внимание на задания по темам, которые вызвали у Вас затруднения, решены с ошибкой и отмечены \"0\" или к решению которых Вы не приступили (пустые ячейки)!"]
[]
[]
[]
["Центр независимой оценки качества образования и образовательного аудита \"Легион\""]
[]
["Образовательная организация",null,null,null,{"$f":"E7340","v":"Ленинская СОШ"}]
["Предмет",null,null,null,{"$f":"E7341","v":"Русский язык"}]
["Максимальный балл",null,null,null,39]
["Пороговый балл",null,null,null,15]
["Зона риска",null,null,null,{"$f":"Результаты!E15","v":15},null,null,{"$f":"Результаты!H15","v":16}]
[]
["Уровни",null,null,null,{"$f":"E7346","v":1},{"$f":"F7346","v":2},3,4,5,6,7,8,9,10,11,12,13,14,15,"ПР.ГР",{"$error":"#REF!"},{"$error":"#REF!"},{"$error":"#REF!"},{"$error":"#REF!"},{"$error":"#REF!"},{"$error":"#REF!"},{"$error":"#REF!"},{"$error":"#REF!"},{"$error":"#REF!"},{"$error":"#REF!"},{"$error":"#REF!"},{"$error":"#REF!"},{"$error":"#REF!"},{"$error":"#REF!"},{"$error":"#REF!"},{"$error":"#REF!"},{"$error":"#REF!"},{"$error":"#REF!"},{"$error":"#REF!"},"Тестовый балл","% выплнения заданий по уровням",null,null,"Оценка"]
[null,null,null,null,null,null,null,null,null,null,null,null,null,null,null,null,null,null,null,null,null,null,null,null,null,null,null,null,null,null,null,null,null,null,null,null,null,null,null,null,"Базовый","Повышенный","Высокий"]
["№","Класс","Ф.И.О.","№ задания",{"$f":"E7348","v":1},{"$f":"F7348","v":2},3,4,5,6,7,8,9,10,11,12,13,14,15,0,{"$error":"#REF!"},{"$error":"#REF!"},{"$error":"#REF!"},{"$error":"#REF!"},{"$error":"#REF!"},{"$error":"#REF!"},{"$error":"#REF!"},{"$error":"#REF!"},{"$error":"#REF!"},{"$error":"#REF!"},{"$error":"#REF!"},{"$error":"#REF!"},{"$error":"#REF!"},{"$error":"#REF!"},{"$error":"#REF!"},{"$error":"#REF!"},{"$error":"#REF!"},{"$error":"#REF!"},{"$error":"#REF!"}]
["Максимальный балл",null,null,null,{"$f":"E7349","v":7},{"$f":"F7349","v":1},1,1,1,1,1,1,1,1,1,1,1,1,9,10,{"$error":"#REF!"},{"$error":"#REF!"},{"$error":"#REF!"},{"$error":"#REF!"},{"$error":"#REF!"},{"$error":"#REF!"},{"$error":"#REF!"},{"$error":"#REF!"},{"$error":"#REF!"},{"$error":"#REF!"},{"$error":"#REF!"},{"$error":"#REF!"},{"$error":"#REF!"},{"$error":"#REF!"},{"$error":"#REF!"},{"$error":"#REF!"},{"$error":"#REF!"},{"$error":"#REF!"},{"$error":"#REF!"},39,76.92307692307692,{"$error":"#REF!"},23.076923076923077,0]
[null,null,null,"вариант"]
[{"$f":"Результаты!#REF!","v":{"$error":"#REF!"}},{"$f":"Результаты!#REF!","v":{"$error":"#REF!"}},{"$f":"Результаты!#REF!","v":{"$error":"#REF!"}},{"$f":"Результаты!#REF!","v":{"$error":"#REF!"}},{"$f":"Результаты!#REF!","v":{"$error":"#REF!"}},{"$f":"Результаты!#REF!","v":{"$error":"#REF!"}},{"$f":"Результаты!#REF!","v":{"$error":"#REF!"}},{"$f":"Результаты!#REF!","v":{"$error":"#REF!"}},{"$f":"Результаты!#REF!","v":{"$error":"#REF!"}},{"$f":"Результаты!#REF!","v":{"$error":"#REF!"}},{"$f":"Результаты!#REF!","v":{"$error":"#REF!"}},{"$f":"Результаты!#REF!","v":{"$error":"#REF!"}},{"$f":"Результаты!#REF!","v":{"$error":"#REF!"}},{"$f":"Результаты!#REF!","v":{"$error":"#REF!"}},{"$f":"Результаты!#REF!","v":{"$error":"#REF!"}},{"$f":"Результаты!#REF!","v":{"$error":"#REF!"}},{"$f":"Результаты!#REF!","v":{"$error":"#REF!"}},{"$f":"Результаты!#REF!","v":{"$error":"#REF!"}},{"$f":"Результаты!#REF!","v":{"$error":"#REF!"}},{"$f":"Результаты!#REF!","v":{"$error":"#REF!"}},{"$f":"Результаты!#REF!","v":{"$error":"#REF!"}},{"$f":"Результаты!#REF!","v":{"$error":"#REF!"}},{"$f":"Результаты!#REF!","v":{"$error":"#REF!"}},{"$f":"Результаты!#REF!","v":{"$error":"#REF!"}},{"$f":"Результаты!#REF!","v":{"$error":"#REF!"}},{"$f":"Результаты!#REF!","v":{"$error":"#REF!"}},{"$f":"Результаты!#REF!","v":{"$error":"#REF!"}},{"$f":"Результаты!#REF!","v":{"$error":"#REF!"}},{"$f":"Результаты!#REF!","v":{"$error":"#REF!"}},{"$f":"Результаты!#REF!","v":{"$error":"#REF!"}},{"$f":"Результаты!#REF!","v":{"$error":"#REF!"}},{"$f":"Результаты!#REF!","v":{"$error":"#REF!"}},{"$f":"Результаты!#REF!","v":{"$error":"#REF!"}},{"$f":"Результаты!#REF!","v":{"$error":"#REF!"}},{"$f":"Результаты!#REF!","v":{"$error":"#REF!"}},{"$f":"Результаты!#REF!","v":{"$error":"#REF!"}},{"$f":"Результаты!#REF!","v":{"$error":"#REF!"}},{"$f":"Результаты!#REF!","v":{"$error":"#REF!"}},{"$f":"Результаты!#REF!","v":{"$error":"#REF!"}},{"$f":"Результаты!#REF!","v":{"$error":"#REF!"}},{"$f":"Результаты!#REF!","v":{"$error":"#REF!"}},{"$f":"Результаты!#REF!","v":{"$error":"#REF!"}},{"$f":"Результаты!#REF!","v":{"$error":"#REF!"}},{"$f":"Результаты!#REF!","v":{"$error":"#REF!"}}]
[]
[]
[null,{"$f":"B7354","v":1},"Информационная обработка текстов различных стилей и жанров. Текст как речевое произведение. Смысловая и композиционная целостность текста. Отбор языковых средств в тексте в зависимости от темы, цели, адресата и ситуации общения. Создание текстов различных стилей и функционально-смысловых типов речи. Грамматические нормы (морфологические нормы). Грамматические  нормы  (синтаксические нормы). Лексические нормы. Пунктуация в простом и сложном предложениях. Орфограмма"]
[null,{"$f":"B7355","v":2},"Текст как речевое произведение. Смысловая и композиционная целостность текста. Анализ текста"]
[null,{"$f":"B7356","v":3},"Выразительные средства лексики и фразеологии. Анализ средств выразительности"]
[null,{"$f":"B7357","v":4},"Правописание приставок. Слитное, дефисное, раздельное написание"]
[null,{"$f":"B7358","v":5},"Правописание суффиксов различных частей речи (кроме -Н-/-НН-). Правописание -Н- и -НН- в различных частях речи. Правописание личных окончаний глаголов и суффиксов причастий настоящего времени"]
[null,{"$f":"B7359","v":6},"Лексика и фразеология. Синонимы. Фразеологические обороты. Группы слов по происхождению и употреблению"]
[null,{"$f":"B7360","v":7},"Словосочетание"]
[null,{"$f":"B7361","v":8},"Предложение. Грамматическая (предикативная) основа предложения. Подлежащее и сказуемое как главные члены предложения "]
[null,{"$f":"B7362","v":9},"Осложнённое простое предложение"]
[null,{"$f":"B7363","v":10},"Пунктуационный анализ. Знаки препинания в предложениях со словами и конструкциями, грамматически не связанными с членами предложения"]
[null,{"$f":"B7364","v":11},"Синтаксический анализ сложного предложения"]
[null,{"$f":"B7365","v":12},"Пунктуационный анализ. Знаки препинания в сложносочинённом и сложноподчинённом предложениях"]
[null,{"$f":"B7366","v":13},"Синтаксический анализ сложного предложения"]
[null,{"$f":"B7367","v":14},"Сложные предложения с разными видами связи между частями"]
[null,{"$f":"B7368","v":15},"Текст как речевое произведение. Смысловая и композиционная целостность текста. Создание текстов различных стилей и функционально-смысловых типов речи. Информационная обработка текстов различных стилей и жанров. Грамматические нормы (морфологические нормы). Грамматические нормы (синтаксические нормы). Лексические нормы"]
[null,{"$f":"B7369","v":16},0]
[null,{"$f":"B7370","v":17},0]
[null,{"$f":"B7371","v":18},0]
[null,{"$f":"B7372","v":19},0]
[null,{"$f":"B7373","v":20},0]
[null,{"$f":"B7374","v":21},0]
[null,{"$f":"B7375","v":22},0]
[null,{"$f":"B7376","v":23},0]
[null,{"$f":"B7377","v":24},0]
[null,{"$f":"B7378","v":25},0]
[null,{"$f":"B7379","v":26},0]
[null,{"$f":"B7380","v":27},0]
[null,{"$f":"B7381","v":28},0]
[null,{"$f":"B7382","v":29},0]
[null,{"$f":"B7383","v":30},0]
[null,{"$f":"B7384","v":31},0]
[null,{"$f":"B7385","v":32},0]
[null,{"$f":"B7386","v":33},0]
[null,{"$f":"B7387","v":34},0]
[null,{"$f":"B7388","v":35},0]
[]
[]
["Рекомендация: обратите внимание на задания по темам, которые вызвали у Вас затруднения, решены с ошибкой и отмечены \"0\" или к решению которых Вы не приступили (пустые ячейки)!"]
[]
[]
["Центр независимой оценки качества образования и образовательного аудита \"Легион\""]
[]
["Образовательная организация",null,null,null,{"$f":"E7396","v":"Ленинская СОШ"}]
["Предмет",null,null,null,{"$f":"E7397","v":"Русский язык"}]
["Максимальный балл",null,null,null,39]
["Пороговый балл",null,null,null,15]
["Зона риска",null,null,null,{"$f":"Результаты!E15","v":15},null,null,{"$f":"Результаты!H15","v":16}]
[]
["Уровни",null,null,null,{"$f":"E7402","v":1},{"$f":"F7402","v":2},3,4,5,6,7,8,9,10,11,12,13,14,15,"ПР.ГР",{"$error":"#REF!"},{"$error":"#REF!"},{"$error":"#REF!"},{"$error":"#REF!"},{"$error":"#REF!"},{"$error":"#REF!"},{"$error":"#REF!"},{"$error":"#REF!"},{"$error":"#REF!"},{"$error":"#REF!"},{"$error":"#REF!"},{"$error":"#REF!"},{"$error":"#REF!"},{"$error":"#REF!"},{"$error":"#REF!"},{"$error":"#REF!"},{"$error":"#REF!"},{"$error":"#REF!"},{"$error":"#REF!"},"Тестовый балл","% выплнения заданий по уровням",null,null,"Оценка"]
[null,null,null,null,null,null,null,null,null,null,null,null,null,null,null,null,null,null,null,null,null,null,null,null,null,null,null,null,null,null,null,null,null,null,null,null,null,null,null,null,"Базовый","Повышенный","Высокий"]
["№","Класс","Ф.И.О.","№ задания",{"$f":"E7404","v":1},{"$f":"F7404","v":2},3,4,5,6,7,8,9,10,11,12,13,14,15,0,{"$error":"#REF!"},{"$error":"#REF!"},{"$error":"#REF!"},{"$error":"#REF!"},{"$error":"#REF!"},{"$error":"#REF!"},{"$error":"#REF!"},{"$error":"#REF!"},{"$error":"#REF!"},{"$error":"#REF!"},{"$error":"#REF!"},{"$error":"#REF!"},{"$error":"#REF!"},{"$error":"#REF!"},{"$error":"#REF!"},{"$error":"#REF!"},{"$error":"#REF!"},{"$error":"#REF!"},{"$error":"#REF!"}]
["Максимальный балл",null,null,null,{"$f":"E7405","v":7},{"$f":"F7405","v":1},1,1,1,1,1,1,1,1,1,1,1,1,9,10,{"$error":"#REF!"},{"$error":"#REF!"},{"$error":"#REF!"},{"$error":"#REF!"},{"$error":"#REF!"},{"$error":"#REF!"},{"$error":"#REF!"},{"$error":"#REF!"},{"$error":"#REF!"},{"$error":"#REF!"},{"$error":"#REF!"},{"$error":"#REF!"},{"$error":"#REF!"},{"$error":"#REF!"},{"$error":"#REF!"},{"$error":"#REF!"},{"$error":"#REF!"},{"$error":"#REF!"},{"$error":"#REF!"},39,76.92307692307692,{"$error":"#REF!"},23.076923076923077,0]
[null,null,null,"вариант"]
[{"$f":"Результаты!#REF!","v":{"$error":"#REF!"}},{"$f":"Результаты!#REF!","v":{"$error":"#REF!"}},{"$f":"Результаты!#REF!","v":{"$error":"#REF!"}},{"$f":"Результаты!#REF!","v":{"$error":"#REF!"}},{"$f":"Результаты!#REF!","v":{"$error":"#REF!"}},{"$f":"Результаты!#REF!","v":{"$error":"#REF!"}},{"$f":"Результаты!#REF!","v":{"$error":"#REF!"}},{"$f":"Результаты!#REF!","v":{"$error":"#REF!"}},{"$f":"Результаты!#REF!","v":{"$error":"#REF!"}},{"$f":"Результаты!#REF!","v":{"$error":"#REF!"}},{"$f":"Результаты!#REF!","v":{"$error":"#REF!"}},{"$f":"Результаты!#REF!","v":{"$error":"#REF!"}},{"$f":"Результаты!#REF!","v":{"$error":"#REF!"}},{"$f":"Результаты!#REF!","v":{"$error":"#REF!"}},{"$f":"Результаты!#REF!","v":{"$error":"#REF!"}},{"$f":"Результаты!#REF!","v":{"$error":"#REF!"}},{"$f":"Результаты!#REF!","v":{"$error":"#REF!"}},{"$f":"Результаты!#REF!","v":{"$error":"#REF!"}},{"$f":"Результаты!#REF!","v":{"$error":"#REF!"}},{"$f":"Результаты!#REF!","v":{"$error":"#REF!"}},{"$f":"Результаты!#REF!","v":{"$error":"#REF!"}},{"$f":"Результаты!#REF!","v":{"$error":"#REF!"}},{"$f":"Результаты!#REF!","v":{"$error":"#REF!"}},{"$f":"Результаты!#REF!","v":{"$error":"#REF!"}},{"$f":"Результаты!#REF!","v":{"$error":"#REF!"}},{"$f":"Результаты!#REF!","v":{"$error":"#REF!"}},{"$f":"Результаты!#REF!","v":{"$error":"#REF!"}},{"$f":"Результаты!#REF!","v":{"$error":"#REF!"}},{"$f":"Результаты!#REF!","v":{"$error":"#REF!"}},{"$f":"Результаты!#REF!","v":{"$error":"#REF!"}},{"$f":"Результаты!#REF!","v":{"$error":"#REF!"}},{"$f":"Результаты!#REF!","v":{"$error":"#REF!"}},{"$f":"Результаты!#REF!","v":{"$error":"#REF!"}},{"$f":"Результаты!#REF!","v":{"$error":"#REF!"}},{"$f":"Результаты!#REF!","v":{"$error":"#REF!"}},{"$f":"Результаты!#REF!","v":{"$error":"#REF!"}},{"$f":"Результаты!#REF!","v":{"$error":"#REF!"}},{"$f":"Результаты!#REF!","v":{"$error":"#REF!"}},{"$f":"Результаты!#REF!","v":{"$error":"#REF!"}},{"$f":"Результаты!#REF!","v":{"$error":"#REF!"}},{"$f":"Результаты!#REF!","v":{"$error":"#REF!"}},{"$f":"Результаты!#REF!","v":{"$error":"#REF!"}},{"$f":"Результаты!#REF!","v":{"$error":"#REF!"}},{"$f":"Результаты!#REF!","v":{"$error":"#REF!"}}]
[]
[]
[null,{"$f":"B7410","v":1},"Информационная обработка текстов различных стилей и жанров. Текст как речевое произведение. Смысловая и композиционная целостность текста. Отбор языковых средств в тексте в зависимости от темы, цели, адресата и ситуации общения. Создание текстов различных стилей и функционально-смысловых типов речи. Грамматические нормы (морфологические нормы). Грамматические  нормы  (синтаксические нормы). Лексические нормы. Пунктуация в простом и сложном предложениях. Орфограмма"]
[null,{"$f":"B7411","v":2},"Текст как речевое произведение. Смысловая и композиционная целостность текста. Анализ текста"]
[null,{"$f":"B7412","v":3},"Выразительные средства лексики и фразеологии. Анализ средств выразительности"]
[null,{"$f":"B7413","v":4},"Правописание приставок. Слитное, дефисное, раздельное написание"]
[null,{"$f":"B7414","v":5},"Правописание суффиксов различных частей речи (кроме -Н-/-НН-). Правописание -Н- и -НН- в различных частях речи. Правописание личных окончаний глаголов и суффиксов причастий настоящего времени"]
[null,{"$f":"B7415","v":6},"Лексика и фразеология. Синонимы. Фразеологические обороты. Группы слов по происхождению и употреблению"]
[null,{"$f":"B7416","v":7},"Словосочетание"]
[null,{"$f":"B7417","v":8},"Предложение. Грамматическая (предикативная) основа предложения. Подлежащее и сказуемое как главные члены предложения "]
[null,{"$f":"B7418","v":9},"Осложнённое простое предложение"]
[null,{"$f":"B7419","v":10},"Пунктуационный анализ. Знаки препинания в предложениях со словами и конструкциями, грамматически не связанными с членами предложения"]
[null,{"$f":"B7420","v":11},"Синтаксический анализ сложного предложения"]
[null,{"$f":"B7421","v":12},"Пунктуационный анализ. Знаки препинания в сложносочинённом и сложноподчинённом предложениях"]
[null,{"$f":"B7422","v":13},"Синтаксический анализ сложного предложения"]
[null,{"$f":"B7423","v":14},"Сложные предложения с разными видами связи между частями"]
[null,{"$f":"B7424","v":15},"Текст как речевое произведение. Смысловая и композиционная целостность текста. Создание текстов различных стилей и функционально-смысловых типов речи. Информационная обработка текстов различных стилей и жанров. Грамматические нормы (морфологические нормы). Грамматические нормы (синтаксические нормы). Лексические нормы"]
[null,{"$f":"B7425","v":16},0]
[null,{"$f":"B7426","v":17},0]
[null,{"$f":"B7427","v":18},0]
[null,{"$f":"B7428","v":19},0]
[null,{"$f":"B7429","v":20},0]
[null,{"$f":"B7430","v":21},0]
[null,{"$f":"B7431","v":22},0]
[null,{"$f":"B7432","v":23},0]
[null,{"$f":"B7433","v":24},0]
[null,{"$f":"B7434","v":25},0]
[null,{"$f":"B7435","v":26},0]
[null,{"$f":"B7436","v":27},0]
[null,{"$f":"B7437","v":28},0]
[null,{"$f":"B7438","v":29},0]
[null,{"$f":"B7439","v":30},0]
[null,{"$f":"B7440","v":31},0]
[null,{"$f":"B7441","v":32},0]
[null,{"$f":"B7442","v":33},0]
[null,{"$f":"B7443","v":34},0]
[null,{"$f":"B7444","v":35},0]
[]
[]
["Рекомендация: обратите внимание на задания по темам, которые вызвали у Вас затруднения, решены с ошибкой и отмечены \"0\" или к решению которых Вы не приступили (пустые ячейки)!"]
[]
[]
["Центр независимой оценки качества образования и образовательного аудита \"Легион\""]
[]
["Образовательная организация",null,null,null,{"$f":"E7452","v":"Ленинская СОШ"}]
["Предмет",null,null,null,{"$f":"E7453","v":"Русский язык"}]
["Максимальный балл",null,null,null,39]
["Пороговый балл",null,null,null,15]
["Зона риска",null,null,null,{"$f":"Результаты!E15","v":15},null,null,{"$f":"Результаты!H15","v":16}]
[]
["Уровни",null,null,null,{"$f":"E7458","v":1},{"$f":"F7458","v":2},3,4,5,6,7,8,9,10,11,12,13,14,15,"ПР.ГР",{"$error":"#REF!"},{"$error":"#REF!"},{"$error":"#REF!"},{"$error":"#REF!"},{"$error":"#REF!"},{"$error":"#REF!"},{"$error":"#REF!"},{"$error":"#REF!"},{"$error":"#REF!"},{"$error":"#REF!"},{"$error":"#REF!"},{"$error":"#REF!"},{"$error":"#REF!"},{"$error":"#REF!"},{"$error":"#REF!"},{"$error":"#REF!"},{"$error":"#REF!"},{"$error":"#REF!"},{"$error":"#REF!"},"Тестовый балл","% выплнения заданий по уровням",null,null,"Оценка"]
[null,null,null,null,null,null,null,null,null,null,null,null,null,null,null,null,null,null,null,null,null,null,null,null,null,null,null,null,null,null,null,null,null,null,null,null,null,null,null,null,"Базовый","Повышенный","Высокий"]
["№","Класс","Ф.И.О.","№ задания",{"$f":"E7460","v":1},{"$f":"F7460","v":2},3,4,5,6,7,8,9,10,11,12,13,14,15,0,{"$error":"#REF!"},{"$error":"#REF!"},{"$error":"#REF!"},{"$error":"#REF!"},{"$error":"#REF!"},{"$error":"#REF!"},{"$error":"#REF!"},{"$error":"#REF!"},{"$error":"#REF!"},{"$error":"#REF!"},{"$error":"#REF!"},{"$error":"#REF!"},{"$error":"#REF!"},{"$error":"#REF!"},{"$error":"#REF!"},{"$error":"#REF!"},{"$error":"#REF!"},{"$error":"#REF!"},{"$error":"#REF!"}]
["Максимальный балл",null,null,null,{"$f":"E7461","v":7},{"$f":"F7461","v":1},1,1,1,1,1,1,1,1,1,1,1,1,9,10,{"$error":"#REF!"},{"$error":"#REF!"},{"$error":"#REF!"},{"$error":"#REF!"},{"$error":"#REF!"},{"$error":"#REF!"},{"$error":"#REF!"},{"$error":"#REF!"},{"$error":"#REF!"},{"$error":"#REF!"},{"$error":"#REF!"},{"$error":"#REF!"},{"$error":"#REF!"},{"$error":"#REF!"},{"$error":"#REF!"},{"$error":"#REF!"},{"$error":"#REF!"},{"$error":"#REF!"},{"$error":"#REF!"},39,76.92307692307692,{"$error":"#REF!"},23.076923076923077,0]
[null,null,null,"вариант"]
[{"$f":"Результаты!#REF!","v":{"$error":"#REF!"}},{"$f":"Результаты!#REF!","v":{"$error":"#REF!"}},{"$f":"Результаты!#REF!","v":{"$error":"#REF!"}},{"$f":"Результаты!#REF!","v":{"$error":"#REF!"}},{"$f":"Результаты!#REF!","v":{"$error":"#REF!"}},{"$f":"Результаты!#REF!","v":{"$error":"#REF!"}},{"$f":"Результаты!#REF!","v":{"$error":"#REF!"}},{"$f":"Результаты!#REF!","v":{"$error":"#REF!"}},{"$f":"Результаты!#REF!","v":{"$error":"#REF!"}},{"$f":"Результаты!#REF!","v":{"$error":"#REF!"}},{"$f":"Результаты!#REF!","v":{"$error":"#REF!"}},{"$f":"Результаты!#REF!","v":{"$error":"#REF!"}},{"$f":"Результаты!#REF!","v":{"$error":"#REF!"}},{"$f":"Результаты!#REF!","v":{"$error":"#REF!"}},{"$f":"Результаты!#REF!","v":{"$error":"#REF!"}},{"$f":"Результаты!#REF!","v":{"$error":"#REF!"}},{"$f":"Результаты!#REF!","v":{"$error":"#REF!"}},{"$f":"Результаты!#REF!","v":{"$error":"#REF!"}},{"$f":"Результаты!#REF!","v":{"$error":"#REF!"}},{"$f":"Результаты!#REF!","v":{"$error":"#REF!"}},{"$f":"Результаты!#REF!","v":{"$error":"#REF!"}},{"$f":"Результаты!#REF!","v":{"$error":"#REF!"}},{"$f":"Результаты!#REF!","v":{"$error":"#REF!"}},{"$f":"Результаты!#REF!","v":{"$error":"#REF!"}},{"$f":"Результаты!#REF!","v":{"$error":"#REF!"}},{"$f":"Результаты!#REF!","v":{"$error":"#REF!"}},{"$f":"Результаты!#REF!","v":{"$error":"#REF!"}},{"$f":"Результаты!#REF!","v":{"$error":"#REF!"}},{"$f":"Результаты!#REF!","v":{"$error":"#REF!"}},{"$f":"Результаты!#REF!","v":{"$error":"#REF!"}},{"$f":"Результаты!#REF!","v":{"$error":"#REF!"}},{"$f":"Результаты!#REF!","v":{"$error":"#REF!"}},{"$f":"Результаты!#REF!","v":{"$error":"#REF!"}},{"$f":"Результаты!#REF!","v":{"$error":"#REF!"}},{"$f":"Результаты!#REF!","v":{"$error":"#REF!"}},{"$f":"Результаты!#REF!","v":{"$error":"#REF!"}},{"$f":"Результаты!#REF!","v":{"$error":"#REF!"}},{"$f":"Результаты!#REF!","v":{"$error":"#REF!"}},{"$f":"Результаты!#REF!","v":{"$error":"#REF!"}},{"$f":"Результаты!#REF!","v":{"$error":"#REF!"}},{"$f":"Результаты!#REF!","v":{"$error":"#REF!"}},{"$f":"Результаты!#REF!","v":{"$error":"#REF!"}},{"$f":"Результаты!#REF!","v":{"$error":"#REF!"}},{"$f":"Результаты!#REF!","v":{"$error":"#REF!"}}]
[]
[]
[null,{"$f":"B7466","v":1},"Информационная обработка текстов различных стилей и жанров. Текст как речевое произведение. Смысловая и композиционная целостность текста. Отбор языковых средств в тексте в зависимости от темы, цели, адресата и ситуации общения. Создание текстов различных стилей и функционально-смысловых типов речи. Грамматические нормы (морфологические нормы). Грамматические  нормы  (синтаксические нормы). Лексические нормы. Пунктуация в простом и сложном предложениях. Орфограмма"]
[null,{"$f":"B7467","v":2},"Текст как речевое произведение. Смысловая и композиционная целостность текста. Анализ текста"]
[null,{"$f":"B7468","v":3},"Выразительные средства лексики и фразеологии. Анализ средств выразительности"]
[null,{"$f":"B7469","v":4},"Правописание приставок. Слитное, дефисное, раздельное написание"]
[null,{"$f":"B7470","v":5},"Правописание суффиксов различных частей речи (кроме -Н-/-НН-). Правописание -Н- и -НН- в различных частях речи. Правописание личных окончаний глаголов и суффиксов причастий настоящего времени"]
[null,{"$f":"B7471","v":6},"Лексика и фразеология. Синонимы. Фразеологические обороты. Группы слов по происхождению и употреблению"]
[null,{"$f":"B7472","v":7},"Словосочетание"]
[null,{"$f":"B7473","v":8},"Предложение. Грамматическая (предикативная) основа предложения. Подлежащее и сказуемое как главные члены предложения "]
[null,{"$f":"B7474","v":9},"Осложнённое простое предложение"]
[null,{"$f":"B7475","v":10},"Пунктуационный анализ. Знаки препинания в предложениях со словами и конструкциями, грамматически не связанными с членами предложения"]
[null,{"$f":"B7476","v":11},"Синтаксический анализ сложного предложения"]
[null,{"$f":"B7477","v":12},"Пунктуационный анализ. Знаки препинания в сложносочинённом и сложноподчинённом предложениях"]
[null,{"$f":"B7478","v":13},"Синтаксический анализ сложного предложения"]
[null,{"$f":"B7479","v":14},"Сложные предложения с разными видами связи между частями"]
[null,{"$f":"B7480","v":15},"Текст как речевое произведение. Смысловая и композиционная целостность текста. Создание текстов различных стилей и функционально-смысловых типов речи. Информационная обработка текстов различных стилей и жанров. Грамматические нормы (морфологические нормы). Грамматические нормы (синтаксические нормы). Лексические нормы"]
[null,{"$f":"B7481","v":16},0]
[null,{"$f":"B7482","v":17},0]
[null,{"$f":"B7483","v":18},0]
[null,{"$f":"B7484","v":19},0]
[null,{"$f":"B7485","v":20},0]
[null,{"$f":"B7486","v":21},0]
[null,{"$f":"B7487","v":22},0]
[null,{"$f":"B7488","v":23},0]
[null,{"$f":"B7489","v":24},0]
[null,{"$f":"B7490","v":25},0]
[null,{"$f":"B7491","v":26},0]
[null,{"$f":"B7492","v":27},0]
[null,{"$f":"B7493","v":28},0]
[null,{"$f":"B7494","v":29},0]
[null,{"$f":"B7495","v":30},0]
[null,{"$f":"B7496","v":31},0]
[null,{"$f":"B7497","v":32},0]
[null,{"$f":"B7498","v":33},0]
[null,{"$f":"B7499","v":34},0]
[null,{"$f":"B7500","v":35},0]
[]
[]
["Рекомендация: обратите внимание на задания по темам, которые вызвали у Вас затруднения, решены с ошибкой и отмечены \"0\" или к решению которых Вы не приступили (пустые ячейки)!"]
[]
[]
["Центр независимой оценки качества образования и образовательного аудита \"Легион\""]
[]
["Образовательная организация",null,null,null,{"$f":"E7508","v":"Ленинская СОШ"}]
["Предмет",null,null,null,{"$f":"E7509","v":"Русский язык"}]
["Максимальный балл",null,null,null,39]
["Пороговый балл",null,null,null,15]
["Зона риска",null,null,null,{"$f":"Результаты!E15","v":15},null,null,{"$f":"Результаты!H15","v":16}]
[]
["Уровни",null,null,null,{"$f":"E7514","v":1},{"$f":"F7514","v":2},3,4,5,6,7,8,9,10,11,12,13,14,15,"ПР.ГР",{"$error":"#REF!"},{"$error":"#REF!"},{"$error":"#REF!"},{"$error":"#REF!"},{"$error":"#REF!"},{"$error":"#REF!"},{"$error":"#REF!"},{"$error":"#REF!"},{"$error":"#REF!"},{"$error":"#REF!"},{"$error":"#REF!"},{"$error":"#REF!"},{"$error":"#REF!"},{"$error":"#REF!"},{"$error":"#REF!"},{"$error":"#REF!"},{"$error":"#REF!"},{"$error":"#REF!"},{"$error":"#REF!"},"Тестовый балл","% выплнения заданий по уровням",null,null,"Оценка"]
[null,null,null,null,null,null,null,null,null,null,null,null,null,null,null,null,null,null,null,null,null,null,null,null,null,null,null,null,null,null,null,null,null,null,null,null,null,null,null,null,"Базовый","Повышенный","Высокий"]
["№","Класс","Ф.И.О.","№ задания",{"$f":"E7516","v":1},{"$f":"F7516","v":2},3,4,5,6,7,8,9,10,11,12,13,14,15,0,{"$error":"#REF!"},{"$error":"#REF!"},{"$error":"#REF!"},{"$error":"#REF!"},{"$error":"#REF!"},{"$error":"#REF!"},{"$error":"#REF!"},{"$error":"#REF!"},{"$error":"#REF!"},{"$error":"#REF!"},{"$error":"#REF!"},{"$error":"#REF!"},{"$error":"#REF!"},{"$error":"#REF!"},{"$error":"#REF!"},{"$error":"#REF!"},{"$error":"#REF!"},{"$error":"#REF!"},{"$error":"#REF!"}]
["Максимальный балл",null,null,null,{"$f":"E7517","v":7},{"$f":"F7517","v":1},1,1,1,1,1,1,1,1,1,1,1,1,9,10,{"$error":"#REF!"},{"$error":"#REF!"},{"$error":"#REF!"},{"$error":"#REF!"},{"$error":"#REF!"},{"$error":"#REF!"},{"$error":"#REF!"},{"$error":"#REF!"},{"$error":"#REF!"},{"$error":"#REF!"},{"$error":"#REF!"},{"$error":"#REF!"},{"$error":"#REF!"},{"$error":"#REF!"},{"$error":"#REF!"},{"$error":"#REF!"},{"$error":"#REF!"},{"$error":"#REF!"},{"$error":"#REF!"},39,76.92307692307692,{"$error":"#REF!"},23.076923076923077,0]
[null,null,null,"вариант"]
[{"$f":"Результаты!#REF!","v":{"$error":"#REF!"}},{"$f":"Результаты!#REF!","v":{"$error":"#REF!"}},{"$f":"Результаты!#REF!","v":{"$error":"#REF!"}},{"$f":"Результаты!#REF!","v":{"$error":"#REF!"}},{"$f":"Результаты!#REF!","v":{"$error":"#REF!"}},{"$f":"Результаты!#REF!","v":{"$error":"#REF!"}},{"$f":"Результаты!#REF!","v":{"$error":"#REF!"}},{"$f":"Результаты!#REF!","v":{"$error":"#REF!"}},{"$f":"Результаты!#REF!","v":{"$error":"#REF!"}},{"$f":"Результаты!#REF!","v":{"$error":"#REF!"}},{"$f":"Результаты!#REF!","v":{"$error":"#REF!"}},{"$f":"Результаты!#REF!","v":{"$error":"#REF!"}},{"$f":"Результаты!#REF!","v":{"$error":"#REF!"}},{"$f":"Результаты!#REF!","v":{"$error":"#REF!"}},{"$f":"Результаты!#REF!","v":{"$error":"#REF!"}},{"$f":"Результаты!#REF!","v":{"$error":"#REF!"}},{"$f":"Результаты!#REF!","v":{"$error":"#REF!"}},{"$f":"Результаты!#REF!","v":{"$error":"#REF!"}},{"$f":"Результаты!#REF!","v":{"$error":"#REF!"}},{"$f":"Результаты!#REF!","v":{"$error":"#REF!"}},{"$f":"Результаты!#REF!","v":{"$error":"#REF!"}},{"$f":"Результаты!#REF!","v":{"$error":"#REF!"}},{"$f":"Результаты!#REF!","v":{"$error":"#REF!"}},{"$f":"Результаты!#REF!","v":{"$error":"#REF!"}},{"$f":"Результаты!#REF!","v":{"$error":"#REF!"}},{"$f":"Результаты!#REF!","v":{"$error":"#REF!"}},{"$f":"Результаты!#REF!","v":{"$error":"#REF!"}},{"$f":"Результаты!#REF!","v":{"$error":"#REF!"}},{"$f":"Результаты!#REF!","v":{"$error":"#REF!"}},{"$f":"Результаты!#REF!","v":{"$error":"#REF!"}},{"$f":"Результаты!#REF!","v":{"$error":"#REF!"}},{"$f":"Результаты!#REF!","v":{"$error":"#REF!"}},{"$f":"Результаты!#REF!","v":{"$error":"#REF!"}},{"$f":"Результаты!#REF!","v":{"$error":"#REF!"}},{"$f":"Результаты!#REF!","v":{"$error":"#REF!"}},{"$f":"Результаты!#REF!","v":{"$error":"#REF!"}},{"$f":"Результаты!#REF!","v":{"$error":"#REF!"}},{"$f":"Результаты!#REF!","v":{"$error":"#REF!"}},{"$f":"Результаты!#REF!","v":{"$error":"#REF!"}},{"$f":"Результаты!#REF!","v":{"$error":"#REF!"}},{"$f":"Результаты!#REF!","v":{"$error":"#REF!"}},{"$f":"Результаты!#REF!","v":{"$error":"#REF!"}},{"$f":"Результаты!#REF!","v":{"$error":"#REF!"}},{"$f":"Результаты!#REF!","v":{"$error":"#REF!"}}]
[]
[]
[null,{"$f":"B7522","v":1},"Информационная обработка текстов различных стилей и жанров. Текст как речевое произведение. Смысловая и композиционная целостность текста. Отбор языковых средств в тексте в зависимости от темы, цели, адресата и ситуации общения. Создание текстов различных стилей и функционально-смысловых типов речи. Грамматические нормы (морфологические нормы). Грамматические  нормы  (синтаксические нормы). Лексические нормы. Пунктуация в простом и сложном предложениях. Орфограмма"]
[null,{"$f":"B7523","v":2},"Текст как речевое произведение. Смысловая и композиционная целостность текста. Анализ текста"]
[null,{"$f":"B7524","v":3},"Выразительные средства лексики и фразеологии. Анализ средств выразительности"]
[null,{"$f":"B7525","v":4},"Правописание приставок. Слитное, дефисное, раздельное написание"]
[null,{"$f":"B7526","v":5},"Правописание суффиксов различных частей речи (кроме -Н-/-НН-). Правописание -Н- и -НН- в различных частях речи. Правописание личных окончаний глаголов и суффиксов причастий настоящего времени"]
[null,{"$f":"B7527","v":6},"Лексика и фразеология. Синонимы. Фразеологические обороты. Группы слов по происхождению и употреблению"]
[null,{"$f":"B7528","v":7},"Словосочетание"]
[null,{"$f":"B7529","v":8},"Предложение. Грамматическая (предикативная) основа предложения. Подлежащее и сказуемое как главные члены предложения "]
[null,{"$f":"B7530","v":9},"Осложнённое простое предложение"]
[null,{"$f":"B7531","v":10},"Пунктуационный анализ. Знаки препинания в предложениях со словами и конструкциями, грамматически не связанными с членами предложения"]
[null,{"$f":"B7532","v":11},"Синтаксический анализ сложного предложения"]
[null,{"$f":"B7533","v":12},"Пунктуационный анализ. Знаки препинания в сложносочинённом и сложноподчинённом предложениях"]
[null,{"$f":"B7534","v":13},"Синтаксический анализ сложного предложения"]
[null,{"$f":"B7535","v":14},"Сложные предложения с разными видами связи между частями"]
[null,{"$f":"B7536","v":15},"Текст как речевое произведение. Смысловая и композиционная целостность текста. Создание текстов различных стилей и функционально-смысловых типов речи. Информационная обработка текстов различных стилей и жанров. Грамматические нормы (морфологические нормы). Грамматические нормы (синтаксические нормы). Лексические нормы"]
[null,{"$f":"B7537","v":16},0]
[null,{"$f":"B7538","v":17},0]
[null,{"$f":"B7539","v":18},0]
[null,{"$f":"B7540","v":19},0]
[null,{"$f":"B7541","v":20},0]
[null,{"$f":"B7542","v":21},0]
[null,{"$f":"B7543","v":22},0]
[null,{"$f":"B7544","v":23},0]
[null,{"$f":"B7545","v":24},0]
[null,{"$f":"B7546","v":25},0]
[null,{"$f":"B7547","v":26},0]
[null,{"$f":"B7548","v":27},0]
[null,{"$f":"B7549","v":28},0]
[null,{"$f":"B7550","v":29},0]
[null,{"$f":"B7551","v":30},0]
[null,{"$f":"B7552","v":31},0]
[null,{"$f":"B7553","v":32},0]
[null,{"$f":"B7554","v":33},0]
[null,{"$f":"B7555","v":34},0]
[null,{"$f":"B7556","v":35},0]
[]
[]
["Рекомендация: обратите внимание на задания по темам, которые вызвали у Вас затруднения, решены с ошибкой и отмечены \"0\" или к решению которых Вы не приступили (пустые ячейки)!"]
[]
[]
["Центр независимой оценки качества образования и образовательного аудита \"Легион\""]
[]
["Образовательная организация",null,null,null,{"$f":"E7564","v":"Ленинская СОШ"}]
["Предмет",null,null,null,{"$f":"E7565","v":"Русский язык"}]
["Максимальный балл",null,null,null,39]
["Пороговый балл",null,null,null,15]
["Зона риска",null,null,null,{"$f":"Результаты!E15","v":15},null,null,{"$f":"Результаты!H15","v":16}]
[]
["Уровни",null,null,null,{"$f":"E7570","v":1},{"$f":"F7570","v":2},3,4,5,6,7,8,9,10,11,12,13,14,15,"ПР.ГР",{"$error":"#REF!"},{"$error":"#REF!"},{"$error":"#REF!"},{"$error":"#REF!"},{"$error":"#REF!"},{"$error":"#REF!"},{"$error":"#REF!"},{"$error":"#REF!"},{"$error":"#REF!"},{"$error":"#REF!"},{"$error":"#REF!"},{"$error":"#REF!"},{"$error":"#REF!"},{"$error":"#REF!"},{"$error":"#REF!"},{"$error":"#REF!"},{"$error":"#REF!"},{"$error":"#REF!"},{"$error":"#REF!"},"Тестовый балл","% выплнения заданий по уровням",null,null,"Оценка"]
[null,null,null,null,null,null,null,null,null,null,null,null,null,null,null,null,null,null,null,null,null,null,null,null,null,null,null,null,null,null,null,null,null,null,null,null,null,null,null,null,"Базовый","Повышенный","Высокий"]
["№","Класс","Ф.И.О.","№ задания",{"$f":"E7572","v":1},{"$f":"F7572","v":2},3,4,5,6,7,8,9,10,11,12,13,14,15,0,{"$error":"#REF!"},{"$error":"#REF!"},{"$error":"#REF!"},{"$error":"#REF!"},{"$error":"#REF!"},{"$error":"#REF!"},{"$error":"#REF!"},{"$error":"#REF!"},{"$error":"#REF!"},{"$error":"#REF!"},{"$error":"#REF!"},{"$error":"#REF!"},{"$error":"#REF!"},{"$error":"#REF!"},{"$error":"#REF!"},{"$error":"#REF!"},{"$error":"#REF!"},{"$error":"#REF!"},{"$error":"#REF!"}]
["Максимальный балл",null,null,null,{"$f":"E7573","v":7},{"$f":"F7573","v":1},1,1,1,1,1,1,1,1,1,1,1,1,9,10,{"$error":"#REF!"},{"$error":"#REF!"},{"$error":"#REF!"},{"$error":"#REF!"},{"$error":"#REF!"},{"$error":"#REF!"},{"$error":"#REF!"},{"$error":"#REF!"},{"$error":"#REF!"},{"$error":"#REF!"},{"$error":"#REF!"},{"$error":"#REF!"},{"$error":"#REF!"},{"$error":"#REF!"},{"$error":"#REF!"},{"$error":"#REF!"},{"$error":"#REF!"},{"$error":"#REF!"},{"$error":"#REF!"},39,76.92307692307692,{"$error":"#REF!"},23.076923076923077,0]
[null,null,null,"вариант"]
[{"$f":"Результаты!#REF!","v":{"$error":"#REF!"}},{"$f":"Результаты!#REF!","v":{"$error":"#REF!"}},{"$f":"Результаты!#REF!","v":{"$error":"#REF!"}},{"$f":"Результаты!#REF!","v":{"$error":"#REF!"}},{"$f":"Результаты!#REF!","v":{"$error":"#REF!"}},{"$f":"Результаты!#REF!","v":{"$error":"#REF!"}},{"$f":"Результаты!#REF!","v":{"$error":"#REF!"}},{"$f":"Результаты!#REF!","v":{"$error":"#REF!"}},{"$f":"Результаты!#REF!","v":{"$error":"#REF!"}},{"$f":"Результаты!#REF!","v":{"$error":"#REF!"}},{"$f":"Результаты!#REF!","v":{"$error":"#REF!"}},{"$f":"Результаты!#REF!","v":{"$error":"#REF!"}},{"$f":"Результаты!#REF!","v":{"$error":"#REF!"}},{"$f":"Результаты!#REF!","v":{"$error":"#REF!"}},{"$f":"Результаты!#REF!","v":{"$error":"#REF!"}},{"$f":"Результаты!#REF!","v":{"$error":"#REF!"}},{"$f":"Результаты!#REF!","v":{"$error":"#REF!"}},{"$f":"Результаты!#REF!","v":{"$error":"#REF!"}},{"$f":"Результаты!#REF!","v":{"$error":"#REF!"}},{"$f":"Результаты!#REF!","v":{"$error":"#REF!"}},{"$f":"Результаты!#REF!","v":{"$error":"#REF!"}},{"$f":"Результаты!#REF!","v":{"$error":"#REF!"}},{"$f":"Результаты!#REF!","v":{"$error":"#REF!"}},{"$f":"Результаты!#REF!","v":{"$error":"#REF!"}},{"$f":"Результаты!#REF!","v":{"$error":"#REF!"}},{"$f":"Результаты!#REF!","v":{"$error":"#REF!"}},{"$f":"Результаты!#REF!","v":{"$error":"#REF!"}},{"$f":"Результаты!#REF!","v":{"$error":"#REF!"}},{"$f":"Результаты!#REF!","v":{"$error":"#REF!"}},{"$f":"Результаты!#REF!","v":{"$error":"#REF!"}},{"$f":"Результаты!#REF!","v":{"$error":"#REF!"}},{"$f":"Результаты!#REF!","v":{"$error":"#REF!"}},{"$f":"Результаты!#REF!","v":{"$error":"#REF!"}},{"$f":"Результаты!#REF!","v":{"$error":"#REF!"}},{"$f":"Результаты!#REF!","v":{"$error":"#REF!"}},{"$f":"Результаты!#REF!","v":{"$error":"#REF!"}},{"$f":"Результаты!#REF!","v":{"$error":"#REF!"}},{"$f":"Результаты!#REF!","v":{"$error":"#REF!"}},{"$f":"Результаты!#REF!","v":{"$error":"#REF!"}},{"$f":"Результаты!#REF!","v":{"$error":"#REF!"}},{"$f":"Результаты!#REF!","v":{"$error":"#REF!"}},{"$f":"Результаты!#REF!","v":{"$error":"#REF!"}},{"$f":"Результаты!#REF!","v":{"$error":"#REF!"}},{"$f":"Результаты!#REF!","v":{"$error":"#REF!"}}]
[]
[]
[null,{"$f":"B7578","v":1},"Информационная обработка текстов различных стилей и жанров. Текст как речевое произведение. Смысловая и композиционная целостность текста. Отбор языковых средств в тексте в зависимости от темы, цели, адресата и ситуации общения. Создание текстов различных стилей и функционально-смысловых типов речи. Грамматические нормы (морфологические нормы). Грамматические  нормы  (синтаксические нормы). Лексические нормы. Пунктуация в простом и сложном предложениях. Орфограмма"]
[null,{"$f":"B7579","v":2},"Текст как речевое произведение. Смысловая и композиционная целостность текста. Анализ текста"]
[null,{"$f":"B7580","v":3},"Выразительные средства лексики и фразеологии. Анализ средств выразительности"]
[null,{"$f":"B7581","v":4},"Правописание приставок. Слитное, дефисное, раздельное написание"]
[null,{"$f":"B7582","v":5},"Правописание суффиксов различных частей речи (кроме -Н-/-НН-). Правописание -Н- и -НН- в различных частях речи. Правописание личных окончаний глаголов и суффиксов причастий настоящего времени"]
[null,{"$f":"B7583","v":6},"Лексика и фразеология. Синонимы. Фразеологические обороты. Группы слов по происхождению и употреблению"]
[null,{"$f":"B7584","v":7},"Словосочетание"]
[null,{"$f":"B7585","v":8},"Предложение. Грамматическая (предикативная) основа предложения. Подлежащее и сказуемое как главные члены предложения "]
[null,{"$f":"B7586","v":9},"Осложнённое простое предложение"]
[null,{"$f":"B7587","v":10},"Пунктуационный анализ. Знаки препинания в предложениях со словами и конструкциями, грамматически не связанными с членами предложения"]
[null,{"$f":"B7588","v":11},"Синтаксический анализ сложного предложения"]
[null,{"$f":"B7589","v":12},"Пунктуационный анализ. Знаки препинания в сложносочинённом и сложноподчинённом предложениях"]
[null,{"$f":"B7590","v":13},"Синтаксический анализ сложного предложения"]
[null,{"$f":"B7591","v":14},"Сложные предложения с разными видами связи между частями"]
[null,{"$f":"B7592","v":15},"Текст как речевое произведение. Смысловая и композиционная целостность текста. Создание текстов различных стилей и функционально-смысловых типов речи. Информационная обработка текстов различных стилей и жанров. Грамматические нормы (морфологические нормы). Грамматические нормы (синтаксические нормы). Лексические нормы"]
[null,{"$f":"B7593","v":16},0]
[null,{"$f":"B7594","v":17},0]
[null,{"$f":"B7595","v":18},0]
[null,{"$f":"B7596","v":19},0]
[null,{"$f":"B7597","v":20},0]
[null,{"$f":"B7598","v":21},0]
[null,{"$f":"B7599","v":22},0]
[null,{"$f":"B7600","v":23},0]
[null,{"$f":"B7601","v":24},0]
[null,{"$f":"B7602","v":25},0]
[null,{"$f":"B7603","v":26},0]
[null,{"$f":"B7604","v":27},0]
[null,{"$f":"B7605","v":28},0]
[null,{"$f":"B7606","v":29},0]
[null,{"$f":"B7607","v":30},0]
[null,{"$f":"B7608","v":31},0]
[null,{"$f":"B7609","v":32},0]
[null,{"$f":"B7610","v":33},0]
[null,{"$f":"B7611","v":34},0]
[null,{"$f":"B7612","v":35},0]
[]
[]
["Рекомендация: обратите внимание на задания по темам, которые вызвали у Вас затруднения, решены с ошибкой и отмечены \"0\" или к решению которых Вы не приступили (пустые ячейки)!"]
[]
[]
["Центр независимой оценки качества образования и образовательного аудита \"Легион\""]
[]
["Образовательная организация",null,null,null,{"$f":"E7620","v":"Ленинская СОШ"}]
["Предмет",null,null,null,{"$f":"E7621","v":"Русский язык"}]
["Максимальный балл",null,null,null,39]
["Пороговый балл",null,null,null,15]
["Зона риска",null,null,null,{"$f":"Результаты!E15","v":15},null,null,{"$f":"Результаты!H15","v":16}]
[]
["Уровни",null,null,null,{"$f":"E7626","v":1},{"$f":"F7626","v":2},3,4,5,6,7,8,9,10,11,12,13,14,15,"ПР.ГР",{"$error":"#REF!"},{"$error":"#REF!"},{"$error":"#REF!"},{"$error":"#REF!"},{"$error":"#REF!"},{"$error":"#REF!"},{"$error":"#REF!"},{"$error":"#REF!"},{"$error":"#REF!"},{"$error":"#REF!"},{"$error":"#REF!"},{"$error":"#REF!"},{"$error":"#REF!"},{"$error":"#REF!"},{"$error":"#REF!"},{"$error":"#REF!"},{"$error":"#REF!"},{"$error":"#REF!"},{"$error":"#REF!"},"Тестовый балл","% выплнения заданий по уровням",null,null,"Оценка"]
[null,null,null,null,null,null,null,null,null,null,null,null,null,null,null,null,null,null,null,null,null,null,null,null,null,null,null,null,null,null,null,null,null,null,null,null,null,null,null,null,"Базовый","Повышенный","Высокий"]
["№","Класс","Ф.И.О.","№ задания",{"$f":"E7628","v":1},{"$f":"F7628","v":2},3,4,5,6,7,8,9,10,11,12,13,14,15,0,{"$error":"#REF!"},{"$error":"#REF!"},{"$error":"#REF!"},{"$error":"#REF!"},{"$error":"#REF!"},{"$error":"#REF!"},{"$error":"#REF!"},{"$error":"#REF!"},{"$error":"#REF!"},{"$error":"#REF!"},{"$error":"#REF!"},{"$error":"#REF!"},{"$error":"#REF!"},{"$error":"#REF!"},{"$error":"#REF!"},{"$error":"#REF!"},{"$error":"#REF!"},{"$error":"#REF!"},{"$error":"#REF!"}]
["Максимальный балл",null,null,null,{"$f":"E7629","v":7},{"$f":"F7629","v":1},1,1,1,1,1,1,1,1,1,1,1,1,9,10,{"$error":"#REF!"},{"$error":"#REF!"},{"$error":"#REF!"},{"$error":"#REF!"},{"$error":"#REF!"},{"$error":"#REF!"},{"$error":"#REF!"},{"$error":"#REF!"},{"$error":"#REF!"},{"$error":"#REF!"},{"$error":"#REF!"},{"$error":"#REF!"},{"$error":"#REF!"},{"$error":"#REF!"},{"$error":"#REF!"},{"$error":"#REF!"},{"$error":"#REF!"},{"$error":"#REF!"},{"$error":"#REF!"},39,76.92307692307692,{"$error":"#REF!"},23.076923076923077,0]
[null,null,null,"вариант"]
[{"$f":"Результаты!#REF!","v":{"$error":"#REF!"}},{"$f":"Результаты!#REF!","v":{"$error":"#REF!"}},{"$f":"Результаты!#REF!","v":{"$error":"#REF!"}},{"$f":"Результаты!#REF!","v":{"$error":"#REF!"}},{"$f":"Результаты!#REF!","v":{"$error":"#REF!"}},{"$f":"Результаты!#REF!","v":{"$error":"#REF!"}},{"$f":"Результаты!#REF!","v":{"$error":"#REF!"}},{"$f":"Результаты!#REF!","v":{"$error":"#REF!"}},{"$f":"Результаты!#REF!","v":{"$error":"#REF!"}},{"$f":"Результаты!#REF!","v":{"$error":"#REF!"}},{"$f":"Результаты!#REF!","v":{"$error":"#REF!"}},{"$f":"Результаты!#REF!","v":{"$error":"#REF!"}},{"$f":"Результаты!#REF!","v":{"$error":"#REF!"}},{"$f":"Результаты!#REF!","v":{"$error":"#REF!"}},{"$f":"Результаты!#REF!","v":{"$error":"#REF!"}},{"$f":"Результаты!#REF!","v":{"$error":"#REF!"}},{"$f":"Результаты!#REF!","v":{"$error":"#REF!"}},{"$f":"Результаты!#REF!","v":{"$error":"#REF!"}},{"$f":"Результаты!#REF!","v":{"$error":"#REF!"}},{"$f":"Результаты!#REF!","v":{"$error":"#REF!"}},{"$f":"Результаты!#REF!","v":{"$error":"#REF!"}},{"$f":"Результаты!#REF!","v":{"$error":"#REF!"}},{"$f":"Результаты!#REF!","v":{"$error":"#REF!"}},{"$f":"Результаты!#REF!","v":{"$error":"#REF!"}},{"$f":"Результаты!#REF!","v":{"$error":"#REF!"}},{"$f":"Результаты!#REF!","v":{"$error":"#REF!"}},{"$f":"Результаты!#REF!","v":{"$error":"#REF!"}},{"$f":"Результаты!#REF!","v":{"$error":"#REF!"}},{"$f":"Результаты!#REF!","v":{"$error":"#REF!"}},{"$f":"Результаты!#REF!","v":{"$error":"#REF!"}},{"$f":"Результаты!#REF!","v":{"$error":"#REF!"}},{"$f":"Результаты!#REF!","v":{"$error":"#REF!"}},{"$f":"Результаты!#REF!","v":{"$error":"#REF!"}},{"$f":"Результаты!#REF!","v":{"$error":"#REF!"}},{"$f":"Результаты!#REF!","v":{"$error":"#REF!"}},{"$f":"Результаты!#REF!","v":{"$error":"#REF!"}},{"$f":"Результаты!#REF!","v":{"$error":"#REF!"}},{"$f":"Результаты!#REF!","v":{"$error":"#REF!"}},{"$f":"Результаты!#REF!","v":{"$error":"#REF!"}},{"$f":"Результаты!#REF!","v":{"$error":"#REF!"}},{"$f":"Результаты!#REF!","v":{"$error":"#REF!"}},{"$f":"Результаты!#REF!","v":{"$error":"#REF!"}},{"$f":"Результаты!#REF!","v":{"$error":"#REF!"}},{"$f":"Результаты!#REF!","v":{"$error":"#REF!"}}]
[]
[]
[null,{"$f":"B7634","v":1},"Информационная обработка текстов различных стилей и жанров. Текст как речевое произведение. Смысловая и композиционная целостность текста. Отбор языковых средств в тексте в зависимости от темы, цели, адресата и ситуации общения. Создание текстов различных стилей и функционально-смысловых типов речи. Грамматические нормы (морфологические нормы). Грамматические  нормы  (синтаксические нормы). Лексические нормы. Пунктуация в простом и сложном предложениях. Орфограмма"]
[null,{"$f":"B7635","v":2},"Текст как речевое произведение. Смысловая и композиционная целостность текста. Анализ текста"]
[null,{"$f":"B7636","v":3},"Выразительные средства лексики и фразеологии. Анализ средств выразительности"]
[null,{"$f":"B7637","v":4},"Правописание приставок. Слитное, дефисное, раздельное написание"]
[null,{"$f":"B7638","v":5},"Правописание суффиксов различных частей речи (кроме -Н-/-НН-). Правописание -Н- и -НН- в различных частях речи. Правописание личных окончаний глаголов и суффиксов причастий настоящего времени"]
[null,{"$f":"B7639","v":6},"Лексика и фразеология. Синонимы. Фразеологические обороты. Группы слов по происхождению и употреблению"]
[null,{"$f":"B7640","v":7},"Словосочетание"]
[null,{"$f":"B7641","v":8},"Предложение. Грамматическая (предикативная) основа предложения. Подлежащее и сказуемое как главные члены предложения "]
[null,{"$f":"B7642","v":9},"Осложнённое простое предложение"]
[null,{"$f":"B7643","v":10},"Пунктуационный анализ. Знаки препинания в предложениях со словами и конструкциями, грамматически не связанными с членами предложения"]
[null,{"$f":"B7644","v":11},"Синтаксический анализ сложного предложения"]
[null,{"$f":"B7645","v":12},"Пунктуационный анализ. Знаки препинания в сложносочинённом и сложноподчинённом предложениях"]
[null,{"$f":"B7646","v":13},"Синтаксический анализ сложного предложения"]
[null,{"$f":"B7647","v":14},"Сложные предложения с разными видами связи между частями"]
[null,{"$f":"B7648","v":15},"Текст как речевое произведение. Смысловая и композиционная целостность текста. Создание текстов различных стилей и функционально-смысловых типов речи. Информационная обработка текстов различных стилей и жанров. Грамматические нормы (морфологические нормы). Грамматические нормы (синтаксические нормы). Лексические нормы"]
[null,{"$f":"B7649","v":16},0]
[null,{"$f":"B7650","v":17},0]
[null,{"$f":"B7651","v":18},0]
[null,{"$f":"B7652","v":19},0]
[null,{"$f":"B7653","v":20},0]
[null,{"$f":"B7654","v":21},0]
[null,{"$f":"B7655","v":22},0]
[null,{"$f":"B7656","v":23},0]
[null,{"$f":"B7657","v":24},0]
[null,{"$f":"B7658","v":25},0]
[null,{"$f":"B7659","v":26},0]
[null,{"$f":"B7660","v":27},0]
[null,{"$f":"B7661","v":28},0]
[null,{"$f":"B7662","v":29},0]
[null,{"$f":"B7663","v":30},0]
[null,{"$f":"B7664","v":31},0]
[null,{"$f":"B7665","v":32},0]
[null,{"$f":"B7666","v":33},0]
[null,{"$f":"B7667","v":34},0]
[null,{"$f":"B7668","v":35},0]
[]
[]
["Рекомендация: обратите внимание на задания по темам, которые вызвали у Вас затруднения, решены с ошибкой и отмечены \"0\" или к решению которых Вы не приступили (пустые ячейки)!"]
[]
[]
["Центр независимой оценки качества образования и образовательного аудита \"Легион\""]
[]
["Образовательная организация",null,null,null,{"$f":"E7676","v":"Ленинская СОШ"}]
["Предмет",null,null,null,{"$f":"E7677","v":"Русский язык"}]
["Максимальный балл",null,null,null,39]
["Пороговый балл",null,null,null,15]
["Зона риска",null,null,null,{"$f":"Результаты!E15","v":15},null,null,{"$f":"Результаты!H15","v":16}]
[]
["Уровни",null,null,null,{"$f":"E7682","v":1},{"$f":"F7682","v":2},3,4,5,6,7,8,9,10,11,12,13,14,15,"ПР.ГР",{"$error":"#REF!"},{"$error":"#REF!"},{"$error":"#REF!"},{"$error":"#REF!"},{"$error":"#REF!"},{"$error":"#REF!"},{"$error":"#REF!"},{"$error":"#REF!"},{"$error":"#REF!"},{"$error":"#REF!"},{"$error":"#REF!"},{"$error":"#REF!"},{"$error":"#REF!"},{"$error":"#REF!"},{"$error":"#REF!"},{"$error":"#REF!"},{"$error":"#REF!"},{"$error":"#REF!"},{"$error":"#REF!"},"Тестовый балл","% выплнения заданий по уровням",null,null,"Оценка"]
[null,null,null,null,null,null,null,null,null,null,null,null,null,null,null,null,null,null,null,null,null,null,null,null,null,null,null,null,null,null,null,null,null,null,null,null,null,null,null,null,"Базовый","Повышенный","Высокий"]
["№","Класс","Ф.И.О.","№ задания",{"$f":"E7684","v":1},{"$f":"F7684","v":2},3,4,5,6,7,8,9,10,11,12,13,14,15,0,{"$error":"#REF!"},{"$error":"#REF!"},{"$error":"#REF!"},{"$error":"#REF!"},{"$error":"#REF!"},{"$error":"#REF!"},{"$error":"#REF!"},{"$error":"#REF!"},{"$error":"#REF!"},{"$error":"#REF!"},{"$error":"#REF!"},{"$error":"#REF!"},{"$error":"#REF!"},{"$error":"#REF!"},{"$error":"#REF!"},{"$error":"#REF!"},{"$error":"#REF!"},{"$error":"#REF!"},{"$error":"#REF!"}]
["Максимальный балл",null,null,null,{"$f":"E7685","v":7},{"$f":"F7685","v":1},1,1,1,1,1,1,1,1,1,1,1,1,9,10,{"$error":"#REF!"},{"$error":"#REF!"},{"$error":"#REF!"},{"$error":"#REF!"},{"$error":"#REF!"},{"$error":"#REF!"},{"$error":"#REF!"},{"$error":"#REF!"},{"$error":"#REF!"},{"$error":"#REF!"},{"$error":"#REF!"},{"$error":"#REF!"},{"$error":"#REF!"},{"$error":"#REF!"},{"$error":"#REF!"},{"$error":"#REF!"},{"$error":"#REF!"},{"$error":"#REF!"},{"$error":"#REF!"},39,76.92307692307692,{"$error":"#REF!"},23.076923076923077,0]
[null,null,null,"вариант"]
[{"$f":"Результаты!#REF!","v":{"$error":"#REF!"}},{"$f":"Результаты!#REF!","v":{"$error":"#REF!"}},{"$f":"Результаты!#REF!","v":{"$error":"#REF!"}},{"$f":"Результаты!#REF!","v":{"$error":"#REF!"}},{"$f":"Результаты!#REF!","v":{"$error":"#REF!"}},{"$f":"Результаты!#REF!","v":{"$error":"#REF!"}},{"$f":"Результаты!#REF!","v":{"$error":"#REF!"}},{"$f":"Результаты!#REF!","v":{"$error":"#REF!"}},{"$f":"Результаты!#REF!","v":{"$error":"#REF!"}},{"$f":"Результаты!#REF!","v":{"$error":"#REF!"}},{"$f":"Результаты!#REF!","v":{"$error":"#REF!"}},{"$f":"Результаты!#REF!","v":{"$error":"#REF!"}},{"$f":"Результаты!#REF!","v":{"$error":"#REF!"}},{"$f":"Результаты!#REF!","v":{"$error":"#REF!"}},{"$f":"Результаты!#REF!","v":{"$error":"#REF!"}},{"$f":"Результаты!#REF!","v":{"$error":"#REF!"}},{"$f":"Результаты!#REF!","v":{"$error":"#REF!"}},{"$f":"Результаты!#REF!","v":{"$error":"#REF!"}},{"$f":"Результаты!#REF!","v":{"$error":"#REF!"}},{"$f":"Результаты!#REF!","v":{"$error":"#REF!"}},{"$f":"Результаты!#REF!","v":{"$error":"#REF!"}},{"$f":"Результаты!#REF!","v":{"$error":"#REF!"}},{"$f":"Результаты!#REF!","v":{"$error":"#REF!"}},{"$f":"Результаты!#REF!","v":{"$error":"#REF!"}},{"$f":"Результаты!#REF!","v":{"$error":"#REF!"}},{"$f":"Результаты!#REF!","v":{"$error":"#REF!"}},{"$f":"Результаты!#REF!","v":{"$error":"#REF!"}},{"$f":"Результаты!#REF!","v":{"$error":"#REF!"}},{"$f":"Результаты!#REF!","v":{"$error":"#REF!"}},{"$f":"Результаты!#REF!","v":{"$error":"#REF!"}},{"$f":"Результаты!#REF!","v":{"$error":"#REF!"}},{"$f":"Результаты!#REF!","v":{"$error":"#REF!"}},{"$f":"Результаты!#REF!","v":{"$error":"#REF!"}},{"$f":"Результаты!#REF!","v":{"$error":"#REF!"}},{"$f":"Результаты!#REF!","v":{"$error":"#REF!"}},{"$f":"Результаты!#REF!","v":{"$error":"#REF!"}},{"$f":"Результаты!#REF!","v":{"$error":"#REF!"}},{"$f":"Результаты!#REF!","v":{"$error":"#REF!"}},{"$f":"Результаты!#REF!","v":{"$error":"#REF!"}},{"$f":"Результаты!#REF!","v":{"$error":"#REF!"}},{"$f":"Результаты!#REF!","v":{"$error":"#REF!"}},{"$f":"Результаты!#REF!","v":{"$error":"#REF!"}},{"$f":"Результаты!#REF!","v":{"$error":"#REF!"}},{"$f":"Результаты!#REF!","v":{"$error":"#REF!"}}]
[]
[]
[null,{"$f":"B7690","v":1},"Информационная обработка текстов различных стилей и жанров. Текст как речевое произведение. Смысловая и композиционная целостность текста. Отбор языковых средств в тексте в зависимости от темы, цели, адресата и ситуации общения. Создание текстов различных стилей и функционально-смысловых типов речи. Грамматические нормы (морфологические нормы). Грамматические  нормы  (синтаксические нормы). Лексические нормы. Пунктуация в простом и сложном предложениях. Орфограмма"]
[null,{"$f":"B7691","v":2},"Текст как речевое произведение. Смысловая и композиционная целостность текста. Анализ текста"]
[null,{"$f":"B7692","v":3},"Выразительные средства лексики и фразеологии. Анализ средств выразительности"]
[null,{"$f":"B7693","v":4},"Правописание приставок. Слитное, дефисное, раздельное написание"]
[null,{"$f":"B7694","v":5},"Правописание суффиксов различных частей речи (кроме -Н-/-НН-). Правописание -Н- и -НН- в различных частях речи. Правописание личных окончаний глаголов и суффиксов причастий настоящего времени"]
[null,{"$f":"B7695","v":6},"Лексика и фразеология. Синонимы. Фразеологические обороты. Группы слов по происхождению и употреблению"]
[null,{"$f":"B7696","v":7},"Словосочетание"]
[null,{"$f":"B7697","v":8},"Предложение. Грамматическая (предикативная) основа предложения. Подлежащее и сказуемое как главные члены предложения "]
[null,{"$f":"B7698","v":9},"Осложнённое простое предложение"]
[null,{"$f":"B7699","v":10},"Пунктуационный анализ. Знаки препинания в предложениях со словами и конструкциями, грамматически не связанными с членами предложения"]
[null,{"$f":"B7700","v":11},"Синтаксический анализ сложного предложения"]
[null,{"$f":"B7701","v":12},"Пунктуационный анализ. Знаки препинания в сложносочинённом и сложноподчинённом предложениях"]
[null,{"$f":"B7702","v":13},"Синтаксический анализ сложного предложения"]
[null,{"$f":"B7703","v":14},"Сложные предложения с разными видами связи между частями"]
[null,{"$f":"B7704","v":15},"Текст как речевое произведение. Смысловая и композиционная целостность текста. Создание текстов различных стилей и функционально-смысловых типов речи. Информационная обработка текстов различных стилей и жанров. Грамматические нормы (морфологические нормы). Грамматические нормы (синтаксические нормы). Лексические нормы"]
[null,{"$f":"B7705","v":16},0]
[null,{"$f":"B7706","v":17},0]
[null,{"$f":"B7707","v":18},0]
[null,{"$f":"B7708","v":19},0]
[null,{"$f":"B7709","v":20},0]
[null,{"$f":"B7710","v":21},0]
[null,{"$f":"B7711","v":22},0]
[null,{"$f":"B7712","v":23},0]
[null,{"$f":"B7713","v":24},0]
[null,{"$f":"B7714","v":25},0]
[null,{"$f":"B7715","v":26},0]
[null,{"$f":"B7716","v":27},0]
[null,{"$f":"B7717","v":28},0]
[null,{"$f":"B7718","v":29},0]
[null,{"$f":"B7719","v":30},0]
[null,{"$f":"B7720","v":31},0]
[null,{"$f":"B7721","v":32},0]
[null,{"$f":"B7722","v":33},0]
[null,{"$f":"B7723","v":34},0]
[null,{"$f":"B7724","v":35},0]
[]
[]
["Рекомендация: обратите внимание на задания по темам, которые вызвали у Вас затруднения, решены с ошибкой и отмечены \"0\" или к решению которых Вы не приступили (пустые ячейки)!"]
[]
[]
["Центр независимой оценки качества образования и образовательного аудита \"Легион\""]
[]
["Образовательная организация",null,null,null,{"$f":"E7732","v":"Ленинская СОШ"}]
["Предмет",null,null,null,{"$f":"E7733","v":"Русский язык"}]
["Максимальный балл",null,null,null,39]
["Пороговый балл",null,null,null,15]
["Зона риска",null,null,null,{"$f":"Результаты!E15","v":15},null,null,{"$f":"Результаты!H15","v":16}]
[]
["Уровни",null,null,null,{"$f":"E7738","v":1},{"$f":"F7738","v":2},3,4,5,6,7,8,9,10,11,12,13,14,15,"ПР.ГР",{"$error":"#REF!"},{"$error":"#REF!"},{"$error":"#REF!"},{"$error":"#REF!"},{"$error":"#REF!"},{"$error":"#REF!"},{"$error":"#REF!"},{"$error":"#REF!"},{"$error":"#REF!"},{"$error":"#REF!"},{"$error":"#REF!"},{"$error":"#REF!"},{"$error":"#REF!"},{"$error":"#REF!"},{"$error":"#REF!"},{"$error":"#REF!"},{"$error":"#REF!"},{"$error":"#REF!"},{"$error":"#REF!"},"Тестовый балл","% выплнения заданий по уровням",null,null,"Оценка"]
[null,null,null,null,null,null,null,null,null,null,null,null,null,null,null,null,null,null,null,null,null,null,null,null,null,null,null,null,null,null,null,null,null,null,null,null,null,null,null,null,"Базовый","Повышенный","Высокий"]
["№","Класс","Ф.И.О.","№ задания",{"$f":"E7740","v":1},{"$f":"F7740","v":2},3,4,5,6,7,8,9,10,11,12,13,14,15,0,{"$error":"#REF!"},{"$error":"#REF!"},{"$error":"#REF!"},{"$error":"#REF!"},{"$error":"#REF!"},{"$error":"#REF!"},{"$error":"#REF!"},{"$error":"#REF!"},{"$error":"#REF!"},{"$error":"#REF!"},{"$error":"#REF!"},{"$error":"#REF!"},{"$error":"#REF!"},{"$error":"#REF!"},{"$error":"#REF!"},{"$error":"#REF!"},{"$error":"#REF!"},{"$error":"#REF!"},{"$error":"#REF!"}]
["Максимальный балл",null,null,null,{"$f":"E7741","v":7},{"$f":"F7741","v":1},1,1,1,1,1,1,1,1,1,1,1,1,9,10,{"$error":"#REF!"},{"$error":"#REF!"},{"$error":"#REF!"},{"$error":"#REF!"},{"$error":"#REF!"},{"$error":"#REF!"},{"$error":"#REF!"},{"$error":"#REF!"},{"$error":"#REF!"},{"$error":"#REF!"},{"$error":"#REF!"},{"$error":"#REF!"},{"$error":"#REF!"},{"$error":"#REF!"},{"$error":"#REF!"},{"$error":"#REF!"},{"$error":"#REF!"},{"$error":"#REF!"},{"$error":"#REF!"},39,76.92307692307692,{"$error":"#REF!"},23.076923076923077,0]
[null,null,null,"вариант"]
[{"$f":"Результаты!#REF!","v":{"$error":"#REF!"}},{"$f":"Результаты!#REF!","v":{"$error":"#REF!"}},{"$f":"Результаты!#REF!","v":{"$error":"#REF!"}},{"$f":"Результаты!#REF!","v":{"$error":"#REF!"}},{"$f":"Результаты!#REF!","v":{"$error":"#REF!"}},{"$f":"Результаты!#REF!","v":{"$error":"#REF!"}},{"$f":"Результаты!#REF!","v":{"$error":"#REF!"}},{"$f":"Результаты!#REF!","v":{"$error":"#REF!"}},{"$f":"Результаты!#REF!","v":{"$error":"#REF!"}},{"$f":"Результаты!#REF!","v":{"$error":"#REF!"}},{"$f":"Результаты!#REF!","v":{"$error":"#REF!"}},{"$f":"Результаты!#REF!","v":{"$error":"#REF!"}},{"$f":"Результаты!#REF!","v":{"$error":"#REF!"}},{"$f":"Результаты!#REF!","v":{"$error":"#REF!"}},{"$f":"Результаты!#REF!","v":{"$error":"#REF!"}},{"$f":"Результаты!#REF!","v":{"$error":"#REF!"}},{"$f":"Результаты!#REF!","v":{"$error":"#REF!"}},{"$f":"Результаты!#REF!","v":{"$error":"#REF!"}},{"$f":"Результаты!#REF!","v":{"$error":"#REF!"}},{"$f":"Результаты!#REF!","v":{"$error":"#REF!"}},{"$f":"Результаты!#REF!","v":{"$error":"#REF!"}},{"$f":"Результаты!#REF!","v":{"$error":"#REF!"}},{"$f":"Результаты!#REF!","v":{"$error":"#REF!"}},{"$f":"Результаты!#REF!","v":{"$error":"#REF!"}},{"$f":"Результаты!#REF!","v":{"$error":"#REF!"}},{"$f":"Результаты!#REF!","v":{"$error":"#REF!"}},{"$f":"Результаты!#REF!","v":{"$error":"#REF!"}},{"$f":"Результаты!#REF!","v":{"$error":"#REF!"}},{"$f":"Результаты!#REF!","v":{"$error":"#REF!"}},{"$f":"Результаты!#REF!","v":{"$error":"#REF!"}},{"$f":"Результаты!#REF!","v":{"$error":"#REF!"}},{"$f":"Результаты!#REF!","v":{"$error":"#REF!"}},{"$f":"Результаты!#REF!","v":{"$error":"#REF!"}},{"$f":"Результаты!#REF!","v":{"$error":"#REF!"}},{"$f":"Результаты!#REF!","v":{"$error":"#REF!"}},{"$f":"Результаты!#REF!","v":{"$error":"#REF!"}},{"$f":"Результаты!#REF!","v":{"$error":"#REF!"}},{"$f":"Результаты!#REF!","v":{"$error":"#REF!"}},{"$f":"Результаты!#REF!","v":{"$error":"#REF!"}},{"$f":"Результаты!#REF!","v":{"$error":"#REF!"}},{"$f":"Результаты!#REF!","v":{"$error":"#REF!"}},{"$f":"Результаты!#REF!","v":{"$error":"#REF!"}},{"$f":"Результаты!#REF!","v":{"$error":"#REF!"}},{"$f":"Результаты!#REF!","v":{"$error":"#REF!"}}]
[]
[]
[null,{"$f":"B7746","v":1},"Информационная обработка текстов различных стилей и жанров. Текст как речевое произведение. Смысловая и композиционная целостность текста. Отбор языковых средств в тексте в зависимости от темы, цели, адресата и ситуации общения. Создание текстов различных стилей и функционально-смысловых типов речи. Грамматические нормы (морфологические нормы). Грамматические  нормы  (синтаксические нормы). Лексические нормы. Пунктуация в простом и сложном предложениях. Орфограмма"]
[null,{"$f":"B7747","v":2},"Текст как речевое произведение. Смысловая и композиционная целостность текста. Анализ текста"]
[null,{"$f":"B7748","v":3},"Выразительные средства лексики и фразеологии. Анализ средств выразительности"]
[null,{"$f":"B7749","v":4},"Правописание приставок. Слитное, дефисное, раздельное написание"]
[null,{"$f":"B7750","v":5},"Правописание суффиксов различных частей речи (кроме -Н-/-НН-). Правописание -Н- и -НН- в различных частях речи. Правописание личных окончаний глаголов и суффиксов причастий настоящего времени"]
[null,{"$f":"B7751","v":6},"Лексика и фразеология. Синонимы. Фразеологические обороты. Группы слов по происхождению и употреблению"]
[null,{"$f":"B7752","v":7},"Словосочетание"]
[null,{"$f":"B7753","v":8},"Предложение. Грамматическая (предикативная) основа предложения. Подлежащее и сказуемое как главные члены предложения "]
[null,{"$f":"B7754","v":9},"Осложнённое простое предложение"]
[null,{"$f":"B7755","v":10},"Пунктуационный анализ. Знаки препинания в предложениях со словами и конструкциями, грамматически не связанными с членами предложения"]
[null,{"$f":"B7756","v":11},"Синтаксический анализ сложного предложения"]
[null,{"$f":"B7757","v":12},"Пунктуационный анализ. Знаки препинания в сложносочинённом и сложноподчинённом предложениях"]
[null,{"$f":"B7758","v":13},"Синтаксический анализ сложного предложения"]
[null,{"$f":"B7759","v":14},"Сложные предложения с разными видами связи между частями"]
[null,{"$f":"B7760","v":15},"Текст как речевое произведение. Смысловая и композиционная целостность текста. Создание текстов различных стилей и функционально-смысловых типов речи. Информационная обработка текстов различных стилей и жанров. Грамматические нормы (морфологические нормы). Грамматические нормы (синтаксические нормы). Лексические нормы"]
[null,{"$f":"B7761","v":16},0]
[null,{"$f":"B7762","v":17},0]
[null,{"$f":"B7763","v":18},0]
[null,{"$f":"B7764","v":19},0]
[null,{"$f":"B7765","v":20},0]
[null,{"$f":"B7766","v":21},0]
[null,{"$f":"B7767","v":22},0]
[null,{"$f":"B7768","v":23},0]
[null,{"$f":"B7769","v":24},0]
[null,{"$f":"B7770","v":25},0]
[null,{"$f":"B7771","v":26},0]
[null,{"$f":"B7772","v":27},0]
[null,{"$f":"B7773","v":28},0]
[null,{"$f":"B7774","v":29},0]
[null,{"$f":"B7775","v":30},0]
[null,{"$f":"B7776","v":31},0]
[null,{"$f":"B7777","v":32},0]
[null,{"$f":"B7778","v":33},0]
[null,{"$f":"B7779","v":34},0]
[null,{"$f":"B7780","v":35},0]
[]
[]
["Рекомендация: обратите внимание на задания по темам, которые вызвали у Вас затруднения, решены с ошибкой и отмечены \"0\" или к решению которых Вы не приступили (пустые ячейки)!"]
[]
[]
["Центр независимой оценки качества образования и образовательного аудита \"Легион\""]
[]
["Образовательная организация",null,null,null,{"$f":"E7788","v":"Ленинская СОШ"}]
["Предмет",null,null,null,{"$f":"E7789","v":"Русский язык"}]
["Максимальный балл",null,null,null,39]
["Пороговый балл",null,null,null,15]
["Зона риска",null,null,null,{"$f":"Результаты!E15","v":15},null,null,{"$f":"Результаты!H15","v":16}]
[]
["Уровни",null,null,null,{"$f":"E7794","v":1},{"$f":"F7794","v":2},3,4,5,6,7,8,9,10,11,12,13,14,15,"ПР.ГР",{"$error":"#REF!"},{"$error":"#REF!"},{"$error":"#REF!"},{"$error":"#REF!"},{"$error":"#REF!"},{"$error":"#REF!"},{"$error":"#REF!"},{"$error":"#REF!"},{"$error":"#REF!"},{"$error":"#REF!"},{"$error":"#REF!"},{"$error":"#REF!"},{"$error":"#REF!"},{"$error":"#REF!"},{"$error":"#REF!"},{"$error":"#REF!"},{"$error":"#REF!"},{"$error":"#REF!"},{"$error":"#REF!"},"Тестовый балл","% выплнения заданий по уровням",null,null,"Оценка"]
[null,null,null,null,null,null,null,null,null,null,null,null,null,null,null,null,null,null,null,null,null,null,null,null,null,null,null,null,null,null,null,null,null,null,null,null,null,null,null,null,"Базовый","Повышенный","Высокий"]
["№","Класс","Ф.И.О.","№ задания",{"$f":"E7796","v":1},{"$f":"F7796","v":2},3,4,5,6,7,8,9,10,11,12,13,14,15,0,{"$error":"#REF!"},{"$error":"#REF!"},{"$error":"#REF!"},{"$error":"#REF!"},{"$error":"#REF!"},{"$error":"#REF!"},{"$error":"#REF!"},{"$error":"#REF!"},{"$error":"#REF!"},{"$error":"#REF!"},{"$error":"#REF!"},{"$error":"#REF!"},{"$error":"#REF!"},{"$error":"#REF!"},{"$error":"#REF!"},{"$error":"#REF!"},{"$error":"#REF!"},{"$error":"#REF!"},{"$error":"#REF!"}]
["Максимальный балл",null,null,null,{"$f":"E7797","v":7},{"$f":"F7797","v":1},1,1,1,1,1,1,1,1,1,1,1,1,9,10,{"$error":"#REF!"},{"$error":"#REF!"},{"$error":"#REF!"},{"$error":"#REF!"},{"$error":"#REF!"},{"$error":"#REF!"},{"$error":"#REF!"},{"$error":"#REF!"},{"$error":"#REF!"},{"$error":"#REF!"},{"$error":"#REF!"},{"$error":"#REF!"},{"$error":"#REF!"},{"$error":"#REF!"},{"$error":"#REF!"},{"$error":"#REF!"},{"$error":"#REF!"},{"$error":"#REF!"},{"$error":"#REF!"},39,76.92307692307692,{"$error":"#REF!"},23.076923076923077,0]
[null,null,null,"вариант"]
[{"$f":"Результаты!#REF!","v":{"$error":"#REF!"}},{"$f":"Результаты!#REF!","v":{"$error":"#REF!"}},{"$f":"Результаты!#REF!","v":{"$error":"#REF!"}},{"$f":"Результаты!#REF!","v":{"$error":"#REF!"}},{"$f":"Результаты!#REF!","v":{"$error":"#REF!"}},{"$f":"Результаты!#REF!","v":{"$error":"#REF!"}},{"$f":"Результаты!#REF!","v":{"$error":"#REF!"}},{"$f":"Результаты!#REF!","v":{"$error":"#REF!"}},{"$f":"Результаты!#REF!","v":{"$error":"#REF!"}},{"$f":"Результаты!#REF!","v":{"$error":"#REF!"}},{"$f":"Результаты!#REF!","v":{"$error":"#REF!"}},{"$f":"Результаты!#REF!","v":{"$error":"#REF!"}},{"$f":"Результаты!#REF!","v":{"$error":"#REF!"}},{"$f":"Результаты!#REF!","v":{"$error":"#REF!"}},{"$f":"Результаты!#REF!","v":{"$error":"#REF!"}},{"$f":"Результаты!#REF!","v":{"$error":"#REF!"}},{"$f":"Результаты!#REF!","v":{"$error":"#REF!"}},{"$f":"Результаты!#REF!","v":{"$error":"#REF!"}},{"$f":"Результаты!#REF!","v":{"$error":"#REF!"}},{"$f":"Результаты!#REF!","v":{"$error":"#REF!"}},{"$f":"Результаты!#REF!","v":{"$error":"#REF!"}},{"$f":"Результаты!#REF!","v":{"$error":"#REF!"}},{"$f":"Результаты!#REF!","v":{"$error":"#REF!"}},{"$f":"Результаты!#REF!","v":{"$error":"#REF!"}},{"$f":"Результаты!#REF!","v":{"$error":"#REF!"}},{"$f":"Результаты!#REF!","v":{"$error":"#REF!"}},{"$f":"Результаты!#REF!","v":{"$error":"#REF!"}},{"$f":"Результаты!#REF!","v":{"$error":"#REF!"}},{"$f":"Результаты!#REF!","v":{"$error":"#REF!"}},{"$f":"Результаты!#REF!","v":{"$error":"#REF!"}},{"$f":"Результаты!#REF!","v":{"$error":"#REF!"}},{"$f":"Результаты!#REF!","v":{"$error":"#REF!"}},{"$f":"Результаты!#REF!","v":{"$error":"#REF!"}},{"$f":"Результаты!#REF!","v":{"$error":"#REF!"}},{"$f":"Результаты!#REF!","v":{"$error":"#REF!"}},{"$f":"Результаты!#REF!","v":{"$error":"#REF!"}},{"$f":"Результаты!#REF!","v":{"$error":"#REF!"}},{"$f":"Результаты!#REF!","v":{"$error":"#REF!"}},{"$f":"Результаты!#REF!","v":{"$error":"#REF!"}},{"$f":"Результаты!#REF!","v":{"$error":"#REF!"}},{"$f":"Результаты!#REF!","v":{"$error":"#REF!"}},{"$f":"Результаты!#REF!","v":{"$error":"#REF!"}},{"$f":"Результаты!#REF!","v":{"$error":"#REF!"}},{"$f":"Результаты!#REF!","v":{"$error":"#REF!"}}]
[]
[]
[null,{"$f":"B7802","v":1},"Информационная обработка текстов различных стилей и жанров. Текст как речевое произведение. Смысловая и композиционная целостность текста. Отбор языковых средств в тексте в зависимости от темы, цели, адресата и ситуации общения. Создание текстов различных стилей и функционально-смысловых типов речи. Грамматические нормы (морфологические нормы). Грамматические  нормы  (синтаксические нормы). Лексические нормы. Пунктуация в простом и сложном предложениях. Орфограмма"]
[null,{"$f":"B7803","v":2},"Текст как речевое произведение. Смысловая и композиционная целостность текста. Анализ текста"]
[null,{"$f":"B7804","v":3},"Выразительные средства лексики и фразеологии. Анализ средств выразительности"]
[null,{"$f":"B7805","v":4},"Правописание приставок. Слитное, дефисное, раздельное написание"]
[null,{"$f":"B7806","v":5},"Правописание суффиксов различных частей речи (кроме -Н-/-НН-). Правописание -Н- и -НН- в различных частях речи. Правописание личных окончаний глаголов и суффиксов причастий настоящего времени"]
[null,{"$f":"B7807","v":6},"Лексика и фразеология. Синонимы. Фразеологические обороты. Группы слов по происхождению и употреблению"]
[null,{"$f":"B7808","v":7},"Словосочетание"]
[null,{"$f":"B7809","v":8},"Предложение. Грамматическая (предикативная) основа предложения. Подлежащее и сказуемое как главные члены предложения "]
[null,{"$f":"B7810","v":9},"Осложнённое простое предложение"]
[null,{"$f":"B7811","v":10},"Пунктуационный анализ. Знаки препинания в предложениях со словами и конструкциями, грамматически не связанными с членами предложения"]
[null,{"$f":"B7812","v":11},"Синтаксический анализ сложного предложения"]
[null,{"$f":"B7813","v":12},"Пунктуационный анализ. Знаки препинания в сложносочинённом и сложноподчинённом предложениях"]
[null,{"$f":"B7814","v":13},"Синтаксический анализ сложного предложения"]
[null,{"$f":"B7815","v":14},"Сложные предложения с разными видами связи между частями"]
[null,{"$f":"B7816","v":15},"Текст как речевое произведение. Смысловая и композиционная целостность текста. Создание текстов различных стилей и функционально-смысловых типов речи. Информационная обработка текстов различных стилей и жанров. Грамматические нормы (морфологические нормы). Грамматические нормы (синтаксические нормы). Лексические нормы"]
[null,{"$f":"B7817","v":16},0]
[null,{"$f":"B7818","v":17},0]
[null,{"$f":"B7819","v":18},0]
[null,{"$f":"B7820","v":19},0]
[null,{"$f":"B7821","v":20},0]
[null,{"$f":"B7822","v":21},0]
[null,{"$f":"B7823","v":22},0]
[null,{"$f":"B7824","v":23},0]
[null,{"$f":"B7825","v":24},0]
[null,{"$f":"B7826","v":25},0]
[null,{"$f":"B7827","v":26},0]
[null,{"$f":"B7828","v":27},0]
[null,{"$f":"B7829","v":28},0]
[null,{"$f":"B7830","v":29},0]
[null,{"$f":"B7831","v":30},0]
[null,{"$f":"B7832","v":31},0]
[null,{"$f":"B7833","v":32},0]
[null,{"$f":"B7834","v":33},0]
[null,{"$f":"B7835","v":34},0]
[null,{"$f":"B7836","v":35},0]
[]
["Рекомендация: обратите внимание на задания по темам, которые вызвали у Вас затруднения, решены с ошибкой и отмечены \"0\" или к решению которых Вы не приступили (пустые ячейки)!"]
[]
[]
[]
["Центр независимой оценки качества образования и образовательного аудита \"Легион\""]
[]
["Образовательная организация",null,null,null,{"$f":"E7844","v":"Ленинская СОШ"}]
["Предмет",null,null,null,{"$f":"E7845","v":"Русский язык"}]
["Максимальный балл",null,null,null,39]
["Пороговый балл",null,null,null,15]
["Зона риска",null,null,null,{"$f":"Результаты!E15","v":15},null,null,{"$f":"Результаты!H15","v":16}]
[]
["Уровни",null,null,null,{"$f":"E7850","v":1},{"$f":"F7850","v":2},3,4,5,6,7,8,9,10,11,12,13,14,15,"ПР.ГР",{"$error":"#REF!"},{"$error":"#REF!"},{"$error":"#REF!"},{"$error":"#REF!"},{"$error":"#REF!"},{"$error":"#REF!"},{"$error":"#REF!"},{"$error":"#REF!"},{"$error":"#REF!"},{"$error":"#REF!"},{"$error":"#REF!"},{"$error":"#REF!"},{"$error":"#REF!"},{"$error":"#REF!"},{"$error":"#REF!"},{"$error":"#REF!"},{"$error":"#REF!"},{"$error":"#REF!"},{"$error":"#REF!"},"Тестовый балл","% выплнения заданий по уровням",null,null,"Оценка"]
[null,null,null,null,null,null,null,null,null,null,null,null,null,null,null,null,null,null,null,null,null,null,null,null,null,null,null,null,null,null,null,null,null,null,null,null,null,null,null,null,"Базовый","Повышенный","Высокий"]
["№","Класс","Ф.И.О.","№ задания",{"$f":"E7852","v":1},{"$f":"F7852","v":2},3,4,5,6,7,8,9,10,11,12,13,14,15,0,{"$error":"#REF!"},{"$error":"#REF!"},{"$error":"#REF!"},{"$error":"#REF!"},{"$error":"#REF!"},{"$error":"#REF!"},{"$error":"#REF!"},{"$error":"#REF!"},{"$error":"#REF!"},{"$error":"#REF!"},{"$error":"#REF!"},{"$error":"#REF!"},{"$error":"#REF!"},{"$error":"#REF!"},{"$error":"#REF!"},{"$error":"#REF!"},{"$error":"#REF!"},{"$error":"#REF!"},{"$error":"#REF!"}]
["Максимальный балл",null,null,null,{"$f":"E7853","v":7},{"$f":"F7853","v":1},1,1,1,1,1,1,1,1,1,1,1,1,9,10,{"$error":"#REF!"},{"$error":"#REF!"},{"$error":"#REF!"},{"$error":"#REF!"},{"$error":"#REF!"},{"$error":"#REF!"},{"$error":"#REF!"},{"$error":"#REF!"},{"$error":"#REF!"},{"$error":"#REF!"},{"$error":"#REF!"},{"$error":"#REF!"},{"$error":"#REF!"},{"$error":"#REF!"},{"$error":"#REF!"},{"$error":"#REF!"},{"$error":"#REF!"},{"$error":"#REF!"},{"$error":"#REF!"},39,76.92307692307692,{"$error":"#REF!"},23.076923076923077,0]
[null,null,null,"вариант"]
[{"$f":"Результаты!#REF!","v":{"$error":"#REF!"}},{"$f":"Результаты!#REF!","v":{"$error":"#REF!"}},{"$f":"Результаты!#REF!","v":{"$error":"#REF!"}},{"$f":"Результаты!#REF!","v":{"$error":"#REF!"}},{"$f":"Результаты!#REF!","v":{"$error":"#REF!"}},{"$f":"Результаты!#REF!","v":{"$error":"#REF!"}},{"$f":"Результаты!#REF!","v":{"$error":"#REF!"}},{"$f":"Результаты!#REF!","v":{"$error":"#REF!"}},{"$f":"Результаты!#REF!","v":{"$error":"#REF!"}},{"$f":"Результаты!#REF!","v":{"$error":"#REF!"}},{"$f":"Результаты!#REF!","v":{"$error":"#REF!"}},{"$f":"Результаты!#REF!","v":{"$error":"#REF!"}},{"$f":"Результаты!#REF!","v":{"$error":"#REF!"}},{"$f":"Результаты!#REF!","v":{"$error":"#REF!"}},{"$f":"Результаты!#REF!","v":{"$error":"#REF!"}},{"$f":"Результаты!#REF!","v":{"$error":"#REF!"}},{"$f":"Результаты!#REF!","v":{"$error":"#REF!"}},{"$f":"Результаты!#REF!","v":{"$error":"#REF!"}},{"$f":"Результаты!#REF!","v":{"$error":"#REF!"}},{"$f":"Результаты!#REF!","v":{"$error":"#REF!"}},{"$f":"Результаты!#REF!","v":{"$error":"#REF!"}},{"$f":"Результаты!#REF!","v":{"$error":"#REF!"}},{"$f":"Результаты!#REF!","v":{"$error":"#REF!"}},{"$f":"Результаты!#REF!","v":{"$error":"#REF!"}},{"$f":"Результаты!#REF!","v":{"$error":"#REF!"}},{"$f":"Результаты!#REF!","v":{"$error":"#REF!"}},{"$f":"Результаты!#REF!","v":{"$error":"#REF!"}},{"$f":"Результаты!#REF!","v":{"$error":"#REF!"}},{"$f":"Результаты!#REF!","v":{"$error":"#REF!"}},{"$f":"Результаты!#REF!","v":{"$error":"#REF!"}},{"$f":"Результаты!#REF!","v":{"$error":"#REF!"}},{"$f":"Результаты!#REF!","v":{"$error":"#REF!"}},{"$f":"Результаты!#REF!","v":{"$error":"#REF!"}},{"$f":"Результаты!#REF!","v":{"$error":"#REF!"}},{"$f":"Результаты!#REF!","v":{"$error":"#REF!"}},{"$f":"Результаты!#REF!","v":{"$error":"#REF!"}},{"$f":"Результаты!#REF!","v":{"$error":"#REF!"}},{"$f":"Результаты!#REF!","v":{"$error":"#REF!"}},{"$f":"Результаты!#REF!","v":{"$error":"#REF!"}},{"$f":"Результаты!#REF!","v":{"$error":"#REF!"}},{"$f":"Результаты!#REF!","v":{"$error":"#REF!"}},{"$f":"Результаты!#REF!","v":{"$error":"#REF!"}},{"$f":"Результаты!#REF!","v":{"$error":"#REF!"}},{"$f":"Результаты!#REF!","v":{"$error":"#REF!"}}]
[]
[]
[null,{"$f":"B7858","v":1},{"$f":"C7858","v":"Информационная обработка текстов различных стилей и жанров. Текст как речевое произведение. Смысловая и композиционная целостность текста. Отбор языковых средств в тексте в зависимости от темы, цели, адресата и ситуации общения. Создание текстов различных стилей и функционально-смысловых типов речи. Грамматические нормы (морфологические нормы). Грамматические  нормы  (синтаксические нормы). Лексические нормы. Пунктуация в простом и сложном предложениях. Орфограмма"}]
[null,{"$f":"B7859","v":2},"Текст как речевое произведение. Смысловая и композиционная целостность текста. Анализ текста"]
[null,{"$f":"B7860","v":3},"Выразительные средства лексики и фразеологии. Анализ средств выразительности"]
[null,{"$f":"B7861","v":4},"Правописание приставок. Слитное, дефисное, раздельное написание"]
[null,{"$f":"B7862","v":5},"Правописание суффиксов различных частей речи (кроме -Н-/-НН-). Правописание -Н- и -НН- в различных частях речи. Правописание личных окончаний глаголов и суффиксов причастий настоящего времени"]
[null,{"$f":"B7863","v":6},"Лексика и фразеология. Синонимы. Фразеологические обороты. Группы слов по происхождению и употреблению"]
[null,{"$f":"B7864","v":7},"Словосочетание"]
[null,{"$f":"B7865","v":8},"Предложение. Грамматическая (предикативная) основа предложения. Подлежащее и сказуемое как главные члены предложения "]
[null,{"$f":"B7866","v":9},"Осложнённое простое предложение"]
[null,{"$f":"B7867","v":10},"Пунктуационный анализ. Знаки препинания в предложениях со словами и конструкциями, грамматически не связанными с членами предложения"]
[null,{"$f":"B7868","v":11},"Синтаксический анализ сложного предложения"]
[null,{"$f":"B7869","v":12},"Пунктуационный анализ. Знаки препинания в сложносочинённом и сложноподчинённом предложениях"]
[null,{"$f":"B7870","v":13},"Синтаксический анализ сложного предложения"]
[null,{"$f":"B7871","v":14},"Сложные предложения с разными видами связи между частями"]
[null,{"$f":"B7872","v":15},"Текст как речевое произведение. Смысловая и композиционная целостность текста. Создание текстов различных стилей и функционально-смысловых типов речи. Информационная обработка текстов различных стилей и жанров. Грамматические нормы (морфологические нормы). Грамматические нормы (синтаксические нормы). Лексические нормы"]
[null,{"$f":"B7873","v":16},0]
[null,{"$f":"B7874","v":17},0]
[null,{"$f":"B7875","v":18},0]
[null,{"$f":"B7876","v":19},0]
[null,{"$f":"B7877","v":20},0]
[null,{"$f":"B7878","v":21},0]
[null,{"$f":"B7879","v":22},0]
[null,{"$f":"B7880","v":23},0]
[null,{"$f":"B7881","v":24},0]
[null,{"$f":"B7882","v":25},0]
[null,{"$f":"B7883","v":26},0]
[null,{"$f":"B7884","v":27},0]
[null,{"$f":"B7885","v":28},0]
[null,{"$f":"B7886","v":29},0]
[null,{"$f":"B7887","v":30},0]
[null,{"$f":"B7888","v":31},0]
[null,{"$f":"B7889","v":32},0]
[null,{"$f":"B7890","v":33},0]
[null,{"$f":"B7891","v":34},0]
[null,{"$f":"B7892","v":35},0]
[]
["Рекомендация: обратите внимание на задания по темам, которые вызвали у Вас затруднения, решены с ошибкой и отмечены \"0\" или к решению которых Вы не приступили (пустые ячейки)!"]
[]
[]
[]
["Центр независимой оценки качества образования и образовательного аудита \"Легион\""]
[]
["Образовательная организация",null,null,null,{"$f":"E7900","v":"Ленинская СОШ"}]
["Предмет",null,null,null,{"$f":"E7901","v":"Русский язык"}]
["Максимальный балл",null,null,null,39]
["Пороговый балл",null,null,null,15]
["Зона риска",null,null,null,{"$f":"Результаты!E15","v":15},null,null,{"$f":"Результаты!H15","v":16}]
[]
["Уровни",null,null,null,{"$f":"E7906","v":1},{"$f":"F7906","v":2},3,4,5,6,7,8,9,10,11,12,13,14,15,"ПР.ГР",{"$error":"#REF!"},{"$error":"#REF!"},{"$error":"#REF!"},{"$error":"#REF!"},{"$error":"#REF!"},{"$error":"#REF!"},{"$error":"#REF!"},{"$error":"#REF!"},{"$error":"#REF!"},{"$error":"#REF!"},{"$error":"#REF!"},{"$error":"#REF!"},{"$error":"#REF!"},{"$error":"#REF!"},{"$error":"#REF!"},{"$error":"#REF!"},{"$error":"#REF!"},{"$error":"#REF!"},{"$error":"#REF!"},"Тестовый балл","% выплнения заданий по уровням",null,null,"Оценка"]
[null,null,null,null,null,null,null,null,null,null,null,null,null,null,null,null,null,null,null,null,null,null,null,null,null,null,null,null,null,null,null,null,null,null,null,null,null,null,null,null,"Базовый","Повышенный","Высокий"]
["№","Класс","Ф.И.О.","№ задания",{"$f":"E7908","v":1},{"$f":"F7908","v":2},3,4,5,6,7,8,9,10,11,12,13,14,15,0,{"$error":"#REF!"},{"$error":"#REF!"},{"$error":"#REF!"},{"$error":"#REF!"},{"$error":"#REF!"},{"$error":"#REF!"},{"$error":"#REF!"},{"$error":"#REF!"},{"$error":"#REF!"},{"$error":"#REF!"},{"$error":"#REF!"},{"$error":"#REF!"},{"$error":"#REF!"},{"$error":"#REF!"},{"$error":"#REF!"},{"$error":"#REF!"},{"$error":"#REF!"},{"$error":"#REF!"},{"$error":"#REF!"}]
["Максимальный балл",null,null,null,{"$f":"E7909","v":7},{"$f":"F7909","v":1},1,1,1,1,1,1,1,1,1,1,1,1,9,10,{"$error":"#REF!"},{"$error":"#REF!"},{"$error":"#REF!"},{"$error":"#REF!"},{"$error":"#REF!"},{"$error":"#REF!"},{"$error":"#REF!"},{"$error":"#REF!"},{"$error":"#REF!"},{"$error":"#REF!"},{"$error":"#REF!"},{"$error":"#REF!"},{"$error":"#REF!"},{"$error":"#REF!"},{"$error":"#REF!"},{"$error":"#REF!"},{"$error":"#REF!"},{"$error":"#REF!"},{"$error":"#REF!"},39,76.92307692307692,{"$error":"#REF!"},23.076923076923077,0]
[null,null,null,"вариант"]
[{"$f":"Результаты!#REF!","v":{"$error":"#REF!"}},{"$f":"Результаты!#REF!","v":{"$error":"#REF!"}},{"$f":"Результаты!#REF!","v":{"$error":"#REF!"}},{"$f":"Результаты!#REF!","v":{"$error":"#REF!"}},{"$f":"Результаты!#REF!","v":{"$error":"#REF!"}},{"$f":"Результаты!#REF!","v":{"$error":"#REF!"}},{"$f":"Результаты!#REF!","v":{"$error":"#REF!"}},{"$f":"Результаты!#REF!","v":{"$error":"#REF!"}},{"$f":"Результаты!#REF!","v":{"$error":"#REF!"}},{"$f":"Результаты!#REF!","v":{"$error":"#REF!"}},{"$f":"Результаты!#REF!","v":{"$error":"#REF!"}},{"$f":"Результаты!#REF!","v":{"$error":"#REF!"}},{"$f":"Результаты!#REF!","v":{"$error":"#REF!"}},{"$f":"Результаты!#REF!","v":{"$error":"#REF!"}},{"$f":"Результаты!#REF!","v":{"$error":"#REF!"}},{"$f":"Результаты!#REF!","v":{"$error":"#REF!"}},{"$f":"Результаты!#REF!","v":{"$error":"#REF!"}},{"$f":"Результаты!#REF!","v":{"$error":"#REF!"}},{"$f":"Результаты!#REF!","v":{"$error":"#REF!"}},{"$f":"Результаты!#REF!","v":{"$error":"#REF!"}},{"$f":"Результаты!#REF!","v":{"$error":"#REF!"}},{"$f":"Результаты!#REF!","v":{"$error":"#REF!"}},{"$f":"Результаты!#REF!","v":{"$error":"#REF!"}},{"$f":"Результаты!#REF!","v":{"$error":"#REF!"}},{"$f":"Результаты!#REF!","v":{"$error":"#REF!"}},{"$f":"Результаты!#REF!","v":{"$error":"#REF!"}},{"$f":"Результаты!#REF!","v":{"$error":"#REF!"}},{"$f":"Результаты!#REF!","v":{"$error":"#REF!"}},{"$f":"Результаты!#REF!","v":{"$error":"#REF!"}},{"$f":"Результаты!#REF!","v":{"$error":"#REF!"}},{"$f":"Результаты!#REF!","v":{"$error":"#REF!"}},{"$f":"Результаты!#REF!","v":{"$error":"#REF!"}},{"$f":"Результаты!#REF!","v":{"$error":"#REF!"}},{"$f":"Результаты!#REF!","v":{"$error":"#REF!"}},{"$f":"Результаты!#REF!","v":{"$error":"#REF!"}},{"$f":"Результаты!#REF!","v":{"$error":"#REF!"}},{"$f":"Результаты!#REF!","v":{"$error":"#REF!"}},{"$f":"Результаты!#REF!","v":{"$error":"#REF!"}},{"$f":"Результаты!#REF!","v":{"$error":"#REF!"}},{"$f":"Результаты!#REF!","v":{"$error":"#REF!"}},{"$f":"Результаты!#REF!","v":{"$error":"#REF!"}},{"$f":"Результаты!#REF!","v":{"$error":"#REF!"}},{"$f":"Результаты!#REF!","v":{"$error":"#REF!"}},{"$f":"Результаты!#REF!","v":{"$error":"#REF!"}}]
[]
[]
[null,{"$f":"B7914","v":1},{"$f":"C7914","v":"Информационная обработка текстов различных стилей и жанров. Текст как речевое произведение. Смысловая и композиционная целостность текста. Отбор языковых средств в тексте в зависимости от темы, цели, адресата и ситуации общения. Создание текстов различных стилей и функционально-смысловых типов речи. Грамматические нормы (морфологические нормы). Грамматические  нормы  (синтаксические нормы). Лексические нормы. Пунктуация в простом и сложном предложениях. Орфограмма"}]
[null,{"$f":"B7915","v":2},"Текст как речевое произведение. Смысловая и композиционная целостность текста. Анализ текста"]
[null,{"$f":"B7916","v":3},"Выразительные средства лексики и фразеологии. Анализ средств выразительности"]
[null,{"$f":"B7917","v":4},"Правописание приставок. Слитное, дефисное, раздельное написание"]
[null,{"$f":"B7918","v":5},"Правописание суффиксов различных частей речи (кроме -Н-/-НН-). Правописание -Н- и -НН- в различных частях речи. Правописание личных окончаний глаголов и суффиксов причастий настоящего времени"]
[null,{"$f":"B7919","v":6},"Лексика и фразеология. Синонимы. Фразеологические обороты. Группы слов по происхождению и употреблению"]
[null,{"$f":"B7920","v":7},"Словосочетание"]
[null,{"$f":"B7921","v":8},"Предложение. Грамматическая (предикативная) основа предложения. Подлежащее и сказуемое как главные члены предложения "]
[null,{"$f":"B7922","v":9},"Осложнённое простое предложение"]
[null,{"$f":"B7923","v":10},"Пунктуационный анализ. Знаки препинания в предложениях со словами и конструкциями, грамматически не связанными с членами предложения"]
[null,{"$f":"B7924","v":11},"Синтаксический анализ сложного предложения"]
[null,{"$f":"B7925","v":12},"Пунктуационный анализ. Знаки препинания в сложносочинённом и сложноподчинённом предложениях"]
[null,{"$f":"B7926","v":13},"Синтаксический анализ сложного предложения"]
[null,{"$f":"B7927","v":14},"Сложные предложения с разными видами связи между частями"]
[null,{"$f":"B7928","v":15},"Текст как речевое произведение. Смысловая и композиционная целостность текста. Создание текстов различных стилей и функционально-смысловых типов речи. Информационная обработка текстов различных стилей и жанров. Грамматические нормы (морфологические нормы). Грамматические нормы (синтаксические нормы). Лексические нормы"]
[null,{"$f":"B7929","v":16},0]
[null,{"$f":"B7930","v":17},0]
[null,{"$f":"B7931","v":18},0]
[null,{"$f":"B7932","v":19},0]
[null,{"$f":"B7933","v":20},0]
[null,{"$f":"B7934","v":21},0]
[null,{"$f":"B7935","v":22},0]
[null,{"$f":"B7936","v":23},0]
[null,{"$f":"B7937","v":24},0]
[null,{"$f":"B7938","v":25},0]
[null,{"$f":"B7939","v":26},0]
[null,{"$f":"B7940","v":27},0]
[null,{"$f":"B7941","v":28},0]
[null,{"$f":"B7942","v":29},0]
[null,{"$f":"B7943","v":30},0]
[null,{"$f":"B7944","v":31},0]
[null,{"$f":"B7945","v":32},0]
[null,{"$f":"B7946","v":33},0]
[null,{"$f":"B7947","v":34},0]
[null,{"$f":"B7948","v":35},0]
[]
[]
["Рекомендация: обратите внимание на задания по темам, которые вызвали у Вас затруднения, решены с ошибкой и отмечены \"0\" или к решению которых Вы не приступили (пустые ячейки)!"]
[]
[]
["Центр независимой оценки качества образования и образовательного аудита \"Легион\""]
[]
["Образовательная организация",null,null,null,{"$f":"E7956","v":"Ленинская СОШ"}]
["Предмет",null,null,null,{"$f":"E7957","v":"Русский язык"}]
["Максимальный балл",null,null,null,39]
["Пороговый балл",null,null,null,15]
["Зона риска",null,null,null,{"$f":"Результаты!E15","v":15},null,null,{"$f":"Результаты!H15","v":16}]
[]
["Уровни",null,null,null,{"$f":"E7962","v":1},{"$f":"F7962","v":2},3,4,5,6,7,8,9,10,11,12,13,14,15,"ПР.ГР",{"$error":"#REF!"},{"$error":"#REF!"},{"$error":"#REF!"},{"$error":"#REF!"},{"$error":"#REF!"},{"$error":"#REF!"},{"$error":"#REF!"},{"$error":"#REF!"},{"$error":"#REF!"},{"$error":"#REF!"},{"$error":"#REF!"},{"$error":"#REF!"},{"$error":"#REF!"},{"$error":"#REF!"},{"$error":"#REF!"},{"$error":"#REF!"},{"$error":"#REF!"},{"$error":"#REF!"},{"$error":"#REF!"},"Тестовый балл","% выплнения заданий по уровням",null,null,"Оценка"]
[null,null,null,null,null,null,null,null,null,null,null,null,null,null,null,null,null,null,null,null,null,null,null,null,null,null,null,null,null,null,null,null,null,null,null,null,null,null,null,null,"Базовый","Повышенный","Высокий"]
["№","Класс","Ф.И.О.","№ задания",{"$f":"E7964","v":1},{"$f":"F7964","v":2},3,4,5,6,7,8,9,10,11,12,13,14,15,0,{"$error":"#REF!"},{"$error":"#REF!"},{"$error":"#REF!"},{"$error":"#REF!"},{"$error":"#REF!"},{"$error":"#REF!"},{"$error":"#REF!"},{"$error":"#REF!"},{"$error":"#REF!"},{"$error":"#REF!"},{"$error":"#REF!"},{"$error":"#REF!"},{"$error":"#REF!"},{"$error":"#REF!"},{"$error":"#REF!"},{"$error":"#REF!"},{"$error":"#REF!"},{"$error":"#REF!"},{"$error":"#REF!"}]
["Максимальный балл",null,null,null,{"$f":"E7965","v":7},{"$f":"F7965","v":1},1,1,1,1,1,1,1,1,1,1,1,1,9,10,{"$error":"#REF!"},{"$error":"#REF!"},{"$error":"#REF!"},{"$error":"#REF!"},{"$error":"#REF!"},{"$error":"#REF!"},{"$error":"#REF!"},{"$error":"#REF!"},{"$error":"#REF!"},{"$error":"#REF!"},{"$error":"#REF!"},{"$error":"#REF!"},{"$error":"#REF!"},{"$error":"#REF!"},{"$error":"#REF!"},{"$error":"#REF!"},{"$error":"#REF!"},{"$error":"#REF!"},{"$error":"#REF!"},39,76.92307692307692,{"$error":"#REF!"},23.076923076923077,0]
[null,null,null,"вариант"]
[{"$f":"Результаты!#REF!","v":{"$error":"#REF!"}},{"$f":"Результаты!#REF!","v":{"$error":"#REF!"}},{"$f":"Результаты!#REF!","v":{"$error":"#REF!"}},{"$f":"Результаты!#REF!","v":{"$error":"#REF!"}},{"$f":"Результаты!#REF!","v":{"$error":"#REF!"}},{"$f":"Результаты!#REF!","v":{"$error":"#REF!"}},{"$f":"Результаты!#REF!","v":{"$error":"#REF!"}},{"$f":"Результаты!#REF!","v":{"$error":"#REF!"}},{"$f":"Результаты!#REF!","v":{"$error":"#REF!"}},{"$f":"Результаты!#REF!","v":{"$error":"#REF!"}},{"$f":"Результаты!#REF!","v":{"$error":"#REF!"}},{"$f":"Результаты!#REF!","v":{"$error":"#REF!"}},{"$f":"Результаты!#REF!","v":{"$error":"#REF!"}},{"$f":"Результаты!#REF!","v":{"$error":"#REF!"}},{"$f":"Результаты!#REF!","v":{"$error":"#REF!"}},{"$f":"Результаты!#REF!","v":{"$error":"#REF!"}},{"$f":"Результаты!#REF!","v":{"$error":"#REF!"}},{"$f":"Результаты!#REF!","v":{"$error":"#REF!"}},{"$f":"Результаты!#REF!","v":{"$error":"#REF!"}},{"$f":"Результаты!#REF!","v":{"$error":"#REF!"}},{"$f":"Результаты!#REF!","v":{"$error":"#REF!"}},{"$f":"Результаты!#REF!","v":{"$error":"#REF!"}},{"$f":"Результаты!#REF!","v":{"$error":"#REF!"}},{"$f":"Результаты!#REF!","v":{"$error":"#REF!"}},{"$f":"Результаты!#REF!","v":{"$error":"#REF!"}},{"$f":"Результаты!#REF!","v":{"$error":"#REF!"}},{"$f":"Результаты!#REF!","v":{"$error":"#REF!"}},{"$f":"Результаты!#REF!","v":{"$error":"#REF!"}},{"$f":"Результаты!#REF!","v":{"$error":"#REF!"}},{"$f":"Результаты!#REF!","v":{"$error":"#REF!"}},{"$f":"Результаты!#REF!","v":{"$error":"#REF!"}},{"$f":"Результаты!#REF!","v":{"$error":"#REF!"}},{"$f":"Результаты!#REF!","v":{"$error":"#REF!"}},{"$f":"Результаты!#REF!","v":{"$error":"#REF!"}},{"$f":"Результаты!#REF!","v":{"$error":"#REF!"}},{"$f":"Результаты!#REF!","v":{"$error":"#REF!"}},{"$f":"Результаты!#REF!","v":{"$error":"#REF!"}},{"$f":"Результаты!#REF!","v":{"$error":"#REF!"}},{"$f":"Результаты!#REF!","v":{"$error":"#REF!"}},{"$f":"Результаты!#REF!","v":{"$error":"#REF!"}},{"$f":"Результаты!#REF!","v":{"$error":"#REF!"}},{"$f":"Результаты!#REF!","v":{"$error":"#REF!"}},{"$f":"Результаты!#REF!","v":{"$error":"#REF!"}},{"$f":"Результаты!#REF!","v":{"$error":"#REF!"}}]
[]
[]
[null,{"$f":"B7970","v":1},"Информационная обработка текстов различных стилей и жанров. Текст как речевое произведение. Смысловая и композиционная целостность текста. Отбор языковых средств в тексте в зависимости от темы, цели, адресата и ситуации общения. Создание текстов различных стилей и функционально-смысловых типов речи. Грамматические нормы (морфологические нормы). Грамматические  нормы  (синтаксические нормы). Лексические нормы. Пунктуация в простом и сложном предложениях. Орфограмма"]
[null,{"$f":"B7971","v":2},"Текст как речевое произведение. Смысловая и композиционная целостность текста. Анализ текста"]
[null,{"$f":"B7972","v":3},"Выразительные средства лексики и фразеологии. Анализ средств выразительности"]
[null,{"$f":"B7973","v":4},"Правописание приставок. Слитное, дефисное, раздельное написание"]
[null,{"$f":"B7974","v":5},"Правописание суффиксов различных частей речи (кроме -Н-/-НН-). Правописание -Н- и -НН- в различных частях речи. Правописание личных окончаний глаголов и суффиксов причастий настоящего времени"]
[null,{"$f":"B7975","v":6},"Лексика и фразеология. Синонимы. Фразеологические обороты. Группы слов по происхождению и употреблению"]
[null,{"$f":"B7976","v":7},"Словосочетание"]
[null,{"$f":"B7977","v":8},"Предложение. Грамматическая (предикативная) основа предложения. Подлежащее и сказуемое как главные члены предложения "]
[null,{"$f":"B7978","v":9},"Осложнённое простое предложение"]
[null,{"$f":"B7979","v":10},"Пунктуационный анализ. Знаки препинания в предложениях со словами и конструкциями, грамматически не связанными с членами предложения"]
[null,{"$f":"B7980","v":11},"Синтаксический анализ сложного предложения"]
[null,{"$f":"B7981","v":12},"Пунктуационный анализ. Знаки препинания в сложносочинённом и сложноподчинённом предложениях"]
[null,{"$f":"B7982","v":13},"Синтаксический анализ сложного предложения"]
[null,{"$f":"B7983","v":14},"Сложные предложения с разными видами связи между частями"]
[null,{"$f":"B7984","v":15},"Текст как речевое произведение. Смысловая и композиционная целостность текста. Создание текстов различных стилей и функционально-смысловых типов речи. Информационная обработка текстов различных стилей и жанров. Грамматические нормы (морфологические нормы). Грамматические нормы (синтаксические нормы). Лексические нормы"]
[null,{"$f":"B7985","v":16},0]
[null,{"$f":"B7986","v":17},0]
[null,{"$f":"B7987","v":18},0]
[null,{"$f":"B7988","v":19},0]
[null,{"$f":"B7989","v":20},0]
[null,{"$f":"B7990","v":21},0]
[null,{"$f":"B7991","v":22},0]
[null,{"$f":"B7992","v":23},0]
[null,{"$f":"B7993","v":24},0]
[null,{"$f":"B7994","v":25},0]
[null,{"$f":"B7995","v":26},0]
[null,{"$f":"B7996","v":27},0]
[null,{"$f":"B7997","v":28},0]
[null,{"$f":"B7998","v":29},0]
[null,{"$f":"B7999","v":30},0]
[null,{"$f":"B8000","v":31},0]
[null,{"$f":"B8001","v":32},0]
[null,{"$f":"B8002","v":33},0]
[null,{"$f":"B8003","v":34},0]
[null,{"$f":"B8004","v":35},0]
[]
[]
["Рекомендация: обратите внимание на задания по темам, которые вызвали у Вас затруднения, решены с ошибкой и отмечены \"0\" или к решению которых Вы не приступили (пустые ячейки)!"]
[]
[]
["Центр независимой оценки качества образования и образовательного аудита \"Легион\""]
[]
["Образовательная организация",null,null,null,{"$f":"E8012","v":"Ленинская СОШ"}]
["Предмет",null,null,null,{"$f":"E8013","v":"Русский язык"}]
["Максимальный балл",null,null,null,39]
["Пороговый балл",null,null,null,15]
["Зона риска",null,null,null,{"$f":"Результаты!E15","v":15},null,null,{"$f":"Результаты!H15","v":16}]
[]
["Уровни",null,null,null,{"$f":"E8018","v":1},{"$f":"F8018","v":2},3,4,5,6,7,8,9,10,11,12,13,14,15,"ПР.ГР",{"$error":"#REF!"},{"$error":"#REF!"},{"$error":"#REF!"},{"$error":"#REF!"},{"$error":"#REF!"},{"$error":"#REF!"},{"$error":"#REF!"},{"$error":"#REF!"},{"$error":"#REF!"},{"$error":"#REF!"},{"$error":"#REF!"},{"$error":"#REF!"},{"$error":"#REF!"},{"$error":"#REF!"},{"$error":"#REF!"},{"$error":"#REF!"},{"$error":"#REF!"},{"$error":"#REF!"},{"$error":"#REF!"},"Тестовый балл","% выплнения заданий по уровням",null,null,"Оценка"]
[null,null,null,null,null,null,null,null,null,null,null,null,null,null,null,null,null,null,null,null,null,null,null,null,null,null,null,null,null,null,null,null,null,null,null,null,null,null,null,null,"Базовый","Повышенный","Высокий"]
["№","Класс","Ф.И.О.","№ задания",{"$f":"E8020","v":1},{"$f":"F8020","v":2},3,4,5,6,7,8,9,10,11,12,13,14,15,0,{"$error":"#REF!"},{"$error":"#REF!"},{"$error":"#REF!"},{"$error":"#REF!"},{"$error":"#REF!"},{"$error":"#REF!"},{"$error":"#REF!"},{"$error":"#REF!"},{"$error":"#REF!"},{"$error":"#REF!"},{"$error":"#REF!"},{"$error":"#REF!"},{"$error":"#REF!"},{"$error":"#REF!"},{"$error":"#REF!"},{"$error":"#REF!"},{"$error":"#REF!"},{"$error":"#REF!"},{"$error":"#REF!"}]
["Максимальный балл",null,null,null,{"$f":"E8021","v":7},{"$f":"F8021","v":1},1,1,1,1,1,1,1,1,1,1,1,1,9,10,{"$error":"#REF!"},{"$error":"#REF!"},{"$error":"#REF!"},{"$error":"#REF!"},{"$error":"#REF!"},{"$error":"#REF!"},{"$error":"#REF!"},{"$error":"#REF!"},{"$error":"#REF!"},{"$error":"#REF!"},{"$error":"#REF!"},{"$error":"#REF!"},{"$error":"#REF!"},{"$error":"#REF!"},{"$error":"#REF!"},{"$error":"#REF!"},{"$error":"#REF!"},{"$error":"#REF!"},{"$error":"#REF!"},39,76.92307692307692,{"$error":"#REF!"},23.076923076923077,0]
[null,null,null,"вариант"]
[{"$f":"Результаты!#REF!","v":{"$error":"#REF!"}},{"$f":"Результаты!#REF!","v":{"$error":"#REF!"}},{"$f":"Результаты!#REF!","v":{"$error":"#REF!"}},{"$f":"Результаты!#REF!","v":{"$error":"#REF!"}},{"$f":"Результаты!#REF!","v":{"$error":"#REF!"}},{"$f":"Результаты!#REF!","v":{"$error":"#REF!"}},{"$f":"Результаты!#REF!","v":{"$error":"#REF!"}},{"$f":"Результаты!#REF!","v":{"$error":"#REF!"}},{"$f":"Результаты!#REF!","v":{"$error":"#REF!"}},{"$f":"Результаты!#REF!","v":{"$error":"#REF!"}},{"$f":"Результаты!#REF!","v":{"$error":"#REF!"}},{"$f":"Результаты!#REF!","v":{"$error":"#REF!"}},{"$f":"Результаты!#REF!","v":{"$error":"#REF!"}},{"$f":"Результаты!#REF!","v":{"$error":"#REF!"}},{"$f":"Результаты!#REF!","v":{"$error":"#REF!"}},{"$f":"Результаты!#REF!","v":{"$error":"#REF!"}},{"$f":"Результаты!#REF!","v":{"$error":"#REF!"}},{"$f":"Результаты!#REF!","v":{"$error":"#REF!"}},{"$f":"Результаты!#REF!","v":{"$error":"#REF!"}},{"$f":"Результаты!#REF!","v":{"$error":"#REF!"}},{"$f":"Результаты!#REF!","v":{"$error":"#REF!"}},{"$f":"Результаты!#REF!","v":{"$error":"#REF!"}},{"$f":"Результаты!#REF!","v":{"$error":"#REF!"}},{"$f":"Результаты!#REF!","v":{"$error":"#REF!"}},{"$f":"Результаты!#REF!","v":{"$error":"#REF!"}},{"$f":"Результаты!#REF!","v":{"$error":"#REF!"}},{"$f":"Результаты!#REF!","v":{"$error":"#REF!"}},{"$f":"Результаты!#REF!","v":{"$error":"#REF!"}},{"$f":"Результаты!#REF!","v":{"$error":"#REF!"}},{"$f":"Результаты!#REF!","v":{"$error":"#REF!"}},{"$f":"Результаты!#REF!","v":{"$error":"#REF!"}},{"$f":"Результаты!#REF!","v":{"$error":"#REF!"}},{"$f":"Результаты!#REF!","v":{"$error":"#REF!"}},{"$f":"Результаты!#REF!","v":{"$error":"#REF!"}},{"$f":"Результаты!#REF!","v":{"$error":"#REF!"}},{"$f":"Результаты!#REF!","v":{"$error":"#REF!"}},{"$f":"Результаты!#REF!","v":{"$error":"#REF!"}},{"$f":"Результаты!#REF!","v":{"$error":"#REF!"}},{"$f":"Результаты!#REF!","v":{"$error":"#REF!"}},{"$f":"Результаты!#REF!","v":{"$error":"#REF!"}},{"$f":"Результаты!#REF!","v":{"$error":"#REF!"}},{"$f":"Результаты!#REF!","v":{"$error":"#REF!"}},{"$f":"Результаты!#REF!","v":{"$error":"#REF!"}},{"$f":"Результаты!#REF!","v":{"$error":"#REF!"}}]
[]
[]
[null,{"$f":"B8026","v":1},"Информационная обработка текстов различных стилей и жанров. Текст как речевое произведение. Смысловая и композиционная целостность текста. Отбор языковых средств в тексте в зависимости от темы, цели, адресата и ситуации общения. Создание текстов различных стилей и функционально-смысловых типов речи. Грамматические нормы (морфологические нормы). Грамматические  нормы  (синтаксические нормы). Лексические нормы. Пунктуация в простом и сложном предложениях. Орфограмма"]
[null,2,"Текст как речевое произведение. Смысловая и композиционная целостность текста. Анализ текста"]
[null,3,"Выразительные средства лексики и фразеологии. Анализ средств выразительности"]
[null,4,"Правописание приставок. Слитное, дефисное, раздельное написание"]
[null,5,"Правописание суффиксов различных частей речи (кроме -Н-/-НН-). Правописание -Н- и -НН- в различных частях речи. Правописание личных окончаний глаголов и суффиксов причастий настоящего времени"]
[null,6,"Лексика и фразеология. Синонимы. Фразеологические обороты. Группы слов по происхождению и употреблению"]
[null,7,"Словосочетание"]
[null,8,"Предложение. Грамматическая (предикативная) основа предложения. Подлежащее и сказуемое как главные члены предложения "]
[null,9,"Осложнённое простое предложение"]
[null,10,"Пунктуационный анализ. Знаки препинания в предложениях со словами и конструкциями, грамматически не связанными с членами предложения"]
[null,11,"Синтаксический анализ сложного предложения"]
[null,12,"Пунктуационный анализ. Знаки препинания в сложносочинённом и сложноподчинённом предложениях"]
[null,13,"Синтаксический анализ сложного предложения"]
[null,14,"Сложные предложения с разными видами связи между частями"]
[null,15,"Текст как речевое произведение. Смысловая и композиционная целостность текста. Создание текстов различных стилей и функционально-смысловых типов речи. Информационная обработка текстов различных стилей и жанров. Грамматические нормы (морфологические нормы). Грамматические нормы (синтаксические нормы). Лексические нормы"]
[null,16,0]
[null,17,0]
[null,18,0]
[null,19,0]
[null,20,0]
[null,{"$f":"B8046","v":21},0]
[null,22,0]
[null,23,0]
[null,24,0]
[null,25,0]
[null,26,0]
[null,27,0]
[null,28,0]
[null,29,0]
[null,30,0]
[null,31,0]
[null,32,0]
[null,33,0]
[null,34,0]
[null,35,0]
[]
["Рекомендация: обратите внимание на задания по темам, которые вызвали у Вас затруднения, решены с ошибкой и отмечены \"0\" или к решению которых Вы не приступили (пустые ячейки)!"]
[]
[]
[]
["Центр независимой оценки качества образования и образовательного аудита \"Легион\""]
[]
["Образовательная организация",null,null,null,{"$f":"E8068","v":"Ленинская СОШ"}]
["Предмет",null,null,null,{"$f":"E8069","v":"Русский язык"}]
["Максимальный балл",null,null,null,39]
["Пороговый балл",null,null,null,15]
["Зона риска",null,null,null,{"$f":"Результаты!E15","v":15},null,null,{"$f":"Результаты!H15","v":16}]
[]
["Уровни",null,null,null,{"$f":"E8074","v":1},{"$f":"F8074","v":2},3,4,5,6,7,8,9,10,11,12,13,14,15,"ПР.ГР",{"$error":"#REF!"},{"$error":"#REF!"},{"$error":"#REF!"},{"$error":"#REF!"},{"$error":"#REF!"},{"$error":"#REF!"},{"$error":"#REF!"},{"$error":"#REF!"},{"$error":"#REF!"},{"$error":"#REF!"},{"$error":"#REF!"},{"$error":"#REF!"},{"$error":"#REF!"},{"$error":"#REF!"},{"$error":"#REF!"},{"$error":"#REF!"},{"$error":"#REF!"},{"$error":"#REF!"},{"$error":"#REF!"},"Тестовый балл","% выплнения заданий по уровням",null,null,"Оценка"]
[null,null,null,null,null,null,null,null,null,null,null,null,null,null,null,null,null,null,null,null,null,null,null,null,null,null,null,null,null,null,null,null,null,null,null,null,null,null,null,null,"Базовый","Повышенный","Высокий"]
["№","Класс","Ф.И.О.","№ задания",{"$f":"E8076","v":1},{"$f":"F8076","v":2},3,4,5,6,7,8,9,10,11,12,13,14,15,0,{"$error":"#REF!"},{"$error":"#REF!"},{"$error":"#REF!"},{"$error":"#REF!"},{"$error":"#REF!"},{"$error":"#REF!"},{"$error":"#REF!"},{"$error":"#REF!"},{"$error":"#REF!"},{"$error":"#REF!"},{"$error":"#REF!"},{"$error":"#REF!"},{"$error":"#REF!"},{"$error":"#REF!"},{"$error":"#REF!"},{"$error":"#REF!"},{"$error":"#REF!"},{"$error":"#REF!"},{"$error":"#REF!"}]
["Максимальный балл",null,null,null,{"$f":"E8077","v":7},{"$f":"F8077","v":1},1,1,1,1,1,1,1,1,1,1,1,1,9,10,{"$error":"#REF!"},{"$error":"#REF!"},{"$error":"#REF!"},{"$error":"#REF!"},{"$error":"#REF!"},{"$error":"#REF!"},{"$error":"#REF!"},{"$error":"#REF!"},{"$error":"#REF!"},{"$error":"#REF!"},{"$error":"#REF!"},{"$error":"#REF!"},{"$error":"#REF!"},{"$error":"#REF!"},{"$error":"#REF!"},{"$error":"#REF!"},{"$error":"#REF!"},{"$error":"#REF!"},{"$error":"#REF!"},39,76.92307692307692,{"$error":"#REF!"},23.076923076923077,0]
[null,null,null,"вариант"]
[{"$f":"Результаты!#REF!","v":{"$error":"#REF!"}},{"$f":"Результаты!#REF!","v":{"$error":"#REF!"}},{"$f":"Результаты!#REF!","v":{"$error":"#REF!"}},{"$f":"Результаты!#REF!","v":{"$error":"#REF!"}},{"$f":"Результаты!#REF!","v":{"$error":"#REF!"}},{"$f":"Результаты!#REF!","v":{"$error":"#REF!"}},{"$f":"Результаты!#REF!","v":{"$error":"#REF!"}},{"$f":"Результаты!#REF!","v":{"$error":"#REF!"}},{"$f":"Результаты!#REF!","v":{"$error":"#REF!"}},{"$f":"Результаты!#REF!","v":{"$error":"#REF!"}},{"$f":"Результаты!#REF!","v":{"$error":"#REF!"}},{"$f":"Результаты!#REF!","v":{"$error":"#REF!"}},{"$f":"Результаты!#REF!","v":{"$error":"#REF!"}},{"$f":"Результаты!#REF!","v":{"$error":"#REF!"}},{"$f":"Результаты!#REF!","v":{"$error":"#REF!"}},{"$f":"Результаты!#REF!","v":{"$error":"#REF!"}},{"$f":"Результаты!#REF!","v":{"$error":"#REF!"}},{"$f":"Результаты!#REF!","v":{"$error":"#REF!"}},{"$f":"Результаты!#REF!","v":{"$error":"#REF!"}},{"$f":"Результаты!#REF!","v":{"$error":"#REF!"}},{"$f":"Результаты!#REF!","v":{"$error":"#REF!"}},{"$f":"Результаты!#REF!","v":{"$error":"#REF!"}},{"$f":"Результаты!#REF!","v":{"$error":"#REF!"}},{"$f":"Результаты!#REF!","v":{"$error":"#REF!"}},{"$f":"Результаты!#REF!","v":{"$error":"#REF!"}},{"$f":"Результаты!#REF!","v":{"$error":"#REF!"}},{"$f":"Результаты!#REF!","v":{"$error":"#REF!"}},{"$f":"Результаты!#REF!","v":{"$error":"#REF!"}},{"$f":"Результаты!#REF!","v":{"$error":"#REF!"}},{"$f":"Результаты!#REF!","v":{"$error":"#REF!"}},{"$f":"Результаты!#REF!","v":{"$error":"#REF!"}},{"$f":"Результаты!#REF!","v":{"$error":"#REF!"}},{"$f":"Результаты!#REF!","v":{"$error":"#REF!"}},{"$f":"Результаты!#REF!","v":{"$error":"#REF!"}},{"$f":"Результаты!#REF!","v":{"$error":"#REF!"}},{"$f":"Результаты!#REF!","v":{"$error":"#REF!"}},{"$f":"Результаты!#REF!","v":{"$error":"#REF!"}},{"$f":"Результаты!#REF!","v":{"$error":"#REF!"}},{"$f":"Результаты!#REF!","v":{"$error":"#REF!"}},{"$f":"Результаты!#REF!","v":{"$error":"#REF!"}},{"$f":"Результаты!#REF!","v":{"$error":"#REF!"}},{"$f":"Результаты!#REF!","v":{"$error":"#REF!"}},{"$f":"Результаты!#REF!","v":{"$error":"#REF!"}},{"$f":"Результаты!#REF!","v":{"$error":"#REF!"}}]
[]
[]
[null,{"$f":"B8082","v":1},{"$f":"C8082","v":"Информационная обработка текстов различных стилей и жанров. Текст как речевое произведение. Смысловая и композиционная целостность текста. Отбор языковых средств в тексте в зависимости от темы, цели, адресата и ситуации общения. Создание текстов различных стилей и функционально-смысловых типов речи. Грамматические нормы (морфологические нормы). Грамматические  нормы  (синтаксические нормы). Лексические нормы. Пунктуация в простом и сложном предложениях. Орфограмма"}]
[null,{"$f":"B8083","v":2},"Текст как речевое произведение. Смысловая и композиционная целостность текста. Анализ текста"]
[null,{"$f":"B8084","v":3},"Выразительные средства лексики и фразеологии. Анализ средств выразительности"]
[null,{"$f":"B8085","v":4},"Правописание приставок. Слитное, дефисное, раздельное написание"]
[null,{"$f":"B8086","v":5},"Правописание суффиксов различных частей речи (кроме -Н-/-НН-). Правописание -Н- и -НН- в различных частях речи. Правописание личных окончаний глаголов и суффиксов причастий настоящего времени"]
[null,{"$f":"B8087","v":6},"Лексика и фразеология. Синонимы. Фразеологические обороты. Группы слов по происхождению и употреблению"]
[null,{"$f":"B8088","v":7},"Словосочетание"]
[null,{"$f":"B8089","v":8},"Предложение. Грамматическая (предикативная) основа предложения. Подлежащее и сказуемое как главные члены предложения "]
[null,{"$f":"B8090","v":9},"Осложнённое простое предложение"]
[null,{"$f":"B8091","v":10},"Пунктуационный анализ. Знаки препинания в предложениях со словами и конструкциями, грамматически не связанными с членами предложения"]
[null,{"$f":"B8092","v":11},"Синтаксический анализ сложного предложения"]
[null,{"$f":"B8093","v":12},"Пунктуационный анализ. Знаки препинания в сложносочинённом и сложноподчинённом предложениях"]
[null,{"$f":"B8094","v":13},"Синтаксический анализ сложного предложения"]
[null,{"$f":"B8095","v":14},"Сложные предложения с разными видами связи между частями"]
[null,{"$f":"B8096","v":15},"Текст как речевое произведение. Смысловая и композиционная целостность текста. Создание текстов различных стилей и функционально-смысловых типов речи. Информационная обработка текстов различных стилей и жанров. Грамматические нормы (морфологические нормы). Грамматические нормы (синтаксические нормы). Лексические нормы"]
[null,{"$f":"B8097","v":16},0]
[null,{"$f":"B8098","v":17},0]
[null,{"$f":"B8099","v":18},0]
[null,{"$f":"B8100","v":19},0]
[null,{"$f":"B8101","v":20},0]
[null,{"$f":"B8102","v":21},0]
[null,{"$f":"B8103","v":22},0]
[null,{"$f":"B8104","v":23},0]
[null,{"$f":"B8105","v":24},0]
[null,{"$f":"B8106","v":25},0]
[null,{"$f":"B8107","v":26},0]
[null,{"$f":"B8108","v":27},0]
[null,{"$f":"B8109","v":28},0]
[null,{"$f":"B8110","v":29},0]
[null,{"$f":"B8111","v":30},0]
[null,{"$f":"B8112","v":31},0]
[null,{"$f":"B8113","v":32},0]
[null,{"$f":"B8114","v":33},0]
[null,{"$f":"B8115","v":34},0]
[null,{"$f":"B8116","v":35},0]
[]
["Рекомендация: обратите внимание на задания по темам, которые вызвали у Вас затруднения, решены с ошибкой и отмечены \"0\" или к решению которых Вы не приступили (пустые ячейки)!"]
[]
[]
[]
["Центр независимой оценки качества образования и образовательного аудита \"Легион\""]
[]
["Образовательная организация",null,null,null,{"$f":"E8124","v":"Ленинская СОШ"}]
["Предмет",null,null,null,{"$f":"E8125","v":"Русский язык"}]
["Максимальный балл",null,null,null,39]
["Пороговый балл",null,null,null,15]
["Зона риска",null,null,null,{"$f":"Результаты!E15","v":15},null,null,{"$f":"Результаты!H15","v":16}]
[]
["Уровни",null,null,null,{"$f":"E8130","v":1},{"$f":"F8130","v":2},3,4,5,6,7,8,9,10,11,12,13,14,15,"ПР.ГР",{"$error":"#REF!"},{"$error":"#REF!"},{"$error":"#REF!"},{"$error":"#REF!"},{"$error":"#REF!"},{"$error":"#REF!"},{"$error":"#REF!"},{"$error":"#REF!"},{"$error":"#REF!"},{"$error":"#REF!"},{"$error":"#REF!"},{"$error":"#REF!"},{"$error":"#REF!"},{"$error":"#REF!"},{"$error":"#REF!"},{"$error":"#REF!"},{"$error":"#REF!"},{"$error":"#REF!"},{"$error":"#REF!"},"Тестовый балл","% выплнения заданий по уровням",null,null,"Оценка"]
[null,null,null,null,null,null,null,null,null,null,null,null,null,null,null,null,null,null,null,null,null,null,null,null,null,null,null,null,null,null,null,null,null,null,null,null,null,null,null,null,"Базовый","Повышенный","Высокий"]
["№","Класс","Ф.И.О.","№ задания",{"$f":"E8132","v":1},{"$f":"F8132","v":2},3,4,5,6,7,8,9,10,11,12,13,14,15,0,{"$error":"#REF!"},{"$error":"#REF!"},{"$error":"#REF!"},{"$error":"#REF!"},{"$error":"#REF!"},{"$error":"#REF!"},{"$error":"#REF!"},{"$error":"#REF!"},{"$error":"#REF!"},{"$error":"#REF!"},{"$error":"#REF!"},{"$error":"#REF!"},{"$error":"#REF!"},{"$error":"#REF!"},{"$error":"#REF!"},{"$error":"#REF!"},{"$error":"#REF!"},{"$error":"#REF!"},{"$error":"#REF!"}]
["Максимальный балл",null,null,null,{"$f":"E8133","v":7},{"$f":"F8133","v":1},1,1,1,1,1,1,1,1,1,1,1,1,9,10,{"$error":"#REF!"},{"$error":"#REF!"},{"$error":"#REF!"},{"$error":"#REF!"},{"$error":"#REF!"},{"$error":"#REF!"},{"$error":"#REF!"},{"$error":"#REF!"},{"$error":"#REF!"},{"$error":"#REF!"},{"$error":"#REF!"},{"$error":"#REF!"},{"$error":"#REF!"},{"$error":"#REF!"},{"$error":"#REF!"},{"$error":"#REF!"},{"$error":"#REF!"},{"$error":"#REF!"},{"$error":"#REF!"},39,76.92307692307692,{"$error":"#REF!"},23.076923076923077,0]
[null,null,null,"вариант"]
[{"$f":"Результаты!#REF!","v":{"$error":"#REF!"}},{"$f":"Результаты!#REF!","v":{"$error":"#REF!"}},{"$f":"Результаты!#REF!","v":{"$error":"#REF!"}},{"$f":"Результаты!#REF!","v":{"$error":"#REF!"}},{"$f":"Результаты!#REF!","v":{"$error":"#REF!"}},{"$f":"Результаты!#REF!","v":{"$error":"#REF!"}},{"$f":"Результаты!#REF!","v":{"$error":"#REF!"}},{"$f":"Результаты!#REF!","v":{"$error":"#REF!"}},{"$f":"Результаты!#REF!","v":{"$error":"#REF!"}},{"$f":"Результаты!#REF!","v":{"$error":"#REF!"}},{"$f":"Результаты!#REF!","v":{"$error":"#REF!"}},{"$f":"Результаты!#REF!","v":{"$error":"#REF!"}},{"$f":"Результаты!#REF!","v":{"$error":"#REF!"}},{"$f":"Результаты!#REF!","v":{"$error":"#REF!"}},{"$f":"Результаты!#REF!","v":{"$error":"#REF!"}},{"$f":"Результаты!#REF!","v":{"$error":"#REF!"}},{"$f":"Результаты!#REF!","v":{"$error":"#REF!"}},{"$f":"Результаты!#REF!","v":{"$error":"#REF!"}},{"$f":"Результаты!#REF!","v":{"$error":"#REF!"}},{"$f":"Результаты!#REF!","v":{"$error":"#REF!"}},{"$f":"Результаты!#REF!","v":{"$error":"#REF!"}},{"$f":"Результаты!#REF!","v":{"$error":"#REF!"}},{"$f":"Результаты!#REF!","v":{"$error":"#REF!"}},{"$f":"Результаты!#REF!","v":{"$error":"#REF!"}},{"$f":"Результаты!#REF!","v":{"$error":"#REF!"}},{"$f":"Результаты!#REF!","v":{"$error":"#REF!"}},{"$f":"Результаты!#REF!","v":{"$error":"#REF!"}},{"$f":"Результаты!#REF!","v":{"$error":"#REF!"}},{"$f":"Результаты!#REF!","v":{"$error":"#REF!"}},{"$f":"Результаты!#REF!","v":{"$error":"#REF!"}},{"$f":"Результаты!#REF!","v":{"$error":"#REF!"}},{"$f":"Результаты!#REF!","v":{"$error":"#REF!"}},{"$f":"Результаты!#REF!","v":{"$error":"#REF!"}},{"$f":"Результаты!#REF!","v":{"$error":"#REF!"}},{"$f":"Результаты!#REF!","v":{"$error":"#REF!"}},{"$f":"Результаты!#REF!","v":{"$error":"#REF!"}},{"$f":"Результаты!#REF!","v":{"$error":"#REF!"}},{"$f":"Результаты!#REF!","v":{"$error":"#REF!"}},{"$f":"Результаты!#REF!","v":{"$error":"#REF!"}},{"$f":"Результаты!#REF!","v":{"$error":"#REF!"}},{"$f":"Результаты!#REF!","v":{"$error":"#REF!"}},{"$f":"Результаты!#REF!","v":{"$error":"#REF!"}},{"$f":"Результаты!#REF!","v":{"$error":"#REF!"}},{"$f":"Результаты!#REF!","v":{"$error":"#REF!"}}]
[]
[]
[null,{"$f":"B8138","v":1},{"$f":"C8138","v":"Информационная обработка текстов различных стилей и жанров. Текст как речевое произведение. Смысловая и композиционная целостность текста. Отбор языковых средств в тексте в зависимости от темы, цели, адресата и ситуации общения. Создание текстов различных стилей и функционально-смысловых типов речи. Грамматические нормы (морфологические нормы). Грамматические  нормы  (синтаксические нормы). Лексические нормы. Пунктуация в простом и сложном предложениях. Орфограмма"}]
[null,{"$f":"B8139","v":2},"Текст как речевое произведение. Смысловая и композиционная целостность текста. Анализ текста"]
[null,{"$f":"B8140","v":3},"Выразительные средства лексики и фразеологии. Анализ средств выразительности"]
[null,{"$f":"B8141","v":4},"Правописание приставок. Слитное, дефисное, раздельное написание"]
[null,{"$f":"B8142","v":5},"Правописание суффиксов различных частей речи (кроме -Н-/-НН-). Правописание -Н- и -НН- в различных частях речи. Правописание личных окончаний глаголов и суффиксов причастий настоящего времени"]
[null,{"$f":"B8143","v":6},"Лексика и фразеология. Синонимы. Фразеологические обороты. Группы слов по происхождению и употреблению"]
[null,{"$f":"B8144","v":7},"Словосочетание"]
[null,{"$f":"B8145","v":8},"Предложение. Грамматическая (предикативная) основа предложения. Подлежащее и сказуемое как главные члены предложения "]
[null,{"$f":"B8146","v":9},"Осложнённое простое предложение"]
[null,{"$f":"B8147","v":10},"Пунктуационный анализ. Знаки препинания в предложениях со словами и конструкциями, грамматически не связанными с членами предложения"]
[null,{"$f":"B8148","v":11},"Синтаксический анализ сложного предложения"]
[null,{"$f":"B8149","v":12},"Пунктуационный анализ. Знаки препинания в сложносочинённом и сложноподчинённом предложениях"]
[null,{"$f":"B8150","v":13},"Синтаксический анализ сложного предложения"]
[null,{"$f":"B8151","v":14},"Сложные предложения с разными видами связи между частями"]
[null,{"$f":"B8152","v":15},"Текст как речевое произведение. Смысловая и композиционная целостность текста. Создание текстов различных стилей и функционально-смысловых типов речи. Информационная обработка текстов различных стилей и жанров. Грамматические нормы (морфологические нормы). Грамматические нормы (синтаксические нормы). Лексические нормы"]
[null,{"$f":"B8153","v":16},0]
[null,{"$f":"B8154","v":17},0]
[null,{"$f":"B8155","v":18},0]
[null,{"$f":"B8156","v":19},0]
[null,{"$f":"B8157","v":20},0]
[null,{"$f":"B8158","v":21},0]
[null,{"$f":"B8159","v":22},0]
[null,{"$f":"B8160","v":23},0]
[null,{"$f":"B8161","v":24},0]
[null,{"$f":"B8162","v":25},0]
[null,{"$f":"B8163","v":26},0]
[null,{"$f":"B8164","v":27},0]
[null,{"$f":"B8165","v":28},0]
[null,{"$f":"B8166","v":29},0]
[null,{"$f":"B8167","v":30},0]
[null,{"$f":"B8168","v":31},0]
[null,{"$f":"B8169","v":32},0]
[null,{"$f":"B8170","v":33},0]
[null,{"$f":"B8171","v":34},0]
[null,{"$f":"B8172","v":35},0]
[]
["Рекомендация: обратите внимание на задания по темам, которые вызвали у Вас затруднения, решены с ошибкой и отмечены \"0\" или к решению которых Вы не приступили (пустые ячейки)!"]
[]
[]
[]
["Центр независимой оценки качества образования и образовательного аудита \"Легион\""]
[]
["Образовательная организация",null,null,null,{"$f":"E8124","v":"Ленинская СОШ"}]
["Предмет",null,null,null,{"$f":"E8125","v":"Русский язык"}]
["Максимальный балл",null,null,null,39]
["Пороговый балл",null,null,null,15]
["Зона риска",null,null,null,{"$f":"Результаты!E15","v":15},null,null,{"$f":"Результаты!H15","v":16}]
[]
["Уровни",null,null,null,{"$f":"E8186","v":1},{"$f":"F8186","v":2},3,4,5,6,7,8,9,10,11,12,13,14,15,"ПР.ГР",{"$error":"#REF!"},{"$error":"#REF!"},{"$error":"#REF!"},{"$error":"#REF!"},{"$error":"#REF!"},{"$error":"#REF!"},{"$error":"#REF!"},{"$error":"#REF!"},{"$error":"#REF!"},{"$error":"#REF!"},{"$error":"#REF!"},{"$error":"#REF!"},{"$error":"#REF!"},{"$error":"#REF!"},{"$error":"#REF!"},{"$error":"#REF!"},{"$error":"#REF!"},{"$error":"#REF!"},{"$error":"#REF!"},"Тестовый балл","% выплнения заданий по уровням",null,null,"Оценка"]
[null,null,null,null,null,null,null,null,null,null,null,null,null,null,null,null,null,null,null,null,null,null,null,null,null,null,null,null,null,null,null,null,null,null,null,null,null,null,null,null,"Базовый","Повышенный","Высокий"]
["№","Класс","Ф.И.О.","№ задания",{"$f":"E8188","v":1},{"$f":"F8188","v":2},3,4,5,6,7,8,9,10,11,12,13,14,15,0,{"$error":"#REF!"},{"$error":"#REF!"},{"$error":"#REF!"},{"$error":"#REF!"},{"$error":"#REF!"},{"$error":"#REF!"},{"$error":"#REF!"},{"$error":"#REF!"},{"$error":"#REF!"},{"$error":"#REF!"},{"$error":"#REF!"},{"$error":"#REF!"},{"$error":"#REF!"},{"$error":"#REF!"},{"$error":"#REF!"},{"$error":"#REF!"},{"$error":"#REF!"},{"$error":"#REF!"},{"$error":"#REF!"}]
["Максимальный балл",null,null,null,{"$f":"E8189","v":7},{"$f":"F8189","v":1},1,1,1,1,1,1,1,1,1,1,1,1,9,10,{"$error":"#REF!"},{"$error":"#REF!"},{"$error":"#REF!"},{"$error":"#REF!"},{"$error":"#REF!"},{"$error":"#REF!"},{"$error":"#REF!"},{"$error":"#REF!"},{"$error":"#REF!"},{"$error":"#REF!"},{"$error":"#REF!"},{"$error":"#REF!"},{"$error":"#REF!"},{"$error":"#REF!"},{"$error":"#REF!"},{"$error":"#REF!"},{"$error":"#REF!"},{"$error":"#REF!"},{"$error":"#REF!"},39,76.92307692307692,{"$error":"#REF!"},23.076923076923077,0]
[null,null,null,"вариант"]
[{"$f":"Результаты!#REF!","v":{"$error":"#REF!"}},{"$f":"Результаты!#REF!","v":{"$error":"#REF!"}},{"$f":"Результаты!#REF!","v":{"$error":"#REF!"}},{"$f":"Результаты!#REF!","v":{"$error":"#REF!"}},{"$f":"Результаты!#REF!","v":{"$error":"#REF!"}},{"$f":"Результаты!#REF!","v":{"$error":"#REF!"}},{"$f":"Результаты!#REF!","v":{"$error":"#REF!"}},{"$f":"Результаты!#REF!","v":{"$error":"#REF!"}},{"$f":"Результаты!#REF!","v":{"$error":"#REF!"}},{"$f":"Результаты!#REF!","v":{"$error":"#REF!"}},{"$f":"Результаты!#REF!","v":{"$error":"#REF!"}},{"$f":"Результаты!#REF!","v":{"$error":"#REF!"}},{"$f":"Результаты!#REF!","v":{"$error":"#REF!"}},{"$f":"Результаты!#REF!","v":{"$error":"#REF!"}},{"$f":"Результаты!#REF!","v":{"$error":"#REF!"}},{"$f":"Результаты!#REF!","v":{"$error":"#REF!"}},{"$f":"Результаты!#REF!","v":{"$error":"#REF!"}},{"$f":"Результаты!#REF!","v":{"$error":"#REF!"}},{"$f":"Результаты!#REF!","v":{"$error":"#REF!"}},{"$f":"Результаты!#REF!","v":{"$error":"#REF!"}},{"$f":"Результаты!#REF!","v":{"$error":"#REF!"}},{"$f":"Результаты!#REF!","v":{"$error":"#REF!"}},{"$f":"Результаты!#REF!","v":{"$error":"#REF!"}},{"$f":"Результаты!#REF!","v":{"$error":"#REF!"}},{"$f":"Результаты!#REF!","v":{"$error":"#REF!"}},{"$f":"Результаты!#REF!","v":{"$error":"#REF!"}},{"$f":"Результаты!#REF!","v":{"$error":"#REF!"}},{"$f":"Результаты!#REF!","v":{"$error":"#REF!"}},{"$f":"Результаты!#REF!","v":{"$error":"#REF!"}},{"$f":"Результаты!#REF!","v":{"$error":"#REF!"}},{"$f":"Результаты!#REF!","v":{"$error":"#REF!"}},{"$f":"Результаты!#REF!","v":{"$error":"#REF!"}},{"$f":"Результаты!#REF!","v":{"$error":"#REF!"}},{"$f":"Результаты!#REF!","v":{"$error":"#REF!"}},{"$f":"Результаты!#REF!","v":{"$error":"#REF!"}},{"$f":"Результаты!#REF!","v":{"$error":"#REF!"}},{"$f":"Результаты!#REF!","v":{"$error":"#REF!"}},{"$f":"Результаты!#REF!","v":{"$error":"#REF!"}},{"$f":"Результаты!#REF!","v":{"$error":"#REF!"}},{"$f":"Результаты!#REF!","v":{"$error":"#REF!"}},{"$f":"Результаты!#REF!","v":{"$error":"#REF!"}},{"$f":"Результаты!#REF!","v":{"$error":"#REF!"}},{"$f":"Результаты!#REF!","v":{"$error":"#REF!"}},{"$f":"Результаты!#REF!","v":{"$error":"#REF!"}}]
[]
[]
[null,{"$f":"B8194","v":1},{"$f":"C8194","v":"Информационная обработка текстов различных стилей и жанров. Текст как речевое произведение. Смысловая и композиционная целостность текста. Отбор языковых средств в тексте в зависимости от темы, цели, адресата и ситуации общения. Создание текстов различных стилей и функционально-смысловых типов речи. Грамматические нормы (морфологические нормы). Грамматические  нормы  (синтаксические нормы). Лексические нормы. Пунктуация в простом и сложном предложениях. Орфограмма"}]
[null,{"$f":"B8195","v":2},"Текст как речевое произведение. Смысловая и композиционная целостность текста. Анализ текста"]
[null,{"$f":"B8196","v":3},"Выразительные средства лексики и фразеологии. Анализ средств выразительности"]
[null,{"$f":"B8197","v":4},"Правописание приставок. Слитное, дефисное, раздельное написание"]
[null,{"$f":"B8198","v":5},"Правописание суффиксов различных частей речи (кроме -Н-/-НН-). Правописание -Н- и -НН- в различных частях речи. Правописание личных окончаний глаголов и суффиксов причастий настоящего времени"]
[null,{"$f":"B8199","v":6},"Лексика и фразеология. Синонимы. Фразеологические обороты. Группы слов по происхождению и употреблению"]
[null,{"$f":"B8200","v":7},"Словосочетание"]
[null,{"$f":"B8201","v":8},"Предложение. Грамматическая (предикативная) основа предложения. Подлежащее и сказуемое как главные члены предложения "]
[null,{"$f":"B8202","v":9},"Осложнённое простое предложение"]
[null,{"$f":"B8203","v":10},"Пунктуационный анализ. Знаки препинания в предложениях со словами и конструкциями, грамматически не связанными с членами предложения"]
[null,{"$f":"B8204","v":11},"Синтаксический анализ сложного предложения"]
[null,{"$f":"B8205","v":12},"Пунктуационный анализ. Знаки препинания в сложносочинённом и сложноподчинённом предложениях"]
[null,{"$f":"B8206","v":13},"Синтаксический анализ сложного предложения"]
[null,{"$f":"B8207","v":14},"Сложные предложения с разными видами связи между частями"]
[null,{"$f":"B8208","v":15},"Текст как речевое произведение. Смысловая и композиционная целостность текста. Создание текстов различных стилей и функционально-смысловых типов речи. Информационная обработка текстов различных стилей и жанров. Грамматические нормы (морфологические нормы). Грамматические нормы (синтаксические нормы). Лексические нормы"]
[null,{"$f":"B8209","v":16},0]
[null,{"$f":"B8210","v":17},0]
[null,{"$f":"B8211","v":18},0]
[null,{"$f":"B8212","v":19},0]
[null,{"$f":"B8213","v":20},0]
[null,{"$f":"B8214","v":21},0]
[null,{"$f":"B8215","v":22},0]
[null,{"$f":"B8216","v":23},0]
[null,{"$f":"B8217","v":24},0]
[null,{"$f":"B8218","v":25},0]
[null,{"$f":"B8219","v":26},0]
[null,{"$f":"B8220","v":27},0]
[null,{"$f":"B8221","v":28},0]
[null,{"$f":"B8222","v":29},0]
[null,{"$f":"B8223","v":30},0]
[null,{"$f":"B8224","v":31},0]
[null,{"$f":"B8225","v":32},0]
[null,{"$f":"B8226","v":33},0]
[null,{"$f":"B8227","v":34},{"$f":"C8227","v":0}]
[null,{"$f":"B8228","v":35},{"$f":"C8228","v":0}]
[]
["Рекомендация: обратите внимание на задания по темам, которые вызвали у Вас затруднения, решены с ошибкой и отмечены \"0\" или к решению которых Вы не приступили (пустые ячейки)!"]
[]
[]
[]
["Центр независимой оценки качества образования и образовательного аудита \"Легион\""]
[]
["Образовательная организация",null,null,null,{"$f":"E8236","v":"Ленинская СОШ"}]
["Предмет",null,null,null,{"$f":"E8237","v":"Русский язык"}]
["Максимальный балл",null,null,null,39]
["Пороговый балл",null,null,null,15]
["Зона риска",null,null,null,{"$f":"Результаты!E15","v":15},null,null,{"$f":"Результаты!H15","v":16}]
[]
["Уровни",null,null,null,{"$f":"E8242","v":1},{"$f":"F8242","v":2},3,4,5,6,7,8,9,10,11,12,13,14,15,"ПР.ГР",{"$error":"#REF!"},{"$error":"#REF!"},{"$error":"#REF!"},{"$error":"#REF!"},{"$error":"#REF!"},{"$error":"#REF!"},{"$error":"#REF!"},{"$error":"#REF!"},{"$error":"#REF!"},{"$error":"#REF!"},{"$error":"#REF!"},{"$error":"#REF!"},{"$error":"#REF!"},{"$error":"#REF!"},{"$error":"#REF!"},{"$error":"#REF!"},{"$error":"#REF!"},{"$error":"#REF!"},{"$error":"#REF!"},"Тестовый балл","% выплнения заданий по уровням",null,null,"Оценка"]
[null,null,null,null,null,null,null,null,null,null,null,null,null,null,null,null,null,null,null,null,null,null,null,null,null,null,null,null,null,null,null,null,null,null,null,null,null,null,null,null,"Базовый","Повышенный","Высокий"]
["№","Класс","Ф.И.О.","№ задания",{"$f":"E8244","v":1},{"$f":"F8244","v":2},3,4,5,6,7,8,9,10,11,12,13,14,15,0,{"$error":"#REF!"},{"$error":"#REF!"},{"$error":"#REF!"},{"$error":"#REF!"},{"$error":"#REF!"},{"$error":"#REF!"},{"$error":"#REF!"},{"$error":"#REF!"},{"$error":"#REF!"},{"$error":"#REF!"},{"$error":"#REF!"},{"$error":"#REF!"},{"$error":"#REF!"},{"$error":"#REF!"},{"$error":"#REF!"},{"$error":"#REF!"},{"$error":"#REF!"},{"$error":"#REF!"},{"$error":"#REF!"}]
["Максимальный балл",null,null,null,{"$f":"E8245","v":7},{"$f":"F8245","v":1},1,1,1,1,1,1,1,1,1,1,1,1,9,10,{"$error":"#REF!"},{"$error":"#REF!"},{"$error":"#REF!"},{"$error":"#REF!"},{"$error":"#REF!"},{"$error":"#REF!"},{"$error":"#REF!"},{"$error":"#REF!"},{"$error":"#REF!"},{"$error":"#REF!"},{"$error":"#REF!"},{"$error":"#REF!"},{"$error":"#REF!"},{"$error":"#REF!"},{"$error":"#REF!"},{"$error":"#REF!"},{"$error":"#REF!"},{"$error":"#REF!"},{"$error":"#REF!"},39,76.92307692307692,{"$error":"#REF!"},23.076923076923077,0]
[null,null,null,"вариант"]
[{"$f":"Результаты!#REF!","v":{"$error":"#REF!"}},{"$f":"Результаты!#REF!","v":{"$error":"#REF!"}},{"$f":"Результаты!#REF!","v":{"$error":"#REF!"}},{"$f":"Результаты!#REF!","v":{"$error":"#REF!"}},{"$f":"Результаты!#REF!","v":{"$error":"#REF!"}},{"$f":"Результаты!#REF!","v":{"$error":"#REF!"}},{"$f":"Результаты!#REF!","v":{"$error":"#REF!"}},{"$f":"Результаты!#REF!","v":{"$error":"#REF!"}},{"$f":"Результаты!#REF!","v":{"$error":"#REF!"}},{"$f":"Результаты!#REF!","v":{"$error":"#REF!"}},{"$f":"Результаты!#REF!","v":{"$error":"#REF!"}},{"$f":"Результаты!#REF!","v":{"$error":"#REF!"}},{"$f":"Результаты!#REF!","v":{"$error":"#REF!"}},{"$f":"Результаты!#REF!","v":{"$error":"#REF!"}},{"$f":"Результаты!#REF!","v":{"$error":"#REF!"}},{"$f":"Результаты!#REF!","v":{"$error":"#REF!"}},{"$f":"Результаты!#REF!","v":{"$error":"#REF!"}},{"$f":"Результаты!#REF!","v":{"$error":"#REF!"}},{"$f":"Результаты!#REF!","v":{"$error":"#REF!"}},{"$f":"Результаты!#REF!","v":{"$error":"#REF!"}},{"$f":"Результаты!#REF!","v":{"$error":"#REF!"}},{"$f":"Результаты!#REF!","v":{"$error":"#REF!"}},{"$f":"Результаты!#REF!","v":{"$error":"#REF!"}},{"$f":"Результаты!#REF!","v":{"$error":"#REF!"}},{"$f":"Результаты!#REF!","v":{"$error":"#REF!"}},{"$f":"Результаты!#REF!","v":{"$error":"#REF!"}},{"$f":"Результаты!#REF!","v":{"$error":"#REF!"}},{"$f":"Результаты!#REF!","v":{"$error":"#REF!"}},{"$f":"Результаты!#REF!","v":{"$error":"#REF!"}},{"$f":"Результаты!#REF!","v":{"$error":"#REF!"}},{"$f":"Результаты!#REF!","v":{"$error":"#REF!"}},{"$f":"Результаты!#REF!","v":{"$error":"#REF!"}},{"$f":"Результаты!#REF!","v":{"$error":"#REF!"}},{"$f":"Результаты!#REF!","v":{"$error":"#REF!"}},{"$f":"Результаты!#REF!","v":{"$error":"#REF!"}},{"$f":"Результаты!#REF!","v":{"$error":"#REF!"}},{"$f":"Результаты!#REF!","v":{"$error":"#REF!"}},{"$f":"Результаты!#REF!","v":{"$error":"#REF!"}},{"$f":"Результаты!#REF!","v":{"$error":"#REF!"}},{"$f":"Результаты!#REF!","v":{"$error":"#REF!"}},{"$f":"Результаты!#REF!","v":{"$error":"#REF!"}},{"$f":"Результаты!#REF!","v":{"$error":"#REF!"}},{"$f":"Результаты!#REF!","v":{"$error":"#REF!"}},{"$f":"Результаты!#REF!","v":{"$error":"#REF!"}}]
[]
[]
[null,{"$f":"B8250","v":1},{"$f":"C8250","v":"Информационная обработка текстов различных стилей и жанров. Текст как речевое произведение. Смысловая и композиционная целостность текста. Отбор языковых средств в тексте в зависимости от темы, цели, адресата и ситуации общения. Создание текстов различных стилей и функционально-смысловых типов речи. Грамматические нормы (морфологические нормы). Грамматические  нормы  (синтаксические нормы). Лексические нормы. Пунктуация в простом и сложном предложениях. Орфограмма"}]
[null,{"$f":"B8251","v":2},"Текст как речевое произведение. Смысловая и композиционная целостность текста. Анализ текста"]
[null,{"$f":"B8252","v":3},"Выразительные средства лексики и фразеологии. Анализ средств выразительности"]
[null,{"$f":"B8253","v":4},"Правописание приставок. Слитное, дефисное, раздельное написание"]
[null,{"$f":"B8254","v":5},"Правописание суффиксов различных частей речи (кроме -Н-/-НН-). Правописание -Н- и -НН- в различных частях речи. Правописание личных окончаний глаголов и суффиксов причастий настоящего времени"]
[null,{"$f":"B8255","v":6},"Лексика и фразеология. Синонимы. Фразеологические обороты. Группы слов по происхождению и употреблению"]
[null,{"$f":"B8256","v":7},"Словосочетание"]
[null,{"$f":"B8257","v":8},"Предложение. Грамматическая (предикативная) основа предложения. Подлежащее и сказуемое как главные члены предложения "]
[null,{"$f":"B8258","v":9},"Осложнённое простое предложение"]
[null,{"$f":"B8259","v":10},"Пунктуационный анализ. Знаки препинания в предложениях со словами и конструкциями, грамматически не связанными с членами предложения"]
[null,{"$f":"B8260","v":11},"Синтаксический анализ сложного предложения"]
[null,{"$f":"B8261","v":12},"Пунктуационный анализ. Знаки препинания в сложносочинённом и сложноподчинённом предложениях"]
[null,{"$f":"B8262","v":13},"Синтаксический анализ сложного предложения"]
[null,{"$f":"B8263","v":14},"Сложные предложения с разными видами связи между частями"]
[null,{"$f":"B8264","v":15},"Текст как речевое произведение. Смысловая и композиционная целостность текста. Создание текстов различных стилей и функционально-смысловых типов речи. Информационная обработка текстов различных стилей и жанров. Грамматические нормы (морфологические нормы). Грамматические нормы (синтаксические нормы). Лексические нормы"]
[null,{"$f":"B8265","v":16},0]
[null,{"$f":"B8266","v":17},0]
[null,{"$f":"B8267","v":18},0]
[null,{"$f":"B8268","v":19},0]
[null,{"$f":"B8269","v":20},0]
[null,{"$f":"B8270","v":21},0]
[null,{"$f":"B8271","v":22},0]
[null,{"$f":"B8272","v":23},0]
[null,{"$f":"B8273","v":24},0]
[null,{"$f":"B8274","v":25},0]
[null,{"$f":"B8275","v":26},0]
[null,{"$f":"B8276","v":27},0]
[null,{"$f":"B8277","v":28},0]
[null,{"$f":"B8278","v":29},0]
[null,{"$f":"B8279","v":30},0]
[null,{"$f":"B8280","v":31},0]
[null,{"$f":"B8281","v":32},0]
[null,{"$f":"B8282","v":33},0]
[null,{"$f":"B8283","v":34},0]
[null,{"$f":"B8284","v":35},0]
[]
["Рекомендация: обратите внимание на задания по темам, которые вызвали у Вас затруднения, решены с ошибкой и отмечены \"0\" или к решению которых Вы не приступили (пустые ячейки)!"]
[]
[]
[]
["Центр независимой оценки качества образования и образовательного аудита \"Легион\""]
[]
["Образовательная организация",null,null,null,{"$f":"E8236","v":"Ленинская СОШ"}]
["Предмет",null,null,null,{"$f":"E8237","v":"Русский язык"}]
["Максимальный балл",null,null,null,39]
["Пороговый балл",null,null,null,15]
["Зона риска",null,null,null,{"$f":"Результаты!E15","v":15},null,null,{"$f":"Результаты!H15","v":16}]
[]
["Уровни",null,null,null,{"$f":"E8298","v":1},{"$f":"F8298","v":2},3,4,5,6,7,8,9,10,11,12,13,14,15,"ПР.ГР",{"$error":"#REF!"},{"$error":"#REF!"},{"$error":"#REF!"},{"$error":"#REF!"},{"$error":"#REF!"},{"$error":"#REF!"},{"$error":"#REF!"},{"$error":"#REF!"},{"$error":"#REF!"},{"$error":"#REF!"},{"$error":"#REF!"},{"$error":"#REF!"},{"$error":"#REF!"},{"$error":"#REF!"},{"$error":"#REF!"},{"$error":"#REF!"},{"$error":"#REF!"},{"$error":"#REF!"},{"$error":"#REF!"},"Тестовый балл","% выплнения заданий по уровням",null,null,"Оценка"]
[null,null,null,null,null,null,null,null,null,null,null,null,null,null,null,null,null,null,null,null,null,null,null,null,null,null,null,null,null,null,null,null,null,null,null,null,null,null,null,null,"Базовый","Повышенный","Высокий"]
["№","Класс","Ф.И.О.","№ задания",{"$f":"E8300","v":1},{"$f":"F8300","v":2},3,4,5,6,7,8,9,10,11,12,13,14,15,0,{"$error":"#REF!"},{"$error":"#REF!"},{"$error":"#REF!"},{"$error":"#REF!"},{"$error":"#REF!"},{"$error":"#REF!"},{"$error":"#REF!"},{"$error":"#REF!"},{"$error":"#REF!"},{"$error":"#REF!"},{"$error":"#REF!"},{"$error":"#REF!"},{"$error":"#REF!"},{"$error":"#REF!"},{"$error":"#REF!"},{"$error":"#REF!"},{"$error":"#REF!"},{"$error":"#REF!"},{"$error":"#REF!"}]
["Максимальный балл",null,null,null,{"$f":"E8301","v":7},{"$f":"F8301","v":1},1,1,1,1,1,1,1,1,1,1,1,1,9,10,{"$error":"#REF!"},{"$error":"#REF!"},{"$error":"#REF!"},{"$error":"#REF!"},{"$error":"#REF!"},{"$error":"#REF!"},{"$error":"#REF!"},{"$error":"#REF!"},{"$error":"#REF!"},{"$error":"#REF!"},{"$error":"#REF!"},{"$error":"#REF!"},{"$error":"#REF!"},{"$error":"#REF!"},{"$error":"#REF!"},{"$error":"#REF!"},{"$error":"#REF!"},{"$error":"#REF!"},{"$error":"#REF!"},39,76.92307692307692,{"$error":"#REF!"},23.076923076923077,0]
[null,null,null,"вариант"]
[{"$f":"Результаты!#REF!","v":{"$error":"#REF!"}},{"$f":"Результаты!#REF!","v":{"$error":"#REF!"}},{"$f":"Результаты!#REF!","v":{"$error":"#REF!"}},{"$f":"Результаты!#REF!","v":{"$error":"#REF!"}},{"$f":"Результаты!#REF!","v":{"$error":"#REF!"}},{"$f":"Результаты!#REF!","v":{"$error":"#REF!"}},{"$f":"Результаты!#REF!","v":{"$error":"#REF!"}},{"$f":"Результаты!#REF!","v":{"$error":"#REF!"}},{"$f":"Результаты!#REF!","v":{"$error":"#REF!"}},{"$f":"Результаты!#REF!","v":{"$error":"#REF!"}},{"$f":"Результаты!#REF!","v":{"$error":"#REF!"}},{"$f":"Результаты!#REF!","v":{"$error":"#REF!"}},{"$f":"Результаты!#REF!","v":{"$error":"#REF!"}},{"$f":"Результаты!#REF!","v":{"$error":"#REF!"}},{"$f":"Результаты!#REF!","v":{"$error":"#REF!"}},{"$f":"Результаты!#REF!","v":{"$error":"#REF!"}},{"$f":"Результаты!#REF!","v":{"$error":"#REF!"}},{"$f":"Результаты!#REF!","v":{"$error":"#REF!"}},{"$f":"Результаты!#REF!","v":{"$error":"#REF!"}},{"$f":"Результаты!#REF!","v":{"$error":"#REF!"}},{"$f":"Результаты!#REF!","v":{"$error":"#REF!"}},{"$f":"Результаты!#REF!","v":{"$error":"#REF!"}},{"$f":"Результаты!#REF!","v":{"$error":"#REF!"}},{"$f":"Результаты!#REF!","v":{"$error":"#REF!"}},{"$f":"Результаты!#REF!","v":{"$error":"#REF!"}},{"$f":"Результаты!#REF!","v":{"$error":"#REF!"}},{"$f":"Результаты!#REF!","v":{"$error":"#REF!"}},{"$f":"Результаты!#REF!","v":{"$error":"#REF!"}},{"$f":"Результаты!#REF!","v":{"$error":"#REF!"}},{"$f":"Результаты!#REF!","v":{"$error":"#REF!"}},{"$f":"Результаты!#REF!","v":{"$error":"#REF!"}},{"$f":"Результаты!#REF!","v":{"$error":"#REF!"}},{"$f":"Результаты!#REF!","v":{"$error":"#REF!"}},{"$f":"Результаты!#REF!","v":{"$error":"#REF!"}},{"$f":"Результаты!#REF!","v":{"$error":"#REF!"}},{"$f":"Результаты!#REF!","v":{"$error":"#REF!"}},{"$f":"Результаты!#REF!","v":{"$error":"#REF!"}},{"$f":"Результаты!#REF!","v":{"$error":"#REF!"}},{"$f":"Результаты!#REF!","v":{"$error":"#REF!"}},{"$f":"Результаты!#REF!","v":{"$error":"#REF!"}},{"$f":"Результаты!#REF!","v":{"$error":"#REF!"}},{"$f":"Результаты!#REF!","v":{"$error":"#REF!"}},{"$f":"Результаты!#REF!","v":{"$error":"#REF!"}},{"$f":"Результаты!#REF!","v":{"$error":"#REF!"}}]
[]
[]
[null,{"$f":"B8306","v":1},{"$f":"C8306","v":"Информационная обработка текстов различных стилей и жанров. Текст как речевое произведение. Смысловая и композиционная целостность текста. Отбор языковых средств в тексте в зависимости от темы, цели, адресата и ситуации общения. Создание текстов различных стилей и функционально-смысловых типов речи. Грамматические нормы (морфологические нормы). Грамматические  нормы  (синтаксические нормы). Лексические нормы. Пунктуация в простом и сложном предложениях. Орфограмма"}]
[null,{"$f":"B8307","v":2},"Текст как речевое произведение. Смысловая и композиционная целостность текста. Анализ текста"]
[null,{"$f":"B8308","v":3},"Выразительные средства лексики и фразеологии. Анализ средств выразительности"]
[null,{"$f":"B8309","v":4},"Правописание приставок. Слитное, дефисное, раздельное написание"]
[null,{"$f":"B8310","v":5},"Правописание суффиксов различных частей речи (кроме -Н-/-НН-). Правописание -Н- и -НН- в различных частях речи. Правописание личных окончаний глаголов и суффиксов причастий настоящего времени"]
[null,{"$f":"B8311","v":6},"Лексика и фразеология. Синонимы. Фразеологические обороты. Группы слов по происхождению и употреблению"]
[null,{"$f":"B8312","v":7},"Словосочетание"]
[null,{"$f":"B8313","v":8},"Предложение. Грамматическая (предикативная) основа предложения. Подлежащее и сказуемое как главные члены предложения "]
[null,{"$f":"B8314","v":9},"Осложнённое простое предложение"]
[null,{"$f":"B8315","v":10},"Пунктуационный анализ. Знаки препинания в предложениях со словами и конструкциями, грамматически не связанными с членами предложения"]
[null,{"$f":"B8316","v":11},"Синтаксический анализ сложного предложения"]
[null,{"$f":"B8317","v":12},"Пунктуационный анализ. Знаки препинания в сложносочинённом и сложноподчинённом предложениях"]
[null,{"$f":"B8318","v":13},"Синтаксический анализ сложного предложения"]
[null,{"$f":"B8319","v":14},"Сложные предложения с разными видами связи между частями"]
[null,{"$f":"B8320","v":15},"Текст как речевое произведение. Смысловая и композиционная целостность текста. Создание текстов различных стилей и функционально-смысловых типов речи. Информационная обработка текстов различных стилей и жанров. Грамматические нормы (морфологические нормы). Грамматические нормы (синтаксические нормы). Лексические нормы"]
[null,{"$f":"B8321","v":16},0]
[null,{"$f":"B8322","v":17},0]
[null,{"$f":"B8323","v":18},0]
[null,{"$f":"B8324","v":19},0]
[null,{"$f":"B8325","v":20},0]
[null,{"$f":"B8326","v":21},0]
[null,{"$f":"B8327","v":22},0]
[null,{"$f":"B8328","v":23},0]
[null,{"$f":"B8329","v":24},0]
[null,{"$f":"B8330","v":25},0]
[null,{"$f":"B8331","v":26},0]
[null,{"$f":"B8332","v":27},0]
[null,{"$f":"B8333","v":28},0]
[null,{"$f":"B8334","v":29},0]
[null,{"$f":"B8335","v":30},0]
[null,{"$f":"B8336","v":31},0]
[null,{"$f":"B8337","v":32},0]
[null,{"$f":"B8338","v":33},0]
[null,{"$f":"B8339","v":34},{"$f":"C8339","v":0}]
[null,{"$f":"B8340","v":35},{"$f":"C8340","v":0}]
[]
["Рекомендация: обратите внимание на задания по темам, которые вызвали у Вас затруднения, решены с ошибкой и отмечены \"0\" или к решению которых Вы не приступили (пустые ячейки)!"]